{"text_format":"1","workbook":"xlsx","n_sheets":50,"sheets":["Start","Kriterien","Allgemein","Energieversorgung","Dampftafel","Ströme","Ströme_2","Energieverteilung","Ist-Stand","Metall","Lebensmittel","Papier","Dämmstoffe","Wäscherei","Freie Branche","Raumwärme","Raumkühlung","Warmwasser","Prozess_Heizen","varCS","Verortung_Pinch","varHS","Prozess_Kühlen","Galvanikbad_Heizen","Galvanikbad_Kühlen","Prozessoptimierung_FreieBranche","Prozessoptimierung_Metall","Prozessoptimierung_Lebensmittel","Prozessoptimierung_Dämmstoffe","Prozessoptimierung_Wäscherei","Prozessoptimierung_Papier","01_StromListe","02_PinchKurven","03_WT_Prioritätenliste","05_WT_Auswahl","Solarthermie","Wärmepumpe","Parallel","Seriell_STWP","Seriell_WPST","Seriell_STWP2","Gegenüberstellung","BerechnungFeuchteLuft","Listen","ST_Daten","Annex CP-Werte","(hid) 03_WtRawList","(hid) 05_WtAuswahl","varHXfinder","99_Annex"],"not_rendered":{"charts":7,"images":20,"macros":1,"external_links":0,"defined_names":155,"comments":3,"pivot_tables":0},"unopened":[],"bounds":{"document_bytes":16777216,"sheet_cells":100000,"rows_first":2000,"rows_last":500,"rows_between":2000,"halvings":0,"cell_chars":16384,"cell_head_chars":4096},"cells_cut":0,"cells_raw":0,"read":"whole","date_system":"1900"}

{"sheet":"Start","index":0,"n_rows":71,"n_cols":4,"rows_kept":71,"cut":false,"hidden":false,"merged":[[23,3,23,10]]}
[]
[]
[]
[]
[]
[]
[]
[]
[]
[]
[]
[]
[]
[]
[]
[]
[]
[]
[]
[]
[]
[]
[]
[null,null,null,"Aktivieren Sie die Inhalte um das Bewertungstool zu starten! "]
[]
[]
[]
[]
[]
[]
[]
[]
[]
[]
[]
[]
[]
[]
[]
[]
[null,"Projekt EnPro"]
[null,"Im Projekt ENPRO werden Planungsrichtlinien erarbeitet um Barrieren für eine effiziente und kostengünstige Integration von Solarthermie und "]
[null,"Wärmepumpen in industriellen Prozesse abzubauen."]
[]
[null,"EnPro Bewertungstool "]
[null,"Das EnPro Bewertungstool ermöglicht eine rasche Abschätzung für die Integration von Solarthermie und/oder Wärmepumpen in einen Industriebetrieb. "]
[null,"Durch das Tool soll der Anwender bei der Integration und der technisch-wirtschaftlichen Bewertung unterstützt werden, um so die Planungskosten zu reduzieren."]
[]
[null,"Das EnPro Bewertungstool wurde im Rahmen des Projektes \"Erneuerbare Prozesswärme - Integration von Solarthermie und Wärmepumpen "]
[null,"in industrielle Prozesse\" (kurz EnPro) erstellt. "]
[null,"Auftraggeber des Forschungsprojektes  ist die österreichische Forschungsförderungsgesellschaft. "]
[]
[null,"Initiator und Auftraggeber"]
[null,"Österreichische Forschungsförderungsgesellschaft mbH (FFG)"]
[null,"Sensengasse 1, 1090 Wien "]
[null,"Telefon  +43 (0)5 7755 – 0 "]
[null,"E-Mail     office@ffg.at"]
[]
[null,"Für den Inhalt verantwortlich"]
[null,"AEE - Institut für Nachhaltige Technologien"]
[null,"Feldgasse 19, 8200 Gleisdorf"]
[null,"Telefon   +43 (0)3112 5886-0"]
[null,"E-Mail      office@aee.at"]
[]
[null,"Stand: September 2017"]
[]
[null,"Urheberrecht und Haftungsauschluss"]
[null,"Die Rechte am EnPro Bewertungstools liegen ausschließlich bei den Urhebern und dem Auftraggeber. Jede Vervielfältigung, Weitergabe, Integration in Websites "]
[null,"ist nur mit Zustimmung des Auftraggebers zulässig."]
[null,"Die Ergebnisse aus der Anwendung des Tools dienen lediglich zur Orientierung und gelten weder gegenüber Behörden noch Dritten als Nachweis oder Gutachten. "]
[null,"Eine Haftung für direkte oder indirekte Schäden aufgrund der Nutzung dieses Tools und errechneter Ergebnisse wird hiermit ausdrücklich ausgeschlossen. "]

{"sheet":"Kriterien","index":1,"n_rows":49,"n_cols":23,"rows_kept":49,"cut":false,"hidden":false,"merged":[]}
[]
[]
[]
[]
[]
[]
[]
[]
[]
[]
[]
[]
[null,null,null,null,null,null,null,null,null,null,null,"Auswählen:"]
[null,null,null,null,null,null,null,null,null,null,null,null,null,null,null,null,null,"Antwort",null,null,"ST",null,"WP"]
[null,"1.","Im Betrieb gibt es genügend Platz (mindestens 10 m²) für die Installation eines Pufferspeichers.",null,null,null,null,null,null,null,null,null,null,null,null,null,null,{"$f":"IF(L15=\"ja\",1,(IF(L15=\"nein\",1,\"\")))","v":""},null,null,{"$f":"IF(L15=\"JA\",\"OK\",\"OK\")","v":"OK"}]
[null,"2.","Eine Amortisationszeit für Investitionen in die Energieversorgung von über 5 Jahren ist akzeptabel.",null,null,null,null,null,null,null,null,null,null,null,null,null,null,{"$f":"IF(L16=\"ja\",1,(IF(L16=\"nein\",1,\"\")))","v":""},null,null,{"$f":"IF(L16=\"JA\",\"OK\",\"OK\")","v":"OK"}]
[null,"3.","Energiekosten sind ein wichtiger Faktor im Unternehmen.",null,null,null,null,null,null,null,null,null,null,null,null,null,null,{"$f":"IF(L17=\"ja\",1,(IF(L17=\"nein\",1,\"\")))","v":""},null,null,"OK"]
[null,"4.","Es besteht ein Prozesswärmebedarf an zumindest 5 Tagen in der Woche.",null,null,null,null,null,null,null,null,null,null,null,null,null,null,{"$f":"IF(L18=\"ja\",1,(IF(L18=\"nein\",1,\"\")))","v":""},null,null,"OK"]
[null,"5.","Im Betrieb liegt ein Prozesswärmebedarf mit einem Temperaturniveau unter 150°C vor.",null,null,null,null,null,null,null,null,null,null,null,null,null,null,{"$f":"IF(L19=\"ja\",1,(IF(L19=\"nein\",1,\"\")))","v":""},null,null,{"$f":"IF(L19=\"JA\",\"OK\",\"KO\")","v":"KO"}]
[]
[]
[]
[]
[]
[null,"6.","Der Betrieb hat auch während der Sommermonate (Juni, Juli, August) einen Bedarf an Prozesswärme.",null,null,null,null,null,null,null,null,null,null,null,null,null,null,{"$f":"IF(L25=\"ja\",1,(IF(L25=\"nein\",1,\"\")))","v":""},null,null,{"$f":"IF(L25=\"JA\",\"OK\",\"OK\")","v":"OK"}]
[null,"7.","Es stehen Dach- oder sonstige Flächen (Boden) für die Montage einer Solaranlage zur Verfügung.",null,null,null,null,null,null,null,null,null,null,null,null,null,null,{"$f":"IF(L26=\"ja\",1,(IF(L26=\"nein\",1,\"\")))","v":""},null,null,{"$f":"IF(L26=\"JA\",\"OK\",\"KO\")","v":"KO"}]
[null,"8.","Die vorhandene Fläche ist nach Süden/Südosten/Südwesten orientert bzw. ist ein Flachdach.",null,null,null,null,null,null,null,null,null,null,null,null,null,null,{"$f":"IF(L27=\"ja\",1,(IF(L27=\"nein\",1,\"\")))","v":""},null,null,{"$f":"IF(L27=\"JA\",\"OK\",\"KO\")","v":"KO"}]
[]
[]
[]
[]
[]
[null,"9.","Im Betrieb gibt es einen Stromanschluss.",null,null,null,null,null,null,null,null,null,null,null,null,null,null,{"$f":"IF(L33=\"ja\",1,(IF(L33=\"nein\",1,\"\")))","v":""},null,null,{"$f":"IF(L33=\"JA\",\"OK\",\"KO\")","v":"KO"}]
[null,"10.","Im Betrieb gibt es Abwärme von z.B. Kältemaschinen, Kompressoren, etc., die derzeit nicht genutzt wird.",null,null,null,null,null,null,null,null,null,null,null,null,null,null,{"$f":"IF(L34=\"ja\",1,(IF(L34=\"nein\",1,\"\")))","v":""},null,null,{"$f":"IF(L34=\"JA\",\"OK\",\"OK\")","v":"OK"}]
[null,"11.","Im Betrieb gibt es neben Heizbedarf auch einen Kühlbedarf.",null,null,null,null,null,null,null,null,null,null,null,null,null,null,{"$f":"IF(L35=\"ja\",1,(IF(L35=\"nein\",1,\"\")))","v":""},null,null,"OK"]
[null,"12.","Die Wärmequellen und Wärmenutzung befinden sich örtlich nahe beieinander. ",null,null,null,null,null,null,null,null,null,null,null,null,null,null,{"$f":"IF(L36=\"ja\",1,(IF(L36=\"nein\",1,\"\")))","v":""},null,null,"OK"]
[]
[null,null,null,null,null,null,null,null,null,null,null,null,null,null,null,null,null,{"$f":"COUNT(R15:R19,R25:R27,R33:R37)","v":0}]
[]
[null,null,null,null,null,null,null,null,null,null,null,null,null,null,null,null,null,null,null,null,null,{"$f":"IF(COUNTIF(U15:U36,\"KO\"),\"NEIN\",\"JA\")","v":"NEIN"}]
[null,null,{"$f":"IF(U38>0,\"Lieber User!\",\"\")","v":""}]
[]
[]
[]
[null,null,{"$f":"IF(AND(V40=\"JA\",R38=12),\"Ihr Betrieb eignet sich nach dieser ersten Abschätzung für die Integration von Solarthermie und/oder Wärmepumpe.\",(IF(AND(V40=\"NEIN\",R38=12),\"Ihr Betrieb weist nach dieser ersten Abschätzung ein geringes Potential für die Integration von Solarthermie und/oder Wärmepumpe auf.\",\"Bitte wählen Sie im Dropdown Feld eine Antwortmöglichkeit aus die auf Ihren Betrieb zutrifft!\")))","v":"Bitte wählen Sie im Dropdown Feld eine Antwortmöglichkeit aus die auf Ihren Betrieb zutrifft!"}]
[]
[null,null,{"$f":"IF(AND(V40=\"JA\",R38=12),\"\",(IF(AND(V40=\"NEIN\",R38=12),\"Eine detaillierte Betrachtung bestimmter Kriterien ist durchzuführen.\",\"\")))","v":""}]
[]
[null,null,{"$f":"IF(R38=12,\"Um eine Vorauswahl der Technologie bzw. -kombination zu treffen klicken Sie auf den Button Entscheidungsbaum:\",\"\")","v":""}]

{"sheet":"Allgemein","index":2,"n_rows":50,"n_cols":27,"rows_kept":50,"cut":false,"hidden":false,"merged":[[17,3,17,7],[17,1,17,2]]}
[]
[]
[]
[]
[]
[]
[]
[]
[]
[]
[]
[null,"Mitarbeiter"]
[null,"Umsatz",null,null,"€/a"]
[]
[null,"Betriebstage (Produktion) pro Jahr",null,null,"d/a"]
[null,"Betriebsstunden (Produktion) pro Tag",null,null,"h/d"]
[]
[null,{"$f":"IF(D18=\"\",\"Bitte Standort in Karte anklicken\",\"Ausgewählter Standort:\")","v":"Bitte Standort in Karte anklicken"}]
[]
[null,null,null,null,null,null,null,null,null,null,null,null,null,null,null,null,null,null,null,null,null,null,null,null,null,"Ellipse 14","Linz"]
[null,null,null,null,null,null,null,null,null,null,null,null,null,null,null,null,null,null,null,null,null,null,null,null,null,"Ellipse 13","Wien"]
[null,null,null,null,null,"Boden",{"$f":"D49","v":0},null,null,null,null,null,null,null,null,null,null,null,null,null,null,null,null,null,null,"Ellipse 19","St Pölten"]
[null,null,null,null,null,"Dach",{"$f":"D50","v":0},null,null,null,null,null,null,null,null,null,null,null,null,null,null,null,null,null,null,"Ellipse 17","Bregenz"]
[null,null,null,null,null,null,null,null,null,null,null,null,null,null,null,null,null,null,null,null,null,null,null,null,null,"Ellipse 15","Eisenstadt"]
[null,null,null,null,null,null,null,null,null,null,null,null,null,null,null,null,null,null,null,null,null,null,null,null,null,"Ellipse 18","Graz"]
[null,null,null,null,null,null,null,null,null,null,null,null,null,null,null,null,null,null,null,null,null,null,null,null,null,"Ellipse 11","Innsbruck"]
[null,null,null,null,null,null,null,null,null,null,null,null,null,null,null,null,null,null,null,null,null,null,null,null,null,"Ellipse 12","Klagenfurt"]
[null,null,null,null,null,null,null,null,null,null,null,null,null,null,null,null,null,null,null,null,null,null,null,null,null,"Ellipse 16","Salzburg"]
[]
[]
[]
[]
[]
[]
[]
[]
[]
[]
[]
[]
[]
[]
[]
[]
[null,"Durchschnittliche Frischwassertemperatur",null,null,"°C"]
[null,"Durchschnittliche Umgebungstemperatur",null,null,"°C"]
[]
[null,"Verfügbare Fläche im Betrieb für Wärmepumpe",null,null,"m²"]
[null,"Verfügbare Fläche am Boden für Solarthermie",null,null,"m²"]
[null,"Verfügbare Fläche am Dach für Solarthermie",null,null,"m²"]

{"sheet":"Energieversorgung","index":3,"n_rows":113,"n_cols":46,"rows_kept":113,"cut":false,"hidden":false,"merged":[[12,6,12,8]]}
[]
[]
[]
[]
[]
[]
[]
[]
[]
[]
[]
[]
[null,null,null,null,null,null,"Umrechnungsfaktor"]
[null,null,"Auswählen:",null,"Verbrauch \npro Jahr",null,"Standard",null,"Manuell",null,"Dampf-\ndruck",null,"Eingesetzte\nEnergiemenge pro Jahr",null,"Spezifische \nEnergiekosten",null,"Energiekosten \npro Jahr",null,null,null,null,null,null,null,null,null,"Enthalpie Sattdampf",null,"Energieinhalt\nDampf"]
[null,"Energieträger 1",null,null,null,{"$f":"VLOOKUP(C15,Listen!$A$3:$F$10,6,FALSE)","v":{"$error":"#N/A"}},{"$f":"VLOOKUP(C15,Listen!$A$4:$D$10,4,FALSE)","v":{"$error":"#N/A"}},null,10.35,{"$f":"VLOOKUP(C15,Listen!$A$3:$F$10,5,FALSE)","v":{"$error":"#N/A"}},null,{"$f":"IF($C15=\"(zugekaufter) Dampf\",\"bar\",\"\")","v":""},{"$f":"IF(C15=\"(zugekaufter) Dampf\",AC15,IF(I15<>0,E15*I15,G15*E15))","v":0},"kWh/a",null,"€/MWh",{"$f":"IF(M15>0,M15/1000*O15,\"\")","v":""},"€/a",null,null,null,null,null,null,null,null,{"$f":"VLOOKUP(K15,Dampftafel!B6:I64,7,TRUE)","v":{"$error":"#N/A"}},"kJ/kg",{"$f":"E15*(AA15/3600*1000)","v":{"$error":"#N/A"}},"kWh/a"]
[null,"Energieträger 2",null,null,null,{"$f":"VLOOKUP(C16,Listen!$A$3:$F$10,6,FALSE)","v":{"$error":"#N/A"}},{"$f":"VLOOKUP(C16,Listen!$A$4:$D$10,4,FALSE)","v":{"$error":"#N/A"}},null,null,{"$f":"VLOOKUP(C16,Listen!$A$3:$F$10,5,FALSE)","v":{"$error":"#N/A"}},null,{"$f":"IF($C16=\"(zugekaufter) Dampf\",\"bar\",\"\")","v":""},{"$f":"IF(C16=\"(zugekaufter) Dampf\",AC16,IF(I16<>0,E16*I16,G16*E16))","v":{"$error":"#N/A"}},"kWh/a",null,"€/MWh",{"$f":"IF(M16>0,M16/1000*O16,\"\")","v":{"$error":"#N/A"}},"€/a",null,null,null,null,null,null,null,null,{"$f":"VLOOKUP(K16,Dampftafel!B7:I65,7,TRUE)","v":{"$error":"#N/A"}},"kJ/kg",{"$f":"E16*(AA16/3600*1000)","v":{"$error":"#N/A"}},"kWh/a"]
[null,"Energieträger 3",null,null,null,{"$f":"VLOOKUP(C17,Listen!$A$3:$F$10,6,FALSE)","v":{"$error":"#N/A"}},{"$f":"VLOOKUP(C17,Listen!$A$4:$D$10,4,FALSE)","v":{"$error":"#N/A"}},null,null,{"$f":"VLOOKUP(C17,Listen!$A$3:$F$10,5,FALSE)","v":{"$error":"#N/A"}},null,"",{"$f":"IF(C17=\"(zugekaufter) Dampf\",AC17,IF(I17<>0,E17*I17,G17*E17))","v":{"$error":"#N/A"}},"kWh/a",null,"€/MWh",{"$f":"IF(M17>0,M17/1000*O17,\"\")","v":{"$error":"#N/A"}},"€/a",null,null,null,null,null,null,null,null,{"$f":"VLOOKUP(K17,Dampftafel!B8:I66,7,TRUE)","v":{"$error":"#N/A"}},"kJ/kg",{"$error":"#N/A"},"kWh/a"]
[null,"Energieträger 4",null,null,null,{"$f":"VLOOKUP(C18,Listen!$A$3:$F$10,6,FALSE)","v":{"$error":"#N/A"}},{"$f":"VLOOKUP(C18,Listen!$A$4:$D$10,4,FALSE)","v":{"$error":"#N/A"}},null,{"$f":"VLOOKUP(C18,Listen!$A$3:$F$10,5,FALSE)","v":{"$error":"#N/A"}},null,{"$f":"IF($C18=\"Dampf\",\"bar\",\"\")","v":""},"",{"$f":"IF(C18=\"(zugekaufter) Dampf\",AC18,IF(H18<>0,E18*H18,G18*E18))","v":{"$error":"#N/A"}},"kWh/a",null,"€/MWh",{"$f":"IF(M18>0,M18/1000*O18,\"\")","v":{"$error":"#N/A"}},"€/a",null,null,null,null,null,null,null,null,{"$f":"VLOOKUP(K18,Dampftafel!B9:I67,7,TRUE)","v":{"$error":"#N/A"}},"kJ/kg",{"$error":"#N/A"},"kWh/a"]
[null,"Energieträger 5",null,null,null,{"$f":"VLOOKUP(C19,Listen!$A$3:$F$10,6,FALSE)","v":{"$error":"#N/A"}},{"$f":"VLOOKUP(C19,Listen!$A$4:$D$10,4,FALSE)","v":{"$error":"#N/A"}},null,{"$f":"VLOOKUP(C19,Listen!$A$3:$F$10,5,FALSE)","v":{"$error":"#N/A"}},null,"","",{"$f":"IF(C19=\"(zugekaufter) Dampf\",AC19,IF(H19<>0,E19*H19,G19*E19))","v":{"$error":"#N/A"}},"kWh/a",null,"€/MWh",{"$f":"IF(M19>0,M19/1000*O19,\"\")","v":{"$error":"#N/A"}},"€/a",null,null,null,null,null,null,null,null,{"$f":"VLOOKUP(K19,Dampftafel!B10:I68,7,TRUE)","v":{"$error":"#N/A"}},"kJ/kg",{"$error":"#N/A"},"kWh/a"]
[null,null,null,null,null,null,null,null,null,null,"",""]
[null,null,null,null,null,null,null,null,null,null,null,"Summe",{"$f":"SUM(IFERROR(M15:M19,0))","v":0},"kWh/a",null,"Summe",{"$f":"SUM(IFERROR(Q15:Q19,0))","v":0},"€/a"]
[]
[]
[]
[]
[]
[]
[]
[]
[]
[]
[]
[]
[]
[]
[]
[]
[]
[null,"Umgebungstemperatur",{"$f":"Allgemein!D46","v":0},"°C"]
[]
[null,null,"Auswählen:",null,"Kessel-\nWirkungsgrad",null,"Kessel-Wirkungsgrad berechnet",null,"Brennstoff",null,"Nennleistung",null,"Volllaststunden\npro Jahr",null,"Betriebstage\npro Jahr",null,"O2-Gehalt",null,"Strahlungs-\nverluste",null,"Abgas-\ntemperatur",null,"Brennstoff-\neinsatz",null,"Erzeugtes Heißwasser",null,null,null,null,null,null,null,null,"Abgasverluste",null,"Faktor A","Faktor B"]
[null,"Warmwasserkessel 1",null,null,null,"%",{"$f":"IF(E42=\"\",100-AH42-S42,\"\")","v":{"$error":"#N/A"}},"%",null,null,null,"kW",null,"h/a",null,"d/a",null,"vol%",null,"%",null,"°C",{"$f":"K42*M42","v":0},"kWh/a",{"$f":"IF(C42=\"Kesselwirkungsgrad bekannt\",(E42*W42)/100,(W42*G42)/100)","v":{"$error":"#N/A"}},"kWh/a",null,null,null,null,null,null,null,{"$f":"(U42-$C$39)*(AJ42/(21-Q42)+AK42)","v":{"$error":"#N/A"}},"%",{"$f":"VLOOKUP(I42,Listen!$A$3:$H$117,7,FALSE)","v":{"$error":"#N/A"}},{"$f":"VLOOKUP(I42,Listen!$A$3:$H$117,8,FALSE)","v":{"$error":"#N/A"}}]
[null,"Warmwasserkessel 2",null,null,null,"%",{"$f":"IF(E43=\"\",100-AH43-S43,\"\")","v":{"$error":"#N/A"}},"%",null,null,null,"kW",null,"h/a",null,"d/a",null,"vol%",null,"%",null,"°C",{"$f":"K43*M43","v":0},"kWh/a",{"$f":"IF(C43=\"Kesselwirkungsgrad bekannt\",(E43*W43)/100,(W43*G43)/100)","v":{"$error":"#N/A"}},"kWh/a",null,null,null,null,null,null,null,{"$f":"(U43-$C$39)*(AJ43/(21-Q43)+AK43)","v":{"$error":"#N/A"}},"%",{"$f":"VLOOKUP(I43,Listen!$A$3:$H$117,7,FALSE)","v":{"$error":"#N/A"}},{"$f":"VLOOKUP(I43,Listen!$A$3:$H$117,8,FALSE)","v":{"$error":"#N/A"}}]
[null,"Warmwasserkessel 3",null,null,null,"%",{"$f":"IF(E44=\"\",100-AH44-S44,\"\")","v":{"$error":"#N/A"}},"%",null,null,null,"kW",null,"h/a",null,"d/a",null,"vol%",null,"%",null,"°C",{"$f":"K44*M44","v":0},"kWh/a",{"$f":"IF(C44=\"Kesselwirkungsgrad bekannt\",(E44*W44)/100,(W44*G44)/100)","v":{"$error":"#N/A"}},"kWh/a",null,null,null,null,null,null,null,{"$f":"(U44-$C$39)*(AJ44/(21-Q44)+AK44)","v":{"$error":"#N/A"}},"%",{"$f":"VLOOKUP(I44,Listen!$A$3:$H$117,7,FALSE)","v":{"$error":"#N/A"}},{"$f":"VLOOKUP(I44,Listen!$A$3:$H$117,8,FALSE)","v":{"$error":"#N/A"}}]
[null,"Warmwasserkessel 4",null,null,null,"%",{"$f":"IF(E45=\"\",100-AH45-S45,\"\")","v":{"$error":"#N/A"}},"%",null,null,null,"kW",null,"h/a",null,"d/a",null,"vol%",null,"%",null,"°C",{"$f":"K45*M45","v":0},"kWh/a",{"$f":"IF(C45=\"Kesselwirkungsgrad bekannt\",(E45*W45)/100,(W45*G45)/100)","v":{"$error":"#N/A"}},"kWh/a",null,null,null,null,null,null,null,{"$f":"(U45-$C$39)*(AJ45/(21-Q45)+AK45)","v":{"$error":"#N/A"}},"%",{"$f":"VLOOKUP(I45,Listen!$A$3:$H$117,7,FALSE)","v":{"$error":"#N/A"}},{"$f":"VLOOKUP(I45,Listen!$A$3:$H$117,8,FALSE)","v":{"$error":"#N/A"}}]
[null,"Warmwasserkessel 5",null,null,null,"%",{"$f":"IF(E46=\"\",100-AH46-S46,\"\")","v":{"$error":"#N/A"}},"%",null,null,null,"kW",null,"h/a",null,"d/a",null,"vol%",null,"%",null,"°C",{"$f":"K46*M46","v":0},"kWh/a",{"$f":"IF(C46=\"Kesselwirkungsgrad bekannt\",(E46*W46)/100,(W46*G46)/100)","v":{"$error":"#N/A"}},"kWh/a",null,null,null,null,null,null,null,{"$f":"(U46-$C$39)*(AJ46/(21-Q46)+AK46)","v":{"$error":"#N/A"}},"%",{"$f":"VLOOKUP(I46,Listen!$A$3:$H$117,7,FALSE)","v":{"$error":"#N/A"}},{"$f":"VLOOKUP(I46,Listen!$A$3:$H$117,8,FALSE)","v":{"$error":"#N/A"}}]
[null,null,null,null,null,null,null,null,null,null,null,null,null,null,null,null,null,null,null,null,null,null,{"$f":"SUM(W42:W46)","v":0}]
[]
[]
[null,null,"Auswählen:",null,"Kessel-\nWirkungsgrad",null,"Kessel-Wirkungsgrad berechnet",null,"Brennstoff",null,"Nennleistung",null,"Volllaststunden\npro Jahr",null,"Betriebstage\npro Jahr",null,"O2-Gehalt",null,"Strahlungs-\nverluste",null,"Abgas-\ntemperatur",null,"Absalzungs-/Abschlammungs-verluste",null,"Dampfdruck",null,"Temperatur\nSpeisewasser\n(nach Entgaser)",null,"Menge\nSpeisewasser",null,"Erzeugte \nDampfmenge",null,"Energieinhalt\nDampf",null,null,"Abgasverluste",null,"Enthalpie\nges. Dampf",null,"Enthalpie\nSpeisewasser",null,"Brennstoff-\neinsatz",null,null,"Faktor A","Faktor B"]
[null,"Dampfkessel 1",null,null,null,"%",{"$f":"IF(E51=\"\",100-AJ51-S51-W51,\"\")","v":{"$error":"#N/A"}},"%",null,null,null,"kW",null,"h/a",null,"d/a",null,"vol%",null,"%",null,"°C",null,"%",null,"bar",null,"°C",null,"kg/s",{"$f":"IF(C51=\"Kesselwirkungsgrad bekannt\",((K51*E51/100)/(AL51-AN51))*3.6,((K51*G51/100)/(AL51-AN51))*3.6)","v":{"$error":"#N/A"}},"t/h",{"$f":"IF(C51=\"Kesselwirkungsgrad bekannt\",(E51*AP51)/100,(AP51*G51)/100)","v":{"$error":"#N/A"}},"kWh/a",null,{"$f":"(U51-$C$39)*((AS51/(21-Q51))+AT51)","v":{"$error":"#N/A"}},"%",{"$f":"VLOOKUP(Y51,Dampftafel!$B$6:$I$64,7,TRUE)","v":{"$error":"#N/A"}},"kJ/kg",{"$f":"VLOOKUP(AA51,Dampftafel!C6:F64,4,TRUE)","v":{"$error":"#N/A"}},"kJ/kg",{"$f":"K51*M51","v":0},"kWh/a",null,{"$f":"VLOOKUP(I51,Listen!$A$1:$H$10,7,FALSE)","v":{"$error":"#N/A"}},{"$f":"VLOOKUP(I51,Listen!$A$1:$H$10,8,FALSE)","v":{"$error":"#N/A"}}]
[null,"Dampfkessel 2",null,null,null,"%",{"$f":"IF(E52=\"\",100-AJ52-S52-W52,\"\")","v":{"$error":"#N/A"}},"%",null,null,null,"kW",null,"h/a",null,"d/a",null,"vol%",null,"%",null,"°C",null,"%",null,"bar",null,"°C",null,"kg/s",{"$f":"IF(C52=\"Kesselwirkungsgrad bekannt\",((K52*E52/100)/(AL52-AN52))*3.6,((K52*G52/100)/(AL52-AN52))*3.6)","v":{"$error":"#N/A"}},"t/h",{"$f":"IF(C52=\"Kesselwirkungsgrad bekannt\",(E52*AP52)/100,(AP52*G52)/100)","v":{"$error":"#N/A"}},"kWh/a",null,{"$f":"(U52-$C$39)*((AS52/(21-Q52))+AT52)","v":{"$error":"#N/A"}},"%",{"$f":"VLOOKUP(Y52,Dampftafel!$B$6:$I$64,7,TRUE)","v":{"$error":"#N/A"}},"kJ/kg",{"$f":"VLOOKUP(AA52,Dampftafel!C7:F65,4,TRUE)","v":{"$error":"#N/A"}},"kJ/kg",{"$f":"K52*M52","v":0},"kWh/a",null,{"$f":"VLOOKUP(I52,Listen!$A$1:$H$10,7,FALSE)","v":{"$error":"#N/A"}},{"$f":"VLOOKUP(I52,Listen!$A$1:$H$10,8,FALSE)","v":{"$error":"#N/A"}}]
[null,"Dampfkessel 3",null,null,null,"%",{"$f":"IF(E53=\"\",100-AJ53-S53-W53,\"\")","v":{"$error":"#N/A"}},"%",null,null,null,"kW",null,"h/a",null,"d/a",null,"vol%",null,"%",null,"°C",null,"%",null,"bar",null,"°C",null,"kg/s",{"$f":"IF(C53=\"Kesselwirkungsgrad bekannt\",((K53*E53/100)/(AL53-AN53))*3.6,((K53*G53/100)/(AL53-AN53))*3.6)","v":{"$error":"#N/A"}},"t/h",{"$f":"IF(C53=\"Kesselwirkungsgrad bekannt\",(E53*AP53)/100,(AP53*G53)/100)","v":{"$error":"#N/A"}},"kWh/a",null,{"$f":"(U53-$C$39)*((AS53/(21-Q53))+AT53)","v":{"$error":"#N/A"}},"%",{"$f":"VLOOKUP(Y53,Dampftafel!$B$6:$I$64,7,TRUE)","v":{"$error":"#N/A"}},"kJ/kg",{"$f":"VLOOKUP(AA53,Dampftafel!C8:F66,4,TRUE)","v":{"$error":"#N/A"}},"kJ/kg",{"$f":"K53*M53","v":0},"kWh/a",null,{"$f":"VLOOKUP(I53,Listen!$A$1:$H$10,7,FALSE)","v":{"$error":"#N/A"}},{"$f":"VLOOKUP(I53,Listen!$A$1:$H$10,8,FALSE)","v":{"$error":"#N/A"}}]
[null,"Dampfkessel 4",null,null,null,"%",{"$f":"IF(E54=\"\",100-AJ54-S54-W54,\"\")","v":{"$error":"#N/A"}},"%",null,null,null,"kW",null,"h/a",null,"d/a",null,"vol%",null,"%",null,"°C",null,"%",null,"bar",null,"°C",null,"kg/s",{"$f":"IF(C54=\"Kesselwirkungsgrad bekannt\",((K54*E54/100)/(AL54-AN54))*3.6,((K54*G54/100)/(AL54-AN54))*3.6)","v":{"$error":"#N/A"}},"t/h",{"$f":"IF(C54=\"Kesselwirkungsgrad bekannt\",(E54*AP54)/100,(AP54*G54)/100)","v":{"$error":"#N/A"}},"kWh/a",null,{"$f":"(U54-$C$39)*((AS54/(21-Q54))+AT54)","v":{"$error":"#N/A"}},"%",{"$f":"VLOOKUP(Y54,Dampftafel!$B$6:$I$64,7,TRUE)","v":{"$error":"#N/A"}},"kJ/kg",{"$f":"VLOOKUP(AA54,Dampftafel!C9:F67,4,TRUE)","v":{"$error":"#N/A"}},"kJ/kg",{"$f":"K54*M54","v":0},"kWh/a",null,{"$f":"VLOOKUP(I54,Listen!$A$1:$H$10,7,FALSE)","v":{"$error":"#N/A"}},{"$f":"VLOOKUP(I54,Listen!$A$1:$H$10,8,FALSE)","v":{"$error":"#N/A"}}]
[null,"Dampfkessel 5",null,null,null,"%",{"$f":"IF(E55=\"\",100-AJ55-S55-W55,\"\")","v":{"$error":"#N/A"}},"%",null,null,null,"kW",null,"h/a",null,"d/a",null,"vol%",null,"%",null,"°C",null,"%",null,"bar",null,"°C",null,"kg/s",{"$f":"IF(C55=\"Kesselwirkungsgrad bekannt\",((K55*E55/100)/(AL55-AN55))*3.6,((K55*G55/100)/(AL55-AN55))*3.6)","v":{"$error":"#N/A"}},"t/h",{"$f":"IF(C55=\"Kesselwirkungsgrad bekannt\",(E55*AP55)/100,(AP55*G55)/100)","v":{"$error":"#N/A"}},"kWh/a",null,{"$f":"(U55-$C$39)*((AS55/(21-Q55))+AT55)","v":{"$error":"#N/A"}},"%",{"$f":"VLOOKUP(Y55,Dampftafel!$B$6:$I$64,7,TRUE)","v":{"$error":"#N/A"}},"kJ/kg",{"$f":"VLOOKUP(AA55,Dampftafel!C10:F68,4,TRUE)","v":{"$error":"#N/A"}},"kJ/kg",{"$f":"K55*M55","v":0},"kWh/a",null,{"$f":"VLOOKUP(I55,Listen!$A$1:$H$10,7,FALSE)","v":{"$error":"#N/A"}},{"$f":"VLOOKUP(I55,Listen!$A$1:$H$10,8,FALSE)","v":{"$error":"#N/A"}}]
[null,null,null,null,null,null,null,null,null,null,null,null,null,null,null,null,null,null,null,null,null,null,null,null,null,null,null,null,null,null,{"$f":"IF(C56=\"Kesselwirkungsgrad bekannt\",(E56*AN56)/100,(AN56*G56)/100)","v":0},null,null,null,null,null,null,null,null,{"$f":"SUM(AP51:AP55)","v":0}]
[]
[]
[]
[]
[]
[]
[]
[]
[]
[]
[]
[]
[]
[]
[]
[]
[]
[]
[]
[null,null,"Auswählen:",null,"EER",null,"EER \nberechnet",null,"Leistung \nelektrisch",null,"Volllaststunden  pro Jahr",null,"Betriebstage\npro Jahr",null,"Temperatur \nKondensator",null,"Temperatur\nVerdampfer",null,"Wärmerück-gewinnung",null,"Art der\nRückkühlung",null,"Strombedarf",null,"Kälteleistung",null,"Leistung \nKondensator",null,"Kältemenge",null,"Abwärmemenge \nKondensator"]
[null,"Kältemaschine 1",null,{"$f":"IF(C77=\"EER bekannt\",\"ok\",(IF(C77=\"EER unbekannt\",\"ok\",\"\")))","v":""},null,null,{"$f":"IF(C77=\"EER unbekannt\",(Q77+273.17)/((O77+273.15)-(Q77+273.15))*0.5,0)","v":0},null,null,"kWel",null,"h/a",null,"d/a",null,"°C",null,"°C",null,null,null,null,{"$f":"I77*K77","v":0},"kWh",{"$f":"IF(C77=\"EER bekannt\",E77*I77,G77*I77)","v":0},"kWth",{"$f":"Y77+I77","v":0},"kW",{"$f":"Y77*K77","v":0},"kWhth",{"$f":"AA77*K77","v":0},"kWth"]
[null,"Kältemaschine 2",null,"",null,null,0,null,null,"kWel",null,"h/a",null,"d/a",null,"°C",null,"°C",null,null,null,null,0,"kWh",0,"kWth",0,"kW",0,"kWhth",0,"kWth"]
[null,"Kältemaschine 3",null,"",null,null,0,null,null,"kWel",null,"h/a",null,"d/a",null,"°C",null,"°C",null,null,null,null,0,"kWh",0,"kWth",0,"kW",0,"kWhth",0,"kWth"]
[null,"Kältemaschine 4",null,"",null,null,0,null,null,"kWel",null,"h/a",null,"d/a",null,"°C",null,"°C",null,null,null,null,0,"kWh",0,"kWth",0,"kW",0,"kWhth",0,"kWth"]
[null,"Kältemaschine 5",null,"",null,null,0,null,null,"kWel",null,"h/a",null,"d/a",null,"°C",null,"°C",null,null,null,null,0,"kWh",0,"kWth",0,"kW",0,"kWhth",0,"kWth"]
[null,"Kältemaschine 6",null,"",null,null,0,null,null,"kWel",null,"h/a",null,"d/a",null,"°C",null,"°C",null,null,null,null,0,"kWh",0,"kWth",0,"kW",0,"kWhth",0,"kWth"]
[null,"Kältemaschine 7",null,"",null,null,0,null,null,"kWel",null,"h/a",null,"d/a",null,"°C",null,"°C",null,null,null,null,0,"kWh",0,"kWth",0,"kW",0,"kWhth",0,"kWth"]
[null,"Kältemaschine 8",null,"",null,null,0,null,null,"kWel",null,"h/a",null,"d/a",null,"°C",null,"°C",null,null,null,null,0,"kWh",0,"kWth",0,"kW",0,"kWhth",0,"kWth"]
[null,"Kältemaschine 9",null,"",null,null,0,null,null,"kWel",null,"h/a",null,"d/a",null,"°C",null,"°C",null,null,null,null,0,"kWh",0,"kWth",0,"kW",0,"kWhth",0,"kWth"]
[null,"Kältemaschine 10",null,"",null,null,0,null,null,"kWel",null,"h/a",null,"d/a",null,"°C",null,"°C",null,null,null,null,0,"kWh",0,"kWth",0,"kW",0,"kWhth",0,"kWth"]
[null,null,null,null,null,null,null,null,null,null,null,null,null,null,null,null,null,null,null,null,null,null,{"$f":"SUM(W77:W86)","v":0}]
[]
[]
[]
[]
[]
[]
[]
[]
[]
[]
[]
[]
[]
[]
[]
[]
[]
[]
[]
[null,null,"Auswählen: ",null,"Kompressor-leistung",null,"Volllaststunden\npro Jahr",null,"Betriebstage\npro Jahr",null,"Temperatur \nAbwärme",null,"Anteil \nrückgewinnbarer Abwärme",null,"Energiebedarf",null,"Abwärmemenge",null,"Abzuführende Leistung"]
[null,"Drucklufkompressor 1",null,null,null,"kW",null,"h/a",null,"d/a",null,"°C",null,"%",{"$f":"E108*G108","v":0},"kWh",{"$f":"S108*G108","v":0},"kWh/a",{"$f":"E108*M108/100","v":0},"kW"]
[null,"Drucklufkompressor 2",null,null,null,"kW",null,"h/a",null,"d/a",null,"°C",null,"%",{"$f":"E109*G109","v":0},"kWh",{"$f":"S109*G109","v":0},"kWh/a",{"$f":"E109*M109/100","v":0},"kW"]
[null,"Drucklufkompressor 3",null,null,null,"kW",null,"h/a",null,"d/a",null,"°C",null,"%",{"$f":"E110*G110","v":0},"kWh",{"$f":"S110*G110","v":0},"kWh/a",{"$f":"E110*M110/100","v":0},"kW"]
[null,"Drucklufkompressor 4",null,null,null,"kW",null,"h/a",null,"d/a",null,"°C",null,"%",{"$f":"E111*G111","v":0},"kWh",{"$f":"S111*G111","v":0},"kWh/a",{"$f":"E111*M111/100","v":0},"kW"]
[null,"Drucklufkompressor 5",null,null,null,"kW",null,"h/a",null,"d/a",null,"°C",null,"%",{"$f":"E112*G112","v":0},"kWh",{"$f":"S112*G112","v":0},"kWh/a",{"$f":"E112*M112/100","v":0},"kW"]
[null,null,null,null,null,null,null,null,null,null,null,null,{"$f":"SUM(O108:O112)","v":0},"kWh"]

{"sheet":"Dampftafel","index":4,"n_rows":64,"n_cols":9,"rows_kept":64,"cut":false,"hidden":true,"merged":[[1,0,2,3],[1,5,1,7]]}
[]
["SATTDAMPFEIGENSCHAFTEN",null,null,null,null,"Spezifische Enthalpie"]
[null,null,null,null,null,"Flüssig","Verdampfen","Dampf","Spezifische Entropie"]
[null,null,null,null,null,"- hl -","- he -","- hs -","- s -"]
["p abs [kPa]","p abs [bar]","T [°C]","V spez [m³/kg]","Dichte [kg/m³]","[kJ/kg]","[kJ/kg]","[kJ/kg]","(kJ/kgK)"]
[0.8,{"$f":"A6/100","v":8.0000000000000002E-3},3.8,160,6.2599999999999999E-3,15.8,2493,2509,9.0579999999999998]
[2,0.02,17.5,67,1.49E-2,73.5,2460,2534,8.7249999999999996]
[5,0.05,32.9,28.2,3.5400000000000001E-2,137.80000000000001,2424,2562,8.3960000000000008]
[10,0.1,45.8,14.7,6.8199999999999997E-2,191.8,2393,2585,8.1509999999999998]
[20,0.2,60.1,7.65,0.13100000000000001,251.5,2358,2610,7.9089999999999998]
[28,0.28000000000000003,67.5,5.58,0.17899999999999999,282.7,2340,2623,7.7930000000000001]
[35,0.35,72.7,4.53,0.221,304.3,2327,2632,7.7169999999999996]
[45,0.45,78.7,3.58,0.27900000000000003,329.6,2312,2642,7.6310000000000002]
[55,0.55000000000000004,83.7,2.96,0.33800000000000002,350.6,2299,2650,7.5620000000000003]
[65,0.65,88,2.5299999999999998,0.39500000000000002,368.6,2288,2657,7.5060000000000002]
[75,0.75,91.8,2.2200000000000002,0.45,384.5,2279,2663,7.4569999999999999]
[85,0.85,95.2,1.97,0.50700000000000001,398.6,2270,2668,7.415]
[95,0.95,98.2,1.78,0.56299999999999994,411.5,2262,2673,7.3769999999999998]
[100,1,99.6,1.69,0.59,417.5,2258,2675,7.36]
[101.33,1.0133000000000001,100,1.67,0.59799999999999998,419.1,2257,2676,7.3550000000000004]
[110,1.1000000000000001,102.3,1.55,0.64600000000000002,428.8,2251,2680,7.3280000000000003]
[130,1.3,107.1,1.33,0.755,449.2,2238,2687,7.2709999999999999]
[150,1.5,111.4,1.1599999999999999,0.86299999999999999,467.1,2226,2698,7.2229999999999999]
[170,1.7,115.2,1.03,0.97,483.2,2216,2699,7.181]
[190,1.9,118.6,0.92900000000000005,1.08,497.8,2206,2704,7.1440000000000001]
[220,2.2000000000000002,123.3,0.81,1.23,517.6,2193,2711,7.0949999999999998]
[260,2.6,128.69999999999999,0.69299999999999995,1.44,540.9,2177,2718,7.0389999999999997]
[280,2.8,131.19999999999999,0.64600000000000002,1.55,551.4,2170,2722,7.0140000000000002]
[320,3.2,135.80000000000001,0.56999999999999995,1.75,570.9,2157,2728,6.9690000000000003]
[360,3.6,139.9,0.51,1.96,588.5,2144,2733,6.93]
[400,4,143.1,0.46200000000000002,2.16,604.70000000000005,2133,2738,6.8940000000000001]
[440,4.4000000000000004,147.1,0.42299999999999999,2.36,619.6,2122,2742,6.8620000000000001]
[480,4.8,150.30000000000001,0.38900000000000001,2.57,633.5,2112,2746,6.8330000000000002]
[500,5,151.80000000000001,0.375,2.67,640.1,2107,2748,6.819]
[550,5.5,155.5,0.34200000000000003,2.92,655.8,2096,2752,6.7869999999999999]
[600,6,158.80000000000001,0.315,3.1749999999999998,670.4,2085,2756,6.758]
[650,6.5,162,0.29199999999999998,3.4249999999999998,684.1,2075,2759,6.73]
[700,{"$f":"A38/100","v":7},165,0.27300000000000002,3.66,697.1,2065,2762,6.7050000000000001]
[750,7.5,167.8,0.255,3.915,709.3,2056,2765,6.6820000000000004]
[800,8,170.4,0.24,4.16,720.9,2047,2768,6.66]
[850,8.5,172.9,0.22900000000000001,4.41,732,2038,2770,6.6390000000000002]
[900,9,175.4,0.215,4.6500000000000004,742.6,2030,2772,6.6189999999999998]
[950,9.5,177.7,0.20399999999999999,4.9000000000000004,752.8,2021,2774,6.601]
[1000,10,179.9,0.19400000000000001,5.15,762.6,2014,2776,6.5830000000000002]
[1050,10.5,182,0.186,5.39,772,2006,2778,6.5659999999999998]
[1150,11.5,186,0.17,5.89,790,1991,2781,6.5339999999999998]
[1250,12.5,189.8,0.157,6.38,807,1977,2784,6.5049999999999999]
[1300,13,191.6,0.151,6.62,815,1971,2785,6.4909999999999997]
[1500,15,198.3,0.13200000000000001,7.59,845,1945,2790,6.4409999999999998]
[1600,16,201.4,0.124,8.0299999999999994,859,1933,2792,6.4180000000000001]
[1800,18,207.1,0.11,9.07,885,1910,2795,6.375]
[2000,20,212.4,9.9500000000000005E-2,10.01,909,1889,2797,6.3369999999999997]
[2100,21,214.9,9.4500000000000001E-2,10.54,920,1878,2798,6.319]
[2300,23,219.6,8.6800000000000002E-2,11.52,942,1858,2800,6.2850000000000001]
[2400,24,221.8,8.3199999999999996E-2,12.02,952,1849,2800,6.2690000000000001]
[2600,26,226,7.6899999999999996E-2,13.01,972,1830,2801,6.2389999999999999]
[2700,27,228.1,7.3999999999999996E-2,13.52,981,1821,2802,6.2240000000000002]
[2900,29,232,6.8900000000000003E-2,14.52,1000,1803,2802,6.1970000000000001]
[3000,30,233.8,6.6600000000000006E-2,15,1008,1794,2802,6.1840000000000002]
[3200,32,237.4,6.2399999999999997E-2,16.02,1025,1779,2802,6.1580000000000004]
[3400,34,240.9,5.8700000000000002E-2,17.04,1042,1760,2802,6.1340000000000003]
[3600,36,244.2,5.5399999999999998E-2,18.059999999999999,1058,1744,2802,6.1120000000000001]
[3800,38,247.3,5.2400000000000002E-2,19.079999999999998,1073,1728,2801,6.09]
[4000,40,250.3,4.9700000000000001E-2,20.09,1087,1713,2800,6.069]

{"sheet":"Ströme","index":5,"n_rows":24,"n_cols":12,"rows_kept":24,"cut":false,"hidden":true,"merged":[]}
[]
[null,null,"(das ist die erste Zelle / erste Spalte)",null,"Use in Pinch List","start T","end T","m","cp","h","P/U","d/y"]
[null,"Kältemaschine 1",1,"Abwärme Kondensator 1",{"$f":"IF(AND(Energieversorgung!D77=\"ok\",Energieversorgung!S77=\"nicht vorhanden\"),1,0)","v":0},{"$f":"Energieversorgung!O77","v":0},{"$f":"IF(Energieversorgung!U77=\"nasse Rückkühlung\",Allgemein!$D$45,Allgemein!$D$46)","v":0},{"$f":"Energieversorgung!AE77/(4.19*(Ströme!F3-Ströme!G3))*3600/(J3*3600)","v":{"$error":"#DIV/0!"}},4.1900000000000004,{"$f":"Energieversorgung!K77","v":0},"Process",{"$f":"Energieversorgung!M77","v":0}]
[null,"Kältemaschine 2",2,"Abwärme Kondensator 2",{"$f":"IF(AND(Energieversorgung!D78=\"ok\",Energieversorgung!S78=\"nicht vorhanden\"),1,0)","v":0},{"$f":"Energieversorgung!O78","v":0},{"$f":"IF(Energieversorgung!U78=\"nasse Rückkühlung\",Allgemein!$D$45,Allgemein!$D$46)","v":0},{"$f":"Energieversorgung!AE78/(4.19*(Ströme!F4-Ströme!G4))*3600/(J4*3600)","v":{"$error":"#DIV/0!"}},4.1900000000000004,{"$f":"Energieversorgung!K78","v":0},"Process",{"$f":"Energieversorgung!M78","v":0}]
[null,"Kältemaschine 3",3,"Abwärme Kondensator 3",{"$f":"IF(AND(Energieversorgung!D79=\"ok\",Energieversorgung!S79=\"nicht vorhanden\"),1,0)","v":0},{"$f":"Energieversorgung!O79","v":0},{"$f":"IF(Energieversorgung!U79=\"nasse Rückkühlung\",Allgemein!$D$45,Allgemein!$D$46)","v":0},{"$f":"Energieversorgung!AE79/(4.19*(Ströme!F5-Ströme!G5))*3600/(J5*3600)","v":{"$error":"#DIV/0!"}},4.1900000000000004,{"$f":"Energieversorgung!K79","v":0},"Process",{"$f":"Energieversorgung!M79","v":0}]
[null,"Kältemaschine 4",4,"Abwärme Kondensator 4",{"$f":"IF(AND(Energieversorgung!D80=\"ok\",Energieversorgung!S80=\"nicht vorhanden\"),1,0)","v":0},{"$f":"Energieversorgung!O80","v":0},{"$f":"IF(Energieversorgung!U80=\"nasse Rückkühlung\",Allgemein!$D$45,Allgemein!$D$46)","v":0},{"$f":"Energieversorgung!AE80/(4.19*(Ströme!F6-Ströme!G6))*3600/(J6*3600)","v":{"$error":"#DIV/0!"}},4.1900000000000004,{"$f":"Energieversorgung!K80","v":0},"Process",{"$f":"Energieversorgung!M80","v":0}]
[null,"Kältemaschine 5",5,"Abwärme Kondensator 5",{"$f":"IF(AND(Energieversorgung!D81=\"ok\",Energieversorgung!S81=\"nicht vorhanden\"),1,0)","v":0},{"$f":"Energieversorgung!O81","v":0},{"$f":"IF(Energieversorgung!U81=\"nasse Rückkühlung\",Allgemein!$D$45,Allgemein!$D$46)","v":0},{"$f":"Energieversorgung!AE81/(4.19*(Ströme!F7-Ströme!G7))*3600/(J7*3600)","v":{"$error":"#DIV/0!"}},4.1900000000000004,{"$f":"Energieversorgung!K81","v":0},"Process",{"$f":"Energieversorgung!M81","v":0}]
[null,"Kältemaschine 6",6,"Abwärme Kondensator 6",{"$f":"IF(AND(Energieversorgung!D82=\"ok\",Energieversorgung!S82=\"nicht vorhanden\"),1,0)","v":0},{"$f":"Energieversorgung!O82","v":0},{"$f":"IF(Energieversorgung!U82=\"nasse Rückkühlung\",Allgemein!$D$45,Allgemein!$D$46)","v":0},{"$f":"Energieversorgung!AE82/(4.19*(Ströme!F8-Ströme!G8))*3600/(J8*3600)","v":{"$error":"#DIV/0!"}},4.1900000000000004,{"$f":"Energieversorgung!K82","v":0},"Process",{"$f":"Energieversorgung!M82","v":0}]
[null,"Kältemaschine 7",7,"Abwärme Kondensator 7",{"$f":"IF(AND(Energieversorgung!D83=\"ok\",Energieversorgung!S83=\"nicht vorhanden\"),1,0)","v":0},{"$f":"Energieversorgung!O83","v":0},{"$f":"IF(Energieversorgung!U83=\"nasse Rückkühlung\",Allgemein!$D$45,Allgemein!$D$46)","v":0},{"$f":"Energieversorgung!AE83/(4.19*(Ströme!F9-Ströme!G9))*3600/(J9*3600)","v":{"$error":"#DIV/0!"}},4.1900000000000004,{"$f":"Energieversorgung!K83","v":0},"Process",{"$f":"Energieversorgung!M83","v":0}]
[null,"Kältemaschine 8",8,"Abwärme Kondensator 8",{"$f":"IF(AND(Energieversorgung!D84=\"ok\",Energieversorgung!S84=\"nicht vorhanden\"),1,0)","v":0},{"$f":"Energieversorgung!O84","v":0},{"$f":"IF(Energieversorgung!U84=\"nasse Rückkühlung\",Allgemein!$D$45,Allgemein!$D$46)","v":0},{"$f":"Energieversorgung!AE84/(4.19*(Ströme!F10-Ströme!G10))*3600/(J10*3600)","v":{"$error":"#DIV/0!"}},4.1900000000000004,{"$f":"Energieversorgung!K84","v":0},"Process",{"$f":"Energieversorgung!M84","v":0}]
[null,"Kältemaschine 9",9,"Abwärme Kondensator 9",{"$f":"IF(AND(Energieversorgung!D85=\"ok\",Energieversorgung!S85=\"nicht vorhanden\"),1,0)","v":0},{"$f":"Energieversorgung!O85","v":0},{"$f":"IF(Energieversorgung!U85=\"nasse Rückkühlung\",Allgemein!$D$45,Allgemein!$D$46)","v":0},{"$f":"Energieversorgung!AE85/(4.19*(Ströme!F11-Ströme!G11))*3600/(J11*3600)","v":{"$error":"#DIV/0!"}},4.1900000000000004,{"$f":"Energieversorgung!K85","v":0},"Process",{"$f":"Energieversorgung!M85","v":0}]
[null,"Kältemaschine 10",10,"Abwärme Kondensator 10",{"$f":"IF(AND(Energieversorgung!D86=\"ok\",Energieversorgung!S86=\"nicht vorhanden\"),1,0)","v":0},{"$f":"Energieversorgung!O86","v":0},{"$f":"IF(Energieversorgung!U86=\"nasse Rückkühlung\",Allgemein!$D$45,Allgemein!$D$46)","v":0},{"$f":"Energieversorgung!AE86/(4.19*(Ströme!F12-Ströme!G12))*3600/(J12*3600)","v":{"$error":"#DIV/0!"}},4.1900000000000004,{"$f":"Energieversorgung!K86","v":0},"Process",{"$f":"Energieversorgung!M86","v":0}]
[]
[null,null,"(das ist die erste Zelle / erste Spalte)",null,"Use in Pinch List","start T","end T","m","cp","h","P/U"]
[null,"Kälteverteilung 1",1,"Kälteverteilung  1",{"$f":"IF(AND(Energieverteilung!E23<>0,Energieverteilung!G23<>0),1,0)","v":0},{"$f":"Energieverteilung!E23","v":0},{"$f":"Energieverteilung!G23","v":0},{"$f":"Energieverteilung!Q23/3600*1000","v":{"$error":"#DIV/0!"}},4.1900000000000004,{"$f":"Energieversorgung!K77","v":0},"Process"]
[null,"Kälteverteilung 2",2,"Kälteverteilung  2",{"$f":"IF(AND(Energieverteilung!E24<>0,Energieverteilung!G24<>0),1,0)","v":0},{"$f":"Energieverteilung!E24","v":0},{"$f":"Energieverteilung!G24","v":0},{"$f":"Energieverteilung!Q24/3600*1000","v":{"$error":"#DIV/0!"}},4.1900000000000004,{"$f":"Energieversorgung!K78","v":0},"Process"]
[null,"Kälteverteilung 3",3,"Kälteverteilung  3",{"$f":"IF(AND(Energieverteilung!E25<>0,Energieverteilung!G25<>0),1,0)","v":0},{"$f":"Energieverteilung!E25","v":0},{"$f":"Energieverteilung!G25","v":0},{"$f":"Energieverteilung!Q25/3600*1000","v":{"$error":"#DIV/0!"}},4.1900000000000004,{"$f":"Energieversorgung!K79","v":0},"Process"]
[null,"Kälteverteilung 4",4,"Kälteverteilung  4",{"$f":"IF(AND(Energieverteilung!E26<>0,Energieverteilung!G26<>0),1,0)","v":0},{"$f":"Energieverteilung!E26","v":0},{"$f":"Energieverteilung!G26","v":0},{"$f":"Energieverteilung!Q26/3600*1000","v":{"$error":"#DIV/0!"}},4.1900000000000004,{"$f":"Energieversorgung!K80","v":0},"Process"]
[null,"Kälteverteilung 5",5,"Kälteverteilung  5",{"$f":"IF(AND(Energieverteilung!E27<>0,Energieverteilung!G27<>0),1,0)","v":0},{"$f":"Energieverteilung!E27","v":0},{"$f":"Energieverteilung!G27","v":0},{"$f":"Energieverteilung!Q27/3600*1000","v":{"$error":"#DIV/0!"}},4.1900000000000004,{"$f":"Energieversorgung!K81","v":0},"Process"]
[null,"Kälteverteilung 6",6,"Kälteverteilung  6",{"$f":"IF(AND(Energieverteilung!E28<>0,Energieverteilung!G28<>0),1,0)","v":0},{"$f":"Energieverteilung!E28","v":0},{"$f":"Energieverteilung!G28","v":0},{"$f":"Energieverteilung!Q28/3600*1000","v":{"$error":"#DIV/0!"}},4.1900000000000004,{"$f":"Energieversorgung!K82","v":0},"Process"]
[null,"Kälteverteilung 7",7,"Kälteverteilung  7",{"$f":"IF(AND(Energieverteilung!E29<>0,Energieverteilung!G29<>0),1,0)","v":0},{"$f":"Energieverteilung!E29","v":0},{"$f":"Energieverteilung!G29","v":0},{"$f":"Energieverteilung!Q29/3600*1000","v":{"$error":"#DIV/0!"}},4.1900000000000004,{"$f":"Energieversorgung!K83","v":0},"Process"]
[null,"Kälteverteilung 8",8,"Kälteverteilung  8",{"$f":"IF(AND(Energieverteilung!E30<>0,Energieverteilung!G30<>0),1,0)","v":0},{"$f":"Energieverteilung!E30","v":0},{"$f":"Energieverteilung!G30","v":0},{"$f":"Energieverteilung!Q30/3600*1000","v":{"$error":"#DIV/0!"}},4.1900000000000004,{"$f":"Energieversorgung!K84","v":0},"Process"]
[null,"Kälteverteilung 9",9,"Kälteverteilung  9",{"$f":"IF(AND(Energieverteilung!E31<>0,Energieverteilung!G31<>0),1,0)","v":0},{"$f":"Energieverteilung!E31","v":0},{"$f":"Energieverteilung!G31","v":0},{"$f":"Energieverteilung!Q31/3600*1000","v":{"$error":"#DIV/0!"}},4.1900000000000004,{"$f":"Energieversorgung!K85","v":0},"Process"]
[null,"Kälteverteilung 10",10,"Kälteverteilung  10",{"$f":"IF(AND(Energieverteilung!E32<>0,Energieverteilung!G32<>0),1,0)","v":0},{"$f":"Energieverteilung!E32","v":0},{"$f":"Energieverteilung!G32","v":0},{"$f":"Energieverteilung!Q32/3600*1000","v":{"$error":"#DIV/0!"}},4.1900000000000004,{"$f":"Energieversorgung!K86","v":0},"Process"]

{"sheet":"Ströme_2","index":6,"n_rows":28,"n_cols":12,"rows_kept":28,"cut":false,"hidden":true,"merged":[]}
[]
[null,null,"(das ist die erste Zelle / erste Spalte)",null,"Use in Pinch List","start T","end T","m","cp","h","P/U","d/y"]
[null,"Druckluft 1",1,"Abwärme Druckluftkompressor 1",{"$f":"IF(Energieversorgung!C108=\"Wärmerückgewinnung nicht vorhanden\",1,0)","v":0},{"$f":"Energieversorgung!K108","v":0},{"$f":"Allgemein!$D$46","v":0},{"$f":"Energieversorgung!S108/(4.19*(Ströme_2!F3-Ströme_2!G3))","v":{"$error":"#DIV/0!"}},4.1900000000000004,{"$f":"Energieversorgung!G108","v":0},"Process",{"$f":"Energieversorgung!I108","v":0}]
[null,"Druckluft 2",2,"Abwärme Druckluftkompressor 2",{"$f":"IF(Energieversorgung!C109=\"Wärmerückgewinnung nicht vorhanden\",1,0)","v":0},{"$f":"Energieversorgung!K109","v":0},{"$f":"Allgemein!$D$46","v":0},{"$f":"Energieversorgung!S109/(4.19*(Ströme_2!F4-Ströme_2!G4))","v":{"$error":"#DIV/0!"}},4.1900000000000004,{"$f":"Energieversorgung!G109","v":0},"Process",{"$f":"Energieversorgung!I109","v":0}]
[null,"Druckluft 3",3,"Abwärme Druckluftkompressor 3",{"$f":"IF(Energieversorgung!C110=\"Wärmerückgewinnung nicht vorhanden\",1,0)","v":0},{"$f":"Energieversorgung!K110","v":0},{"$f":"Allgemein!$D$46","v":0},{"$f":"Energieversorgung!S110/(4.19*(Ströme_2!F5-Ströme_2!G5))","v":{"$error":"#DIV/0!"}},4.1900000000000004,{"$f":"Energieversorgung!G110","v":0},"Process",{"$f":"Energieversorgung!I110","v":0}]
[null,"Druckluft 4",4,"Abwärme Druckluftkompressor 4",{"$f":"IF(Energieversorgung!C111=\"Wärmerückgewinnung nicht vorhanden\",1,0)","v":0},{"$f":"Energieversorgung!K111","v":0},{"$f":"Allgemein!$D$46","v":0},{"$f":"Energieversorgung!S111/(4.19*(Ströme_2!F6-Ströme_2!G6))","v":{"$error":"#DIV/0!"}},4.1900000000000004,{"$f":"Energieversorgung!G111","v":0},"Process",{"$f":"Energieversorgung!I111","v":0}]
[null,"Druckluft 5",5,"Abwärme Druckluftkompressor 5",{"$f":"IF(Energieversorgung!C112=\"Wärmerückgewinnung nicht vorhanden\",1,0)","v":0},{"$f":"Energieversorgung!K112","v":0},{"$f":"Allgemein!$D$46","v":0},{"$f":"Energieversorgung!S112/(4.19*(Ströme_2!F7-Ströme_2!G7))","v":{"$error":"#DIV/0!"}},4.1900000000000004,{"$f":"Energieversorgung!G112","v":0},"Process",{"$f":"Energieversorgung!I112","v":0}]
[]
[null,null,"(das ist die erste Zelle / erste Spalte)",null,"Use in Pinch List","start T","end T","m","cp","h","P/U","d/y"]
[null,"Kesselspeisewasser 1",1,"Kesselspeisewasser Kessel 1",{"$f":"IF(Energieversorgung!AC51>0,1,0)","v":0},{"$f":"Allgemein!$D$45","v":0},{"$f":"Energieversorgung!AA51","v":0},{"$f":"Energieversorgung!AC51","v":0},4.1900000000000004,{"$f":"Energieversorgung!M51","v":0},"Process",{"$f":"Energieversorgung!O42","v":0}]
[null,"Kesselspeisewasser 2",2,"Kesselspeisewasser Kessel 2",{"$f":"IF(Energieversorgung!AC52>0,1,0)","v":0},{"$f":"Allgemein!$D$45","v":0},{"$f":"Energieversorgung!AA52","v":0},{"$f":"Energieversorgung!AC52","v":0},4.1900000000000004,{"$f":"Energieversorgung!M52","v":0},"Process",{"$f":"Energieversorgung!O43","v":0}]
[null,"Kesselspeisewasser 3",3,"Kesselspeisewasser Kessel 3",{"$f":"IF(Energieversorgung!AC53>0,1,0)","v":0},{"$f":"Allgemein!$D$45","v":0},{"$f":"Energieversorgung!AA53","v":0},{"$f":"Energieversorgung!AC53","v":0},4.1900000000000004,{"$f":"Energieversorgung!M53","v":0},"Process",{"$f":"Energieversorgung!O44","v":0}]
[null,"Kesselspeisewasser 4",4,"Kesselspeisewasser Kessel 4",{"$f":"IF(Energieversorgung!AC54>0,1,0)","v":0},{"$f":"Allgemein!$D$45","v":0},{"$f":"Energieversorgung!AA54","v":0},{"$f":"Energieversorgung!AC54","v":0},4.1900000000000004,{"$f":"Energieversorgung!M54","v":0},"Process",{"$f":"Energieversorgung!O45","v":0}]
[null,"Kesselspeisewasser 5",5,"Kesselspeisewasser Kessel 5",{"$f":"IF(Energieversorgung!AC55>0,1,0)","v":0},{"$f":"Allgemein!$D$45","v":0},{"$f":"Energieversorgung!AA55","v":0},{"$f":"Energieversorgung!AC55","v":0},4.1900000000000004,{"$f":"Energieversorgung!M55","v":0},"Process",{"$f":"Energieversorgung!O46","v":0}]
[]
[null,null,"(das ist die erste Zelle / erste Spalte)",null,"Use in Pinch List","start T","end T","m","cp","h","P/U","d/y"]
[null,"Kondensat 1"]
[null,"Kondensat 2"]
[null,"Kondensat 3"]
[null,"Kondensat 4"]
[null,"Kondensat 5"]
[]
[null,null,"(das ist die erste Zelle / erste Spalte)",null,"Use in Pinch List","start T","end T","m","cp","h","P/U"]
[null,"Warmwasser  Verteilung 1",1,"Warmwasserverteilung 1",{"$f":"IF(AND(Energieverteilung!E13>0,Energieverteilung!G13>0),1,0)","v":0},{"$f":"Energieverteilung!E13","v":0},{"$f":"Energieverteilung!G13","v":0},{"$f":"Energieverteilung!Q13","v":{"$error":"#N/A"}},4.1900000000000004,{"$f":"Energieversorgung!M42","v":0},"Process"]
[null,"Warmwasser  Verteilung 2",2,"Warmwasserverteilung 2",{"$f":"IF(AND(Energieverteilung!E14>0,Energieverteilung!G14>0),1,0)","v":0},{"$f":"Energieverteilung!E14","v":0},{"$f":"Energieverteilung!G14","v":0},{"$f":"Energieverteilung!Q14","v":{"$error":"#N/A"}},4.1900000000000004,{"$f":"Energieversorgung!M43","v":0},"Process"]
[null,"Warmwasser  Verteilung 3",3,"Warmwasserverteilung 3",{"$f":"IF(AND(Energieverteilung!E15>0,Energieverteilung!G15>0),1,0)","v":0},{"$f":"Energieverteilung!E15","v":0},{"$f":"Energieverteilung!G15","v":0},{"$f":"Energieverteilung!Q15","v":{"$error":"#N/A"}},4.1900000000000004,{"$f":"Energieversorgung!M44","v":0},"Process"]
[null,"Warmwasser  Verteilung 4",4,"Warmwasserverteilung 4",{"$f":"IF(AND(Energieverteilung!E16>0,Energieverteilung!G16>0),1,0)","v":0},{"$f":"Energieverteilung!E16","v":0},{"$f":"Energieverteilung!G16","v":0},{"$f":"Energieverteilung!Q16","v":{"$error":"#N/A"}},4.1900000000000004,{"$f":"Energieversorgung!M45","v":0},"Process"]
[null,"Warmwasser  Verteilung 5",5,"Warmwasserverteilung 5",{"$f":"IF(AND(Energieverteilung!E17>0,Energieverteilung!G17>0),1,0)","v":0},{"$f":"Energieverteilung!E17","v":0},{"$f":"Energieverteilung!G17","v":0},{"$f":"Energieverteilung!Q17","v":{"$error":"#N/A"}},4.1900000000000004,{"$f":"Energieversorgung!M46","v":0},"Process"]

{"sheet":"Energieverteilung","index":7,"n_rows":62,"n_cols":22,"rows_kept":62,"cut":false,"hidden":false,"merged":[]}
[]
[]
[]
[]
[]
[]
[]
[]
[]
[]
[]
[null,null,"Energiemenge \nohne Verluste",null,"Vorlauf-\ntemperatur",null,"Rücklauf-\ntemperatur",null,"Verteilungs-\nverluste",null,"Energiemenge\nmit Verluste",null,null,null,"Leistung",null,"Massenstrom",null,"Brennstoff",null,"Brennstoffeinsatz"]
[null,"Warmwasser",{"$f":"'Ist-Stand'!I16","v":{"$error":"#N/A"}},"kWh/a",null,"°C",null,"°C",null,"%",{"$f":"IF(I13=\"\",C13,(C13-(C13*I13/100)))","v":{"$error":"#N/A"}},"kWh/a",null,null,{"$f":"K13/Energieversorgung!M42","v":{"$error":"#N/A"}},"kW",{"$f":"O13/(4.19*(E13-G13))","v":{"$error":"#N/A"}},"kg/s",{"$f":"Energieversorgung!I42","v":0},null,{"$f":"Energieversorgung!W42","v":0},"kWh/a"]
[null,"Warmwasser",{"$f":"'Ist-Stand'!I17","v":{"$error":"#N/A"}},"kWh/a",null,"°C",null,"°C",null,"%",{"$f":"IF(I14=\"\",C14,(C14-(C14*I14/100)))","v":{"$error":"#N/A"}},"kWh/a",null,null,{"$f":"K14/Energieversorgung!M43","v":{"$error":"#N/A"}},"kW",{"$f":"O14/(4.19*(E14-G14))","v":{"$error":"#N/A"}},"kg/s",{"$f":"Energieversorgung!I43","v":0},null,{"$f":"Energieversorgung!W43","v":0},"kWh/a"]
[null,"Warmwasser",{"$f":"'Ist-Stand'!I18","v":{"$error":"#N/A"}},"kWh/a",null,"°C",null,"°C",null,"%",{"$error":"#N/A"},"kWh/a",null,null,{"$f":"K15/Energieversorgung!M44","v":{"$error":"#N/A"}},"kW",{"$error":"#N/A"},"kg/s",{"$f":"Energieversorgung!I44","v":0},null,{"$f":"Energieversorgung!W44","v":0},"kWh/a"]
[null,"Warmwasser",{"$f":"'Ist-Stand'!I19","v":{"$error":"#N/A"}},"kWh/a",null,"°C",null,"°C",null,"%",{"$error":"#N/A"},"kWh/a",null,null,{"$f":"K16/Energieversorgung!M45","v":{"$error":"#N/A"}},"kW",{"$error":"#N/A"},"kg/s",{"$f":"Energieversorgung!I45","v":0},null,{"$f":"Energieversorgung!W45","v":0},"kWh/a"]
[null,"Warmwasser",{"$f":"'Ist-Stand'!I20","v":{"$error":"#N/A"}},"kWh/a",null,"°C",null,"°C",null,"%",{"$error":"#N/A"},"kWh/a",null,null,{"$f":"K17/Energieversorgung!M46","v":{"$error":"#N/A"}},"kW",{"$error":"#N/A"},"kg/s",{"$f":"Energieversorgung!I46","v":0},null,{"$f":"Energieversorgung!W46","v":0},"kWh/a"]
[null,null,null,null,null,null,null,null,null,null,{"$f":"SUM(IFERROR(K13:K17,0))","v":0},"kWh/a"]
[]
[]
[]
[null,null,"Energiemenge \nohne Verluste",null,"Vorlauf-\ntemperatur",null,"Rücklauf-\ntemperatur",null,"Verteilungs- \nverluste",null,"Energiemenge\nmit Verluste",null,null,null,"Leistung",null,"Massenstrom",null,"Brennstoff",null,"Brennstoffeinsatz\n(Stromverbrauch)"]
[null,"Kältemenge",{"$f":"Energieversorgung!AC77","v":0},"kWh/a",null,"°C",null,"°C",null,"%",{"$f":"IF(I23=\"\",C23,(C23-(I23*C23/100)))","v":0},"kWh/a",null,null,{"$f":"Energieversorgung!Y77","v":0},"kW",{"$f":"O23/(4.19*(G23-E23))","v":{"$error":"#DIV/0!"}},"kg/s","Strom",null,{"$f":"Energieversorgung!W77","v":0},"kWh/a"]
[null,"Kältemenge",{"$f":"Energieversorgung!AC78","v":0},"kWh/a",null,"°C",null,"°C",null,"%",{"$f":"IF(I24=\"\",C24,(C24-(I24*C24/100)))","v":0},"kWh/a",null,null,{"$f":"Energieversorgung!Y78","v":0},"kW",{"$f":"O24/(4.19*(G24-E24))","v":{"$error":"#DIV/0!"}},"kg/s","Strom",null,{"$f":"Energieversorgung!W78","v":0},"kWh/a"]
[null,"Kältemenge",{"$f":"Energieversorgung!AC79","v":0},"kWh/a",null,"°C",null,"°C",null,"%",0,"kWh/a",null,null,{"$f":"Energieversorgung!Y79","v":0},"kW",{"$error":"#DIV/0!"},"kg/s","Strom",null,{"$f":"Energieversorgung!W79","v":0},"kWh/a"]
[null,"Kältemenge",{"$f":"Energieversorgung!AC80","v":0},"kWh/a",null,"°C",null,"°C",null,"%",0,"kWh/a",null,null,{"$f":"Energieversorgung!Y80","v":0},"kW",{"$error":"#DIV/0!"},"kg/s","Strom",null,{"$f":"Energieversorgung!W80","v":0},"kWh/a"]
[null,"Kältemenge",{"$f":"Energieversorgung!AC81","v":0},"kWh/a",null,"°C",null,"°C",null,"%",0,"kWh/a",null,null,{"$f":"Energieversorgung!Y81","v":0},"kW",{"$error":"#DIV/0!"},"kg/s","Strom",null,{"$f":"Energieversorgung!W81","v":0},"kWh/a"]
[null,"Kältemenge",{"$f":"Energieversorgung!AC82","v":0},"kWh/a",null,"°C",null,"°C",null,"%",0,"kWh/a",null,null,{"$f":"Energieversorgung!Y82","v":0},"kW",{"$error":"#DIV/0!"},"kg/s","Strom",null,{"$f":"Energieversorgung!W82","v":0},"kWh/a"]
[null,"Kältemenge",{"$f":"Energieversorgung!AC83","v":0},"kWh/a",null,"°C",null,"°C",null,"%",0,"kWh/a",null,null,{"$f":"Energieversorgung!Y83","v":0},"kW",{"$error":"#DIV/0!"},"kg/s","Strom",null,{"$f":"Energieversorgung!W83","v":0},"kWh/a"]
[null,"Kältemenge",{"$f":"Energieversorgung!AC84","v":0},"kWh/a",null,"°C",null,"°C",null,"%",0,"kWh/a",null,null,{"$f":"Energieversorgung!Y84","v":0},"kW",{"$error":"#DIV/0!"},"kg/s","Strom",null,{"$f":"Energieversorgung!W84","v":0},"kWh/a"]
[null,"Kältemenge",{"$f":"Energieversorgung!AC85","v":0},"kWh/a",null,"°C",null,"°C",null,"%",0,"kWh/a",null,null,{"$f":"Energieversorgung!Y85","v":0},"kW",{"$error":"#DIV/0!"},"kg/s","Strom",null,{"$f":"Energieversorgung!W85","v":0},"kWh/a"]
[null,"Kältemenge",{"$f":"Energieversorgung!AC86","v":0},"kWh/a",null,"°C",null,"°C",null,"%",0,"kWh/a",null,null,{"$f":"Energieversorgung!Y86","v":0},"kW",{"$error":"#DIV/0!"},"kg/s","Strom",null,{"$f":"Energieversorgung!W86","v":0},"kWh/a"]
[]
[]
[]
[null,null,null,null,null,null,null,null,null,null,{"$f":"SUM(IFERROR(K23:K32,0))","v":0}]
[null,null,"Energiemenge\nohne Verluste",null,"Verteilungs-\nverluste",null,null,null,null,null,"Energiemenge\nmit Verluste",null,null,null,null,null,null,null,"Brennstoff",null,"Brennstoffeinsatz"]
[null,"Dampf",{"$f":"'Ist-Stand'!I31","v":{"$error":"#N/A"}},"kWh/a",null,"%",null,null,null,null,{"$f":"IF(E38=\"\",C38,(C38-(C38*E38/100)))","v":{"$error":"#N/A"}},"kWh/a",null,null,null,null,null,null,{"$f":"Energieversorgung!I51","v":0},null,{"$f":"Energieversorgung!AP51","v":0},"kWh/a"]
[null,"Dampf",{"$f":"'Ist-Stand'!I32","v":{"$error":"#N/A"}},"kWh/a",null,"%",null,null,null,null,{"$f":"IF(E39=\"\",C39,(C39-(C39*E39/100)))","v":{"$error":"#N/A"}},"kWh/a",null,null,null,null,null,null,{"$f":"Energieversorgung!I52","v":0},null,{"$f":"Energieversorgung!AP52","v":0},"kWh/a"]
[null,"Dampf",{"$f":"'Ist-Stand'!I33","v":{"$error":"#N/A"}},"kWh/a",null,"%",null,null,null,null,{"$f":"IF(E40=\"\",C40,(C40-(C40*E40/100)))","v":{"$error":"#N/A"}},"kWh/a",null,null,null,null,null,null,{"$f":"Energieversorgung!I53","v":0},null,{"$f":"Energieversorgung!AP53","v":0},"kWh/a"]
[null,"Dampf",{"$f":"'Ist-Stand'!I34","v":{"$error":"#N/A"}},"kWh/a",null,"%",null,null,null,null,{"$f":"IF(E41=\"\",C41,(C41-(C41*E41/100)))","v":{"$error":"#N/A"}},"kWh/a",null,null,null,null,null,null,{"$f":"Energieversorgung!I54","v":0},null,{"$f":"Energieversorgung!AP54","v":0},"kWh/a"]
[null,"Dampf",{"$f":"'Ist-Stand'!I35","v":{"$error":"#N/A"}},"kWh/a",null,"%",null,null,null,null,{"$f":"IF(E42=\"\",C42,(C42-(C42*E42/100)))","v":{"$error":"#N/A"}},"kWh/a",null,null,null,null,null,null,{"$f":"Energieversorgung!I55","v":0},null,{"$f":"Energieversorgung!AP55","v":0},"kWh/a"]
[null,null,null,null,null,null,null,null,null,null,{"$f":"SUM(IFERROR(K38:K41,0))","v":0}]
[]
[]
[]
[]
[]
[null,null,"Energiemenge\nohne Verluste",null,"Verteilungs-\nverluste",null,null,null,null,null,"Energiemenge\nmit Verluste"]
[null,"Biogas",{"$f":"VLOOKUP(B50,Energieversorgung!$C$15:$N$19,11,FALSE)-SUMIF($S$13:$U$42,B50,$U$13:$U$42)","v":{"$error":"#N/A"}},null,null,"%",null,null,null,null,{"$f":"IF(E50=\"\",C50,(C50-(C50*E50/100)))","v":{"$error":"#N/A"}},"kWh/a"]
[null,"Biomasse (Hackschnitzel)",{"$f":"VLOOKUP(B51,Energieversorgung!$C$15:$N$19,11,FALSE)-SUMIF($S$13:$U$42,B51,$U$13:$U$42)","v":{"$error":"#N/A"}},"kWh/a",null,"%",null,null,null,null,{"$f":"IF(E51=\"\",C51,(C51-(C51*E51/100)))","v":{"$error":"#N/A"}},"kWh/a"]
[null,"(zugekaufter) Dampf",{"$f":"VLOOKUP(B52,Energieversorgung!$C$15:$N$19,11,FALSE)-SUMIF($S$13:$U$42,B52,$U$13:$U$42)","v":{"$error":"#N/A"}},"kWh/a",null,"%",null,null,null,null,{"$f":"IF(E52=\"\",C52,(C52-(C52*E52/100)))","v":{"$error":"#N/A"}},"kWh/a"]
[null,"Diesel",{"$f":"VLOOKUP(B53,Energieversorgung!$C$15:$N$19,11,FALSE)-SUMIF($S$13:$U$42,B53,$U$13:$U$42)","v":{"$error":"#N/A"}},"kWh/a",null,"%",null,null,null,null,{"$f":"IF(E53=\"\",C53,(C53-(C53*E53/100)))","v":{"$error":"#N/A"}},"kWh/a"]
[null,"Erdgas",{"$f":"VLOOKUP(B54,Energieversorgung!$C$15:$N$19,11,FALSE)-SUMIF($S$13:$U$42,B54,$U$13:$U$42)","v":{"$error":"#N/A"}},"kWh/a",null,"%",null,null,null,null,{"$error":"#N/A"},"kWh/a"]
[null,"Fernwärme",{"$f":"VLOOKUP(B55,Energieversorgung!$C$15:$N$19,11,FALSE)-SUMIF($S$13:$U$42,B55,$U$13:$U$42)","v":{"$error":"#N/A"}},"kWh/a",null,"%",null,null,null,null,{"$error":"#N/A"},"kWh/a"]
[null,"Kohle",{"$f":"VLOOKUP(B56,Energieversorgung!$C$15:$N$19,11,FALSE)-SUMIF($S$13:$U$42,B56,$U$13:$U$42)","v":{"$error":"#N/A"}},"kWh/a",null,"%",null,null,null,null,{"$error":"#N/A"},"kWh/a"]
[null,"LPG",{"$f":"VLOOKUP(B57,Energieversorgung!$C$15:$N$19,11,FALSE)-SUMIF($S$13:$U$42,B57,$U$13:$U$42)","v":{"$error":"#N/A"}},"kWh/a",null,"%",null,null,null,null,{"$error":"#N/A"},"kWh/a"]
[null,"Öl",{"$f":"VLOOKUP(B58,Energieversorgung!$C$15:$N$19,11,FALSE)-SUMIF($S$13:$U$42,B58,$U$13:$U$42)","v":{"$error":"#N/A"}},"kWh/a",null,"%",null,null,null,null,{"$error":"#N/A"},"kWh/a"]
[null,"Petrol",{"$f":"VLOOKUP(B59,Energieversorgung!$C$15:$N$19,11,FALSE)-SUMIF($S$13:$U$42,B59,$U$13:$U$42)","v":{"$error":"#N/A"}},"kWh/a",null,"%",null,null,null,null,{"$error":"#N/A"},"kWh/a"]
[null,"Strom",{"$f":"VLOOKUP(B60,Energieversorgung!$C$15:$N$19,11,FALSE)-SUMIF($S$13:$U$42,B60,$U$13:$U$42)","v":{"$error":"#N/A"}},"kWh/a",null,"%",null,null,null,null,{"$error":"#N/A"},"kWh/a"]
[]
[null,{"$f":"IFERROR(C50,\"\")","v":""}]

{"sheet":"Ist-Stand","index":8,"n_rows":68,"n_cols":23,"rows_kept":68,"cut":false,"hidden":false,"merged":[]}
[]
[]
[]
[]
[]
[]
[]
[]
[]
[]
[]
[]
[]
[]
[null,null,null,"Energiemenge",null,null,null,null,"Bereitgestellte\nEnergiemenge",null,null,null,null,null,null,null,"Energiemenge\nmit Verluste"]
[null,"Energieträger 1 ",{"$f":"IF(Energieversorgung!C15>0,Energieversorgung!C15,\"\")","v":""},{"$f":"IF(Energieversorgung!M15>0,Energieversorgung!M15,0)","v":0},"kWh/a",null,null,"Warmwasserkessel 1",{"$f":"IF(Energieversorgung!Y42>0,Energieversorgung!Y42,0)","v":{"$error":"#N/A"}},"kWh/a",null,null,null,null,null,"Warmwasser",{"$f":"Energieverteilung!K18","v":0},"kWh/a"]
[null,"Energieträger 2",{"$f":"IF(Energieversorgung!C16>0,Energieversorgung!C16,\"\")","v":""},{"$f":"IF(Energieversorgung!M16>0,Energieversorgung!M16,0)","v":{"$error":"#N/A"}},"kWh/a",null,null,"Warmwasserkessel 2",{"$f":"IF(Energieversorgung!Y43>0,Energieversorgung!Y43,0)","v":{"$error":"#N/A"}},"kWh/a",null,null,null,null,null,"Dampf",{"$f":"Energieverteilung!K43","v":0},"kWh/a",null,null,null,null,{"$f":"IF(Q17>0,P17,\"\")","v":""}]
[null,"Energieträger 3",{"$f":"IF(Energieversorgung!C17>0,Energieversorgung!C17,\"\")","v":""},{"$f":"IF(Energieversorgung!M17>0,Energieversorgung!M17,0)","v":{"$error":"#N/A"}},"kWh/a",null,null,"Warmwasserkessel 3",{"$f":"IF(Energieversorgung!Y44>0,Energieversorgung!Y44,0)","v":{"$error":"#N/A"}},"kWh/a",null,null,null,null,null,"Kaltwasser",{"$f":"Energieverteilung!K36","v":0},"kWh/a",null,null,null,null,""]
[null,"Energieträger 4",{"$f":"IF(Energieversorgung!C18>0,Energieversorgung!C18,\"\")","v":""},{"$f":"IF(Energieversorgung!M18>0,Energieversorgung!M18,0)","v":{"$error":"#N/A"}},"kWh/a",null,null,"Warmwasserkessel 4",{"$f":"IF(Energieversorgung!Y45>0,Energieversorgung!Y45,0)","v":{"$error":"#N/A"}},"kWh/a",null,null,null,null,null,{"$f":"IF(D16>0,C16&\" \"&\"direkt\",\"\")","v":""},{"$f":"VLOOKUP(C16,Energieverteilung!$B$50:$K$60,10,FALSE)","v":{"$error":"#N/A"}},"kWh/a"]
[null,"Energieträger 5",{"$f":"IF(Energieversorgung!C19>0,Energieversorgung!C19,\"\")","v":""},{"$f":"IF(Energieversorgung!M19>0,Energieversorgung!M19,0)","v":{"$error":"#N/A"}},"kWh/a",null,null,"Warmwasserkessel 5",{"$f":"IF(Energieversorgung!Y46>0,Energieversorgung!Y46,0)","v":{"$error":"#N/A"}},"kWh/a",null,null,null,null,null,{"$f":"IF(D17>0,C17&\" \"&\"direkt\",\"\")","v":{"$error":"#N/A"}},{"$f":"VLOOKUP(C17,Energieverteilung!$B$50:$K$60,10,FALSE)","v":{"$error":"#N/A"}},"kWh/a"]
[null,null,"Summe",{"$f":"SUM(IFERROR(D16:D20,0))","v":0},"kWh/a",null,null,"Warmwasser",{"$f":"SUM(IFERROR(I16:I20,0))","v":0},"kWh/a",null,null,null,null,null,{"$f":"IF(D18>0,C18&\" \"&\"direkt\",\"\")","v":{"$error":"#N/A"}},{"$f":"VLOOKUP(C18,Energieverteilung!$B$50:$K$60,10,FALSE)","v":{"$error":"#N/A"}},"kWh/a"]
[null,null,null,null,null,null,null,null,null,null,null,null,null,null,null,{"$f":"IF(D19>0,C19&\" \"&\"direkt\",\"\")","v":{"$error":"#N/A"}},{"$f":"VLOOKUP(C19,Energieverteilung!$B$50:$K$60,10,FALSE)","v":{"$error":"#N/A"}},"kWh/a"]
[null,null,null,null,null,null,null,null,null,null,null,null,null,null,null,{"$f":"IF(D20>0,C20&\" \"&\"direkt\",\"\")","v":{"$error":"#N/A"}},{"$f":"VLOOKUP(C20,Energieverteilung!$B$50:$K$60,10,FALSE)","v":{"$error":"#N/A"}},"kWh/a"]
[null,null,null,null,null,null,null,null,null,null,null,null,null,null,null,{"$f":"IF(D21>0,C21&\" \"&\"direkt\",\"\")","v":""},{"$f":"VLOOKUP(C21,Energieverteilung!$B$50:$K$60,10,FALSE)","v":{"$error":"#N/A"}},"kWh/a"]
[null,null,null,null,null,null,null,null,null,null,null,null,null,null,null,{"$f":"IF(D22>0,C22&\" \"&\"direkt\",\"\")","v":""},{"$f":"VLOOKUP(C22,Energieverteilung!$B$50:$K$60,10,FALSE)","v":{"$error":"#N/A"}},"kWh/a"]
[null,null,null,null,null,null,null,null,null,null,null,null,null,null,null,{"$f":"IF(D23>0,C23&\" \"&\"direkt\",\"\")","v":""},{"$f":"VLOOKUP(C23,Energieverteilung!$B$50:$K$60,10,FALSE)","v":{"$error":"#N/A"}},"kWh/a"]
[null,null,null,null,null,null,null,null,null,null,null,null,null,null,null,{"$f":"IF(D24>0,C24&\" \"&\"direkt\",\"\")","v":""},{"$f":"VLOOKUP(C24,Energieverteilung!$B$50:$K$60,10,FALSE)","v":{"$error":"#N/A"}},"kWh/a"]
[null,null,null,null,null,null,null,null,null,null,null,null,null,null,null,{"$f":"IF(D25>0,C25&\" \"&\"direkt\",\"\")","v":""},{"$f":"VLOOKUP(C25,Energieverteilung!$B$50:$K$60,10,FALSE)","v":{"$error":"#N/A"}},"kWh/a"]
[null,null,null,null,null,null,null,null,null,null,null,null,null,null,null,{"$f":"IF(D18>0,C18&\" \"&\"direkt\",\"\")","v":{"$error":"#N/A"}},{"$f":"VLOOKUP(C26,Energieverteilung!$B$50:$K$60,10,FALSE)","v":{"$error":"#N/A"}},"kWh/a"]
[null,null,null,null,null,null,null,null,null,null,null,null,null,null,null,{"$f":"IF(D19>0,C19&\" \"&\"direkt\",\"\")","v":{"$error":"#N/A"}},{"$f":"VLOOKUP(C27,Energieverteilung!$B$50:$K$60,10,FALSE)","v":{"$error":"#N/A"}},"kWh/a"]
[null,null,"Zu Bereitstellung",{"$f":"SUM(IFERROR(Energieverteilung!U13:U42,0))","v":0},"kWh/a",null,null,"Dampfkessel 1",{"$f":"Energieversorgung!AG51","v":{"$error":"#N/A"}},"kWh/a",null,null,null,null,null,{"$f":"IF(D20>0,C20&\" \"&\"direkt\",\"\")","v":{"$error":"#N/A"}},{"$f":"VLOOKUP(C28,Energieverteilung!$B$50:$K$60,10,FALSE)","v":{"$error":"#N/A"}},"kWh/a"]
[null,null,null,null,null,null,null,"Dampfkessel 2",{"$f":"Energieversorgung!AG52","v":{"$error":"#N/A"}},"kWh/a"]
[null,null,"Direkte Nutzung",{"$f":"SUM(IFERROR(Energieverteilung!K50:K60,0))","v":0},"kWh/a",null,null,"Dampfkessel 3",{"$f":"Energieversorgung!AG53","v":{"$error":"#N/A"}},"kWh/a"]
[null,null,null,null,null,null,null,"Dampfkessel 4",{"$f":"Energieversorgung!AG54","v":{"$error":"#N/A"}},"kWh/a"]
[null,null,null,null,null,null,null,"Dampfkessel 5",{"$f":"Energieversorgung!AG55","v":{"$error":"#N/A"}},"kWh/a",null,null,null,null,null,"Energie zu Prozessen",{"$f":"SUM(IFERROR(Q16:Q31,0))","v":0},"kWh/a"]
[null,null,null,null,null,null,null,"Dampf",{"$f":"SUM(IFERROR(I31:I35,0))","v":0},"kWh/a"]
[]
[]
[]
[]
[]
[]
[]
[]
[null,null,null,null,null,null,null,"Kältemaschine 1",{"$f":"Energieversorgung!AC77","v":0},"kWh/a"]
[null,null,null,null,null,null,null,"Kältemaschine 2",{"$f":"Energieversorgung!AC78","v":0},"kWh/a"]
[null,null,null,null,null,null,null,"Kältemaschine 3",{"$f":"Energieversorgung!AC79","v":0},"kWh/a"]
[null,null,null,null,null,null,null,"Kältemaschine 4",{"$f":"Energieversorgung!AC80","v":0},"kWh/a"]
[null,null,null,null,null,null,null,"Kältemaschine 5",{"$f":"Energieversorgung!AC81","v":0},"kWh/a"]
[null,null,null,null,null,null,null,"Kältemaschine 6",{"$f":"Energieversorgung!AC82","v":0},"kWh/a"]
[null,null,null,null,null,null,null,"Kältemaschine 7",{"$f":"Energieversorgung!AC83","v":0},"kWh/a"]
[null,null,null,null,null,null,null,"Kältemaschine 8",{"$f":"Energieversorgung!AC84","v":0},"kWh/a"]
[null,null,null,null,null,null,null,"Kältemaschine 9",{"$f":"Energieversorgung!AC85","v":0},"kWh/a"]
[null,null,null,null,null,null,null,"Kältemaschine 10",{"$f":"Energieversorgung!AC86","v":0},"kWh/a"]
[null,null,null,null,null,null,null,"Kaltwasser",{"$f":"SUM(IFERROR(I45:I54,0))","v":0},"kWh/a"]
[]
[]
[]
[]
[]
[]
[]
[]
[]
[]
[]
[]
[null,null,null,null,null,null,null,"Bereitgestellte  Energiemenge",{"$f":"SUM(IFERROR(I16:I54,0))","v":0},"kWh/a"]

{"sheet":"Metall","index":9,"n_rows":92,"n_cols":6,"rows_kept":92,"cut":false,"hidden":true,"merged":[]}
[]
[]
[]
[]
[]
[]
[]
[]
[]
[]
[]
[null,"Energieverbrauch des Betriebes",{"$f":"'Ist-Stand'!Q35","v":0},"kWh/a"]
[]
[null,"Energieverbrauch der definierten Prozesse",{"$f":"E92","v":0},"kWh/a",{"$f":"IF(C14>C12, \"Achtung! Der Energieverbrauch des Betriebes ist zu gering um den Verbrauch der Prozesse abzudecken!\",\"\")","v":""}]
[]
[null,"Übereinstimmung",{"$f":"C14/C12*100","v":{"$error":"#DIV/0!"}},"%"]
[]
[]
[]
[]
[null,"Prozess","Anzahl angeben"]
[]
["Max 10","Raumwärme",0]
[]
["Max 10","Raumkühlung",0]
[]
["Max 5","Warmwasser",0]
[]
["Max 5","Prozess \"XY\" heizen",0]
[]
["Max 5","Prozess \"XY\" kühlen",0]
[]
["Max 5","Galvanikbad heizen",0]
[]
["Max 5","Galvanikbad kühlen",0]
[]
[]
[]
[]
[]
[]
[]
[]
[]
[]
[]
[]
[]
[]
[]
[]
[]
[]
[]
[null,"Prozess",null,null,"Energieverbrauch \nberechnet"]
[1,"Raumwärme",null,null,{"$f":"IF(Raumwärme!Q11>0,Raumwärme!Q11,0)","v":0},"kWh/a"]
[2,"Raumwärme",null,null,{"$f":"IF(Raumwärme!Q12>0,Raumwärme!Q12,0)","v":0},"kWh/a"]
[3,"Raumwärme",null,null,{"$f":"IF(Raumwärme!Q13>0,Raumwärme!Q13,0)","v":0},"kWh/a"]
[4,"Raumwärme",null,null,{"$f":"IF(Raumwärme!Q14>0,Raumwärme!Q14,0)","v":0},"kWh/a"]
[5,"Raumwärme",null,null,{"$f":"IF(Raumwärme!Q15>0,Raumwärme!Q15,0)","v":0},"kWh/a"]
[6,"Raumkühlung",null,null,{"$f":"IF(Raumkühlung!Q11>0,Raumkühlung!Q11,0)","v":0},"kWh/a"]
[7,"Raumkühlung",null,null,{"$f":"IF(Raumkühlung!Q12>0,Raumkühlung!Q12,0)","v":0},"kWh/a"]
[8,"Raumkühlung",null,null,{"$f":"IF(Raumkühlung!Q13>0,Raumkühlung!Q13,0)","v":0},"kWh/a"]
[9,"Raumkühlung",null,null,{"$f":"IF(Raumkühlung!Q14>0,Raumkühlung!Q14,0)","v":0},"kWh/a"]
[10,"Raumkühlung",null,null,{"$f":"IF(Raumkühlung!Q15>0,Raumkühlung!Q15,0)","v":0},"kWh/a"]
[11,"Warmwasser",null,null,{"$f":"IF(Warmwasser!Q20>0,Warmwasser!Q20,0)","v":0},"kWh/a"]
[12,"Warmwasser",null,null,{"$f":"IF(Warmwasser!Q54>0,Warmwasser!Q54,0)","v":0},"kWh/a"]
[13,"Warmwasser",null,null,{"$f":"IF(Warmwasser!Q88>0,Warmwasser!Q88,0)","v":0},"kWh/a"]
[14,"Warmwasser",null,null,{"$f":"IF(Warmwasser!O122>0,Warmwasser!O122,0)","v":0},"kWh/a"]
[15,"Warmwasser",null,null,{"$f":"IF(Warmwasser!Q156>0,Warmwasser!Q156,0)","v":0},"kWh/a"]
[16,"Galvanikbad heizen",null,null,{"$f":"IF(Galvanikbad_Heizen!N23>0,Galvanikbad_Heizen!N23,0)","v":0},"kWh/a"]
[17,"Galvanikbad heizen",null,null,{"$f":"IF(Galvanikbad_Heizen!N56>0,Galvanikbad_Heizen!N56,0)","v":0},"kWh/a"]
[18,"Galvanikbad heizen",null,null,{"$f":"IF(Galvanikbad_Heizen!N91>0,Galvanikbad_Heizen!N91,0)","v":0},"kWh/a"]
[19,"Galvanikbad heizen",null,null,{"$f":"IF(Galvanikbad_Heizen!N125>0,Galvanikbad_Heizen!N125,0)","v":0},"kWh/a"]
[20,"Galvanikbad heizen",null,null,{"$f":"IF(Galvanikbad_Heizen!N159>0,Galvanikbad_Heizen!N159,0)","v":0},"kWh/a"]
[21,"Galvanikbad kühlen",null,null,{"$f":"IF(Galvanikbad_Kühlen!P20>0,Galvanikbad_Kühlen!P20,0)","v":0},"kWh/a"]
[22,"Galvanikbad kühlen",null,null,{"$f":"IF(Galvanikbad_Kühlen!P54>0,Galvanikbad_Kühlen!P54,0)","v":0},"kWh/a"]
[23,"Galvanikbad kühlen",null,null,{"$f":"IF(Galvanikbad_Kühlen!P88>0,Galvanikbad_Kühlen!P88,0)","v":0},"kWh/a"]
[24,"Galvanikbad kühlen",null,null,{"$f":"IF(Galvanikbad_Kühlen!P122>0,Galvanikbad_Kühlen!P122,0)","v":0},"kWh/a"]
[25,"Galvanikbad kühlen",null,null,{"$f":"IF(Galvanikbad_Kühlen!P156>0,Galvanikbad_Kühlen!P156,0)","v":0},"kWh/a"]
[26,"Prozess XY heizen",null,null,{"$f":"IF(Prozess_Heizen!S20>0,Prozess_Heizen!S20,0)","v":0},"kWh/a"]
[27,"Prozess XY heizen",null,null,{"$f":"IF(Prozess_Heizen!S54>0,Prozess_Heizen!S54,0)","v":0},"kWh/a"]
[28,"Prozess XY heizen",null,null,{"$f":"IF(Prozess_Heizen!S88>0,Prozess_Heizen!S88,0)","v":0},"kWh/a"]
[29,"Prozess XY heizen",null,null,{"$f":"IF(Prozess_Heizen!S122>0,Prozess_Heizen!S122,0)","v":0},"kWh/a"]
[30,"Prozess XY heizen",null,null,{"$f":"IF(Prozess_Heizen!S156>0,Prozess_Heizen!S156,0)","v":0},"kWh/a"]
[31,"Prozess XY kühlen",null,null,{"$f":"IF(Prozess_Kühlen!S20>0,Prozess_Kühlen!S20,0)","v":0},"kWh/a"]
[32,"Prozess XY kühlen",null,null,{"$f":"IF(Prozess_Kühlen!S54>0,Prozess_Kühlen!S54,0)","v":0},"kWh/a"]
[33,"Prozess XY kühlen",null,null,{"$f":"IF(Prozess_Kühlen!S88>0,Prozess_Kühlen!S88,0)","v":0},"kWh/a"]
[34,"Prozess XY kühlen",null,null,{"$f":"IF(Prozess_Kühlen!S122>0,Prozess_Kühlen!S122,0)","v":0},"kWh/a"]
[35,"Prozess XY kühlen",null,null,{"$f":"IF(Prozess_Kühlen!S154>0,Prozess_Kühlen!S154,0)","v":0},"kWh/a"]
[]
[null,null,"Summe",null,{"$f":"IFERROR(SUM(E56:E90),0)","v":0},"kWh/a"]

{"sheet":"Lebensmittel","index":10,"n_rows":93,"n_cols":8,"rows_kept":93,"cut":false,"hidden":true,"merged":[]}
[]
[]
[]
[]
[]
[]
[]
[]
[]
[]
[]
[null,"Energieverbrauch des Betriebes",{"$f":"'Ist-Stand'!Q35","v":0},"kWh/a"]
[]
[null,"Energieverbrauch der definierten Prozesse",{"$f":"E93","v":0},"kWh/a",{"$f":"IF(C14>C12, \"Achtung! Der Energieverbrauch des Betriebes ist zu gering um den Verbrauch der Prozesse abzudecken!\",\"\")","v":""}]
[]
[null,"Übereinstimmung",{"$f":"C14/C12*100","v":{"$error":"#DIV/0!"}},"%"]
[]
[]
[]
[]
[null,"Prozess","Anzahl angeben"]
[]
["Max 10","Raumwärme",0]
[]
["Max 10","Raumkühlung",0]
[]
["Max 5","Warmwasser",0]
[]
["Max 5","Prozess XY heizen",0]
[]
["Max 5","Prozess XY kühlen",0]
[]
["Max 5","Prozessbad heizen",0]
[]
["Max 5","Prozessbad kühlen",0]
[]
[]
[]
[]
[]
[]
[]
[]
[]
[]
[]
[]
[]
[]
[]
[]
[]
[]
[]
[null,"Prozess",null,null,"Energieverbrauch \nberechnet",null,null,"  "]
[1,"Raumwärme",null,null,{"$f":"IF(Raumwärme!Q11>0,Raumwärme!Q11,0)","v":0},"kWh/a"]
[2,"Raumwärme",null,null,{"$f":"IF(Raumwärme!Q12>0,Raumwärme!Q12,0)","v":0},"kWh/a"]
[3,"Raumwärme",null,null,{"$f":"IF(Raumwärme!Q13>0,Raumwärme!Q13,0)","v":0},"kWh/a"]
[4,"Raumwärme",null,null,{"$f":"IF(Raumwärme!Q14>0,Raumwärme!Q14,0)","v":0},"kWh/a"]
[5,"Raumwärme",null,null,{"$f":"IF(Raumwärme!Q15>0,Raumwärme!Q15,0)","v":0},"kWh/a"]
[6,"Raumkühlung",null,null,{"$f":"IF(Raumkühlung!Q11>0,Raumkühlung!Q11,0)","v":0},"kWh/a"]
[7,"Raumkühlung",null,null,{"$f":"IF(Raumkühlung!Q12>0,Raumkühlung!Q12,0)","v":0},"kWh/a"]
[8,"Raumkühlung",null,null,{"$f":"IF(Raumkühlung!Q13>0,Raumkühlung!Q13,0)","v":0},"kWh/a"]
[9,"Raumkühlung",null,null,{"$f":"IF(Raumkühlung!Q14>0,Raumkühlung!Q14,0)","v":0},"kWh/a"]
[10,"Raumkühlung",null,null,{"$f":"IF(Raumkühlung!Q15>0,Raumkühlung!Q15,0)","v":0},"kWh/a"]
[11,"Warmwasser",null,null,{"$f":"IF(Warmwasser!Q20>0,Warmwasser!Q20,0)","v":0},"kWh/a"]
[12,"Warmwasser",null,null,{"$f":"IF(Warmwasser!Q54>0,Warmwasser!Q54,0)","v":0},"kWh/a"]
[13,"Warmwasser",null,null,{"$f":"IF(Warmwasser!Q88>0,Warmwasser!Q88,0)","v":0},"kWh/a"]
[14,"Warmwasser",null,null,{"$f":"IF(Warmwasser!Q122>0,Warmwasser!Q122,0)","v":0},"kWh/a"]
[15,"Warmwasser",null,null,{"$f":"IF(Warmwasser!Q156>0,Warmwasser!Q156,0)","v":0},"kWh/a"]
[16,"Prozessbad heizen",null,null,{"$f":"IF(Galvanikbad_Heizen!N23>0,Galvanikbad_Heizen!N23,0)","v":0},"kWh/a"]
[17,"Prozessbad heizen",null,null,{"$f":"IF(Galvanikbad_Heizen!N56>0,Galvanikbad_Heizen!N56,0)","v":0},"kWh/a"]
[18,"Prozessbad heizen",null,null,{"$f":"IF(Galvanikbad_Heizen!N91>0,Galvanikbad_Heizen!N91,0)","v":0},"kWh/a"]
[19,"Prozessbad heizen",null,null,{"$f":"IF(Galvanikbad_Heizen!N125>0,Galvanikbad_Heizen!N125,0)","v":0},"kWh/a"]
[20,"Prozessbad heizen",null,null,{"$f":"IF(Galvanikbad_Heizen!N159>0,Galvanikbad_Heizen!N159,0)","v":0},"kWh/a"]
[21,"Prozessbad kühlen",null,null,{"$f":"IF(Galvanikbad_Kühlen!P20>0,Galvanikbad_Kühlen!P20,0)","v":0},"kWh/a"]
[22,"Prozessbad kühlen",null,null,{"$f":"IF(Galvanikbad_Kühlen!P54>0,Galvanikbad_Kühlen!P54,0)","v":0},"kWh/a"]
[23,"Prozessbad kühlen",null,null,{"$f":"IF(Galvanikbad_Kühlen!P88>0,Galvanikbad_Kühlen!P88,0)","v":0},"kWh/a"]
[24,"Prozessbad kühlen",null,null,{"$f":"IF(Galvanikbad_Kühlen!P122>0,Galvanikbad_Kühlen!P122,0)","v":0},"kWh/a"]
[25,"Prozessbad kühlen",null,null,{"$f":"IF(Galvanikbad_Kühlen!P156>0,Galvanikbad_Kühlen!P156,0)","v":0},"kWh/a"]
[26,"Prozess XY heizen",null,null,{"$f":"IF(Prozess_Heizen!S20>0,Prozess_Heizen!S20,0)","v":0},"kWh/a"]
[27,"Prozess XY heizen",null,null,{"$f":"IF(Prozess_Heizen!S54>0,Prozess_Heizen!S54,0)","v":0},"kWh/a"]
[28,"Prozess XY heizen",null,null,{"$f":"IF(Prozess_Heizen!S88>0,Prozess_Heizen!S88,0)","v":0},"kWh/a"]
[29,"Prozess XY heizen",null,null,{"$f":"IF(Prozess_Heizen!S122>0,Prozess_Heizen!S122,0)","v":0},"kWh/a"]
[30,"Prozess XY heizen",null,null,{"$f":"IF(Prozess_Heizen!S156>0,Prozess_Heizen!S156,0)","v":0},"kWh/a"]
[31,"Prozess XY kühlen",null,null,{"$f":"IF(Prozess_Kühlen!S20>0,Prozess_Kühlen!S20,0)","v":0},"kWh/a"]
[32,"Prozess XY kühlen",null,null,{"$f":"IF(Prozess_Kühlen!S54>0,Prozess_Kühlen!S54,0)","v":0},"kWh/a"]
[33,"Prozess XY kühlen",null,null,{"$f":"IF(Prozess_Kühlen!S88>0,Prozess_Kühlen!S88,0)","v":0},"kWh/a"]
[34,"Prozess XY kühlen",null,null,{"$f":"IF(Prozess_Kühlen!S122>0,Prozess_Kühlen!S122,0)","v":0},"kWh/a"]
[35,"Prozess XY kühlen",null,null,{"$f":"IF(Prozess_Kühlen!S154>0,Prozess_Kühlen!S154,0)","v":0},"kWh/a"]
[]
[]
[null,null,"Summe",null,{"$f":"IFERROR(SUM(E56:E91),0)","v":0},"kWh/a"]

{"sheet":"Papier","index":11,"n_rows":92,"n_cols":8,"rows_kept":92,"cut":false,"hidden":true,"merged":[]}
[]
[]
[]
[]
[]
[]
[]
[]
[]
[]
[]
[null,"Energieverbrauch des Betriebes",{"$f":"'Ist-Stand'!Q35","v":0},"kWh/a"]
[]
[null,"Energieverbrauch der definierten Prozesse",{"$f":"E92","v":0},"kWh/a",{"$f":"IF(C14>C12, \"Achtung! Der Energieverbrauch des Betriebes ist zu gering um den Verbrauch der Prozesse abzudecken!\",\"\")","v":""}]
[]
[null,"Übereinstimmung",{"$f":"C14/C12*100","v":{"$error":"#DIV/0!"}},"%"]
[]
[]
[]
[]
[null,"Prozess","Anzahl angeben"]
[]
["Max 10","Raumwärme",0]
[]
["Max 10","Raumkühlung",0]
[]
["Max 5","Warmwasser",0]
[]
["Max 5","Prozess XY heizen",0]
[]
["Max 5","Prozess XY kühlen",0]
[]
["Max 5","Prozessbad heizen",0]
[]
["Max 5","Prozessbad kühlen",0]
[]
[]
[]
[]
[]
[]
[]
[]
[]
[]
[]
[]
[]
[]
[]
[]
[]
[]
[]
[null,"Prozess",null,null,"Energieverbrauch \nberechnet",null,null,"  "]
[1,"Raumwärme",null,null,{"$f":"IF(Raumwärme!Q11>0,Raumwärme!Q11,0)","v":0},"kWh/a"]
[2,"Raumwärme",null,null,{"$f":"IF(Raumwärme!Q12>0,Raumwärme!Q12,0)","v":0},"kWh/a"]
[3,"Raumwärme",null,null,{"$f":"IF(Raumwärme!Q13>0,Raumwärme!Q13,0)","v":0},"kWh/a"]
[4,"Raumwärme",null,null,{"$f":"IF(Raumwärme!Q14>0,Raumwärme!Q14,0)","v":0},"kWh/a"]
[5,"Raumwärme",null,null,{"$f":"IF(Raumwärme!Q15>0,Raumwärme!Q15,0)","v":0},"kWh/a"]
[6,"Raumkühlung",null,null,{"$f":"IF(Raumkühlung!Q11>0,Raumkühlung!Q11,0)","v":0},"kWh/a"]
[7,"Raumkühlung",null,null,{"$f":"IF(Raumkühlung!Q12>0,Raumkühlung!Q12,0)","v":0},"kWh/a"]
[8,"Raumkühlung",null,null,{"$f":"IF(Raumkühlung!Q13>0,Raumkühlung!Q13,0)","v":0},"kWh/a"]
[9,"Raumkühlung",null,null,{"$f":"IF(Raumkühlung!Q14>0,Raumkühlung!Q14,0)","v":0},"kWh/a"]
[10,"Raumkühlung",null,null,{"$f":"IF(Raumkühlung!Q15>0,Raumkühlung!Q15,0)","v":0},"kWh/a"]
[11,"Warmwasser",null,null,{"$f":"IF(Warmwasser!Q20>0,Warmwasser!Q20,0)","v":0},"kWh/a"]
[12,"Warmwasser",null,null,{"$f":"IF(Warmwasser!Q54>0,Warmwasser!Q54,0)","v":0},"kWh/a"]
[13,"Warmwasser",null,null,{"$f":"IF(Warmwasser!Q88>0,Warmwasser!Q88,0)","v":0},"kWh/a"]
[14,"Warmwasser",null,null,{"$f":"IF(Warmwasser!Q122>0,Warmwasser!Q122,0)","v":0},"kWh/a"]
[15,"Warmwasser",null,null,{"$f":"IF(Warmwasser!Q156>0,Warmwasser!Q156,0)","v":0},"kWh/a"]
[16,"Prozessbad heizen",null,null,{"$f":"IF(Galvanikbad_Heizen!N23>0,Galvanikbad_Heizen!N23,0)","v":0},"kWh/a"]
[17,"Prozessbad heizen",null,null,{"$f":"IF(Galvanikbad_Heizen!N56>0,Galvanikbad_Heizen!N56,0)","v":0},"kWh/a"]
[18,"Prozessbad heizen",null,null,{"$f":"IF(Galvanikbad_Heizen!N91>0,Galvanikbad_Heizen!N91,0)","v":0},"kWh/a"]
[19,"Prozessbad heizen",null,null,{"$f":"IF(Galvanikbad_Heizen!N125>0,Galvanikbad_Heizen!N125,0)","v":0},"kWh/a"]
[20,"Prozessbad heizen",null,null,{"$f":"IF(Galvanikbad_Heizen!N159>0,Galvanikbad_Heizen!N159,0)","v":0},"kWh/a"]
[21,"Prozessbad kühlen",null,null,{"$f":"IF(Galvanikbad_Kühlen!P20>0,Galvanikbad_Kühlen!P20,0)","v":0},"kWh/a"]
[22,"Prozessbad kühlen",null,null,{"$f":"IF(Galvanikbad_Kühlen!P54>0,Galvanikbad_Kühlen!P54,0)","v":0},"kWh/a"]
[23,"Prozessbad kühlen",null,null,{"$f":"IF(Galvanikbad_Kühlen!P88>0,Galvanikbad_Kühlen!P88,0)","v":0},"kWh/a"]
[24,"Prozessbad kühlen",null,null,{"$f":"IF(Galvanikbad_Kühlen!P122>0,Galvanikbad_Kühlen!P122,0)","v":0},"kWh/a"]
[25,"Prozessbad kühlen",null,null,{"$f":"IF(Galvanikbad_Kühlen!P156>0,Galvanikbad_Kühlen!P156,0)","v":0},"kWh/a"]
[26,"Prozess XY heizen",null,null,{"$f":"IF(Prozess_Heizen!S20>0,Prozess_Heizen!S20,0)","v":0},"kWh/a"]
[27,"Prozess XY heizen",null,null,{"$f":"IF(Prozess_Heizen!S54>0,Prozess_Heizen!S54,0)","v":0},"kWh/a"]
[28,"Prozess XY heizen",null,null,{"$f":"IF(Prozess_Heizen!S88>0,Prozess_Heizen!S88,0)","v":0},"kWh/a"]
[29,"Prozess XY heizen",null,null,{"$f":"IF(Prozess_Heizen!S122>0,Prozess_Heizen!S122,0)","v":0},"kWh/a"]
[30,"Prozess XY heizen",null,null,{"$f":"IF(Prozess_Heizen!S156>0,Prozess_Heizen!S156,0)","v":0},"kWh/a"]
[32,"Prozess XY kühlen",null,null,{"$f":"IF(Prozess_Kühlen!S20>0,Prozess_Kühlen!S20,0)","v":0},"kWh/a"]
[33,"Prozessbad kühlen",null,null,{"$f":"IF(Prozess_Kühlen!S54>0,Prozess_Kühlen!S54,0)","v":0},"kWh/a"]
[34,"Prozessbad kühlen",null,null,{"$f":"IF(Prozess_Kühlen!S88>0,Prozess_Kühlen!S88,0)","v":0},"kWh/a"]
[35,"Prozessbad kühlen",null,null,{"$f":"IF(Prozess_Kühlen!S122>0,Prozess_Kühlen!S122,0)","v":0},"kWh/a"]
[36,"Prozessbad kühlen",null,null,{"$f":"IF(Prozess_Kühlen!S154>0,Prozess_Kühlen!S154,0)","v":0},"kWh/a"]
[]
[null,null,"Summe",null,{"$f":"IFERROR(SUM(E56:E90),0)","v":0},"kWh/a"]

{"sheet":"Dämmstoffe","index":12,"n_rows":93,"n_cols":8,"rows_kept":93,"cut":false,"hidden":true,"merged":[]}
[]
[]
[]
[]
[]
[]
[]
[]
[]
[]
[]
[null,"Energieverbrauch des Betriebes",{"$f":"'Ist-Stand'!Q35","v":0},"kWh/a"]
[]
[null,"Energieverbrauch der definierten Prozesse",{"$f":"E93","v":0},"kWh/a",{"$f":"IF(C14>C12, \"Achtung! Der Energieverbrauch des Betriebes ist zu gering um den Verbrauch der Prozesse abzudecken!\",\"\")","v":""}]
[]
[null,"Übereinstimmung",{"$f":"C14/C12*100","v":{"$error":"#DIV/0!"}},"%"]
[]
[]
[]
[]
[null,"Prozess","Anzahl angeben"]
[]
["Max 10","Raumwärme",0]
[]
["Max 10","Raumkühlung",0]
[]
["Max 5","Warmwasser",0]
[]
["Max 5","Prozess XY heizen",0]
[]
["Max 5","Prozess XY kühlen",0]
[]
["Max 5","Prozessbad heizen",0]
[]
["Max 5","Prozessbad kühlen",0]
[]
[]
[]
[]
[]
[]
[]
[]
[]
[]
[]
[]
[]
[]
[]
[]
[]
[]
[]
[null,"Prozess",null,null,"Energieverbrauch \nberechnet",null,null,"  "]
[1,"Raumwärme",null,null,{"$f":"IF(Raumwärme!Q11>0,Raumwärme!Q11,0)","v":0},"kWh/a"]
[2,"Raumwärme",null,null,{"$f":"IF(Raumwärme!Q12>0,Raumwärme!Q12,0)","v":0},"kWh/a"]
[3,"Raumwärme",null,null,{"$f":"IF(Raumwärme!Q13>0,Raumwärme!Q13,0)","v":0},"kWh/a"]
[4,"Raumwärme",null,null,{"$f":"IF(Raumwärme!Q14>0,Raumwärme!Q14,0)","v":0},"kWh/a"]
[5,"Raumwärme",null,null,{"$f":"IF(Raumwärme!Q15>0,Raumwärme!Q15,0)","v":0},"kWh/a"]
[11,"Raumkühlung",null,null,{"$f":"IF(Raumkühlung!Q11>0,Raumkühlung!Q11,0)","v":0},"kWh/a"]
[12,"Raumkühlung",null,null,{"$f":"IF(Raumkühlung!Q12>0,Raumkühlung!Q12,0)","v":0},"kWh/a"]
[13,"Raumkühlung",null,null,{"$f":"IF(Raumkühlung!Q13>0,Raumkühlung!Q13,0)","v":0},"kWh/a"]
[14,"Raumkühlung",null,null,{"$f":"IF(Raumkühlung!Q14>0,Raumkühlung!Q14,0)","v":0},"kWh/a"]
[15,"Raumkühlung",null,null,{"$f":"IF(Raumkühlung!Q15>0,Raumkühlung!Q15,0)","v":0},"kWh/a"]
[21,"Warmwasser",null,null,{"$f":"IF(Warmwasser!Q20>0,Warmwasser!Q20,0)","v":0},"kWh/a"]
[22,"Warmwasser",null,null,{"$f":"IF(Warmwasser!Q54>0,Warmwasser!Q54,0)","v":0},"kWh/a"]
[23,"Warmwasser",null,null,{"$f":"IF(Warmwasser!Q88>0,Warmwasser!Q88,0)","v":0},"kWh/a"]
[24,"Warmwasser",null,null,{"$f":"IF(Warmwasser!Q122>0,Warmwasser!Q122,0)","v":0},"kWh/a"]
[25,"Warmwasser",null,null,{"$f":"IF(Warmwasser!Q156>0,Warmwasser!Q156,0)","v":0},"kWh/a"]
[26,"Prozessbad heizen",null,null,{"$f":"IF(Galvanikbad_Heizen!N23>0,Galvanikbad_Heizen!N23,0)","v":0},"kWh/a"]
[27,"Prozessbad heizen",null,null,{"$f":"IF(Galvanikbad_Heizen!N56>0,Galvanikbad_Heizen!N56,0)","v":0},"kWh/a"]
[28,"Prozessbad heizen",null,null,{"$f":"IF(Galvanikbad_Heizen!N91>0,Galvanikbad_Heizen!N91,0)","v":0},"kWh/a"]
[29,"Prozessbad heizen",null,null,{"$f":"IF(Galvanikbad_Heizen!N125>0,Galvanikbad_Heizen!N125,0)","v":0},"kWh/a"]
[30,"Prozessbad heizen",null,null,{"$f":"IF(Galvanikbad_Heizen!N159>0,Galvanikbad_Heizen!N159,0)","v":0},"kWh/a"]
[31,"Prozessbad kühlen",null,null,{"$f":"IF(Galvanikbad_Kühlen!P20>0,Galvanikbad_Kühlen!P20,0)","v":0},"kWh/a"]
[32,"Prozessbad kühlen",null,null,{"$f":"IF(Galvanikbad_Kühlen!P54>0,Galvanikbad_Kühlen!P54,0)","v":0},"kWh/a"]
[33,"Prozessbad kühlen",null,null,{"$f":"IF(Galvanikbad_Kühlen!P88>0,Galvanikbad_Kühlen!P88,0)","v":0},"kWh/a"]
[34,"Prozessbad kühlen",null,null,{"$f":"IF(Galvanikbad_Kühlen!P122>0,Galvanikbad_Kühlen!P122,0)","v":0},"kWh/a"]
[35,"Prozessbad kühlen",null,null,{"$f":"IF(Galvanikbad_Kühlen!P156>0,Galvanikbad_Kühlen!P156,0)","v":0},"kWh/a"]
[36,"Prozess XY heizen",null,null,{"$f":"IF(Prozess_Heizen!S20>0,Prozess_Heizen!S20,0)","v":0},"kWh/a"]
[37,"Prozess XY heizen",null,null,{"$f":"IF(Prozess_Heizen!S54>0,Prozess_Heizen!S54,0)","v":0},"kWh/a"]
[38,"Prozess XY heizen",null,null,{"$f":"IF(Prozess_Heizen!S88>0,Prozess_Heizen!S88,0)","v":0},"kWh/a"]
[39,"Prozess XY heizen",null,null,{"$f":"IF(Prozess_Heizen!S122>0,Prozess_Heizen!S122,0)","v":0},"kWh/a"]
[40,"Prozess XY heizen",null,null,{"$f":"IF(Prozess_Heizen!S156>0,Prozess_Heizen!S156,0)","v":0},"kWh/a"]
[41,"Prozess XY kühlen",null,null,{"$f":"IF(Prozess_Kühlen!S20>0,Prozess_Kühlen!S20,0)","v":0},"kWh/a"]
[42,"Prozess XY kühlen",null,null,{"$f":"IF(Prozess_Kühlen!S54>0,Prozess_Kühlen!S54,0)","v":0},"kWh/a"]
[43,"Prozess XY kühlen",null,null,{"$f":"IF(Prozess_Kühlen!S88>0,Prozess_Kühlen!S88,0)","v":0},"kWh/a"]
[44,"Prozess XY kühlen",null,null,{"$f":"IF(Prozess_Kühlen!S122>0,Prozess_Kühlen!S122,0)","v":0},"kWh/a"]
[45,"Prozess XY kühlen",null,null,{"$f":"IF(Prozess_Kühlen!S154>0,Prozess_Kühlen!S154,0)","v":0},"kWh/a"]
[]
[]
[null,null,"Summe",null,{"$f":"IFERROR(SUM(E56:E91),0)","v":0},"kWh/a"]

{"sheet":"Wäscherei","index":13,"n_rows":93,"n_cols":8,"rows_kept":93,"cut":false,"hidden":true,"merged":[]}
[]
[]
[]
[]
[]
[]
[]
[]
[]
[]
[]
[null,"Energieverbrauch des Betriebes",{"$f":"'Ist-Stand'!Q35","v":0},"kWh/a"]
[]
[null,"Energieverbrauch der definierten Prozesse",{"$f":"E93","v":0},"kWh/a",{"$f":"IF(C14>C12, \"Achtung! Der Energieverbrauch des Betriebes ist zu gering um den Verbrauch der Prozesse abzudecken!\",\"\")","v":""}]
[]
[null,"Übereinstimmung",{"$f":"C14/C12*100","v":{"$error":"#DIV/0!"}},"%"]
[]
[]
[]
[]
[null,"Prozess","Anzahl angeben"]
[]
["Max 10","Raumwärme",0]
[]
["Max 10","Raumkühlung",0]
[]
["Max 5","Warmwasser",0]
[]
["Max 5","Prozess XY heizen",0]
[]
["Max 5","Prozess XY kühlen",0]
[]
["Max 5","Bad heizen",0]
[]
["Max 5","Bad kühlen",0]
[]
[]
[]
[]
[]
[]
[]
[]
[]
[]
[]
[]
[]
[]
[]
[]
[]
[]
[]
[null,"Prozess",null,null,"Energieverbrauch \nberechnet",null,null,"  "]
[1,"Raumwärme",null,null,{"$f":"IF(Raumwärme!Q11>0,Raumwärme!Q11,0)","v":0},"kWh/a"]
[2,"Raumwärme",null,null,{"$f":"IF(Raumwärme!Q12>0,Raumwärme!Q12,0)","v":0},"kWh/a"]
[3,"Raumwärme",null,null,{"$f":"IF(Raumwärme!Q13>0,Raumwärme!Q13,0)","v":0},"kWh/a"]
[4,"Raumwärme",null,null,{"$f":"IF(Raumwärme!Q14>0,Raumwärme!Q14,0)","v":0},"kWh/a"]
[5,"Raumwärme",null,null,{"$f":"IF(Raumwärme!Q15>0,Raumwärme!Q15,0)","v":0},"kWh/a"]
[16,"Raumkühlung",null,null,{"$f":"IF(Raumkühlung!Q11>0,Raumkühlung!Q11,0)","v":0},"kWh/a"]
[17,"Raumkühlung",null,null,{"$f":"IF(Raumkühlung!Q12>0,Raumkühlung!Q12,0)","v":0},"kWh/a"]
[18,"Raumkühlung",null,null,{"$f":"IF(Raumkühlung!Q13>0,Raumkühlung!Q13,0)","v":0},"kWh/a"]
[19,"Raumkühlung",null,null,{"$f":"IF(Raumkühlung!Q14>0,Raumkühlung!Q14,0)","v":0},"kWh/a"]
[20,"Raumkühlung",null,null,{"$f":"IF(Raumkühlung!Q15>0,Raumkühlung!Q15,0)","v":0},"kWh/a"]
[31,"Warmwasser",null,null,{"$f":"IF(Warmwasser!Q20>0,Warmwasser!Q20,0)","v":0},"kWh/a"]
[32,"Warmwasser",null,null,{"$f":"IF(Warmwasser!Q54>0,Warmwasser!Q54,0)","v":0},"kWh/a"]
[33,"Warmwasser",null,null,{"$f":"IF(Warmwasser!Q88>0,Warmwasser!Q88,0)","v":0},"kWh/a"]
[34,"Warmwasser",null,null,{"$f":"IF(Warmwasser!Q122>0,Warmwasser!Q122,0)","v":0},"kWh/a"]
[35,"Warmwasser",null,null,{"$f":"IF(Warmwasser!Q156>0,Warmwasser!Q156,0)","v":0},"kWh/a"]
[36,"Prozessbad heizen",null,null,{"$f":"IF(Galvanikbad_Heizen!N23>0,Galvanikbad_Heizen!N23,0)","v":0},"kWh/a"]
[37,"Prozessbad heizen",null,null,{"$f":"IF(Galvanikbad_Heizen!N56>0,Galvanikbad_Heizen!N56,0)","v":0},"kWh/a"]
[38,"Prozessbad heizen",null,null,{"$f":"IF(Galvanikbad_Heizen!N91>0,Galvanikbad_Heizen!N91,0)","v":0},"kWh/a"]
[39,"Prozessbad heizen",null,null,{"$f":"IF(Galvanikbad_Heizen!N125>0,Galvanikbad_Heizen!N125,0)","v":0},"kWh/a"]
[40,"Prozessbad heizen",null,null,{"$f":"IF(Galvanikbad_Heizen!N159>0,Galvanikbad_Heizen!N159,0)","v":0},"kWh/a"]
[41,"Prozessbad kühlen",null,null,{"$f":"IF(Galvanikbad_Kühlen!P20>0,Galvanikbad_Kühlen!P20,0)","v":0},"kWh/a"]
[42,"Prozessbad kühlen",null,null,{"$f":"IF(Galvanikbad_Kühlen!P54>0,Galvanikbad_Kühlen!P54,0)","v":0},"kWh/a"]
[43,"Prozessbad kühlen",null,null,{"$f":"IF(Galvanikbad_Kühlen!P88>0,Galvanikbad_Kühlen!P88,0)","v":0},"kWh/a"]
[44,"Prozessbad kühlen",null,null,{"$f":"IF(Galvanikbad_Kühlen!P122>0,Galvanikbad_Kühlen!P122,0)","v":0},"kWh/a"]
[45,"Prozessbad kühlen",null,null,{"$f":"IF(Galvanikbad_Kühlen!P156>0,Galvanikbad_Kühlen!P156,0)","v":0},"kWh/a"]
[null,"Prozess XY heizen",null,null,{"$f":"IF(Prozess_Heizen!S20>0,Prozess_Heizen!S20,0)","v":0},"kWh/a"]
[null,"Prozess XY heizen",null,null,{"$f":"IF(Prozess_Heizen!S54>0,Prozess_Heizen!S54,0)","v":0},"kWh/a"]
[null,"Prozess XY heizen",null,null,{"$f":"IF(Prozess_Heizen!S88>0,Prozess_Heizen!S88,0)","v":0},"kWh/a"]
[null,"Prozess XY heizen",null,null,{"$f":"IF(Prozess_Heizen!S122>0,Prozess_Heizen!S122,0)","v":0},"kWh/a"]
[null,"Prozess XY heizen",null,null,{"$f":"IF(Prozess_Heizen!S156>0,Prozess_Heizen!S156,0)","v":0},"kWh/a"]
[null,"Prozess XY kühlen",null,null,{"$f":"IF(Prozess_Kühlen!S20>0,Prozess_Kühlen!S20,0)","v":0},"kWh/a"]
[null,"Prozess XY kühlen",null,null,{"$f":"IF(Prozess_Kühlen!S54>0,Prozess_Kühlen!S54,0)","v":0},"kWh/a"]
[null,"Prozess XY kühlen",null,null,{"$f":"IF(Prozess_Kühlen!S88>0,Prozess_Kühlen!S88,0)","v":0},"kWh/a"]
[null,"Prozess XY kühlen",null,null,{"$f":"IF(Prozess_Kühlen!S122>0,Prozess_Kühlen!S122,0)","v":0},"kWh/a"]
[null,"Prozess XY kühlen",null,null,{"$f":"IF(Prozess_Kühlen!S154>0,Prozess_Kühlen!S154,0)","v":0},"kWh/a"]
[]
[]
[null,null,"Summe",null,{"$f":"IFERROR(SUM(E56:E90),0)","v":0},"kWh/a"]

{"sheet":"Freie Branche","index":14,"n_rows":92,"n_cols":6,"rows_kept":92,"cut":false,"hidden":false,"merged":[]}
[]
[]
[]
[]
[]
[]
[]
[]
[]
[]
[]
[null,"Energieverbrauch des Betriebes",{"$f":"'Ist-Stand'!Q35","v":0},"kWh/a"]
[]
[null,"Energieverbrauch der definierten Prozesse",{"$f":"E92","v":0},"kWh/a",{"$f":"IF(C14>C12, \"Achtung! Der Energieverbrauch des Betriebes ist zu gering um den Verbrauch der Prozesse abzudecken!\",\"\")","v":""}]
[]
[null,"Übereinstimmung",{"$f":"C14/C12*100","v":{"$error":"#DIV/0!"}},"%"]
[]
[]
[]
[]
[null,"Prozess","Anzahl angeben"]
[]
["Max 10","Raumwärme",0]
[]
["Max 10","Raumkühlung",0]
[]
["Max 5","Warmwasser",0]
[]
["Max 5","Prozess \"XY\" heizen",0]
[]
["Max 5","Prozess \"XY\" kühlen",0]
[]
["Max 5","Prozessbad heizen",0]
[]
["Max 5","Prozessbad kühlen",0]
[]
[]
[]
[]
[]
[]
[]
[]
[]
[]
[]
[]
[]
[]
[]
[]
[]
[]
[]
[null,"Prozess",null,null,"Energieverbrauch \nberechnet"]
[1,"Raumwärme",null,null,{"$f":"IF(Raumwärme!Q11>0,Raumwärme!Q11,0)","v":0},"kWh/a"]
[2,"Raumwärme",null,null,{"$f":"IF(Raumwärme!Q12>0,Raumwärme!Q12,0)","v":0},"kWh/a"]
[3,"Raumwärme",null,null,{"$f":"IF(Raumwärme!Q13>0,Raumwärme!Q13,0)","v":0},"kWh/a"]
[4,"Raumwärme",null,null,{"$f":"IF(Raumwärme!Q14>0,Raumwärme!Q14,0)","v":0},"kWh/a"]
[5,"Raumwärme",null,null,{"$f":"IF(Raumwärme!Q15>0,Raumwärme!Q15,0)","v":0},"kWh/a"]
[6,"Raumkühlung",null,null,{"$f":"IF(Raumkühlung!Q11>0,Raumkühlung!Q11,0)","v":0},"kWh/a"]
[7,"Raumkühlung",null,null,{"$f":"IF(Raumkühlung!Q12>0,Raumkühlung!Q12,0)","v":0},"kWh/a"]
[8,"Raumkühlung",null,null,{"$f":"IF(Raumkühlung!Q13>0,Raumkühlung!Q13,0)","v":0},"kWh/a"]
[9,"Raumkühlung",null,null,{"$f":"IF(Raumkühlung!Q14>0,Raumkühlung!Q14,0)","v":0},"kWh/a"]
[10,"Raumkühlung",null,null,{"$f":"IF(Raumkühlung!Q15>0,Raumkühlung!Q15,0)","v":0},"kWh/a"]
[11,"Warmwasser",null,null,{"$f":"IF(Warmwasser!Q20>0,Warmwasser!Q20,0)","v":0},"kWh/a"]
[12,"Warmwasser",null,null,{"$f":"IF(Warmwasser!Q54>0,Warmwasser!Q54,0)","v":0},"kWh/a"]
[13,"Warmwasser",null,null,{"$f":"IF(Warmwasser!Q88>0,Warmwasser!Q88,0)","v":0},"kWh/a"]
[14,"Warmwasser",null,null,{"$f":"IF(Warmwasser!Q122>0,Warmwasser!Q122,0)","v":0},"kWh/a"]
[15,"Warmwasser",null,null,{"$f":"IF(Warmwasser!Q156>0,Warmwasser!Q156,0)","v":0},"kWh/a"]
[16,"Galvanikbad heizen",null,null,{"$f":"IF(Galvanikbad_Heizen!N23>0,Galvanikbad_Heizen!N23,0)","v":0},"kWh/a"]
[17,"Galvanikbad heizen",null,null,{"$f":"IF(Galvanikbad_Heizen!N56>0,Galvanikbad_Heizen!N56,0)","v":0},"kWh/a"]
[18,"Galvanikbad heizen",null,null,{"$f":"IF(Galvanikbad_Heizen!N91>0,Galvanikbad_Heizen!N91,0)","v":0},"kWh/a"]
[19,"Galvanikbad heizen",null,null,{"$f":"IF(Galvanikbad_Heizen!N125>0,Galvanikbad_Heizen!N125,0)","v":0},"kWh/a"]
[20,"Galvanikbad heizen",null,null,{"$f":"IF(Galvanikbad_Heizen!N159>0,Galvanikbad_Heizen!N159,0)","v":0},"kWh/a"]
[21,"Galvanikbad kühlen",null,null,{"$f":"IF(Galvanikbad_Kühlen!P20>0,Galvanikbad_Kühlen!P20,0)","v":0},"kWh/a"]
[22,"Galvanikbad kühlen",null,null,{"$f":"IF(Galvanikbad_Kühlen!P54>0,Galvanikbad_Kühlen!P54,0)","v":0},"kWh/a"]
[23,"Galvanikbad kühlen",null,null,{"$f":"IF(Galvanikbad_Kühlen!P88>0,Galvanikbad_Kühlen!P88,0)","v":0},"kWh/a"]
[24,"Galvanikbad kühlen",null,null,{"$f":"IF(Galvanikbad_Kühlen!P122>0,Galvanikbad_Kühlen!P122,0)","v":0},"kWh/a"]
[25,"Galvanikbad kühlen",null,null,{"$f":"IF(Galvanikbad_Kühlen!P156>0,Galvanikbad_Kühlen!P156,0)","v":0},"kWh/a"]
[26,"Prozess XY heizen",null,null,{"$f":"IF(Prozess_Heizen!S20>0,Prozess_Heizen!S20,0)","v":0},"kWh/a"]
[27,"Prozess XY heizen",null,null,{"$f":"IF(Prozess_Heizen!S54>0,Prozess_Heizen!S54,0)","v":0},"kWh/a"]
[28,"Prozess XY heizen",null,null,{"$f":"IF(Prozess_Heizen!S88>0,Prozess_Heizen!S88,0)","v":0},"kWh/a"]
[29,"Prozess XY heizen",null,null,{"$f":"IF(Prozess_Heizen!S122>0,Prozess_Heizen!S122,0)","v":0},"kWh/a"]
[30,"Prozess XY heizen",null,null,{"$f":"IF(Prozess_Heizen!S156>0,Prozess_Heizen!S156,0)","v":0},"kWh/a"]
[31,"Prozess XY kühlen",null,null,{"$f":"IF(Prozess_Kühlen!S20>0,Prozess_Kühlen!S20,0)","v":0},"kWh/a"]
[32,"Prozess XY kühlen",null,null,{"$f":"IF(Prozess_Kühlen!S54>0,Prozess_Kühlen!S54,0)","v":0},"kWh/a"]
[33,"Prozess XY kühlen",null,null,{"$f":"IF(Prozess_Kühlen!S88>0,Prozess_Kühlen!S88,0)","v":0},"kWh/a"]
[34,"Prozess XY kühlen",null,null,{"$f":"IF(Prozess_Kühlen!S122>0,Prozess_Kühlen!S122,0)","v":0},"kWh/a"]
[35,"Prozess XY kühlen",null,null,{"$f":"IF(Prozess_Kühlen!S154>0,Prozess_Kühlen!S154,0)","v":0},"kWh/a"]
[]
[null,null,"Summe",null,{"$f":"IFERROR(SUM(E56:E90),0)","v":0},"kWh/a"]

{"sheet":"Raumwärme","index":15,"n_rows":24,"n_cols":32,"rows_kept":24,"cut":false,"hidden":false,"merged":[]}
[]
[]
[]
[]
[]
[]
[]
[]
[]
[null,null,"Energie-versorgung",null,"Fläche",null,"Spezifischer \nHeizwärmebedarf",null,"Heiztage \npro Jahr",null,"Heizstunden \npro Tag",null,"Vorlauf \nTemperatur",null,"Rücklauf\nTemperatur",null,"Heizwärmebedarf\npro Jahr",null,"Heizleistung",null,"Massenstrom",null,"(das ist die erste Zelle / erste Spalte)",null,"Use in Pinch List","start T","end T","m","cp","h","P/U","Tage pro \nJahr"]
[null,"Raum 1",null,null,null,"m²",null,"kWh/(m².a)",null,"d/a",null,"h/d",null,"°C",null,"°C",{"$f":"E11*G11","v":0},"kWh/a",{"$f":"Q11/(I11*K11)","v":{"$error":"#DIV/0!"}},"kW",{"$f":"S11/((M11-O11)*4.18)","v":{"$error":"#DIV/0!"}},"kg/s",1,"Raumwärme_1",{"$f":"IF(C11=\"\",0,1)","v":0},{"$f":"O11","v":0},{"$f":"M11","v":0},{"$f":"U11","v":{"$error":"#DIV/0!"}},4.1900000000000004,{"$f":"K11*I11","v":0},"Prozess",{"$f":"I11","v":0}]
[null,"Raum 2",null,null,null,{"$f":"F11","v":"m²"},null,{"$f":"H11","v":"kWh/(m².a)"},null,"d/a",null,"h/d",null,"°C",null,"°C",{"$f":"E12*G12","v":0},"kWh/a",{"$f":"Q12/(I12*K12)","v":{"$error":"#DIV/0!"}},"kW",{"$f":"S12/((M12-O12)*4.18)","v":{"$error":"#DIV/0!"}},"kg/s",2,"Raumwärme_2",{"$f":"IF(C12=\"\",0,1)","v":0},{"$f":"O12","v":0},{"$f":"M12","v":0},{"$f":"U12","v":{"$error":"#DIV/0!"}},4.1900000000000004,{"$f":"K12*I12","v":0},"Prozess",{"$f":"I12","v":0}]
[null,"Raum 3",null,null,null,{"$f":"F12","v":"m²"},null,{"$f":"H12","v":"kWh/(m².a)"},null,"d/a",null,"h/d",null,"°C",null,"°C",0,"kWh/a",{"$error":"#DIV/0!"},"kW",{"$error":"#DIV/0!"},"kg/s",3,"Raumwärme_3",0,0,0,{"$error":"#DIV/0!"},4.1900000000000004,0,"Prozess",0]
[null,"Raum 4",null,null,null,"m²",null,"kWh/(m².a)",null,"d/a",null,"h/d",null,"°C",null,"°C",0,"kWh/a",{"$error":"#DIV/0!"},"kW",{"$error":"#DIV/0!"},"kg/s",4,"Raumwärme_4",0,0,0,{"$error":"#DIV/0!"},4.1900000000000004,0,"Prozess",0]
[null,"Raum 5",null,null,null,{"$f":"F14","v":"m²"},null,{"$f":"H14","v":"kWh/(m².a)"},null,"d/a",null,"h/d",null,"°C",null,"°C",{"$f":"E15*G15","v":0},"kWh/a",{"$error":"#DIV/0!"},"kW",{"$f":"S15/((M15-O15)*4.18)","v":{"$error":"#DIV/0!"}},"kg/s",5,"Raumwärme_5",0,0,0,{"$error":"#DIV/0!"},4.1900000000000004,0,"Prozess",0]
[]
[null,"Raum 6",null,null,null,{"$f":"F15","v":"m²"},null,{"$f":"H15","v":"kWh/(m².a)"},null,"d/a",null,"h/d",null,"°C",null,"°C",0,"kWh/a",{"$error":"#DIV/0!"},"kW",{"$error":"#DIV/0!"},"kg/s",6,"Raumwärme_6",0,0,0,{"$error":"#DIV/0!"},4.1900000000000004,0,"Prozess",0]
[null,"Raum 7",null,null,null,"m²",null,"kWh/(m².a)",null,"d/a",null,"h/d",null,"°C",null,"°C",0,"kWh/a",{"$error":"#DIV/0!"},"kW",{"$error":"#DIV/0!"},"kg/s",7,"Raumwärme_7",0,0,0,{"$error":"#DIV/0!"},4.1900000000000004,0,"Prozess",0]
[null,"Raum 8",null,null,null,"m²",null,"kWh/(m².a)",null,"d/a",null,"h/d",null,"°C",null,"°C",0,"kWh/a",{"$error":"#DIV/0!"},"kW",{"$error":"#DIV/0!"},"kg/s",8,"Raumwärme_8",0,0,0,{"$error":"#DIV/0!"},4.1900000000000004,0,"Prozess",0]
[null,"Raum 9",null,null,null,"m²",null,"kWh/(m².a)",null,"d/a",null,"h/d",null,"°C",null,"°C",0,"kWh/a",{"$error":"#DIV/0!"},"kW",{"$error":"#DIV/0!"},"kg/s",9,"Raumwärme_9",0,0,0,{"$error":"#DIV/0!"},4.1900000000000004,0,"Prozess",0]
[null,"Raum 10",null,null,null,"m²",null,{"$f":"H20","v":"kWh/(m².a)"},null,"d/a",null,"h/d",null,"°C",null,"°C",0,"kWh/a",{"$error":"#DIV/0!"},"kW",{"$error":"#DIV/0!"},"kg/s",10,"Raumwärme_10",0,0,0,{"$error":"#DIV/0!"},4.1900000000000004,0,"Prozess",0]
[]
[]
[null,null,null,null,null,null,null,null,null,null,null,null,null,null,null,"Summe",{"$f":"SUM(Q11:Q22)","v":0},"kWh/a"]

{"sheet":"Raumkühlung","index":16,"n_rows":24,"n_cols":32,"rows_kept":24,"cut":false,"hidden":false,"merged":[]}
[]
[]
[]
[]
[]
[]
[]
[]
[]
[null,null,"Energie-versorgung",null,"Fläche",null,"Spezifischer \nKühlbedarf",null,"Tage mit Kühlbedarf pro Jahr",null,"Kühlstunden \npro Tag",null,"Vorlauf \nTemperatur",null,"Rücklauf\nTemperatur",null,"Kühlbedarf\npro Jahr",null,"Kühlleistung",null,"Massenstrom",null,"(das ist die erste Zelle / \nerste Spalte)",null,"Use in Pinch List","start T","end T","m","cp","h","P/U","Tage pro \nJahr"]
[null,"Raum 1",null,null,null,"m²",null,"kWh/(m².a)",null,"d/a",null,"h/d",null,"°C",null,"°C",{"$f":"E11*G11","v":0},"kWh/a",{"$f":"Q11/(K11*I11)","v":{"$error":"#DIV/0!"}},"kW",{"$f":"S11/((O11-M11)*4.19)","v":{"$error":"#DIV/0!"}},null,1,"Raumkühlung_1",{"$f":"IF(C11=\"\",0,1)","v":0},{"$f":"O11","v":0},{"$f":"M11","v":0},{"$f":"U11","v":{"$error":"#DIV/0!"}},4.1900000000000004,{"$f":"I11*K11","v":0},"Prozess",{"$f":"I11","v":0}]
[null,"Raum 2",null,null,null,{"$f":"F11","v":"m²"},null,{"$f":"H11","v":"kWh/(m².a)"},null,"d/a",null,"h/d",null,"°C",null,"°C",{"$f":"E12*G12","v":0},"kWh/a",{"$f":"Q12/(K12*I12)","v":{"$error":"#DIV/0!"}},"kW",{"$f":"S12/((O12-M12)*4.19)","v":{"$error":"#DIV/0!"}},null,2,"Raumkühlung_2",{"$f":"IF(C12=\"\",0,1)","v":0},{"$f":"O12","v":0},{"$f":"M12","v":0},{"$f":"U12","v":{"$error":"#DIV/0!"}},4.1900000000000004,{"$f":"I12*K12","v":0},"Prozess",{"$f":"I12","v":0}]
[null,"Raum 3",null,null,null,{"$f":"F12","v":"m²"},null,{"$f":"H12","v":"kWh/(m².a)"},null,"d/a",null,"h/d",null,"°C",null,"°C",0,"kWh/a",{"$error":"#DIV/0!"},"kW",{"$error":"#DIV/0!"},null,3,"Raumkühlung_3",0,0,0,{"$error":"#DIV/0!"},4.1900000000000004,0,"Prozess",0]
[null,"Raum 4",null,null,null,"m²",null,"kWh/(m².a)",null,"d/a",null,"h/d",null,"°C",null,"°C",0,"kWh/a",{"$error":"#DIV/0!"},"kW",{"$error":"#DIV/0!"},null,4,"Raumkühlung_4",0,0,0,{"$error":"#DIV/0!"},4.1900000000000004,0,"Prozess",0]
[null,"Raum 5",null,null,null,{"$f":"F14","v":"m²"},null,{"$f":"H14","v":"kWh/(m².a)"},null,"d/a",null,"h/d",null,"°C",null,"°C",{"$f":"E15*G15","v":0},"kWh/a",{"$error":"#DIV/0!"},"kW",{"$error":"#DIV/0!"},null,5,"Raumkühlung_5",{"$f":"IF(C15=\"\",0,1)","v":0},0,0,{"$error":"#DIV/0!"},4.1900000000000004,0,"Prozess",0]
[null,null,null,null,null,null,null,null,null,null,null,null,null,null,null,null,null,null,null,null,{"$error":"#DIV/0!"}]
[null,"Raum 6",null,null,null,{"$f":"F15","v":"m²"},null,{"$f":"H15","v":"kWh/(m².a)"},null,"d/a",null,"h/d",null,"°C",null,"°C",0,"kWh/a",{"$error":"#DIV/0!"},"kW",{"$error":"#DIV/0!"},null,6,"Raumkühlung_6",{"$f":"IF(C17=\"\",0,1)","v":0},0,0,{"$error":"#DIV/0!"},4.1900000000000004,0,"Prozess",0]
[null,"Raum 7",null,null,null,"m²",null,"kWh/(m².a)",null,"d/a",null,"h/d",null,"°C",null,"°C",0,"kWh/a",{"$error":"#DIV/0!"},"kW",{"$error":"#DIV/0!"},null,7,"Raumkühlung_7",0,0,0,{"$error":"#DIV/0!"},4.1900000000000004,0,"Prozess",0]
[null,"Raum 8",null,null,null,"m²",null,"kWh/(m².a)",null,"d/a",null,"h/d",null,"°C",null,"°C",0,"kWh/a",{"$error":"#DIV/0!"},"kW",{"$error":"#DIV/0!"},null,8,"Raumkühlung_8",0,0,0,{"$error":"#DIV/0!"},4.1900000000000004,0,"Prozess",0]
[null,"Raum 9",null,null,null,"m²",null,"kWh/(m².a)",null,"d/a",null,"h/d",null,"°C",null,"°C",0,"kWh/a",{"$error":"#DIV/0!"},"kW",{"$error":"#DIV/0!"},null,9,"Raumkühlung_9",0,0,0,{"$error":"#DIV/0!"},4.1900000000000004,0,"Prozess",0]
[null,"Raum 10",null,null,null,"m²",null,{"$f":"H20","v":"kWh/(m².a)"},null,"d/a",null,"h/d",null,"°C",null,"°C",0,"kWh/a",{"$error":"#DIV/0!"},"kW",{"$error":"#DIV/0!"},null,10,"Raumkühlung_10",0,0,0,{"$error":"#DIV/0!"},4.1900000000000004,0,"Prozess",0]
[null,null,null,null,null,null,null,null,null,null,null,null,null,null,null,null,null,null,null,null,{"$error":"#DIV/0!"}]
[]
[null,null,null,null,null,null,null,null,null,null,null,null,null,null,null,"Summe",{"$f":"SUM(Q11:Q23)","v":0},"kWh/a"]

{"sheet":"Warmwasser","index":17,"n_rows":169,"n_cols":18,"rows_kept":169,"cut":false,"hidden":false,"merged":[]}
[]
[]
[]
[]
[]
[]
[]
[]
[]
[]
[]
[]
[null,"Prozessname",null,"Energieversorgung",null,"Betriebstage pro Jahr"]
[null,null,null,null,null,null,"d/a"]
[]
[]
[null,"Auswählen:",null,"Start-\nTemperatur",null,"End-\nTemperatur",null,"Massenstrom",null,"Masse",null,"Vollaststunden pro Jahr",null,"Dauer eines \nVorganges",null,"Anzahl der Vorgänge\npro Jahr","Energieverbrauch "]
[null,null,null,null,"°C",null,"°C",null,"kg/s",null,"kg/Vorgang",null,"h/a",null,"h",null,{"$f":"IF(B18=\"Kontinuierlich\",H18*4.19*(F18-D18)*L18,G31*4.19*(F18-D18)*N18*P18)","v":{"$error":"#DIV/0!"}},"kWh/a"]
[null,null,null,null,"°C",null,"°C",null,"kg/s",null,null,null,null,null,"h",null,{"$f":"IF(B19=\"Kontinuierlich\",H19*4.19*(F19-D19)*L19*$F$14,H19*4.19*(F19-D19)*N19*P19*$F$14)","v":0},"kWh/a"]
[null,null,null,null,null,null,null,null,null,null,null,null,null,null,null,null,{"$f":"SUM(IFERROR(Q18:Q19,0))","v":0},"kWh/a"]
[]
[]
[null,"Auswählen:",null,"Wärmerück-\ngewinnung ",null,"Abwassermenge",null,"Abwasser -Temperatur",null,"Abkühl -Temperatur",null,"Vollaststunden\npro Jahr"]
[null,null,null,null,null,null,"kg/s",null,"°C",null,"°C",null,"h/a"]
[]
[]
[]
[]
[null,"Für Pinch Liste (versteckt)"]
[null,"(das ist die erste Zelle / erste Spalte)",null,"Use in Pinch List","start T","end T","m","cp","h","P/U","d/y"]
[null,1,{"$f":"(B14&\" \"&B18)","v":" "},{"$f":"IF(B18=\"\",0,1)","v":0},{"$f":"D18","v":0},{"$f":"F18","v":0},{"$f":"IF(B18=\"Kontinuierlich\",H18,J18/N18/3600)","v":{"$error":"#DIV/0!"}},4.1900000000000004,{"$f":"IF(B18=\"Kontinuierlich\",L18,N18*P18)","v":0},"Prozess",{"$f":"$F$14","v":0}]
[null,2,{"$f":"(B14&\" \"&B19)","v":" "},{"$f":"IF(B19=\"\",0,1)","v":0},{"$f":"D19","v":0},{"$f":"F19","v":0},{"$f":"IF(B19=\"Kontinuierlich\",H19,J19/N19/3600)","v":{"$error":"#DIV/0!"}},4.1900000000000004,{"$f":"IF(B19=\"Kontinuierlich\",L19,N19*P19)","v":0},"Prozess",{"$f":"$F$14","v":0}]
[null,3,{"$f":"(B14&\" \"&B24)","v":" "},{"$f":"IF(B24=\"\",0,1)","v":0},{"$f":"H24","v":0},{"$f":"J24","v":0},{"$f":"F24","v":0},4.1900000000000004,{"$f":"L24","v":0},"Prozess",{"$f":"$F$14","v":0}]
[]
[]
[]
[]
[]
[]
[]
[]
[]
[]
[]
[]
[]
[null,"Prozessname",null,"Energieversorgung",null,"Betriebstage pro Jahr"]
[null,null,null,null,null,null,"d/a"]
[]
[]
[null,"Auswählen:",null,"Start-\nTemperatur",null,"End-\nTemperatur",null,"Massenstrom",null,"Masse",null,"Vollaststunden pro Jahr",null,"Dauer eines \nVorganges",null,"Anzahl der Vorgänge\npro Jahr","Energieverbrauch "]
[null,null,null,null,"°C",null,"°C",null,"kg/s",null,"kg/Vorgang",null,"h/a",null,"h",null,{"$f":"IF(B52=\"Kontinuierlich\",H52*4.19*(F52-D52)*L52,G65*4.19*(F52-D52)*N52*P52)","v":{"$error":"#DIV/0!"}},"kWh/a"]
[null,null,null,null,"°C",null,"°C",null,"kg/s",null,null,null,null,null,"h",null,{"$f":"IF(B53=\"Kontinuierlich\",H53*4.19*(F53-D53)*L53*$F$14,H53*4.19*(F53-D53)*N53*P53*$F$14)","v":0},"kWh/a"]
[null,null,null,null,null,null,null,null,null,null,null,null,null,null,null,null,{"$f":"SUM(IFERROR(Q52:Q53,0))","v":0},"kWh/a"]
[]
[]
[null,"Auswählen:",null,"Wärmerück-\ngewinnung ",null,"Abwassermenge",null,"Abwasser -Temperatur",null,"Abkühl -Temperatur",null,"Vollaststunden\npro Jahr"]
[null,null,null,null,null,null,"kg/s",null,"°C",null,"°C",null,"h/a"]
[]
[]
[]
[]
[null,"Für Pinch Liste (versteckt)"]
[null,"(das ist die erste Zelle / erste Spalte)",null,"Use in Pinch List","start T","end T","m","cp","h","P/U","d/y"]
[null,1,{"$f":"(B48&\" \"&B52)","v":" "},{"$f":"IF(B52=\"\",0,1)","v":0},{"$f":"D52","v":0},{"$f":"F52","v":0},{"$f":"IF(B52=\"Kontinuierlich\",H52,J52/N52/3600)","v":{"$error":"#DIV/0!"}},4.1900000000000004,{"$f":"IF(B52=\"Kontinuierlich\",L52,N52*P52)","v":0},"Prozess",{"$f":"$F$14","v":0}]
[null,2,{"$f":"(B48&\" \"&B53)","v":" "},{"$f":"IF(B53=\"\",0,1)","v":0},{"$f":"D53","v":0},{"$f":"F53","v":0},{"$f":"IF(B53=\"Kontinuierlich\",H53,J53/N53/3600)","v":{"$error":"#DIV/0!"}},4.1900000000000004,{"$f":"IF(B53=\"Kontinuierlich\",L53,N53*P53)","v":0},"Prozess",{"$f":"$F$14","v":0}]
[null,3,{"$f":"(B48&\" \"&B58)","v":" "},{"$f":"IF(B58=\"\",0,1)","v":0},{"$f":"H58","v":0},{"$f":"J58","v":0},{"$f":"F58","v":0},4.1900000000000004,{"$f":"J58","v":0},"Prozess",{"$f":"$F$14","v":0}]
[]
[]
[]
[]
[]
[]
[]
[]
[]
[]
[]
[]
[]
[null,"Prozessname",null,"Energieversorgung",null,"Betriebstage pro Jahr"]
[null,null,null,null,null,null,"d/a"]
[]
[]
[null,"Auswählen:",null,"Start-\nTemperatur",null,"End-\nTemperatur",null,"Massenstrom",null,"Masse",null,"Vollaststunden pro Jahr",null,"Dauer eines \nVorganges",null,"Anzahl der Vorgänge\npro Jahr","Energieverbrauch "]
[null,null,null,null,"°C",null,"°C",null,"kg/s",null,"kg/Vorgang",null,"h/a",null,"h",null,{"$f":"IF(B86=\"Kontinuierlich\",H86*4.19*(F86-D86)*L86,G99*4.19*(F86-D86)*N86*P86)","v":{"$error":"#DIV/0!"}},"kWh/a"]
[null,null,null,null,"°C",null,"°C",null,"kg/s",null,null,null,null,null,"h",null,{"$f":"IF(B87=\"Kontinuierlich\",H87*4.19*(F87-D87)*L87*$F$14,H87*4.19*(F87-D87)*N87*P87*$F$14)","v":0},"kWh/a"]
[null,null,null,null,null,null,null,null,null,null,null,null,null,null,null,null,{"$f":"SUM(IFERROR(Q86:Q87,0))","v":0},"kWh/a"]
[]
[]
[null,"Auswählen:",null,"Wärmerück-\ngewinnung ",null,"Abwassermenge",null,"Abwasser -Temperatur",null,"Abkühl -Temperatur",null,"Vollaststunden\npro Jahr"]
[null,null,null,null,null,null,"kg/s",null,"°C",null,"°C",null,"h/a"]
[]
[]
[]
[]
[null,"Für Pinch Liste (versteckt)"]
[null,"(das ist die erste Zelle / erste Spalte)",null,"Use in Pinch List","start T","end T","m","cp","h","P/U","d/y"]
[null,1,{"$f":"(B82&\" \"&B86)","v":" "},{"$f":"IF(B86=\"\",0,1)","v":0},{"$f":"D86","v":0},{"$f":"F86","v":0},{"$f":"IF(B86=\"Kontinuierlich\",H86,J86/N86/3600)","v":{"$error":"#DIV/0!"}},4.1900000000000004,{"$f":"IF(B86=\"Kontinuierlich\",L86,N86*P86)","v":0},"Prozess",{"$f":"$F$14","v":0}]
[null,2,{"$f":"(B82&\" \"&B87)","v":" "},{"$f":"IF(B87=\"\",0,1)","v":0},{"$f":"D87","v":0},{"$f":"F87","v":0},{"$f":"IF(B87=\"Kontinuierlich\",H87,J87/N87/3600)","v":{"$error":"#DIV/0!"}},4.1900000000000004,{"$f":"IF(B87=\"Kontinuierlich\",L87,N87*P87)","v":0},"Prozess",{"$f":"$F$14","v":0}]
[null,3,{"$f":"(B82&\" \"&B92)","v":" "},{"$f":"IF(B92=\"\",0,1)","v":0},{"$f":"H92","v":0},{"$f":"J92","v":0},{"$f":"F92","v":0},4.1900000000000004,{"$f":"J92","v":0},"Prozess",{"$f":"$F$14","v":0}]
[]
[]
[]
[]
[]
[]
[]
[]
[]
[]
[]
[]
[]
[null,"Prozessname",null,"Energieversorgung",null,"Betriebstage pro Jahr"]
[null,null,null,null,null,null,"d/a"]
[]
[]
[null,"Auswählen:",null,"Start-\nTemperatur",null,"End-\nTemperatur",null,"Massenstrom",null,"Masse",null,"Vollaststunden pro Jahr",null,"Dauer eines \nVorganges",null,"Anzahl der Vorgänge\npro Jahr","Energieverbrauch "]
[null,null,null,null,"°C",null,"°C",null,"kg/s",null,"kg/Vorgang",null,"h/a",null,"h",null,{"$f":"IF(B120=\"Kontinuierlich\",H120*4.19*(F120-D120)*L120,G133*4.19*(F120-D120)*N120*P120)","v":{"$error":"#DIV/0!"}},"kWh/a"]
[null,null,null,null,"°C",null,"°C",null,"kg/s",null,null,null,null,null,"h",null,{"$f":"IF(B121=\"Kontinuierlich\",H121*4.19*(F121-D121)*L121*$F$14,H121*4.19*(F121-D121)*N121*P121*$F$14)","v":0},"kWh/a"]
[null,null,null,null,null,null,null,null,null,null,null,null,null,null,null,null,{"$f":"SUM(IFERROR(Q120:Q121,0))","v":0},"kWh/a"]
[]
[]
[null,"Auswählen:",null,"Wärmerück-\ngewinnung ",null,"Abwassermenge",null,"Abwasser -Temperatur",null,"Abkühl -Temperatur",null,"Vollaststunden\npro Jahr"]
[null,null,null,null,null,null,"kg/s",null,"°C",null,"°C",null,"h/a"]
[]
[]
[]
[]
[null,"Für Pinch Liste (versteckt)"]
[null,"(das ist die erste Zelle / erste Spalte)",null,"Use in Pinch List","start T","end T","m","cp","h","P/U","d/y"]
[null,1,{"$f":"(B116&\" \"&B120)","v":" "},{"$f":"IF(B120=\"\",0,1)","v":0},{"$f":"D120","v":0},{"$f":"F120","v":0},{"$f":"IF(B120=\"Kontinuierlich\",H120,J120/N120/3600)","v":{"$error":"#DIV/0!"}},4.1900000000000004,{"$f":"IF(B120=\"Kontinuierlich\",L120,N120*P120)","v":0},"Prozess",{"$f":"$F$14","v":0}]
[null,2,{"$f":"(B116&\" \"&B121)","v":" "},{"$f":"IF(B121=\"\",0,1)","v":0},{"$f":"D121","v":0},{"$f":"F121","v":0},{"$f":"IF(B121=\"Kontinuierlich\",H121,J121/N121/3600)","v":{"$error":"#DIV/0!"}},4.1900000000000004,{"$f":"IF(B121=\"Kontinuierlich\",L121,N121*P121)","v":0},"Prozess",{"$f":"$F$14","v":0}]
[null,3,{"$f":"(B116&\" \"&B126)","v":" "},{"$f":"IF(B126=\"\",0,1)","v":0},{"$f":"H126","v":0},{"$f":"J126","v":0},{"$f":"F126","v":0},4.1900000000000004,{"$f":"L126","v":0},"Prozess",{"$f":"$F$14","v":0}]
[]
[]
[]
[]
[]
[]
[]
[]
[]
[]
[]
[]
[]
[null,"Prozessname",null,"Energieversorgung",null,"Betriebstage pro Jahr"]
[null,null,null,null,null,null,"d/a"]
[]
[]
[null,"Auswählen:",null,"Start-\nTemperatur",null,"End-\nTemperatur",null,"Massenstrom",null,"Masse",null,"Vollaststunden pro Jahr",null,"Dauer eines \nVorganges",null,"Anzahl der Vorgänge\npro Jahr","Energieverbrauch "]
[null,null,null,null,"°C",null,"°C",null,"kg/s",null,"kg/Vorgang",null,"h/a",null,"h",null,{"$f":"IF(B154=\"Kontinuierlich\",H154*4.19*(F154-D154)*L154,G167*4.19*(F154-D154)*N154*P154)","v":{"$error":"#DIV/0!"}},"kWh/a"]
[null,null,null,null,"°C",null,"°C",null,"kg/s",null,null,null,null,null,"h",null,{"$f":"IF(B155=\"Kontinuierlich\",H155*4.19*(F155-D155)*L155*$F$14,H155*4.19*(F155-D155)*N155*P155*$F$14)","v":0},"kWh/a"]
[null,null,null,null,null,null,null,null,null,null,null,null,null,null,null,null,{"$f":"SUM(IFERROR(Q154:Q155,0))","v":0},"kWh/a"]
[]
[]
[null,"Auswählen:",null,"Wärmerück-\ngewinnung ",null,"Abwassermenge",null,"Abwasser -Temperatur",null,"Abkühl -Temperatur",null,"Vollaststunden\npro Jahr"]
[null,null,null,null,null,null,"kg/s",null,"°C",null,"°C",null,"h/a"]
[]
[]
[]
[]
[null,"Für Pinch Liste (versteckt)"]
[null,"(das ist die erste Zelle / erste Spalte)",null,"Use in Pinch List","start T","end T","m","cp","h","P/U","d/y"]
[null,1,{"$f":"(B150&\" \"&B154)","v":" "},{"$f":"IF(B154=\"\",0,1)","v":0},{"$f":"D154","v":0},{"$f":"F154","v":0},{"$f":"IF(B154=\"Kontinuierlich\",H154,J154/N154/3600)","v":{"$error":"#DIV/0!"}},4.1900000000000004,{"$f":"IF(B154=\"Kontinuierlich\",L154,N154*P154)","v":0},"Prozess",{"$f":"$F$14","v":0}]
[null,2,{"$f":"(B150&\" \"&B155)","v":" "},{"$f":"IF(B155=\"\",0,1)","v":0},{"$f":"D155","v":0},{"$f":"F155","v":0},{"$f":"IF(B155=\"Kontinuierlich\",H155,J155/N155/3600)","v":{"$error":"#DIV/0!"}},4.1900000000000004,{"$f":"IF(B155=\"Kontinuierlich\",L155,N155*P155)","v":0},"Prozess",{"$f":"$F$14","v":0}]
[null,3,{"$f":"(B150&\" \"&B160)","v":" "},{"$f":"IF(B160=\"\",0,1)","v":0},{"$f":"H160","v":0},{"$f":"J160","v":0},{"$f":"F160","v":0},4.1900000000000004,{"$f":"L160","v":0},"Prozess",{"$f":"$F$14","v":0}]

{"sheet":"Prozess_Heizen","index":18,"n_rows":171,"n_cols":20,"rows_kept":171,"cut":false,"hidden":false,"merged":[]}
[]
[]
[]
[]
[]
[]
[]
[]
[]
[]
[]
[]
[null,"Prozessname",null,"Energieversorgung",null,"Betriebstage"]
[null,null,null,null,null,null,"d/a"]
[]
[]
[null,"Auswählen:",null,"Start-\nTemperatur",null,"End-\nTemperatur",null,"spez. \nWärmekapazität",null,"Massenstrom",null,"Masse",null,"Volllaststunden \npro Jahr",null,"Dauer eines \nVorganges",null,"Anzahl der Vorgänge\npro Jahr","Energieverbrauch "]
[null,null,null,null,"°C",null,"°C",null,"kJ/(kg.K)",null,"kg/s",null,"kg/Vorgang",null,"h/a",null,"h",null,{"$f":"IF(B18=\"Kontinuierlich\",J18*H18*(F18-D18)*N18,G31*H18*(F18-D18)*R18*P18)","v":{"$error":"#DIV/0!"}},"kWh/a"]
[null,null,null,null,"°C",null,"°C",null,{"$f":"I18","v":"kJ/(kg.K)"},null,"kg/s",null,"kg/Vorgang",null,"h/a",null,"h",null,{"$f":"IF(B19=\"Kontinuierlich\",J19*H19*(F19-D19)*N19,G32*H19*(F19-D19)*R19*P19)","v":{"$error":"#DIV/0!"}},"kWh/a"]
[null,null,null,null,null,null,null,null,null,null,null,null,null,null,null,null,null,null,{"$f":"SUM(IFERROR(S18:S19,0))","v":0},"kWh/a"]
[]
[]
[null,"Auswählen:",null,"Wärmerück-\ngewinnung ",null,"Abwärme-\nTemperatur",null,"spez. \nWärmekapazität",null,"spez. Wärmekapazität  Feuchter Luft\nberechnen",null,"relativer \nFeuchtegehalt",null,"Abkühl-\nTemperatur",null,"Massenstrom",null,"Vollaststunden\npro Jahr"]
[null,null,null,null,null,null,"°C",null,"kJ/(kg.K)",null,null,null,"%",null,"°C",null,"kg/s",null,"h/a"]
[null,null,null,null,null,null,"°C",null,"kJ/(kg.K)",null,null,null,"%",null,"°C",null,"kg/s",null,"h/a"]
[null,null,null,null,null,null,"°C",null,"kJ/(kg.K)",null,null,null,"%",null,"°C",null,"kg/s",null,"h/a"]
[]
[]
[null,"Für Pinch Liste (versteckt)"]
[null,"(das ist die erste Zelle / erste Spalte)",null,"Use in Pinch List","start T","end T","m","cp","h","P/U","d/y"]
[null,1,{"$f":"(B14&\" \"&B18)","v":" "},{"$f":"IF(B18=\"\",0,1)","v":0},{"$f":"D18","v":0},{"$f":"F18","v":0},{"$f":"IF(B18=\"Kontinuierlich\",J18,(L18/P18/3600))","v":{"$error":"#DIV/0!"}},{"$f":"H18","v":0},{"$f":"IF(B18=\"Kontinuierlich\",N18,P18*R18)","v":0},"Prozess",{"$f":"$F$14","v":0}]
[null,2,{"$f":"(B14&\" \"&B19)","v":" "},{"$f":"IF(B19=\"\",0,1)","v":0},{"$f":"D19","v":0},{"$f":"F19","v":0},{"$f":"IF(B19=\"Kontinuierlich\",J19,(L19/P19/3600))","v":{"$error":"#DIV/0!"}},{"$f":"H19","v":0},{"$f":"IF(B19=\"Kontinuierlich\",N19,P19*R19)","v":0},"Prozess",{"$f":"$F$14","v":0}]
[null,3,{"$f":"(B14&\" \"&B24)","v":" "},{"$f":"IF(B24=\"\",0,1)","v":0},{"$f":"F24","v":0},{"$f":"N24","v":0},{"$f":"P24","v":0},{"$f":"H24","v":0},{"$f":"R24","v":0},"Prozess",{"$f":"$F$14","v":0}]
[null,4,{"$f":"(B14&\" \"&B25)","v":" "},{"$f":"IF(B25=\"\",0,1)","v":0},{"$f":"F25","v":0},{"$f":"N25","v":0},{"$f":"P25","v":0},{"$f":"H25","v":0},{"$f":"R25","v":0},"Prozess",{"$f":"$F$14","v":0}]
[null,5,{"$f":"(B14&\" \"&B26)","v":" "},{"$f":"IF(B26=\"\",0,1)","v":0},{"$f":"F26","v":0},0,0,{"$f":"H26","v":0},{"$f":"R26","v":0},"Prozess",{"$f":"$F$14","v":0}]
[]
[]
[]
[]
[]
[]
[]
[]
[]
[]
[]
[null,"Prozessname",null,"Energieversorgung",null,"Betriebstage"]
[null,null,null,null,null,null,"d/a"]
[]
[]
[null,"Auswählen:",null,"Start-\nTemperatur",null,"End-\nTemperatur",null,"spez. \nWärmekapazität",null,"Massenstrom",null,"Masse",null,"Volllaststunden \npro Jahr",null,"Dauer eines \nVorganges",null,"Anzahl der Vorgänge\npro Jahr","Energieverbrauch "]
[null,null,null,null,"°C",null,"°C",null,"kJ/(kg.K)",null,"kg/s",null,"kg/Vorgang",null,"h/a",null,"h",null,{"$f":"IF(B52=\"Kontinuierlich\",J52*H52*(F52-D52)*N52,G65*H52*(F52-D52)*R52*P52)","v":{"$error":"#DIV/0!"}},"kWh/a"]
[null,null,null,null,"°C",null,"°C",null,{"$f":"I52","v":"kJ/(kg.K)"},null,"kg/s",null,"kg/Vorgang",null,"h/a",null,"h",null,{"$f":"IF(B53=\"Kontinuierlich\",J53*H53*(F53-D53)*N53,G66*H53*(F53-D53)*R53*P53)","v":{"$error":"#DIV/0!"}},"kWh/a"]
[null,null,null,null,null,null,null,null,null,null,null,null,null,null,null,null,null,null,{"$f":"SUM(IFERROR(S52:S53,0))","v":0},"kWh/a"]
[]
[]
[null,"Auswählen:",null,"Wärmerück-\ngewinnung ",null,"Abwärme-\nTemperatur",null,"spez. \nWärmekapazität",null,"spez. Wärmekapazität  Feuchter Luft\nberechnen",null,"relativer \nFeuchtegehalt",null,"Abkühl-\nTemperatur",null,"Massenstrom",null,"Vollaststunden\npro Jahr"]
[null,null,null,null,null,null,"°C",null,"kJ/(kg.K)",null,null,null,"%",null,"°C",null,"kg/s",null,"h/a"]
[null,null,null,null,null,null,"°C",null,{"$f":"I58","v":"kJ/(kg.K)"},null,null,null,"%",null,"°C",null,"kg/s",null,"h/a"]
[null,null,null,null,null,null,"°C",null,{"$f":"I59","v":"kJ/(kg.K)"},null,null,null,"%",null,"°C",null,"kg/s",null,"h/a"]
[]
[]
[null,"Für Pinch Liste (versteckt)"]
[null,"(das ist die erste Zelle / erste Spalte)",null,"Use in Pinch List","start T","end T","m","cp","h","P/U","d/y"]
[null,1,{"$f":"(B48&\" \"&B52)","v":" "},{"$f":"IF(B52=\"\",0,1)","v":0},{"$f":"D52","v":0},{"$f":"F52","v":0},{"$f":"IF(B52=\"Kontinuierlich\",J52,(L52/P52/3600))","v":{"$error":"#DIV/0!"}},{"$f":"H52","v":0},{"$f":"IF(B52=\"Kontinuierlich\",N52,P52*R52)","v":0},"Prozess",{"$f":"$F$48","v":0}]
[null,2,{"$f":"(B48&\" \"&B53)","v":" "},{"$f":"IF(B53=\"\",0,1)","v":0},{"$f":"D53","v":0},{"$f":"F53","v":0},{"$f":"IF(B53=\"Kontinuierlich\",J53,(L53/P53/3600))","v":{"$error":"#DIV/0!"}},{"$f":"H53","v":0},{"$f":"IF(B53=\"Kontinuierlich\",N53,P53*R53)","v":0},"Prozess",{"$f":"$F$48","v":0}]
[null,3,{"$f":"(B48&\" \"&B58)","v":" "},{"$f":"IF(B58=\"\",0,1)","v":0},{"$f":"F58","v":0},{"$f":"N58","v":0},{"$f":"P58","v":0},{"$f":"H58","v":0},{"$f":"R58","v":0},"Prozess",0]
[null,4,{"$f":"(B48&\" \"&B59)","v":" "},{"$f":"IF(B59=\"\",0,1)","v":0},{"$f":"F59","v":0},{"$f":"N59","v":0},{"$f":"P59","v":0},{"$f":"H59","v":0},{"$f":"R59","v":0},"Prozess",0]
[null,5,{"$f":"(B48&\" \"&B60)","v":" "},{"$f":"IF(B60=\"\",0,1)","v":0},{"$f":"F60","v":0},0,{"$f":"P60","v":0},{"$f":"H60","v":0},{"$f":"R60","v":0},"Prozess",{"$f":"$F$14","v":0}]
[]
[]
[]
[]
[]
[]
[]
[]
[]
[]
[]
[null,"Prozessname",null,"Energieversorgung",null,"Betriebstage"]
[null,null,null,null,null,null,"d/a"]
[]
[]
[null,"Auswählen:",null,"Start-\nTemperatur",null,"End-\nTemperatur",null,"spez. \nWärmekapazität",null,"Massenstrom",null,"Masse",null,"Volllaststunden \npro Jahr",null,"Dauer eines \nVorganges",null,"Anzahl der Vorgänge\npro Jahr","Energieverbrauch "]
[null,null,null,null,"°C",null,"°C",null,"kJ/(kg.K)",null,"kg/s",null,"kg/Vorgang",null,"h/a",null,"h",null,{"$f":"IF(B86=\"Kontinuierlich\",J86*H86*(F86-D86)*N86,G99*H86*(F86-D86)*R86*P86)","v":{"$error":"#DIV/0!"}},"kWh/a"]
[null,null,null,null,"°C",null,"°C",null,{"$f":"I86","v":"kJ/(kg.K)"},null,"kg/s",null,"kg/Vorgang",null,"h/a",null,"h",null,{"$f":"IF(B87=\"Kontinuierlich\",J87*H87*(F87-D87)*N87,G100*H87*(F87-D87)*R87*P87)","v":{"$error":"#DIV/0!"}},"kWh/a"]
[null,null,null,null,null,null,null,null,null,null,null,null,null,null,null,null,null,null,{"$f":"SUM(IFERROR(S86:S87,0))","v":0},"kWh/a"]
[]
[]
[null,"Auswählen:",null,"Wärmerück-\ngewinnung ",null,"Abwärme-\nTemperatur",null,"spez. \nWärmekapazität",null,"spez. Wärmekapazität  Feuchter Luft\nberechnen",null,"relativer \nFeuchtegehalt",null,"Abkühl-\nTemperatur",null,"Massenstrom",null,"Vollaststunden\npro Jahr"]
[null,null,null,null,null,null,"°C",null,"kJ/(kg.K)",null,null,null,"%",null,"°C",null,"kg/s",null,"h/a"]
[null,null,null,null,null,null,"°C",null,{"$f":"I92","v":"kJ/(kg.K)"},null,null,null,"%",null,"°C",null,"kg/s",null,"h/a"]
[null,null,null,null,null,null,"°C",null,{"$f":"I93","v":"kJ/(kg.K)"},null,null,null,"%",null,"°C",null,"kg/s",null,"h/a"]
[]
[]
[null,"Für Pinch Liste (versteckt)"]
[null,"(das ist die erste Zelle / erste Spalte)",null,"Use in Pinch List","start T","end T","m","cp","h","P/U","d/y"]
[null,1,{"$f":"(B82&\" \"&B86)","v":" "},{"$f":"IF(B86=\"\",0,1)","v":0},{"$f":"D86","v":0},{"$f":"F86","v":0},{"$f":"IF(B86=\"Kontinuierlich\",J86,(L86/P86/3600))","v":{"$error":"#DIV/0!"}},{"$f":"H86","v":0},{"$f":"IF(B86=\"Kontinuierlich\",N86,P86*R86)","v":0},"Prozess",{"$f":"$F$82","v":0}]
[null,2,{"$f":"(B82&\" \"&B87)","v":" "},{"$f":"IF(B87=\"\",0,1)","v":0},{"$f":"D87","v":0},{"$f":"F87","v":0},{"$f":"IF(B87=\"Kontinuierlich\",J87,(L87/P87/3600))","v":{"$error":"#DIV/0!"}},{"$f":"H87","v":0},{"$f":"IF(B87=\"Kontinuierlich\",N87,P87*R87)","v":0},"Prozess",{"$f":"$F$82","v":0}]
[null,3,{"$f":"(B82&\" \"&B92)","v":" "},{"$f":"IF(B92=\"\",0,1)","v":0},{"$f":"F92","v":0},{"$f":"N92","v":0},{"$f":"P92","v":0},{"$f":"H92","v":0},{"$f":"R92","v":0},"Prozess",0]
[null,4,{"$f":"(B82&\" \"&B93)","v":" "},{"$f":"IF(B93=\"\",0,1)","v":0},{"$f":"F93","v":0},{"$f":"N93","v":0},{"$f":"P93","v":0},{"$f":"H93","v":0},{"$f":"R93","v":0},"Prozess",0]
[null,5,{"$f":"(B83&\" \"&B94)","v":" "},{"$f":"IF(B94=\"\",0,1)","v":0},{"$f":"F94","v":0},0,{"$f":"P94","v":0},{"$f":"H94","v":0},{"$f":"R94","v":0},"Prozess",0]
[]
[]
[]
[]
[]
[]
[]
[]
[]
[]
[]
[null,"Prozessname",null,"Energieversorgung",null,"Betriebstage"]
[null,null,null,null,null,null,"d/a"]
[]
[]
[null,"Auswählen:",null,"Start-\nTemperatur",null,"End-\nTemperatur",null,"spez. \nWärmekapazität",null,"Massenstrom",null,"Masse",null,"Volllaststunden \npro Jahr",null,"Dauer eines \nVorganges",null,"Anzahl der Vorgänge\npro Jahr","Energieverbrauch "]
[null,null,null,null,"°C",null,"°C",null,"kJ/(kg.K)",null,"kg/s",null,"kg/Vorgang",null,"h/a",null,"h",null,{"$f":"IF(B120=\"Kontinuierlich\",J120*H120*(F120-D120)*N120,G133*H120*(F120-D120)*R120*P120)","v":{"$error":"#DIV/0!"}},"kWh/a"]
[null,null,null,null,"°C",null,"°C",null,{"$f":"I120","v":"kJ/(kg.K)"},null,"kg/s",null,"kg/Vorgang",null,"h/a",null,"h",null,{"$f":"IF(B121=\"Kontinuierlich\",J121*H121*(F121-D121)*N121,G134*H121*(F121-D121)*R121*P121)","v":{"$error":"#DIV/0!"}},"kWh/a"]
[null,null,null,null,null,null,null,null,null,null,null,null,null,null,null,null,null,null,{"$f":"SUM(IFERROR(S120:S121,0))","v":0},"kWh/a"]
[]
[]
[null,"Auswählen:",null,"Wärmerück-\ngewinnung ",null,"Abwärme-\nTemperatur",null,"spez. \nWärmekapazität",null,"spez. Wärmekapazität  Feuchter Luft\nberechnen",null,"relativer \nFeuchtegehalt",null,"Abkühl-\nTemperatur",null,"Massenstrom",null,"Vollaststunden\npro Jahr"]
[null,null,null,null,null,null,"°C",null,"kJ/(kg.K)",null,null,null,"%",null,"°C",null,"kg/s",null,"h/a"]
[null,null,null,null,null,null,"°C",null,{"$f":"I126","v":"kJ/(kg.K)"},null,null,null,"%",null,"°C",null,"kg/s",null,"h/a"]
[null,null,null,null,null,null,"°C",null,{"$f":"I127","v":"kJ/(kg.K)"},null,null,null,"%",null,"°C",null,"kg/s",null,"h/a"]
[]
[]
[null,"Für Pinch Liste (versteckt)"]
[null,"(das ist die erste Zelle / erste Spalte)",null,"Use in Pinch List","start T","end T","m","cp","h","P/U","d/y"]
[null,1,{"$f":"(B116&\" \"&B120)","v":" "},{"$f":"IF(B120=\"\",0,1)","v":0},{"$f":"D120","v":0},{"$f":"F120","v":0},{"$f":"IF(B120=\"Kontinuierlich\",J120,(L120/P120/3600))","v":{"$error":"#DIV/0!"}},{"$f":"H120","v":0},{"$f":"IF(B120=\"Kontinuierlich\",N120,P120*R120)","v":0},"Prozess",{"$f":"$F$116","v":0}]
[null,2,{"$f":"(B116&\" \"&B121)","v":" "},{"$f":"IF(B121=\"\",0,1)","v":0},{"$f":"D121","v":0},{"$f":"F121","v":0},{"$f":"IF(B121=\"Kontinuierlich\",J121,(L121/P121/3600))","v":{"$error":"#DIV/0!"}},{"$f":"H121","v":0},{"$f":"IF(B121=\"Kontinuierlich\",N121,P121*R121)","v":0},"Prozess",{"$f":"$F$116","v":0}]
[null,3,{"$f":"(B116&\" \"&B126)","v":" "},{"$f":"IF(B126=\"\",0,1)","v":0},{"$f":"F126","v":0},{"$f":"N126","v":0},{"$f":"P126","v":0},{"$f":"H126","v":0},{"$f":"R126","v":0},"Prozess",0]
[null,4,{"$f":"(B116&\" \"&B127)","v":" "},{"$f":"IF(B127=\"\",0,1)","v":0},{"$f":"F127","v":0},{"$f":"N127","v":0},{"$f":"P127","v":0},{"$f":"H127","v":0},{"$f":"R127","v":0},"Prozess",0]
[null,5,{"$f":"(B117&\" \"&B128)","v":" "},{"$f":"IF(B128=\"\",0,1)","v":0},{"$f":"F128","v":0},0,{"$f":"P128","v":0},{"$f":"H128","v":0},{"$f":"R128","v":0},"Prozess",0]
[]
[]
[]
[]
[]
[]
[]
[]
[]
[]
[]
[null,"Prozessname",null,"Energieversorgung",null,"Betriebstage"]
[null,null,null,null,null,null,"d/a"]
[]
[]
[null,"Auswählen:",null,"Start-\nTemperatur",null,"End-\nTemperatur",null,"spez. \nWärmekapazität",null,"Massenstrom",null,"Masse",null,"Volllaststunden \npro Jahr",null,"Dauer eines \nVorganges",null,"Anzahl der Vorgänge\npro Jahr","Energieverbrauch "]
[null,null,null,null,"°C",null,"°C",null,"kJ/(kg.K)",null,"kg/s",null,"kg/Vorgang",null,"h/a",null,"h",null,{"$f":"IF(B154=\"Kontinuierlich\",J154*H154*(F154-D154)*N154,G167*H154*(F154-D154)*R154*P154)","v":{"$error":"#DIV/0!"}},"kWh/a"]
[null,null,null,null,"°C",null,"°C",null,{"$f":"I154","v":"kJ/(kg.K)"},null,"kg/s",null,"kg/Vorgang",null,"h/a",null,"h",null,{"$f":"IF(B155=\"Kontinuierlich\",J155*H155*(F155-D155)*N155,G168*H155*(F155-D155)*R155*P155)","v":{"$error":"#DIV/0!"}},"kWh/a"]
[null,null,null,null,null,null,null,null,null,null,null,null,null,null,null,null,null,null,{"$f":"SUM(IFERROR(S154:S155,0))","v":0},"kWh/a"]
[]
[]
[null,"Auswählen:",null,"Wärmerück-\ngewinnung ",null,"Abwärme-\nTemperatur",null,"spez. \nWärmekapazität",null,"spez. Wärmekapazität  Feuchter Luft\nberechnen",null,"relativer \nFeuchtegehalt",null,"Abkühl-\nTemperatur",null,"Massenstrom",null,"Vollaststunden\npro Jahr"]
[null,null,null,null,null,null,"°C",null,"kJ/(kg.K)",null,null,null,"%",null,"°C",null,"kg/s",null,"h/a"]
[null,null,null,null,null,null,"°C",null,{"$f":"I160","v":"kJ/(kg.K)"},null,null,null,"%",null,"°C",null,"kg/s",null,"h/a"]
[null,null,null,null,null,null,"°C",null,{"$f":"I161","v":"kJ/(kg.K)"},null,null,null,"%",null,"°C",null,"kg/s",null,"h/a"]
[]
[]
[null,"Für Pinch Liste (versteckt)"]
[null,"(das ist die erste Zelle / erste Spalte)",null,"Use in Pinch List","start T","end T","m","cp","h","P/U","d/y"]
[null,1,{"$f":"(B150&\" \"&B154)","v":" "},{"$f":"IF(B154=\"\",0,1)","v":0},{"$f":"D154","v":0},{"$f":"F154","v":0},{"$f":"IF(B154=\"Kontinuierlich\",J154,(L154/P154/3600))","v":{"$error":"#DIV/0!"}},{"$f":"H154","v":0},{"$f":"IF(B154=\"Kontinuierlich\",N154,P154*R154)","v":0},"Prozess",{"$f":"$F$150","v":0}]
[null,2,{"$f":"(B150&\" \"&B155)","v":" "},{"$f":"IF(B155=\"\",0,1)","v":0},{"$f":"D155","v":0},{"$f":"F155","v":0},{"$f":"IF(B155=\"Kontinuierlich\",J155,(L155/P155/3600))","v":{"$error":"#DIV/0!"}},{"$f":"H155","v":0},{"$f":"IF(B155=\"Kontinuierlich\",N155,P155*R155)","v":0},"Prozess",{"$f":"$F$150","v":0}]
[null,3,{"$f":"(B150&\" \"&B160)","v":" "},{"$f":"IF(B160=\"\",0,1)","v":0},{"$f":"F160","v":0},{"$f":"N160","v":0},{"$f":"P160","v":0},{"$f":"H160","v":0},{"$f":"R160","v":0},"Prozess",0]
[null,4,{"$f":"(B150&\" \"&B161)","v":" "},{"$f":"IF(B161=\"\",0,1)","v":0},{"$f":"F161","v":0},{"$f":"N161","v":0},{"$f":"P161","v":0},{"$f":"H161","v":0},{"$f":"R161","v":0},"Prozess",0]
[null,5,{"$f":"(B151&\" \"&B162)","v":" "},{"$f":"IF(B162=\"\",0,1)","v":0},{"$f":"F162","v":0},0,{"$f":"J162","v":0},{"$f":"H162","v":0},{"$f":"L162","v":0},"Prozess",0]

{"sheet":"varCS","index":19,"n_rows":100,"n_cols":27,"rows_kept":100,"cut":false,"hidden":true,"merged":[]}
[20,80,15,1,0,0,1200,900,0,200,1080000,"prozes 1 heiz Kontinuierlich","Prozess",null,null,null,1,2,3,4,5,6,7,8,9,10,11]
[0,0,0,0,0,0,0,0,0,0,0,null,null,null,null,null,"t start","t end","mcp","rank","hour st","hour end","tot time","P","days","weeks","E"]
[0,0,0,0,0,0,0,0,0,0,0]
[0,0,0,0,0,0,0,0,0,0,0]
[0,0,0,0,0,0,0,0,0,0,0]
[0,0,0,0,0,0,0,0,0,0,0]
[0,0,0,0,0,0,0,0,0,0,0]
[0,0,0,0,0,0,0,0,0,0,0]
[0,0,0,0,0,0,0,0,0,0,0]
[0,0,0,0,0,0,0,0,0,0,0]
[0,0,0,0,0,0,0,0,0,0,0]
[0,0,0,0,0,0,0,0,0,0,0]
[0,0,0,0,0,0,0,0,0,0,0]
[0,0,0,0,0,0,0,0,0,0,0]
[0,0,0,0,0,0,0,0,0,0,0]
[0,0,0,0,0,0,0,0,0,0,0]
[0,0,0,0,0,0,0,0,0,0,0]
[0,0,0,0,0,0,0,0,0,0,0]
[0,0,0,0,0,0,0,0,0,0,0]
[0,0,0,0,0,0,0,0,0,0,0]
[0,0,0,0,0,0,0,0,0,0,0]
[0,0,0,0,0,0,0,0,0,0,0]
[0,0,0,0,0,0,0,0,0,0,0]
[0,0,0,0,0,0,0,0,0,0,0]
[0,0,0,0,0,0,0,0,0,0,0]
[0,0,0,0,0,0,0,0,0,0,0]
[0,0,0,0,0,0,0,0,0,0,0]
[0,0,0,0,0,0,0,0,0,0,0]
[0,0,0,0,0,0,0,0,0,0,0]
[0,0,0,0,0,0,0,0,0,0,0]
[0,0,0,0,0,0,0,0,0,0,0]
[0,0,0,0,0,0,0,0,0,0,0]
[0,0,0,0,0,0,0,0,0,0,0]
[0,0,0,0,0,0,0,0,0,0,0]
[0,0,0,0,0,0,0,0,0,0,0]
[0,0,0,0,0,0,0,0,0,0,0]
[0,0,0,0,0,0,0,0,0,0,0]
[0,0,0,0,0,0,0,0,0,0,0]
[0,0,0,0,0,0,0,0,0,0,0]
[0,0,0,0,0,0,0,0,0,0,0]
[0,0,0,0,0,0,0,0,0,0,0]
[0,0,0,0,0,0,0,0,0,0,0]
[0,0,0,0,0,0,0,0,0,0,0]
[0,0,0,0,0,0,0,0,0,0,0]
[0,0,0,0,0,0,0,0,0,0,0]
[0,0,0,0,0,0,0,0,0,0,0]
[0,0,0,0,0,0,0,0,0,0,0]
[0,0,0,0,0,0,0,0,0,0,0]
[0,0,0,0,0,0,0,0,0,0,0]
[0,0,0,0,0,0,0,0,0,0,0]
[0,0,0,0,0,0,0,0,0,0,0]
[0,0,0,0,0,0,0,0,0,0,0]
[0,0,0,0,0,0,0,0,0,0,0]
[0,0,0,0,0,0,0,0,0,0,0]
[0,0,0,0,0,0,0,0,0,0,0]
[0,0,0,0,0,0,0,0,0,0,0]
[0,0,0,0,0,0,0,0,0,0,0]
[0,0,0,0,0,0,0,0,0,0,0]
[0,0,0,0,0,0,0,0,0,0,0]
[0,0,0,0,0,0,0,0,0,0,0]
[0,0,0,0,0,0,0,0,0,0,0]
[0,0,0,0,0,0,0,0,0,0,0]
[0,0,0,0,0,0,0,0,0,0,0]
[0,0,0,0,0,0,0,0,0,0,0]
[0,0,0,0,0,0,0,0,0,0,0]
[0,0,0,0,0,0,0,0,0,0,0]
[0,0,0,0,0,0,0,0,0,0,0]
[0,0,0,0,0,0,0,0,0,0,0]
[0,0,0,0,0,0,0,0,0,0,0]
[0,0,0,0,0,0,0,0,0,0,0]
[0,0,0,0,0,0,0,0,0,0,0]
[0,0,0,0,0,0,0,0,0,0,0]
[0,0,0,0,0,0,0,0,0,0,0]
[0,0,0,0,0,0,0,0,0,0,0]
[0,0,0,0,0,0,0,0,0,0,0]
[0,0,0,0,0,0,0,0,0,0,0]
[0,0,0,0,0,0,0,0,0,0,0]
[0,0,0,0,0,0,0,0,0,0,0]
[0,0,0,0,0,0,0,0,0,0,0]
[0,0,0,0,0,0,0,0,0,0,0]
[0,0,0,0,0,0,0,0,0,0,0]
[0,0,0,0,0,0,0,0,0,0,0]
[0,0,0,0,0,0,0,0,0,0,0]
[0,0,0,0,0,0,0,0,0,0,0]
[0,0,0,0,0,0,0,0,0,0,0]
[0,0,0,0,0,0,0,0,0,0,0]
[0,0,0,0,0,0,0,0,0,0,0]
[0,0,0,0,0,0,0,0,0,0,0]
[0,0,0,0,0,0,0,0,0,0,0]
[0,0,0,0,0,0,0,0,0,0,0]
[0,0,0,0,0,0,0,0,0,0,0]
[0,0,0,0,0,0,0,0,0,0,0]
[0,0,0,0,0,0,0,0,0,0,0]
[0,0,0,0,0,0,0,0,0,0,0]
[0,0,0,0,0,0,0,0,0,0,0]
[0,0,0,0,0,0,0,0,0,0,0]
[0,0,0,0,0,0,0,0,0,0,0]
[0,0,0,0,0,0,0,0,0,0,0]
[0,0,0,0,0,0,0,0,0,0,0]
[0,0,0,0,0,0,0,0,0,0,0]

{"sheet":"Verortung_Pinch","index":20,"n_rows":15,"n_cols":7,"rows_kept":15,"cut":false,"hidden":true,"merged":[]}
[]
[null,"Definition der Quellen der Pinch-Ströme"]
[]
[null,"Anzahl von Worksheets",null,{"$f":"COUNTA(B7:B56)","v":9}]
[]
[null,"Worksheet","Erste Zelle","Erste Spalte","Pinch-Ströme pro Prozess","Anzahl Prozesse","Zeilen zwischen Prozesse"]
[null,"Prozess_Heizen",30,2,5,5,34]
[null,"Warmwasser",30,2,3,5,34]
[null,"Raumwärme",10,23,1,10,1]
[null,"Raumkühlung",10,23,1,10,1]
[null,"Galvanikbad_Heizen",30,2,5,5,34]
[null,"Galvanikbad_Kühlen",28,2,5,5,34]
[null,"Ströme",2,3,10,1]
[null,"Ströme_2",2,3,5,3,7]
[null,"Prozess_Kühlen",30,2,5,5,34]

{"sheet":"varHS","index":21,"n_rows":100,"n_cols":28,"rows_kept":100,"cut":false,"hidden":true,"merged":[]}
[80,10,3.2,1,0,0,1000,224,0,200,224000,"test kühl 1 Kontinuierlich","Prozess",null,null,null,null,1,2,3,4,5,6,7,8,9,10,11]
[80,60,20,2,0,0,1000,400,0,200,400000,"kühl 5 Kontinuierlich","Prozess",null,null,null,null,"t start","t end","mcp","rank","hour st","hour end","tot time","Q","days","weeks","E"]
[0,0,0,0,0,0,0,0,0,0,0]
[0,0,0,0,0,0,0,0,0,0,0]
[0,0,0,0,0,0,0,0,0,0,0]
[0,0,0,0,0,0,0,0,0,0,0]
[0,0,0,0,0,0,0,0,0,0,0]
[0,0,0,0,0,0,0,0,0,0,0]
[0,0,0,0,0,0,0,0,0,0,0]
[0,0,0,0,0,0,0,0,0,0,0]
[0,0,0,0,0,0,0,0,0,0,0]
[0,0,0,0,0,0,0,0,0,0,0]
[0,0,0,0,0,0,0,0,0,0,0]
[0,0,0,0,0,0,0,0,0,0,0]
[0,0,0,0,0,0,0,0,0,0,0]
[0,0,0,0,0,0,0,0,0,0,0]
[0,0,0,0,0,0,0,0,0,0,0]
[0,0,0,0,0,0,0,0,0,0,0]
[0,0,0,0,0,0,0,0,0,0,0]
[0,0,0,0,0,0,0,0,0,0,0]
[0,0,0,0,0,0,0,0,0,0,0]
[0,0,0,0,0,0,0,0,0,0,0]
[0,0,0,0,0,0,0,0,0,0,0]
[0,0,0,0,0,0,0,0,0,0,0]
[0,0,0,0,0,0,0,0,0,0,0]
[0,0,0,0,0,0,0,0,0,0,0]
[0,0,0,0,0,0,0,0,0,0,0]
[0,0,0,0,0,0,0,0,0,0,0]
[0,0,0,0,0,0,0,0,0,0,0]
[0,0,0,0,0,0,0,0,0,0,0]
[0,0,0,0,0,0,0,0,0,0,0]
[0,0,0,0,0,0,0,0,0,0,0]
[0,0,0,0,0,0,0,0,0,0,0]
[0,0,0,0,0,0,0,0,0,0,0]
[0,0,0,0,0,0,0,0,0,0,0]
[0,0,0,0,0,0,0,0,0,0,0]
[0,0,0,0,0,0,0,0,0,0,0]
[0,0,0,0,0,0,0,0,0,0,0]
[0,0,0,0,0,0,0,0,0,0,0]
[0,0,0,0,0,0,0,0,0,0,0]
[0,0,0,0,0,0,0,0,0,0,0]
[0,0,0,0,0,0,0,0,0,0,0]
[0,0,0,0,0,0,0,0,0,0,0]
[0,0,0,0,0,0,0,0,0,0,0]
[0,0,0,0,0,0,0,0,0,0,0]
[0,0,0,0,0,0,0,0,0,0,0]
[0,0,0,0,0,0,0,0,0,0,0]
[0,0,0,0,0,0,0,0,0,0,0]
[0,0,0,0,0,0,0,0,0,0,0]
[0,0,0,0,0,0,0,0,0,0,0]
[0,0,0,0,0,0,0,0,0,0,0]
[0,0,0,0,0,0,0,0,0,0,0]
[0,0,0,0,0,0,0,0,0,0,0]
[0,0,0,0,0,0,0,0,0,0,0]
[0,0,0,0,0,0,0,0,0,0,0]
[0,0,0,0,0,0,0,0,0,0,0]
[0,0,0,0,0,0,0,0,0,0,0]
[0,0,0,0,0,0,0,0,0,0,0]
[0,0,0,0,0,0,0,0,0,0,0]
[0,0,0,0,0,0,0,0,0,0,0]
[0,0,0,0,0,0,0,0,0,0,0]
[0,0,0,0,0,0,0,0,0,0,0]
[0,0,0,0,0,0,0,0,0,0,0]
[0,0,0,0,0,0,0,0,0,0,0]
[0,0,0,0,0,0,0,0,0,0,0]
[0,0,0,0,0,0,0,0,0,0,0]
[0,0,0,0,0,0,0,0,0,0,0]
[0,0,0,0,0,0,0,0,0,0,0]
[0,0,0,0,0,0,0,0,0,0,0]
[0,0,0,0,0,0,0,0,0,0,0]
[0,0,0,0,0,0,0,0,0,0,0]
[0,0,0,0,0,0,0,0,0,0,0]
[0,0,0,0,0,0,0,0,0,0,0]
[0,0,0,0,0,0,0,0,0,0,0]
[0,0,0,0,0,0,0,0,0,0,0]
[0,0,0,0,0,0,0,0,0,0,0]
[0,0,0,0,0,0,0,0,0,0,0]
[0,0,0,0,0,0,0,0,0,0,0]
[0,0,0,0,0,0,0,0,0,0,0]
[0,0,0,0,0,0,0,0,0,0,0]
[0,0,0,0,0,0,0,0,0,0,0]
[0,0,0,0,0,0,0,0,0,0,0]
[0,0,0,0,0,0,0,0,0,0,0]
[0,0,0,0,0,0,0,0,0,0,0]
[0,0,0,0,0,0,0,0,0,0,0]
[0,0,0,0,0,0,0,0,0,0,0]
[0,0,0,0,0,0,0,0,0,0,0]
[0,0,0,0,0,0,0,0,0,0,0]
[0,0,0,0,0,0,0,0,0,0,0]
[0,0,0,0,0,0,0,0,0,0,0]
[0,0,0,0,0,0,0,0,0,0,0]
[0,0,0,0,0,0,0,0,0,0,0]
[0,0,0,0,0,0,0,0,0,0,0]
[0,0,0,0,0,0,0,0,0,0,0]
[0,0,0,0,0,0,0,0,0,0,0]
[0,0,0,0,0,0,0,0,0,0,0]
[0,0,0,0,0,0,0,0,0,0,0]
[0,0,0,0,0,0,0,0,0,0,0]
[0,0,0,0,0,0,0,0,0,0,0]
[0,0,0,0,0,0,0,0,0,0,0]

{"sheet":"Prozess_Kühlen","index":22,"n_rows":171,"n_cols":20,"rows_kept":171,"cut":false,"hidden":false,"merged":[]}
[]
[]
[]
[]
[]
[]
[]
[]
[]
[]
[]
[]
[null,"Prozessname",null,"Energieversorgung",null,"Betriebstage"]
[null,null,null,null,null,null,"d/a"]
[]
[]
[null,"Auswählen:",null,"Start-\nTemperatur",null,"End-\nTemperatur",null,"spez. \nWärmekapazität",null,"Massenstrom",null,"Masse",null,"Volllaststunden \npro Jahr",null,"Dauer eines \nVorganges",null,"Anzahl der Vorgänge\npro Jahr","Energieverbrauch "]
[null,null,null,null,"°C",null,"°C",null,"kJ/(kg.K)",null,"kg/s",null,"kg/Vorgang",null,"h/a",null,"h",null,{"$f":"IF(B18=\"Kontinuierlich\",J18*H18*(D18-F18)*N18,G31*H18*(D18-F18)*P18*R18)","v":{"$error":"#DIV/0!"}},"kWh/a"]
[null,null,null,null,"°C",null,"°C",null,"kJ/(kg.K)",null,"kg/s",null,"kg/Vorgang",null,"h/a",null,"h",null,{"$f":"IF(B19=\"Kontinuierlich\",J19*H19*(D19-F19)*N19,G32*H19*(D19-F19)*P19*R19)","v":{"$error":"#DIV/0!"}},"kWh/a"]
[null,null,null,null,null,null,null,null,null,null,null,null,null,null,null,null,null,null,{"$f":"SUM(IFERROR(S18:S19,0))","v":0},"kWh/a"]
[]
[]
[null,"Auswählen:",null,"Wärmerück-\ngewinnung ",null,"Abwärme-\nTemperatur",null,"spez. \nWärmekapazität",null,"spez. Wärmekapazität  Feuchter Luft\nberechnen",null,"relativer \nFeuchtegehalt",null,"Abkühl-\nTemperatur",null,"Massenstrom",null,"Vollaststunden\npro Jahr"]
[null,null,null,null,null,null,"°C",null,"kJ/(kg.K)",null,null,null,"%",null,"°C",null,"kg/s",null,"h/a"]
[null,null,null,null,null,null,"°C",null,"kJ/(kg.K)",null,null,null,"%",null,"°C",null,"kg/s",null,"h/a"]
[null,null,null,null,null,null,"°C",null,"kJ/(kg.K)",null,null,null,"%",null,"°C",null,"kg/s",null,"h/a"]
[]
[]
[null,"Für Pinch Liste (versteckt)"]
[null,"(das ist die erste Zelle / erste Spalte)",null,"Use in Pinch List","start T","end T","m","cp","h","P/U","d/y"]
[null,1,{"$f":"(B14&\" \"&B18)","v":" "},{"$f":"IF(B18=\"\",0,1)","v":0},{"$f":"D18","v":0},{"$f":"F18","v":0},{"$f":"IF(B18=\"Kontinuierlich\",J18,L18/P18/3600)","v":{"$error":"#DIV/0!"}},{"$f":"H18","v":0},{"$f":"IF(B18=\"Kontinuierlich\",N18,P18*R18)","v":0},"Prozess",{"$f":"$F$14","v":0}]
[null,2,{"$f":"(B14&\" \"&B19)","v":" "},{"$f":"IF(B19=\"\",0,1)","v":0},{"$f":"D19","v":0},{"$f":"F19","v":0},{"$f":"IF(B19=\"Kontinuierlich\",J19,L19/P19/3600)","v":{"$error":"#DIV/0!"}},{"$f":"H19","v":0},{"$f":"IF(B19=\"Kontinuierlich\",N19,P19*R19)","v":0},"Prozess",{"$f":"$F$14","v":0}]
[null,3,{"$f":"(B14&\" \"&B24)","v":" "},{"$f":"IF(B24=\"\",0,1)","v":0},{"$f":"F24","v":0},{"$f":"N24","v":0},{"$f":"P24","v":0},{"$f":"H24","v":0},{"$f":"R24","v":0},"Prozess",{"$f":"$F$14","v":0}]
[null,4,{"$f":"(B14&\" \"&B25)","v":" "},{"$f":"IF(B25=\"\",0,1)","v":0},{"$f":"F25","v":0},{"$f":"N25","v":0},{"$f":"P25","v":0},{"$f":"H25","v":0},{"$f":"R25","v":0},"Prozess",{"$f":"$F$14","v":0}]
[null,5,{"$f":"(B15&\" \"&B26)","v":" "},{"$f":"IF(B26=\"\",0,1)","v":0},0,0,0,0,0,"Prozess",0]
[]
[]
[]
[]
[]
[]
[]
[]
[]
[]
[]
[null,"Prozessname",null,"Energieversorgung",null,"Betriebstage"]
[null,null,null,null,null,null,"d/a"]
[]
[]
[null,"Auswählen:",null,"Start-\nTemperatur",null,"End-\nTemperatur",null,"spez. \nWärmekapazität",null,"Massenstrom",null,"Masse",null,"Volllaststunden \npro Jahr",null,"Dauer eines \nVorganges",null,"Anzahl der Vorgänge\npro Jahr","Energieverbrauch "]
[null,null,null,null,"°C",null,"°C",null,"kJ/(kg.K)",null,"kg/s",null,"kg/Vorgang",null,"h/a",null,"h",null,{"$f":"IF(B52=\"Kontinuierlich\",J52*H52*(D52-F52)*N52,G65*H52*(D52-F52)*P52*R52)","v":{"$error":"#DIV/0!"}},"kWh/a"]
[null,null,null,null,"°C",null,"°C",null,"kJ/(kg.K)",null,"kg/s",null,"kg/Vorgang",null,"h/a",null,"h",null,{"$f":"IF(B53=\"Kontinuierlich\",J53*H53*(D53-F53)*N53,G66*H53*(D53-F53)*P53*R53)","v":{"$error":"#DIV/0!"}},"kWh/a"]
[null,null,null,null,null,null,null,null,null,null,null,null,null,null,null,null,null,null,{"$f":"SUM(IFERROR(S52:S53,0))","v":0},"kWh/a"]
[]
[]
[null,"Auswählen:",null,"Wärmerück-\ngewinnung ",null,"Abwärme-\nTemperatur",null,"spez. \nWärmekapazität",null,"spez. Wärmekapazität  Feuchter Luft\nberechnen",null,"relativer \nFeuchtegehalt",null,"Abkühl-\nTemperatur",null,"Massenstrom",null,"Vollaststunden\npro Jahr"]
[null,null,null,null,null,null,"°C",null,"kJ/(kg.K)",null,null,null,"%",null,"°C",null,"kg/s",null,"h/a"]
[null,null,null,null,null,null,"°C",null,"kJ/(kg.K)",null,null,null,"%",null,"°C",null,"kg/s",null,"h/a"]
[null,null,null,null,null,null,"°C",null,"kJ/(kg.K)",null,null,null,"%",null,"°C",null,"kg/s",null,"h/a"]
[]
[]
[null,"Für Pinch Liste (versteckt)"]
[null,"(das ist die erste Zelle / erste Spalte)",null,"Use in Pinch List","start T","end T","m","cp","h","P/U","d/y"]
[null,1,{"$f":"(B48&\" \"&B52)","v":" "},{"$f":"IF(B52=\"\",0,1)","v":0},{"$f":"D52","v":0},{"$f":"F52","v":0},{"$f":"IF(B52=\"Kontinuierlich\",J52,L52/P52/3600)","v":{"$error":"#DIV/0!"}},{"$f":"H52","v":0},{"$f":"IF(B52=\"Kontinuierlich\",N52,P52*R52)","v":0},"Prozess",{"$f":"$F$48","v":0}]
[null,2,{"$f":"(B48&\" \"&B53)","v":" "},{"$f":"IF(B53=\"\",0,1)","v":0},{"$f":"D53","v":0},{"$f":"F53","v":0},{"$f":"IF(B53=\"Kontinuierlich\",J53,L53/P53/3600)","v":{"$error":"#DIV/0!"}},{"$f":"H53","v":0},{"$f":"IF(B53=\"Kontinuierlich\",N53,P53*R53)","v":0},"Prozess",{"$f":"$F$48","v":0}]
[null,3,{"$f":"(B48&\" \"&B58)","v":" "},{"$f":"IF(B58=\"\",0,1)","v":0},{"$f":"F58","v":0},{"$f":"N58","v":0},{"$f":"P58","v":0},{"$f":"H58","v":0},{"$f":"R58","v":0},"Prozess",0]
[null,4,{"$f":"(B48&\" \"&B59)","v":" "},{"$f":"IF(B59=\"\",0,1)","v":0},{"$f":"F59","v":0},{"$f":"N59","v":0},{"$f":"P59","v":0},{"$f":"H59","v":0},{"$f":"R59","v":0},"Prozess",0]
[null,5,{"$f":"(B49&\" \"&B60)","v":" "},{"$f":"IF(B60=\"\",0,1)","v":0},0,0,0,0,0,"Prozess",0]
[]
[]
[]
[]
[]
[]
[]
[]
[]
[]
[]
[null,"Prozessname",null,"Energieversorgung",null,"Betriebstage"]
[null,null,null,null,null,null,"d/a"]
[]
[]
[null,"Auswählen:",null,"Start-\nTemperatur",null,"End-\nTemperatur",null,"spez. \nWärmekapazität",null,"Massenstrom",null,"Masse",null,"Volllaststunden \npro Jahr",null,"Dauer eines \nVorganges",null,"Anzahl der Vorgänge\npro Jahr","Energieverbrauch "]
[null,null,null,null,"°C",null,"°C",null,"kJ/(kg.K)",null,"kg/s",null,"kg/Vorgang",null,"h/a",null,"h",null,{"$f":"IF(B86=\"Kontinuierlich\",J86*H86*(D86-F86)*N86,G99*H86*(D86-F86)*P86*R86)","v":{"$error":"#DIV/0!"}},"kWh/a"]
[null,null,null,null,"°C",null,"°C",null,"kJ/(kg.K)",null,"kg/s",null,"kg/Vorgang",null,"h/a",null,"h",null,{"$f":"IF(B87=\"Kontinuierlich\",J87*H87*(D87-F87)*N87,G100*H87*(D87-F87)*P87*R87)","v":{"$error":"#DIV/0!"}},"kWh/a"]
[null,null,null,null,null,null,null,null,null,null,null,null,null,null,null,null,null,null,{"$f":"SUM(IFERROR(S86:S87,0))","v":0},"kWh/a"]
[]
[]
[null,"Auswählen:",null,"Wärmerück-\ngewinnung ",null,"Abwärme-\nTemperatur",null,"spez. \nWärmekapazität",null,"spez. Wärmekapazität  Feuchter Luft\nberechnen",null,"relativer \nFeuchtegehalt",null,"Abkühl-\nTemperatur",null,"Massenstrom",null,"Vollaststunden\npro Jahr"]
[null,null,null,null,null,null,"°C",null,"kJ/(kg.K)",null,null,null,"%",null,"°C",null,"kg/s",null,"h/a"]
[null,null,null,null,null,null,"°C",null,"kJ/(kg.K)",null,null,null,"%",null,"°C",null,"kg/s",null,"h/a"]
[null,null,null,null,null,null,"°C",null,"kJ/(kg.K)",null,null,null,"%",null,"°C",null,"kg/s",null,"h/a"]
[]
[]
[null,"Für Pinch Liste (versteckt)"]
[null,"(das ist die erste Zelle / erste Spalte)",null,"Use in Pinch List","start T","end T","m","cp","h","P/U","d/y"]
[null,1,{"$f":"(B82&\" \"&B86)","v":" "},{"$f":"IF(B86=\"\",0,1)","v":0},{"$f":"D86","v":0},{"$f":"F86","v":0},{"$f":"IF(B86=\"Kontinuierlich\",J86,L86/P86/3600)","v":{"$error":"#DIV/0!"}},{"$f":"H86","v":0},{"$f":"IF(B86=\"Kontinuierlich\",N86,P86*R86)","v":0},"Prozess",{"$f":"$F$82","v":0}]
[null,2,{"$f":"(B82&\" \"&B87)","v":" "},{"$f":"IF(B87=\"\",0,1)","v":0},{"$f":"D87","v":0},{"$f":"F87","v":0},{"$f":"IF(B87=\"Kontinuierlich\",J87,L87/P87/3600)","v":{"$error":"#DIV/0!"}},{"$f":"H87","v":0},{"$f":"IF(B87=\"Kontinuierlich\",N87,P87*R87)","v":0},"Prozess",{"$f":"$F$82","v":0}]
[null,3,{"$f":"(B82&\" \"&B92)","v":" "},{"$f":"IF(B92=\"\",0,1)","v":0},{"$f":"F92","v":0},{"$f":"N92","v":0},{"$f":"P92","v":0},{"$f":"H92","v":0},{"$f":"R92","v":0},"Prozess",0]
[null,4,{"$f":"(B82&\" \"&B93)","v":" "},{"$f":"IF(B93=\"\",0,1)","v":0},{"$f":"F93","v":0},{"$f":"N93","v":0},{"$f":"P93","v":0},{"$f":"H93","v":0},{"$f":"R93","v":0},"Prozess",0]
[null,5,{"$f":"(B83&\" \"&B94)","v":" "},{"$f":"IF(B94=\"\",0,1)","v":0},{"$f":"F94","v":0},0,0,0,0,"Prozess",0]
[]
[]
[]
[]
[]
[]
[]
[]
[]
[]
[]
[null,"Prozessname",null,"Energieversorgung",null,"Betriebstage"]
[null,null,null,null,null,null,"d/a"]
[]
[]
[null,"Auswählen:",null,"Start-\nTemperatur",null,"End-\nTemperatur",null,"spez. \nWärmekapazität",null,"Massenstrom",null,"Masse",null,"Volllaststunden \npro Jahr",null,"Dauer eines \nVorganges",null,"Anzahl der Vorgänge\npro Jahr","Energieverbrauch "]
[null,null,null,null,"°C",null,"°C",null,"kJ/(kg.K)",null,"kg/s",null,"kg/Vorgang",null,"h/a",null,"h",null,{"$f":"IF(B120=\"Kontinuierlich\",J120*H120*(D120-F120)*N120,G133*H120*(D120-F120)*P120*R120)","v":{"$error":"#DIV/0!"}},"kWh/a"]
[null,null,null,null,"°C",null,"°C",null,"kJ/(kg.K)",null,"kg/s",null,"kg/Vorgang",null,"h/a",null,"h",null,{"$f":"IF(B121=\"Kontinuierlich\",J121*H121*(D121-F121)*N121,G134*H121*(D121-F121)*P121*R121)","v":{"$error":"#DIV/0!"}},"kWh/a"]
[null,null,null,null,null,null,null,null,null,null,null,null,null,null,null,null,null,null,{"$f":"SUM(IFERROR(S120:S121,0))","v":0},"kWh/a"]
[]
[]
[null,"Auswählen:",null,"Wärmerück-\ngewinnung ",null,"Abwärme-\nTemperatur",null,"spez. \nWärmekapazität",null,"spez. Wärmekapazität  Feuchter Luft\nberechnen",null,"relativer \nFeuchtegehalt",null,"Abkühl-\nTemperatur",null,"Massenstrom",null,"Vollaststunden\npro Jahr"]
[null,null,null,null,null,null,"°C",null,"kJ/(kg.K)",null,null,null,"%",null,"°C",null,"kg/s",null,"h/a"]
[null,null,null,null,null,null,"°C",null,"kJ/(kg.K)",null,null,null,"%",null,"°C",null,"kg/s",null,"h/a"]
[null,null,null,null,null,null,"°C",null,"kJ/(kg.K)",null,null,null,"%",null,"°C",null,"kg/s",null,"h/a"]
[]
[]
[null,"Für Pinch Liste (versteckt)"]
[null,"(das ist die erste Zelle / erste Spalte)",null,"Use in Pinch List","start T","end T","m","cp","h","P/U","d/y"]
[null,1,{"$f":"(B116&\" \"&B120)","v":" "},{"$f":"IF(B120=\"\",0,1)","v":0},{"$f":"D120","v":0},{"$f":"F120","v":0},{"$f":"IF(B120=\"Kontinuierlich\",J120,L120/P120/3600)","v":{"$error":"#DIV/0!"}},{"$f":"H120","v":0},{"$f":"IF(B120=\"Kontinuierlich\",N120,P120*R120)","v":0},"Prozess",{"$f":"$F$116","v":0}]
[null,2,{"$f":"(B116&\" \"&B121)","v":" "},{"$f":"IF(B121=\"\",0,1)","v":0},{"$f":"D121","v":0},{"$f":"F121","v":0},{"$f":"IF(B121=\"Kontinuierlich\",J121,L121/P121/3600)","v":{"$error":"#DIV/0!"}},{"$f":"H121","v":0},{"$f":"IF(B121=\"Kontinuierlich\",N121,P121*R121)","v":0},"Prozess",{"$f":"$F$116","v":0}]
[null,3,{"$f":"(B116&\" \"&B126)","v":" "},{"$f":"IF(B126=\"\",0,1)","v":0},{"$f":"F126","v":0},{"$f":"N126","v":0},{"$f":"P126","v":0},{"$f":"H126","v":0},{"$f":"R126","v":0},"Prozess",0]
[null,4,{"$f":"(B116&\" \"&B127)","v":" "},{"$f":"IF(B127=\"\",0,1)","v":0},{"$f":"F127","v":0},{"$f":"N127","v":0},{"$f":"P127","v":0},{"$f":"H127","v":0},{"$f":"R127","v":0},"Prozess",0]
[null,5,{"$f":"(B117&\" \"&B128)","v":" "},{"$f":"IF(B128=\"\",0,1)","v":0},0,0,0,0,0,"Prozess",0]
[]
[]
[]
[]
[]
[]
[]
[]
[]
[null,"Prozessname",null,"Energieversorgung",null,"Betriebstage"]
[null,null,null,null,null,null,"d/a"]
[]
[]
[null,"Auswählen:",null,"Start-\nTemperatur",null,"End-\nTemperatur",null,"spez. \nWärmekapazität",null,"Massenstrom",null,"Masse",null,"Volllaststunden \npro Jahr",null,"Dauer eines \nVorganges",null,"Anzahl der Vorgänge\npro Jahr","Energieverbrauch "]
[null,null,null,null,"°C",null,"°C",null,"kJ/(kg.K)",null,"kg/s",null,"kg/Vorgang",null,"h/a",null,"h",null,{"$f":"IF(B152=\"Kontinuierlich\",J152*H152*(D152-F152)*N152,G167*H152*(D152-F152)*P152*R152)","v":{"$error":"#DIV/0!"}},"kWh/a"]
[null,null,null,null,"°C",null,"°C",null,"kJ/(kg.K)",null,"kg/s",null,"kg/Vorgang",null,"h/a",null,"h",null,{"$f":"IF(B153=\"Kontinuierlich\",J153*H153*(D153-F153)*N153,G168*H153*(D153-F153)*P153*R153)","v":{"$error":"#DIV/0!"}},"kWh/a"]
[null,null,null,null,null,null,null,null,null,null,null,null,null,null,null,null,null,null,{"$f":"SUM(IFERROR(S152:S153,0))","v":0},"kWh/a"]
[]
[]
[null,"Auswählen:",null,"Wärmerück-\ngewinnung ",null,"Abwärme-\nTemperatur",null,"spez. \nWärmekapazität",null,"spez. Wärmekapazität  Feuchter Luft\nberechnen",null,"relativer \nFeuchtegehalt",null,"Abkühl-\nTemperatur",null,"Massenstrom",null,"Vollaststunden\npro Jahr"]
[null,null,null,null,null,null,"°C",null,"kJ/(kg.K)",null,null,null,"%",null,"°C",null,"kg/s",null,"h/a"]
[null,null,null,null,null,null,"°C",null,"kJ/(kg.K)",null,null,null,"%",null,"°C",null,"kg/s",null,"h/a"]
[null,null,null,null,null,null,"°C",null,"kJ/(kg.K)",null,null,null,"%",null,"°C",null,"kg/s",null,"h/a"]
[]
[]
[]
[]
[null,"Für Pinch Liste (versteckt)"]
[null,"(das ist die erste Zelle / erste Spalte)",null,"Use in Pinch List","start T","end T","m","cp","h","P/U","d/y"]
[null,1,{"$f":"(B148&\" \"&B152)","v":" "},{"$f":"IF(B152=\"\",0,1)","v":0},{"$f":"D152","v":0},{"$f":"F152","v":0},{"$f":"IF(B152=\"Kontinuierlich\",J152,L152/P152/3600)","v":{"$error":"#DIV/0!"}},{"$f":"H152","v":0},{"$f":"IF(B152=\"Kontinuierlich\",N152,P152*R152)","v":0},"Prozess",{"$f":"$F$148","v":0}]
[null,2,{"$f":"(B148&\" \"&B153)","v":" "},{"$f":"IF(B153=\"\",0,1)","v":0},{"$f":"D153","v":0},{"$f":"F153","v":0},{"$f":"IF(B153=\"Kontinuierlich\",J153,L153/P153/3600)","v":{"$error":"#DIV/0!"}},{"$f":"H153","v":0},{"$f":"IF(B153=\"Kontinuierlich\",N153,P153*R153)","v":0},"Prozess",{"$f":"$F$148","v":0}]
[null,3,{"$f":"(B148&\" \"&B158)","v":" "},{"$f":"IF(B158=\"\",0,1)","v":0},{"$f":"F158","v":0},{"$f":"N158","v":0},{"$f":"P158","v":0},{"$f":"H158","v":0},{"$f":"R158","v":0},"Prozess",0]
[null,4,{"$f":"(B148&\" \"&B159)","v":" "},{"$f":"IF(B159=\"\",0,1)","v":0},{"$f":"F159","v":0},{"$f":"N159","v":0},{"$f":"P159","v":0},{"$f":"H159","v":0},{"$f":"R159","v":0},"Prozess",0]
[null,5,{"$f":"(B149&\" \"&B160)","v":" "},{"$f":"IF(B160=\"\",0,1)","v":0},{"$f":"F160","v":0},{"$f":"N160","v":0},{"$f":"P160","v":0},{"$f":"H160","v":0},{"$f":"R160","v":0},"Prozess",0]

{"sheet":"Galvanikbad_Heizen","index":23,"n_rows":171,"n_cols":19,"rows_kept":171,"cut":false,"hidden":false,"merged":[]}
[]
[]
[]
[]
[]
[]
[]
[]
[]
[]
[]
[]
[null,"Prozessname",null,"Energieversorgung",null,"Betriebstage"]
[null,null,null,null,null,null,"d/a"]
[]
[]
[null,"Auswählen: ",null,"Bad-\nOberfläche",null,"Bad-\nVolumen",null,"Bad-\nTemperatur",null,"Vollaststunden\npro Jahr",null,"Oberflächen-\nverluste",null,"Energieverluste \npro Jahr"]
[null,null,{"$f":"IF(B18=\"Bad ohne Sprudel, ohne Absaugung\",2,(IF(B18=\"Bad ohne Sprudel, mit Absaugung\",3,(IF(B18=\"Bad mit Sprudel, mit Absaugung\",4,\"\")))))","v":""},null,"m²",null,"m³",null,"°C",null,"h/a",{"$f":"VLOOKUP(H18,Listen!$A$28:$D$43,C18,FALSE)","v":{"$error":"#N/A"}},"W/m²",{"$f":"L18*D18*J18/1000","v":{"$error":"#N/A"}},"kWh/a"]
[]
[]
[null,"Auswählen: ",null,"Start-\nTemperatur",null,"End-\nTemperatur",null,"Anzahl der Vorgänge\npro Jahr",null,"Dauer eines \nVorganges",null,null,null,"Energieverbrauch\npro Jahr "]
[null,null,null,null,"°C",null,"°C",null,"#",null,"h",null,null,{"$f":"(F18*1000/3600)*4.19*(F22-D22)*J22*H22","v":0},"kWh/a"]
[null,null,null,null,null,null,null,null,null,null,null,null,null,{"$f":"SUM(IFERROR(N18+N22,0))","v":0},"kWh/a"]
[]
[null,"Auswählen: ",null,"Wärmerück-\ngewinnung ",null,"Abwärme-\nTemperatur",null,"spez. \nWärmekapazität",null,"spez. Wärmekapazität  Feuchter Luft\nberechnen",null,"relativer \nFeuchtegehalt",null,"Abkühl-\nTemperatur",null,"Massenstrom",null,"Vollaststunden\npro Jahr"]
[null,null,null,null,null,null,"°C",null,"kJ/(kg.K)",null,null,null,"%",null,"°C",null,"kg/s",null,"h/a"]
[null,null,null,null,null,null,"°C",null,"kJ/(kg.K)",null,null,null,"%",null,"°C",null,"kg/s",null,"h/a"]
[null,null,null,null,null,null,"°C",null,"kJ/(kg.K)",null,null,null,"%",null,"°C",null,"kg/s",null,"h/a"]
[null,"Für Pinch Liste (versteckt)"]
[null,"(das ist die erste Zelle / erste Spalte)",null,"Use in Pinch List","start T","end T","m","cp","h","P/U","d/y"]
[null,1,{"$f":"(B14&\" \"&\"Temperatur halten\")","v":" Temperatur halten"},{"$f":"IF(H18=\"\",0,1)","v":0},{"$f":"H18-1.5","v":-1.5},{"$f":"H18+1.5","v":1.5},{"$f":"F18*1000/3600","v":0},4.1900000000000004,{"$f":"J18","v":0},"Prozess",{"$f":"$F$14","v":0}]
[null,2,{"$f":"(B14&\" \"&\"aufheizen\")","v":" aufheizen"},{"$f":"IF(B22=\"Aufheizvorgang vernachlässigen\",0,(IF(B22=\"Aufheizvorgang definieren\",1,0)))","v":0},{"$f":"D22","v":0},{"$f":"F22","v":0},{"$f":"F18*1000/3600","v":0},4.1900000000000004,{"$f":"H22*J22","v":0},"Prozess",{"$f":"$F$14","v":0}]
[null,3,{"$f":"(B14&\" \"&B26)","v":" "},{"$f":"IF(B26=\"\",0,1)","v":0},{"$f":"F26","v":0},{"$f":"N26","v":0},{"$f":"P26","v":0},{"$f":"H26","v":0},{"$f":"R26","v":0},"Prozess",{"$f":"$F$14","v":0}]
[null,4,{"$f":"(B14&\" \"&B27)","v":" "},{"$f":"IF(B27=\"\",0,1)","v":0},{"$f":"F27","v":0},{"$f":"N27","v":0},{"$f":"P27","v":0},{"$f":"H27","v":0},{"$f":"R27","v":0},"Prozess",{"$f":"$F$14","v":0}]
[null,5,{"$f":"(B15&\" \"&B28)","v":" "},{"$f":"IF(B28=\"\",0,1)","v":0},{"$f":"F28","v":0},{"$f":"N28","v":0},0,0,0,"Prozess",{"$f":"$F$14","v":0}]
[]
[]
[]
[]
[]
[]
[]
[]
[]
[]
[null,"Prozessname",null,"Energieversorgung",null,"Betriebstage"]
[null,null,null,null,null,null,"d/a"]
[]
[]
[null,"Auswählen: ",null,"Bad-\nOberfläche",null,"Bad-\nVolumen",null,"Bad-\nTemperatur",null,"Vollaststunden\npro Jahr",null,"Oberflächen-\nverluste",null,"Energieverluste \npro Jahr"]
[null,null,{"$f":"IF(B51=\"Bad ohne Sprudel, ohne Absaugung\",2,(IF(B51=\"Bad ohne Sprudel, mit Absaugung\",3,(IF(B51=\"Bad mit Sprudel, mit Absaugung\",4,\"\")))))","v":""},null,"m²",null,"m³",null,"°C",null,"h/a",{"$f":"VLOOKUP(H51,Listen!$A$28:$D$43,C51,FALSE)","v":{"$error":"#N/A"}},"W/m²",{"$f":"L51*D51*J51/1000","v":{"$error":"#N/A"}},"kWh/a"]
[]
[]
[null,"Auswählen: ",null,"Start-\nTemperatur",null,"End-\nTemperatur",null,"Anzahl der Vorgänge\npro Jahr",null,"Dauer eines \nVorganges",null,null,null,"Energieverbrauch\npro Jahr "]
[null,null,null,null,"°C",null,"°C",null,"#",null,"h",null,null,{"$f":"(F51*1000/3600)*4.19*(F55-D55)*J55*H55","v":0},"kWh/a"]
[null,null,null,null,null,null,null,null,null,null,null,null,null,{"$f":"SUM(IFERROR(N51+N55,0))","v":0},"kWh/a"]
[]
[null,"Auswählen: ",null,"Wärmerück-\ngewinnung ",null,"Abwärme-\nTemperatur",null,"spez. \nWärmekapazität",null,"spez. Wärmekapazität  Feuchter Luft\nberechnen",null,"relativer \nFeuchtegehalt",null,"Abkühl-\nTemperatur",null,"Massenstrom",null,"Vollaststunden\npro Jahr"]
[null,null,null,null,null,null,"°C",null,"kJ/(kg.K)",null,null,null,"%",null,"°C",null,"kg/s",null,"h/a"]
[null,null,null,null,null,null,"°C",null,"kJ/(kg.K)",null,null,null,"%",null,"°C",null,"kg/s",null,"h/a"]
[null,null,null,null,null,null,"°C",null,"kJ/(kg.K)",null,null,null,"%",null,"°C",null,"kg/s",null,"h/a"]
[]
[null,"Für Pinch Liste (versteckt)"]
[null,"(das ist die erste Zelle / erste Spalte)",null,"Use in Pinch List","start T","end T","m","cp","h","P/U","d/y"]
[null,1,{"$f":"(B47&\" \"&\"Temperatur halten\")","v":" Temperatur halten"},{"$f":"IF(H51=\"\",0,1)","v":0},{"$f":"H51-1.5","v":-1.5},{"$f":"H51+1.5","v":1.5},{"$f":"F51*1000/3600","v":0},4.1900000000000004,{"$f":"J51","v":0},"Prozess",{"$f":"$F$47","v":0}]
[null,2,{"$f":"(B47&\" \"&\"aufheizen\")","v":" aufheizen"},{"$f":"IF(B55=\"Aufheizvorgang vernachlässigen\",0,(IF(B55=\"Aufheizvorgang definieren\",1,0)))","v":0},{"$f":"D55","v":0},{"$f":"F55","v":0},{"$f":"F51*1000/3600","v":0},4.1900000000000004,{"$f":"H55*J55","v":0},"Prozess",{"$f":"$F$47","v":0}]
[null,3,{"$f":"(B47&\" \"&B59)","v":" "},{"$f":"IF(B59=\"\",0,1)","v":0},{"$f":"F59","v":0},{"$f":"N59","v":0},{"$f":"P59","v":0},{"$f":"H59","v":0},{"$f":"R59","v":0},"Prozess",0]
[null,4,{"$f":"(B47&\" \"&B60)","v":" "},{"$f":"IF(B60=\"\",0,1)","v":0},{"$f":"F60","v":0},{"$f":"N60","v":0},{"$f":"P60","v":0},{"$f":"H60","v":0},{"$f":"R60","v":0},"Prozess",0]
[null,5,{"$f":"(B48&\" \"&B61)","v":" "},{"$f":"IF(B60=\"\",0,1)","v":0},{"$f":"H60","v":0},{"$f":"N61","v":0},{"$f":"P61","v":0},{"$f":"H61","v":0},{"$f":"R61","v":0},"Prozess",0]
[]
[]
[]
[]
[]
[]
[]
[]
[]
[]
[]
[null,"Prozessname",null,"Energieversorgung",null,"Betriebstage"]
[null,null,null,null,null,null,"d/a"]
[]
[]
[null,"Auswählen: ",null,"Bad-\nOberfläche",null,"Bad-\nVolumen",null,"Bad-\nTemperatur",null,"Vollaststunden\npro Jahr",null,"Oberflächen-\nverluste",null,"Energieverluste \npro Jahr"]
[null,null,{"$f":"IF(B86=\"Bad ohne Sprudel, ohne Absaugung\",2,(IF(B86=\"Bad ohne Sprudel, mit Absaugung\",3,(IF(B86=\"Bad mit Sprudel, mit Absaugung\",4,\"\")))))","v":""},null,"m²",null,"m³",null,"°C",null,"h/a",{"$f":"VLOOKUP(H86,Listen!$A$28:$D$43,C86,FALSE)","v":{"$error":"#N/A"}},"W/m²",{"$f":"L86*D86*J86/1000","v":{"$error":"#N/A"}},"kWh/a"]
[]
[]
[null,"Auswählen: ",null,"Start-\nTemperatur",null,"End-\nTemperatur",null,"Anzahl der Vorgänge\npro Jahr",null,"Dauer eines \nVorganges",null,null,null,"Energieverbrauch\npro Jahr "]
[null,null,null,null,"°C",null,"°C",null,"#",null,"h",null,null,{"$f":"(F86*1000/3600)*4.19*(F90-D90)*J90*H90","v":0},"kWh/a"]
[null,null,null,null,null,null,null,null,null,null,null,null,null,{"$f":"SUM(IFERROR(N86+N90,0))","v":0},"kWh/a"]
[]
[null,"Auswählen: ",null,"Wärmerück-\ngewinnung ",null,"Abwärme-\nTemperatur",null,"spez. \nWärmekapazität",null,"spez. Wärmekapazität  Feuchter Luft\nberechnen",null,"relativer \nFeuchtegehalt",null,"Abkühl-\nTemperatur",null,"Massenstrom",null,"Vollaststunden\npro Jahr"]
[null,null,null,null,null,null,"°C",null,"kJ/(kg.K)",null,null,null,"%",null,"°C",null,"kg/s",null,"h/a"]
[null,null,null,null,null,null,"°C",null,"kJ/(kg.K)",null,null,null,"%",null,"°C",null,"kg/s",null,"h/a"]
[null,null,null,null,null,null,"°C",null,"kJ/(kg.K)",null,null,null,"%",null,"°C",null,"kg/s",null,"h/a"]
[null,"Für Pinch Liste (versteckt)"]
[null,"(das ist die erste Zelle / erste Spalte)",null,"Use in Pinch List","start T","end T","m","cp","h","P/U","d/y"]
[null,1,{"$f":"(B82&\" \"&\"Temperatur halten\")","v":" Temperatur halten"},{"$f":"IF(H86=\"\",0,1)","v":0},{"$f":"H86-1.5","v":-1.5},{"$f":"H86+1.5","v":1.5},{"$f":"F86*1000/3600","v":0},4.1900000000000004,{"$f":"J86","v":0},"Prozess",{"$f":"$F$82","v":0}]
[null,2,{"$f":"(B82&\" \"&\"aufheizen\")","v":" aufheizen"},{"$f":"IF(B90=\"Aufheizvorgang vernachlässigen\",0,(IF(B90=\"Aufheizvorgang definieren\",1,0)))","v":0},{"$f":"D90","v":0},{"$f":"F90","v":0},{"$f":"F86*1000/3600","v":0},4.1900000000000004,{"$f":"H90*J90","v":0},"Prozess",{"$f":"$F$82","v":0}]
[null,3,{"$f":"(B82&\" \"&B94)","v":" "},{"$f":"IF(B94=\"\",0,1)","v":0},{"$f":"F94","v":0},{"$f":"N94","v":0},{"$f":"P94","v":0},{"$f":"H94","v":0},{"$f":"R94","v":0},"Prozess",0]
[null,4,{"$f":"(B82&\" \"&B95)","v":" "},{"$f":"IF(B95=\"\",0,1)","v":0},{"$f":"F95","v":0},{"$f":"N95","v":0},{"$f":"P95","v":0},{"$f":"H95","v":0},{"$f":"R95","v":0},"Prozess",0]
[null,5,{"$f":"(B83&\" \"&B96)","v":" "},{"$f":"IF(B96=\"\",0,1)","v":0},{"$f":"F96","v":0},0,0,0,0,"Prozess",0]
[]
[]
[]
[]
[]
[]
[]
[]
[]
[]
[]
[null,"Prozessname",null,"Energieversorgung",null,"Betriebstage"]
[null,null,null,null,null,null,"d/a"]
[]
[]
[null,"Auswählen: ",null,"Bad-\nOberfläche",null,"Bad-\nVolumen",null,"Bad-\nTemperatur",null,"Vollaststunden\npro Jahr",null,"Oberflächen-\nverluste",null,"Energieverluste \npro Jahr"]
[null,null,{"$f":"IF(B120=\"Bad ohne Sprudel, ohne Absaugung\",2,(IF(B120=\"Bad ohne Sprudel, mit Absaugung\",3,(IF(B120=\"Bad mit Sprudel, mit Absaugung\",4,\"\")))))","v":""},null,"m²",null,"m³",null,"°C",null,"h/a",{"$f":"VLOOKUP(H120,Listen!$A$28:$D$43,C120,FALSE)","v":{"$error":"#N/A"}},"W/m²",{"$f":"L120*D120*J120/1000","v":{"$error":"#N/A"}},"kWh/a"]
[]
[]
[null,"Auswählen: ",null,"Start-\nTemperatur",null,"End-\nTemperatur",null,"Anzahl der Vorgänge\npro Jahr",null,"Dauer eines \nVorganges",null,null,null,"Energieverbrauch\npro Jahr "]
[null,null,null,null,"°C",null,"°C",null,"#",null,"h",null,null,{"$f":"(F120*1000/3600)*4.19*(F124-D124)*J124*H124","v":0},"kWh/a"]
[null,null,null,null,null,null,null,null,null,null,null,null,null,{"$f":"SUM(IFERROR(N120+N124,0))","v":0},"kWh/a"]
[]
[null,"Auswählen: ",null,"Wärmerück-\ngewinnung ",null,"Abwärme-\nTemperatur",null,"spez. \nWärmekapazität",null,"spez. Wärmekapazität  Feuchter Luft\nberechnen",null,"relativer \nFeuchtegehalt",null,"Abkühl-\nTemperatur",null,"Massenstrom",null,"Vollaststunden\npro Jahr"]
[null,null,null,null,null,null,"°C",null,"kJ/(kg.K)",null,null,null,"%",null,"°C",null,"kg/s",null,"h/a"]
[null,null,null,null,null,null,"°C",null,"kJ/(kg.K)",null,null,null,"%",null,"°C",null,"kg/s",null,"h/a"]
[null,null,null,null,null,null,"°C",null,"kJ/(kg.K)",null,null,null,"%",null,"°C",null,"kg/s",null,"h/a"]
[null,"Für Pinch Liste (versteckt)"]
[null,"(das ist die erste Zelle / erste Spalte)",null,"Use in Pinch List","start T","end T","m","cp","h","P/U","d/y"]
[null,1,{"$f":"(B116&\" \"&\"Temperatur halten\")","v":" Temperatur halten"},{"$f":"IF(H120=\"\",0,1)","v":0},{"$f":"H120-1.5","v":-1.5},{"$f":"H120+1.5","v":1.5},{"$f":"F120*1000/3600","v":0},4.1900000000000004,{"$f":"J120","v":0},"Prozess",{"$f":"$F$116","v":0}]
[null,2,{"$f":"(B116&\" \"&\"aufheizen\")","v":" aufheizen"},{"$f":"IF(B124=\"Aufheizvorgang vernachlässigen\",0,(IF(B124=\"Aufheizvorgang definieren\",1,0)))","v":0},{"$f":"D124","v":0},{"$f":"F124","v":0},{"$f":"F120*1000/3600","v":0},4.1900000000000004,{"$f":"H124*J124","v":0},"Prozess",{"$f":"$F$116","v":0}]
[null,3,{"$f":"(B116&\" \"&B128)","v":" "},{"$f":"IF(B128=\"\",0,1)","v":0},{"$f":"F128","v":0},{"$f":"N128","v":0},{"$f":"P128","v":0},{"$f":"H128","v":0},{"$f":"R128","v":0},"Prozess",0]
[null,4,{"$f":"(B116&\" \"&B129)","v":" "},{"$f":"IF(B129=\"\",0,1)","v":0},{"$f":"F129","v":0},{"$f":"N129","v":0},{"$f":"P129","v":0},{"$f":"H129","v":0},{"$f":"R129","v":0},"Prozess",0]
[null,5,{"$f":"(B117&\" \"&B130)","v":" "},{"$f":"IF(B130=\"\",0,1)","v":0},0,0,0,0,0,"Prozess",0]
[]
[]
[]
[]
[]
[]
[]
[]
[]
[]
[]
[null,"Prozessname",null,"Energieversorgung",null,"Betriebstage"]
[null,null,null,null,null,null,"d/a"]
[]
[]
[null,"Auswählen: ",null,"Bad-\nOberfläche",null,"Bad-\nVolumen",null,"Bad-\nTemperatur",null,"Vollaststunden\npro Jahr",null,"Oberflächen-\nverluste",null,"Energieverluste \npro Jahr"]
[null,null,{"$f":"IF(B154=\"Bad ohne Sprudel, ohne Absaugung\",2,(IF(B154=\"Bad ohne Sprudel, mit Absaugung\",3,(IF(B154=\"Bad mit Sprudel, mit Absaugung\",4,\"\")))))","v":""},null,"m²",null,"m³",null,"°C",null,"h/a",{"$f":"VLOOKUP(H154,Listen!$A$28:$D$43,C154,FALSE)","v":{"$error":"#N/A"}},"W/m²",{"$f":"L154*D154*J154/1000","v":{"$error":"#N/A"}},"kWh/a"]
[]
[]
[null,"Auswählen: ",null,"Start-\nTemperatur",null,"End-\nTemperatur",null,"Anzahl der Vorgänge\npro Jahr",null,"Dauer eines \nVorganges",null,null,null,"Energieverbrauch\npro Jahr "]
[null,null,null,null,"°C",null,"°C",null,"#",null,"h",null,null,{"$f":"(F154*1000/3600)*4.19*(F158-D158)*J158*H158","v":0},"kWh/a"]
[null,null,null,null,null,null,null,null,null,null,null,null,null,{"$f":"SUM(IFERROR(N154+N158,0))","v":0},"kWh/a"]
[]
[null,"Auswählen: ",null,"Wärmerück-\ngewinnung ",null,"Abwärme-\nTemperatur",null,"spez. \nWärmekapazität",null,"spez. Wärmekapazität  Feuchter Luft\nberechnen",null,"relativer \nFeuchtegehalt",null,"Abkühl-\nTemperatur",null,"Massenstrom",null,"Vollaststunden\npro Jahr"]
[null,null,null,null,null,null,"°C",null,"kJ/(kg.K)",null,null,null,"%",null,"°C",null,"kg/s",null,"h/a"]
[null,null,null,null,null,null,"°C",null,"kJ/(kg.K)",null,null,null,"%",null,"°C",null,"kg/s",null,"h/a"]
[null,null,null,null,null,null,"°C",null,"kJ/(kg.K)",null,null,null,"%",null,"°C",null,"kg/s",null,"h/a"]
[null,"Für Pinch Liste (versteckt)"]
[null,"(das ist die erste Zelle / erste Spalte)",null,"Use in Pinch List","start T","end T","m","cp","h","P/U","d/y"]
[null,1,{"$f":"(B150&\" \"&\"Temperatur halten\")","v":" Temperatur halten"},{"$f":"IF(H154=\"\",0,1)","v":0},{"$f":"H154-1.5","v":-1.5},{"$f":"H154+1.5","v":1.5},{"$f":"F154*1000/3600","v":0},4.1900000000000004,{"$f":"J154","v":0},"Prozess",{"$f":"$F$150","v":0}]
[null,2,{"$f":"(B150&\" \"&\"aufheizen\")","v":" aufheizen"},{"$f":"IF(B158=\"Aufheizvorgang vernachlässigen\",0,(IF(B158=\"Aufheizvorgang definieren\",1,0)))","v":0},{"$f":"D158","v":0},{"$f":"F158","v":0},{"$f":"F154*1000/3600","v":0},4.1900000000000004,{"$f":"H158*J158","v":0},"Prozess",{"$f":"$F$150","v":0}]
[null,3,{"$f":"(B150&\" \"&B162)","v":" "},{"$f":"IF(B162=\"\",0,1)","v":0},{"$f":"F162","v":0},{"$f":"N162","v":0},{"$f":"P162","v":0},{"$f":"H162","v":0},{"$f":"R162","v":0},"Prozess",0]
[null,4,{"$f":"(B150&\" \"&B163)","v":" "},{"$f":"IF(B163=\"\",0,1)","v":0},{"$f":"F163","v":0},{"$f":"N163","v":0},{"$f":"P163","v":0},{"$f":"H163","v":0},{"$f":"R163","v":0},"Prozess",0]
[null,5,{"$f":"(B151&\" \"&B164)","v":" "},{"$f":"IF(B164=\"\",0,1)","v":0},0,0,0,0,0,"Prozess",0]

{"sheet":"Galvanikbad_Kühlen","index":24,"n_rows":169,"n_cols":19,"rows_kept":169,"cut":false,"hidden":false,"merged":[]}
[]
[]
[]
[]
[]
[]
[]
[]
[]
[]
[]
[]
[null,"Prozessname",null,"Energieversorgung",null,"Betriebstage"]
[null,null,null,null,null,null,"d/a"]
[]
[]
[null,"Auswählen:",null,"Start-\nTemperatur",null,"End-\nTemperatur",null,"Bad-\nVolumen",null,"Vollaststunden\npro Jahr",null,"Anzahl der Vorgänge\npro Jahr",null,"Dauer eines \nVorganges",null,"Energieverbrauch\npro Jahr "]
[null,null,null,null,"°C",null,"°C",null,"m³",null,"h/a",null,"#",null,"h",{"$f":"IF(B18=\"Diskontinuierlich\",((H18*1000/3600)*4.19*(D18-F18)*N18*L18),(IF(B18=\"Kontinuierlich\",((H18*1000/3600)*4.19*(D18-F18)*J18),\"\")))","v":""},"kWh/a"]
[null,null,null,null,"°C",null,"°C",null,"m³",null,"h/a",null,"#",null,"h",{"$f":"IF(B19=\"Diskontinuierlich\",((H19*1000/3600)*4.19*(D19-F19)*N19*L19),(IF(B19=\"Kontinuierlich\",((H19*1000/3600)*4.19*(D19-F19)*J19),\"\")))","v":""},"kWh/a"]
[null,null,null,null,null,null,null,null,null,null,null,null,null,null,null,{"$f":"SUM(IFERROR(P18:P19,0))","v":0},"kWh/a"]
[]
[null,"Auswählen:",null,"Wärmerück-\ngewinnung ",null,"Abwärme-\nTemperatur",null,"spez. \nWärmekapazität",null,"spez. Wärmekapazität  Feuchter Luft\nberechnen",null,"relativer \nFeuchtegehalt",null,"Abkühl-\nTemperatur",null,"Massenstrom",null,"Vollaststunden\npro Jahr"]
[null,null,null,null,null,null,"°C",null,"kJ/(kg.K)",null,null,null,"%",null,"°C",null,"kg/s",null,"h/a"]
[null,null,null,null,null,null,"°C",null,"kJ/(kg.K)",null,null,null,"%",null,"°C",null,"kg/s",null,"h/a"]
[null,null,null,null,null,null,"°C",null,"kJ/(kg.K)",null,null,null,"%",null,"°C",null,"kg/s",null,"h/a"]
[]
[null,"Für Pinch Liste (versteckt)"]
[null,"(das ist die erste Zelle / erste Spalte)",null,"Use in Pinch List","start T","end T","m","cp","h","P/U","d/y"]
[null,1,{"$f":"(B14&\" \"&B18)","v":" "},{"$f":"IF(B18=\"\",0,1)","v":0},{"$f":"D18","v":0},{"$f":"F18","v":0},{"$f":"H18*1000/3600","v":0},4.1900000000000004,{"$f":"IF(B18=\"Kontinuierlich\",J18,(IF(B18=\"Diskontinuierlich\",L18*N18,0)))","v":0},"Prozess",{"$f":"$F$14","v":0}]
[null,2,{"$f":"(B14&\" \"&B19)","v":" "},{"$f":"IF(B19=\"\",0,1)","v":0},{"$f":"D19","v":0},{"$f":"F19","v":0},{"$f":"H19*1000/3600","v":0},4.1900000000000004,{"$f":"IF(B19=\"Kontinuierlich\",J19,(IF(B19=\"Diskontinuierlich\",L19*N19,0)))","v":0},"Prozess",{"$f":"$F$14","v":0}]
[null,3,{"$f":"(B14&\" \"&B23)","v":" "},{"$f":"IF(B23=\"\",0,1)","v":0},{"$f":"F23","v":0},{"$f":"N23","v":0},{"$f":"P23","v":0},{"$f":"H23","v":0},{"$f":"R23","v":0},"Prozess",{"$f":"$F$14","v":0}]
[null,4,{"$f":"(B14&\" \"&B24)","v":" "},{"$f":"IF(B24=\"\",0,1)","v":0},{"$f":"F24","v":0},{"$f":"N24","v":0},{"$f":"P24","v":0},{"$f":"H24","v":0},{"$f":"R24","v":0},"Prozess",{"$f":"$F$14","v":0}]
[null,5,{"$f":"(B15&\" \"&B25)","v":" "},{"$f":"IF(B25=\"\",0,1)","v":0},0,0,0,0,0,"Prozess",0]
[]
[]
[]
[]
[]
[]
[]
[]
[]
[]
[]
[]
[]
[null,"Prozessname",null,"Energieversorgung",null,"Betriebstage"]
[null,null,null,null,null,null,"d/a"]
[]
[]
[null,"Auswählen:",null,"Start-\nTemperatur",null,"End-\nTemperatur",null,"Bad-\nVolumen",null,"Vollaststunden\npro Jahr",null,"Anzahl der Vorgänge\npro Tag",null,"Dauer eines \nVorganges",null,"Energieverbrauch\npro Jahr "]
[null,null,null,null,"°C",null,"°C",null,"m³",null,"h/a",null,"#",null,"h",{"$f":"IF(B52=\"Diskontinuierlich\",((H52*1000/3600)*4.19*(D52-F52)*N52*L52),(IF(B52=\"Kontinuierlich\",((H52*1000/3600)*4.19*(D52-F52)*J52),\"\")))","v":""},"kWh/a"]
[null,null,null,null,"°C",null,"°C",null,"m³",null,"h/a",null,"#",null,"h",{"$f":"IF(B53=\"Diskontinuierlich\",((H53*1000/3600)*4.19*(D53-F53)*N53*L53),(IF(B53=\"Kontinuierlich\",((H53*1000/3600)*4.19*(D53-F53)*J53),\"\")))","v":""},"kWh/a"]
[null,null,null,null,null,null,null,null,null,null,null,null,null,null,null,{"$f":"SUM(IFERROR(P52:P53,0))","v":0},"kWh/a"]
[]
[null,"Auswählen:",null,"Wärmerück-\ngewinnung ",null,"Abwärme-\nTemperatur",null,"spez. \nWärmekapazität",null,"spez. Wärmekapazität  Feuchter Luft\nberechnen",null,"relativer \nFeuchtegehalt",null,"Abkühl-\nTemperatur",null,"Massenstrom",null,"Vollaststunden\npro Jahr"]
[null,null,null,null,null,null,"°C",null,"kJ/(kg.K)",null,null,null,"%",null,"°C",null,"kg/s",null,"h/a"]
[null,null,null,null,null,null,"°C",null,"kJ/(kg.K)",null,null,null,"%",null,"°C",null,"kg/s",null,"h/a"]
[null,null,null,null,null,null,"°C",null,"kJ/(kg.K)",null,null,null,"%",null,"°C",null,"kg/s",null,"h/a"]
[]
[null,"Für Pinch Liste (versteckt)"]
[null,"(das ist die erste Zelle / erste Spalte)",null,"Use in Pinch List","start T","end T","m","cp","h","P/U","d/y"]
[null,1,{"$f":"(B48&\" \"&B52)","v":" "},{"$f":"IF(B52=\"\",0,1)","v":0},{"$f":"D52","v":0},{"$f":"F52","v":0},{"$f":"H52*1000/3600","v":0},4.1900000000000004,{"$f":"IF(B52=\"Kontinuierlich\",J52*$F$48,(IF(B52=\"Diskontinuierlich\",L52*N52*$F$48,0)))","v":0},"Prozess",{"$f":"$F$48","v":0}]
[null,2,{"$f":"(B48&\" \"&B53)","v":" "},{"$f":"IF(B53=\"\",0,1)","v":0},{"$f":"D53","v":0},{"$f":"F53","v":0},{"$f":"H53*1000/3600","v":0},4.1900000000000004,{"$f":"IF(B53=\"Kontinuierlich\",J53*$F$48,(IF(B53=\"Diskontinuierlich\",L53*N53*$F$48,0)))","v":0},"Prozess",{"$f":"$F$48","v":0}]
[null,3,{"$f":"(B48&\" \"&B57)","v":" "},{"$f":"IF(B57=\"\",0,1)","v":0},{"$f":"F57","v":0},{"$f":"N57","v":0},{"$f":"P57","v":0},{"$f":"H57","v":0},{"$f":"R57","v":0},"Prozess",{"$f":"$F$48","v":0}]
[null,4,{"$f":"(B48&\" \"&B58)","v":" "},{"$f":"IF(B58=\"\",0,1)","v":0},{"$f":"F58","v":0},{"$f":"N58","v":0},{"$f":"P58","v":0},{"$f":"H58","v":0},{"$f":"R58","v":0},"Prozess",{"$f":"$F$48","v":0}]
[null,5,{"$f":"(B49&\" \"&B59)","v":" "},{"$f":"IF(B59=\"\",0,1)","v":0},{"$f":"F59","v":0},0,0,0,0,"Prozess",0]
[]
[]
[]
[]
[]
[]
[]
[]
[]
[]
[]
[]
[]
[null,"Prozessname",null,"Energieversorgung",null,"Betriebstage"]
[null,null,null,null,null,null,"d/a"]
[]
[]
[null,"Auswählen:",null,"Start-\nTemperatur",null,"End-\nTemperatur",null,"Bad-\nVolumen",null,"Vollaststunden\npro Jahr",null,"Anzahl der Vorgänge\npro Tag",null,"Dauer eines \nVorganges",null,"Energieverbrauch\npro Jahr "]
[null,null,null,null,"°C",null,"°C",null,"m³",null,"h/a",null,"#",null,"h",{"$f":"IF(B86=\"Diskontinuierlich\",((H86*1000/3600)*4.19*(D86-F86)*N86*L86),(IF(B86=\"Kontinuierlich\",((H86*1000/3600)*4.19*(D86-F86)*J86),\"\")))","v":""},"kWh/a"]
[null,null,null,null,"°C",null,"°C",null,"m³",null,"h/a",null,"#",null,"h",{"$f":"IF(B87=\"Diskontinuierlich\",((H87*1000/3600)*4.19*(D87-F87)*N87*L87),(IF(B87=\"Kontinuierlich\",((H87*1000/3600)*4.19*(D87-F87)*J87),\"\")))","v":""},"kWh/a"]
[null,null,null,null,null,null,null,null,null,null,null,null,null,null,null,{"$f":"SUM(IFERROR(P86:P87,0))","v":0},"kWh/a"]
[]
[null,"Auswählen:",null,"Wärmerück-\ngewinnung ",null,"Abwärme-\nTemperatur",null,"spez. \nWärmekapazität",null,"spez. Wärmekapazität  Feuchter Luft\nberechnen",null,"relativer \nFeuchtegehalt",null,"Abkühl-\nTemperatur",null,"Massenstrom",null,"Vollaststunden\npro Jahr"]
[null,null,null,null,null,null,"°C",null,"kJ/(kg.K)",null,null,null,"%",null,"°C",null,"kg/s",null,"h/a"]
[null,null,null,null,null,null,"°C",null,"kJ/(kg.K)",null,null,null,"%",null,"°C",null,"kg/s",null,"h/a"]
[null,null,null,null,null,null,"°C",null,"kJ/(kg.K)",null,null,null,"%",null,"°C",null,"kg/s",null,"h/a"]
[]
[null,"Für Pinch Liste (versteckt)"]
[null,"(das ist die erste Zelle / erste Spalte)",null,"Use in Pinch List","start T","end T","m","cp","h","P/U","d/y"]
[null,1,{"$f":"(B82&\" \"&B86)","v":" "},{"$f":"IF(B86=\"\",0,1)","v":0},{"$f":"D86","v":0},{"$f":"F86","v":0},{"$f":"H86*1000/3600","v":0},4.1900000000000004,{"$f":"IF(B86=\"Kontinuierlich\",J86*$F$82,(IF(B86=\"Diskontinuierlich\",L86*N86*$F$82,0)))","v":0},"Prozess",{"$f":"$F$82","v":0}]
[null,2,{"$f":"(B82&\" \"&B87)","v":" "},{"$f":"IF(B87=\"\",0,1)","v":0},{"$f":"D87","v":0},{"$f":"F87","v":0},{"$f":"H87*1000/3600","v":0},4.1900000000000004,{"$f":"IF(B87=\"Kontinuierlich\",J87*$F$82,(IF(B87=\"Diskontinuierlich\",L87*N87*$F$82,0)))","v":0},"Prozess",{"$f":"$F$82","v":0}]
[null,3,{"$f":"(B82&\" \"&B91)","v":" "},{"$f":"IF(B91=\"\",0,1)","v":0},{"$f":"F91","v":0},{"$f":"N91","v":0},{"$f":"P91","v":0},{"$f":"H91","v":0},{"$f":"R91","v":0},"Prozess",{"$f":"$F$82","v":0}]
[null,4,{"$f":"(B82&\" \"&B92)","v":" "},{"$f":"IF(B92=\"\",0,1)","v":0},{"$f":"F92","v":0},{"$f":"N92","v":0},{"$f":"P92","v":0},{"$f":"H92","v":0},{"$f":"R92","v":0},"Prozess",{"$f":"$F$82","v":0}]
[null,5,{"$f":"(B83&\" \"&B93)","v":" "},{"$f":"IF(B93=\"\",0,1)","v":0},0,0,0,0,0,"Prozess",0]
[]
[]
[]
[]
[]
[]
[]
[]
[]
[]
[]
[]
[]
[null,"Prozessname",null,"Energieversorgung",null,"Betriebstage"]
[null,null,null,null,null,null,"d/a"]
[]
[]
[null,"Auswählen:",null,"Start-\nTemperatur",null,"End-\nTemperatur",null,"Bad-\nVolumen",null,"Vollaststunden\npro Jahr",null,"Anzahl der Vorgänge\npro Tag",null,"Dauer eines \nVorganges",null,"Energieverbrauch\npro Jahr "]
[null,null,null,null,"°C",null,"°C",null,"m³",null,"h/a",null,"#",null,"h",{"$f":"IF(B120=\"Diskontinuierlich\",((H120*1000/3600)*4.19*(D120-F120)*N120*L120),(IF(B120=\"Kontinuierlich\",((H120*1000/3600)*4.19*(D120-F120)*J120),\"\")))","v":""},"kWh/a"]
[null,null,null,null,"°C",null,"°C",null,"m³",null,"h/a",null,"#",null,"h",{"$f":"IF(B121=\"Diskontinuierlich\",((H121*1000/3600)*4.19*(D121-F121)*N121*L121),(IF(B121=\"Kontinuierlich\",((H121*1000/3600)*4.19*(D121-F121)*J121),\"\")))","v":""},"kWh/a"]
[null,null,null,null,null,null,null,null,null,null,null,null,null,null,null,{"$f":"SUM(IFERROR(P120:P121,0))","v":0},"kWh/a"]
[]
[null,"Auswählen:",null,"Wärmerück-\ngewinnung ",null,"Abwärme-\nTemperatur",null,"spez. \nWärmekapazität",null,"spez. Wärmekapazität  Feuchter Luft\nberechnen",null,"relativer \nFeuchtegehalt",null,"Abkühl-\nTemperatur",null,"Massenstrom",null,"Vollaststunden\npro Jahr"]
[null,null,null,null,null,null,"°C",null,"kJ/(kg.K)",null,null,null,"%",null,"°C",null,"kg/s",null,"h/a"]
[null,null,null,null,null,null,"°C",null,"kJ/(kg.K)",null,null,null,"%",null,"°C",null,"kg/s",null,"h/a"]
[null,null,null,null,null,null,"°C",null,"kJ/(kg.K)",null,null,null,"%",null,"°C",null,"kg/s",null,"h/a"]
[]
[null,"Für Pinch Liste (versteckt)"]
[null,"(das ist die erste Zelle / erste Spalte)",null,"Use in Pinch List","start T","end T","m","cp","h","P/U","d/y"]
[null,1,{"$f":"(B116&\" \"&B120)","v":" "},{"$f":"IF(B120=\"\",0,1)","v":0},{"$f":"D120","v":0},{"$f":"F120","v":0},{"$f":"H120*1000/3600","v":0},4.1900000000000004,{"$f":"IF(B120=\"Kontinuierlich\",J120*$F$116,(IF(B120=\"Diskontinuierlich\",L120*N120*$F$116,0)))","v":0},"Prozess",{"$f":"$F$116","v":0}]
[null,2,{"$f":"(B116&\" \"&B121)","v":" "},{"$f":"IF(B121=\"\",0,1)","v":0},{"$f":"D121","v":0},{"$f":"F121","v":0},{"$f":"H121*1000/3600","v":0},4.1900000000000004,{"$f":"IF(B121=\"Kontinuierlich\",J121*$F$116,(IF(B121=\"Diskontinuierlich\",L121*N121*$F$116,0)))","v":0},"Prozess",{"$f":"$F$116","v":0}]
[null,3,{"$f":"(B116&\" \"&B125)","v":" "},{"$f":"IF(B125=\"\",0,1)","v":0},{"$f":"F125","v":0},{"$f":"N125","v":0},{"$f":"P125","v":0},{"$f":"H125","v":0},{"$f":"R125","v":0},"Prozess",{"$f":"$F$116","v":0}]
[null,4,{"$f":"(B116&\" \"&B126)","v":" "},{"$f":"IF(B126=\"\",0,1)","v":0},{"$f":"F126","v":0},{"$f":"N126","v":0},{"$f":"P126","v":0},{"$f":"H126","v":0},{"$f":"R126","v":0},"Prozess",{"$f":"$F$116","v":0}]
[null,5,{"$f":"(B117&\" \"&B127)","v":" "},{"$f":"IF(B127=\"\",0,1)","v":0},0,0,0,0,0,"Prozess",{"$f":"$F$116","v":0}]
[]
[]
[]
[]
[]
[]
[]
[]
[]
[]
[]
[]
[]
[null,"Prozessname",null,"Energieversorgung",null,"Betriebstage"]
[null,null,null,null,null,null,"d/a"]
[]
[]
[null,"Auswählen:",null,"Start-\nTemperatur",null,"End-\nTemperatur",null,"Bad-\nVolumen",null,"Vollaststunden\npro Jahr",null,"Anzahl der Vorgänge\npro Tag",null,"Dauer eines \nVorganges",null,"Energieverbrauch\npro Jahr "]
[null,null,null,null,"°C",null,"°C",null,"m³",null,"h/a",null,"#",null,"h",{"$f":"IF(B154=\"Diskontinuierlich\",((H154*1000/3600)*4.19*(D154-F154)*N154*L154),(IF(B154=\"Kontinuierlich\",((H154*1000/3600)*4.19*(D154-F154)*J154),\"\")))","v":""},"kWh/a"]
[null,null,null,null,"°C",null,"°C",null,"m³",null,"h/a",null,"#",null,"h",{"$f":"IF(B155=\"Diskontinuierlich\",((H155*1000/3600)*4.19*(D155-F155)*N155*L155),(IF(B155=\"Kontinuierlich\",((H155*1000/3600)*4.19*(D155-F155)*J155),\"\")))","v":""},"kWh/a"]
[null,null,null,null,null,null,null,null,null,null,null,null,null,null,null,{"$f":"SUM(IFERROR(P154:P155,0))","v":0},"kWh/a"]
[]
[null,"Auswählen:",null,"Wärmerück-\ngewinnung ",null,"Abwärme-\nTemperatur",null,"spez. \nWärmekapazität",null,"spez. Wärmekapazität  Feuchter Luft\nberechnen",null,"relativer \nFeuchtegehalt",null,"Abkühl-\nTemperatur",null,"Massenstrom",null,"Vollaststunden\npro Jahr"]
[null,null,null,null,null,null,"°C",null,"kJ/(kg.K)",null,null,null,"%",null,"°C",null,"kg/s",null,"h/a"]
[null,null,null,null,null,null,"°C",null,"kJ/(kg.K)",null,null,null,"%",null,"°C",null,"kg/s",null,"h/a"]
[null,null,null,null,null,null,"°C",null,"kJ/(kg.K)",null,null,null,"%",null,"°C",null,"kg/s",null,"h/a"]
[]
[null,"Für Pinch Liste (versteckt)"]
[null,"(das ist die erste Zelle / erste Spalte)",null,"Use in Pinch List","start T","end T","m","cp","h","P/U","d/y"]
[null,1,{"$f":"(B150&\" \"&B154)","v":" "},{"$f":"IF(B154=\"\",0,1)","v":0},{"$f":"D154","v":0},{"$f":"F154","v":0},{"$f":"H154*1000/3600","v":0},4.1900000000000004,{"$f":"IF(B154=\"Kontinuierlich\",J154*$F$150,(IF(B154=\"Diskontinuierlich\",L154*N154*$F$150,0)))","v":0},"Prozess",{"$f":"$F$150","v":0}]
[null,2,{"$f":"(B150&\" \"&B155)","v":" "},{"$f":"IF(B155=\"\",0,1)","v":0},{"$f":"D155","v":0},{"$f":"F155","v":0},{"$f":"H155*1000/3600","v":0},4.1900000000000004,{"$f":"IF(B155=\"Kontinuierlich\",J155*$F$150,(IF(B155=\"Diskontinuierlich\",L155*N155*$F$150,0)))","v":0},"Prozess",{"$f":"$F$150","v":0}]
[null,3,{"$f":"(B150&\" \"&B159)","v":" "},{"$f":"IF(B159=\"\",0,1)","v":0},{"$f":"F159","v":0},{"$f":"N159","v":0},{"$f":"P159","v":0},{"$f":"H159","v":0},{"$f":"R159","v":0},"Prozess",{"$f":"$F$150","v":0}]
[null,4,{"$f":"(B150&\" \"&B160)","v":" "},{"$f":"IF(B160=\"\",0,1)","v":0},{"$f":"F160","v":0},{"$f":"N160","v":0},{"$f":"P160","v":0},{"$f":"H160","v":0},{"$f":"R160","v":0},"Prozess",{"$f":"$F$150","v":0}]
[null,5,{"$f":"(B151&\" \"&B161)","v":" "},{"$f":"IF(B161=\"\",0,1)","v":0},0,0,0,0,0,"Prozess",{"$f":"$F$150","v":0}]

{"sheet":"Prozessoptimierung_FreieBranche","index":25,"n_rows":12,"n_cols":3,"rows_kept":12,"cut":false,"hidden":false,"merged":[[17,2,19,2],[21,2,24,2],[26,2,27,2],[11,2,12,5]]}
[]
[]
[]
[]
[]
[]
[]
[]
[]
[]
[]
[null,null,"Klicken Sie auf den \"Optimieren\" Button um in das EnPro WikiWeb\nzu gelangen in welchem Sie Möglichkeiten zur Optimierung von\nindustriellen Prozessen erhalten. "]

{"sheet":"Prozessoptimierung_Metall","index":26,"n_rows":28,"n_cols":4,"rows_kept":28,"cut":false,"hidden":true,"merged":[[10,2,15,2],[17,2,19,2],[21,2,24,2],[26,2,27,2]]}
[]
[]
[]
[]
[]
[]
[]
[]
[]
[]
[null,null,"Vorbehandlung","Entsiegelung"]
[null,null,null,"Spülen"]
[null,null,null,"Entfettung"]
[null,null,null,"Heißentfettung"]
[null,null,null,"Elektrolytische Entfettung"]
[null,null,null,"Dekapieren"]
[]
[null,null,"Hauptbehandlung","Verzinken"]
[null,null,null,"Verkupfern"]
[null,null,null,"Verchromen"]
[]
[null,null,"Nachbehandlung ","Aufhellung"]
[null,null,null,"Dickschichtpassivierung"]
[null,null,null,"Versiegelung"]
[null,null,null,"Trocknung"]
[]
[null,null,"Allgemein","Raumwärme"]
[null,null,null,"Raumkühlung"]

{"sheet":"Prozessoptimierung_Lebensmittel","index":27,"n_rows":21,"n_cols":4,"rows_kept":21,"cut":false,"hidden":true,"merged":[[19,2,20,2],[10,2,17,2]]}
[]
[]
[]
[]
[]
[]
[]
[]
[]
[]
[null,null,null,"Backen"]
[null,null,null,"Pasteurisierung"]
[null,null,null,"Verdampfung"]
[null,null,null,"Trocknung"]
[null,null,null,"Blanchieren"]
[null,null,null,"Brauen"]
[null,null,null,"Kochen"]
[null,null,null,"Reinigung"]
[]
[null,null,"Allgemein","Raumwärme"]
[null,null,null,"Raumkühlung"]

{"sheet":"Prozessoptimierung_Dämmstoffe","index":28,"n_rows":28,"n_cols":4,"rows_kept":28,"cut":false,"hidden":true,"merged":[[10,2,15,2],[17,2,19,2],[21,2,24,2],[26,2,27,2]]}
[]
[]
[]
[]
[]
[]
[]
[]
[]
[]
[null,null,null,"Polymerisation (Aufschäumen)"]
[]
[]
[]
[]
[]
[]
[]
[]
[]
[]
[]
[]
[]
[]
[]
[null,null,"Allgemein","Raumwärme"]
[null,null,null,"Raumkühlung"]

{"sheet":"Prozessoptimierung_Wäscherei","index":29,"n_rows":28,"n_cols":4,"rows_kept":28,"cut":false,"hidden":true,"merged":[[10,2,15,2],[17,2,19,2],[21,2,24,2],[26,2,27,2]]}
[]
[]
[]
[]
[]
[]
[]
[]
[]
[]
[null,null,null,"Waschen und Reinigen"]
[null,null,null,"Trocknung"]
[]
[]
[]
[]
[]
[]
[]
[]
[]
[]
[]
[]
[]
[]
[null,null,"Allgemein","Raumwärme"]
[null,null,null,"Raumkühlung"]

{"sheet":"Prozessoptimierung_Papier","index":30,"n_rows":28,"n_cols":4,"rows_kept":28,"cut":false,"hidden":true,"merged":[[10,2,15,2],[17,2,19,2],[21,2,24,2],[26,2,27,2]]}
[]
[]
[]
[]
[]
[]
[]
[]
[]
[]
[null,null,null,"Entwässern"]
[null,null,null,"Pressen"]
[null,null,null,"Trocknen"]
[null,null,null,"Leimpressen"]
[]
[]
[]
[]
[]
[]
[]
[]
[]
[]
[]
[]
[null,null,"Allgemein","Raumwärme"]
[null,null,null,"Raumkühlung"]

{"sheet":"01_StromListe","index":31,"n_rows":111,"n_cols":352,"rows_kept":111,"cut":false,"hidden":false,"merged":[]}
[]
[]
[]
[]
[]
[null,null,null,null,null,null,null,null,null,null,null,null,null,null,null,null,null,null,null,null,null,null,null,null,null,null,null,null,null,null,null,null,null,null,null,null,null,null,null,null,null,null,null,null,null,null,null,null,null,null,null,null,null,null,null,null,null,null,null,null,null,null,null,null,null,null,null,null,null,null,null,null,null,null,null,null,null,null,null,null,null,null,null,null,null,null,null,null,null,null,null,null,null,null,null,null,null,null,null,null,null,null,null,null,null,null,null,null,null,null,null,null,null,null,null,null,null,null,null,null,null,null,null,null,null,null,null,null,null,null,null,null,null,null,null,null,null,null,null,null,null,null,null,null,null,null,null,null,null,null,null,null,null,null,null,null,null,null,null,null,null,null,null,null,null,null,null,null,null,null,null,null,null,null,null,null,null,null,null,null,null,null,null,null,null,null,null,null,null,null,null,null,null,null,null,null,null,null,null,null,null,null,null,null,null,null,null,null,null,null,null,null,null,null,null,null,null,null,null,null,null,null,null,null,null,null,null,null,null,null,null,null,null,null,null,null,null,null,null,null,null,null,null,null,null,null,null,null,null,null,"dTmin for Hot and Cold Composite Curves"]
[null,null,null,null,null,null,null,null,null,null,null,null,null,null,null,null,null,null,null,null,null,null,null,null,null,null,null,null,null,null,null,null,null,null,"T CCC MIN",{"$f":"MIN(IF(($V$11:$V$110=\"Prozess\") * ($G$11:$G$110=\"cold\") * ($AA$11:$AA$110=1),$E$11:$E$110))","v":0},"°C",null,"Csum",null,{"$f":"SUM(AO11:AO110)","v":0},{"$f":"SUM(AP11:AP110)","v":0},{"$f":"SUM(AQ11:AQ110)","v":0},{"$f":"SUM(AR11:AR110)","v":0},0,0,0,0,0,0,0,0,0,0,0,0,0,{"$f":"SUM(BF11:BF110)","v":0},0,0,0,0,0,0,0,0,0,0,0,0,0,0,0,0,0,0,0,0,0,0,0,0,0,0,0,0,0,0,0,0,0,0,0,0,0,0,0,0,0,0,0,0,0,0,0,0,0,{"$f":"SUM(DD11:DD110)","v":0},0,0,0,0,0,0,0,0,0,0,0,0,0,0,0,0,0,0,0,0,0,0,0,0,0,0,0,0,0,0,0,0,{"$f":"SUM(EK11:EK110)","v":0},null,null,null,"Hsum",null,{"$f":"SUM(EQ11:EQ110)","v":0},{"$f":"SUM(ER11:ER110)","v":0},0,0,0,0,0,0,0,0,0,0,0,0,0,0,0,0,0,0,0,0,0,0,0,0,0,0,0,0,0,0,0,0,0,0,0,0,0,0,0,0,0,0,0,0,0,0,0,0,0,0,0,0,0,0,0,0,0,0,0,0,0,0,0,{"$f":"SUM(HD11:HD110)","v":0},0,0,0,0,0,0,0,0,0,0,0,0,0,0,0,0,0,0,0,0,0,0,0,0,0,0,0,0,0,0,0,0,0,0,{"$f":"SUM(IM11:IM110)","v":0}]
[null,null,null,null,null,null,null,null,null,null,null,null,null,null,null,null,null,null,null,null,null,null,null,null,null,null,null,null,null,null,null,null,null,null,"T CCC MAX",{"$f":"MAX(IF(($V$11:$V$110=\"Prozess\") * ($G$11:$G$110=\"cold\") * ($AA$11:$AA$110=1),$F$11:$F$110))","v":0},"°C",null,"Csumacc",null,{"$f":"AO7+AN8+PinchLoadShift","v":62.399999999999977},{"$f":"AP7+AO8","v":62.399999999999977},{"$f":"AQ7+AP8","v":62.399999999999977},62.399999999999977,62.399999999999977,62.399999999999977,62.399999999999977,62.399999999999977,62.399999999999977,62.399999999999977,62.399999999999977,62.399999999999977,62.399999999999977,62.399999999999977,62.399999999999977,62.399999999999977,62.399999999999977,62.399999999999977,62.399999999999977,62.399999999999977,62.399999999999977,62.399999999999977,62.399999999999977,62.399999999999977,62.399999999999977,62.399999999999977,62.399999999999977,62.399999999999977,62.399999999999977,62.399999999999977,62.399999999999977,62.399999999999977,62.399999999999977,62.399999999999977,62.399999999999977,62.399999999999977,62.399999999999977,62.399999999999977,62.399999999999977,62.399999999999977,62.399999999999977,62.399999999999977,62.399999999999977,62.399999999999977,62.399999999999977,62.399999999999977,62.399999999999977,62.399999999999977,62.399999999999977,62.399999999999977,62.399999999999977,62.399999999999977,62.399999999999977,62.399999999999977,62.399999999999977,62.399999999999977,62.399999999999977,62.399999999999977,62.399999999999977,62.399999999999977,62.399999999999977,62.399999999999977,62.399999999999977,62.399999999999977,62.399999999999977,62.399999999999977,{"$f":"DC7+DB8","v":62.399999999999977},62.399999999999977,62.399999999999977,62.399999999999977,62.399999999999977,62.399999999999977,62.399999999999977,62.399999999999977,62.399999999999977,62.399999999999977,62.399999999999977,62.399999999999977,62.399999999999977,62.399999999999977,62.399999999999977,62.399999999999977,62.399999999999977,62.399999999999977,62.399999999999977,62.399999999999977,62.399999999999977,62.399999999999977,62.399999999999977,62.399999999999977,62.399999999999977,62.399999999999977,62.399999999999977,62.399999999999977,62.399999999999977,62.399999999999977,62.399999999999977,62.399999999999977,62.399999999999977,{"$f":"EJ7+EI8","v":62.399999999999977},{"$f":"EK7+EJ8","v":62.399999999999977},null,null,null,"Hsumacc",null,{"$f":"EQ7+EP8","v":0},0,0,0,0,0,0,0,0,0,0,0,0,0,0,0,0,0,0,0,0,0,0,0,0,0,0,0,0,0,0,0,0,0,0,0,0,0,0,0,0,0,0,0,0,0,0,0,0,0,0,0,0,0,0,0,0,0,0,0,0,0,0,0,{"$f":"HC7+HB8","v":0},0,0,0,0,0,0,0,0,0,0,0,0,0,0,0,0,0,0,0,0,0,0,0,0,0,0,0,0,0,0,0,0,0,0,0,0,null,null,null,"H",{"$f":"AJ13","v":0},{"$f":"IR8+($AJ$14-$AJ$13)/100","v":0.624},{"$f":"IS8+($AJ$14-$AJ$13)/100","v":1.248},1.8719999999999999,2.496,3.12,3.7440000000000002,4.3680000000000003,4.992,5.6159999999999997,6.2399999999999993,6.863999999999999,7.4879999999999987,8.1119999999999983,8.7359999999999989,9.36,9.984,10.608000000000001,11.232000000000001,11.856000000000002,12.480000000000002,13.104000000000003,13.728000000000003,14.352000000000004,14.976000000000004,15.600000000000005,16.224000000000004,16.848000000000003,17.472000000000001,18.096,18.72,19.343999999999998,19.967999999999996,20.591999999999995,21.215999999999994,21.839999999999993,22.463999999999992,23.08799999999999,23.711999999999989,24.335999999999988,24.959999999999987,25.583999999999985,26.207999999999984,26.831999999999983,27.455999999999982,28.079999999999981,28.703999999999979,29.327999999999978,29.951999999999977,30.575999999999976,31.199999999999974,31.823999999999973,32.447999999999972,33.071999999999974,33.695999999999977,34.319999999999979,34.943999999999981,35.567999999999984,36.191999999999986,36.815999999999988,37.439999999999991,38.063999999999993,38.687999999999995,39.311999999999998,39.936,40.56,{"$f":"LE8+($AJ$14-$AJ$13)/100","v":41.184000000000005},41.808000000000007,42.432000000000009,43.056000000000012,43.680000000000014,44.304000000000016,44.928000000000019,45.552000000000021,46.176000000000023,46.800000000000026,47.424000000000028,48.04800000000003,48.672000000000033,49.296000000000035,49.920000000000037,50.54400000000004,51.168000000000042,51.792000000000044,52.416000000000047,53.040000000000049,53.664000000000051,54.288000000000054,54.912000000000056,55.536000000000058,56.160000000000061,56.784000000000063,57.408000000000065,58.032000000000068,58.65600000000007,59.280000000000072,59.904000000000075,60.528000000000077,61.152000000000079,61.776000000000082,62.400000000000084]
["Strom ID","Heißer \nStrom ID","Kalter \nStrom ID","Strom Name","Start-\nTemperatur","End-\nTemperatur","Heiß/Kalt","Massenstrom","spez.\nWärme-kapazität","m*cp \n(Produkt Massenstrom und spez. Wärmekapazität)","Spezifische \nEnthalpie","Leistung",null,"deleted","deleted","deleted","deleted","Betriebstage \npro Jahr","Betriebsstunden \npro Jahr",null,"Jährlich \nübertragbare Energie","Prozess/\nVersorgung","mcp hot","mcp cold","Rank of hot/cold mcp","Stream Name for sverweis","Check",null,null,null,null,null,null,null,null,null,null,null,null,null,{"$f":"AO10+dTminActual/2","v":0},0,0,0,0,0,0,0,0,0,0,0,0,0,0,0,0,0,0,0,0,0,0,0,0,0,0,0,0,0,0,0,{"$f":"BU10+dTminActual/2","v":0},0,0,0,0,0,0,0,0,0,0,0,0,0,0,0,0,0,0,0,0,0,0,0,0,0,0,0,0,0,0,0,{"$f":"DA10+dTminActual/2","v":0},0,0,0,0,0,0,0,0,0,0,0,0,0,0,0,0,0,0,0,0,0,0,0,0,0,0,0,0,0,0,0,{"$f":"EG10+dTminActual/2","v":0},{"$f":"EH10+dTminActual/2","v":0},{"$f":"EI10+dTminActual/2","v":0},{"$f":"EJ10+dTminActual/2","v":0},{"$f":"EK10+dTminActual/2","v":0},null,null,null,null,null,{"$f":"EQ10-dTminActual/2","v":0},0,0,0,0,0,0,0,0,0,0,0,0,0,0,0,0,0,0,0,0,0,0,0,0,0,0,0,0,0,0,0,{"$f":"FW10-dTminActual/2","v":0},0,0,0,0,0,0,0,0,0,0,0,0,0,0,0,0,0,0,0,0,0,0,0,0,0,0,0,0,0,0,0,{"$f":"HC10-dTminActual/2","v":0},0,0,0,0,0,0,0,0,0,0,0,0,0,0,0,0,0,0,0,0,0,0,0,0,0,0,0,0,0,0,0,{"$f":"II10-dTminActual/2","v":0},{"$f":"IJ10-dTminActual/2","v":0},{"$f":"IK10-dTminActual/2","v":0},{"$f":"IL10-dTminActual/2","v":0},{"$f":"IM10-dTminActual/2","v":0},null,null,null,"T CCC",{"$f":"IF(OR(IR8<$AJ$22,IR8>$AJ$21),\"\",HLOOKUP(IR8,$AN$8:$EK$10,3,TRUE))","v":""},{"$f":"IF(OR(IS8<$AJ$22,IR8>$AJ$21),\"\",HLOOKUP(IS8,$AN$8:$EK$10,3,TRUE))","v":""},"","","","","","","","","","","","","","","","","","","","","","","","","","","","","","","","","","","","","","","","","","","","","","","","","","","","","","","","","","","","","","","",{"$f":"IF(OR(LE8<$AJ$22,LD8>$AJ$21),\"\",HLOOKUP(LE8,$AN$8:$EK$10,3,TRUE))","v":""},"","","","","","","","","","","","","","","","","","","","","","","","","","","","","","","","","","",0]
[null,null,null,null,"°C","°C",null,"kg/s","kJ/kg.K","kJ/(K.s)","kJ/kg","kW",null,"[]","[]","[]","[]","d/a","h/a",null,"MWh/a",null,null,null,null,null,null,null,null,null,null,null,null,null,"T HCC MIN",{"$f":"MIN(IF(($V$11:$V$110=\"Prozess\") * ($G$11:$G$110=\"hot\")* ($AA$11:$AA$110=1),$F$11:$F$110))","v":0},"°C",null,"T",null,{"$f":"AJ7","v":0},{"$f":"AO10+($AJ$8-$AJ$7)/100","v":0},{"$f":"AP10+($AJ$8-$AJ$7)/100","v":0},0,0,0,0,0,0,0,0,0,0,0,0,0,0,0,0,0,0,0,0,0,0,0,0,0,0,0,0,0,0,0,0,0,0,0,0,0,0,0,0,0,0,0,0,0,0,0,0,0,0,0,0,0,0,0,0,0,0,0,0,0,0,0,{"$f":"DB10+($AJ$8-$AJ$7)/100","v":0},0,0,0,0,0,0,0,0,0,0,0,0,0,0,0,0,0,0,0,0,0,0,0,0,0,0,0,0,0,0,0,0,0,0,null,null,null,"T",null,{"$f":"AJ10","v":0},{"$f":"EQ10+($AJ$11-$AJ$10)/100","v":0},{"$f":"ER10+($AJ$11-$AJ$10)/100","v":0},0,0,0,0,0,0,0,0,0,0,0,0,0,0,0,0,0,0,0,0,0,0,0,0,0,0,0,0,0,0,0,0,0,0,0,0,0,0,0,0,0,0,0,0,0,0,0,0,0,0,0,0,0,0,0,0,0,0,0,0,0,0,0,{"$f":"HD10+($AJ$11-$AJ$10)/100","v":0},0,0,0,0,0,0,0,0,0,0,0,0,0,0,0,0,0,0,0,0,0,0,0,0,0,0,0,0,0,0,0,0,0,0,null,null,null,"T HCC",{"$f":"IF(OR(IR8<$AJ$24,IR8>$AJ$23),\"\",HLOOKUP(IR8,$EP$8:$IM$10,3,TRUE))","v":0},"","","","","","","","","","","","","","","","","","","","","","","","","","","","","","","","","","","","","","","","","","","","","","","","","","","","","","","","","","","","","","","",{"$f":"IF(OR(LD8<$AJ$24,LD8>$AJ$23),\"\",HLOOKUP(LD8,$EP$8:$IM$10,3,TRUE))","v":""},"","","","","","","","","","","","","","","","","","","","","","","","","","","","","","","","","","","",""]
[1,{"$f":"IF(G11=\"hot\",COUNTIF($G$11:G11,\"hot\"),\"\")","v":1},{"$f":"IF(G11=\"cold\",COUNTIF($G$11:G11,\"cold\"),\"\")","v":""},null,null,null,{"$f":"IF(A11=\"\",\"\",IF(E11<F11,\"cold\",\"hot\"))","v":"hot"},null,null,{"$f":"IF(A11=\"\",\"\",IF(T11=\"\",H11*I11,ABS(U11/S11*1000/(E11-F11))))","v":0},{"$f":"IF(A11=\"\",\"\",ABS(I11*(F11-E11)))","v":0},{"$f":"IF(A11=\"\",\"\",IF(T11=\"\",K11*H11,U11/S11*1000))","v":0},null,null,null,null,null,null,null,null,{"$f":"IF(A11=\"\",\"\",IF(T11=\"\",S11*L11/1000,T11))","v":0},null,{"$f":"IF(G11=\"hot\",J11,\"\")","v":0},{"$f":"IF(G11=\"cold\",J11,\"\")","v":""},{"$f":"IF(G11=\"\",\"\",IF(G11=\"hot\",_xlfn.RANK.EQ(W11,$W$11:$W$110),_xlfn.RANK.EQ(X11,$X$11:$X$110)))","v":1},{"$f":"IF(D11=\"\",\"\",D11)","v":""},{"$f":"IF(D11=\"\",\"\",IF(AND(ISNUMBER(E11),ISNUMBER(F11),ISNUMBER(I11),ISNUMBER(S11),ISTEXT(D11),ISTEXT(V11),OR(ISNUMBER(H11),ISNUMBER(T11)),E11<>F11,E11>0,F11>0,I11>0,S11>0,OR(H11>0,T11>0))=TRUE,1,0))","v":""},null,null,null,null,null,null,null,"T HCC MAX",{"$f":"MAX(IF(($V$11:$V$110=\"Prozess\") * ($G$11:$G$110=\"hot\") * ($AA$11:$AA$110=1),$E$11:$E$110))","v":0},"°C",null,{"$f":"D11","v":0},null,{"$f":"IF(OR($V11=\"Utility\",$AA11=0),\"x\",IF($G11=\"hot\",\"x\",IF(AND(AO$10>$E11,AN$10<$F11),IF(AN$10>$E11,IF(AO$10>$F11,$U11/($F11-$E11)*($F11-AN$10),$U11/($F11-$E11)*(AO$10-AN$10)),$U11/($F11-$E11)*(AO$10-$E11)),\"x\")))","v":"x"},"x","x","x","x","x","x","x","x","x","x","x","x","x","x","x","x","x","x","x","x","x","x","x","x","x","x","x","x","x","x","x",{"$f":"IF(OR($V11=\"Utility\",$AA11=0),\"x\",IF($G11=\"hot\",\"x\",IF(AND(BU$10>$E11,BT$10<$F11),IF(BT$10>$E11,IF(BU$10>$F11,$U11/($F11-$E11)*($F11-BT$10),$U11/($F11-$E11)*(BU$10-BT$10)),$U11/($F11-$E11)*(BU$10-$E11)),\"x\")))","v":"x"},"x","x","x","x","x","x","x","x","x","x","x","x","x","x","x","x","x","x","x","x","x","x","x","x","x","x","x","x","x","x","x",{"$f":"IF(OR($V11=\"Utility\",$AA11=0),\"x\",IF($G11=\"hot\",\"x\",IF(AND(DA$10>$E11,CZ$10<$F11),IF(CZ$10>$E11,IF(DA$10>$F11,$U11/($F11-$E11)*($F11-CZ$10),$U11/($F11-$E11)*(DA$10-CZ$10)),$U11/($F11-$E11)*(DA$10-$E11)),\"x\")))","v":"x"},"x","x","x","x","x","x","x","x","x","x","x","x","x","x","x","x","x","x","x","x","x","x","x","x","x","x","x","x","x","x","x","x","x","x","x","x",null,null,null,{"$f":"D11","v":0},null,{"$f":"IF(OR($V11=\"Utility\",$AA11=0),\"x\",IF($G11=\"cold\",\"x\",IF(AND(EQ$10>$F11,EP$10<$E11),IF(EP$10>$F11,IF(EQ$10>$E11,$U11/($E11-$F11)*($E11-EP$10),$U11/($E11-$F11)*(EQ$10-EP$10)),$U11/($E11-$F11)*(EQ$10-$F11)),\"x\")))","v":"x"},"x","x","x","x","x","x","x","x","x","x","x","x","x","x","x","x","x","x","x","x","x","x","x","x","x","x","x","x","x","x","x",{"$f":"IF(OR($V11=\"Utility\",$AA11=0),\"x\",IF($G11=\"cold\",\"x\",IF(AND(FW$10>$F11,FV$10<$E11),IF(FV$10>$F11,IF(FW$10>$E11,$U11/($E11-$F11)*($E11-FV$10),$U11/($E11-$F11)*(FW$10-FV$10)),$U11/($E11-$F11)*(FW$10-$F11)),\"x\")))","v":"x"},"x","x","x","x","x","x","x","x","x","x","x","x","x","x","x","x","x","x","x","x","x","x","x","x","x","x","x","x","x","x","x",{"$f":"IF(OR($V11=\"Utility\",$AA11=0),\"x\",IF($G11=\"cold\",\"x\",IF(AND(HC$10>$F11,HB$10<$E11),IF(HB$10>$F11,IF(HC$10>$E11,$U11/($E11-$F11)*($E11-HB$10),$U11/($E11-$F11)*(HC$10-HB$10)),$U11/($E11-$F11)*(HC$10-$F11)),\"x\")))","v":"x"},"x","x","x","x","x","x","x","x","x","x","x","x","x","x","x","x","x","x","x","x","x","x","x","x","x","x","x","x","x","x","x","x","x","x","x","x",null,null,null,"Diff",{"$f":"IF(OR(IR9=\"\",IR10=\"\"),\"\",IR10-IR9)","v":""},{"$f":"IF(OR(IS9=\"\",IS10=\"\"),\"\",IS10-IS9)","v":""},"","","","","","","","","","","","","","","","","","","","","","","","","","","","","","","","","","",{"$f":"IF(OR(KB9=\"\",KB10=\"\"),\"\",KB10-KB9)","v":""},{"$f":"IF(OR(KC9=\"\",KC10=\"\"),\"\",KC10-KC9)","v":""},"","","","","","","","","","","","","","","","","","","","","","","","","","","","","","","","","","","","","","","","","","","","","","","","","","","","","","","","","","","","","","",""]
[{"$f":"IF(D12=\"\",\"\",A11+1)","v":""},{"$f":"IF(G12=\"hot\",COUNTIF($G$11:G12,\"hot\"),\"\")","v":""},{"$f":"IF(G12=\"cold\",COUNTIF($G$11:G12,\"cold\"),\"\")","v":""},null,null,null,{"$f":"IF(A12=\"\",\"\",IF(E12<F12,\"cold\",\"hot\"))","v":""},null,null,{"$f":"IF(A12=\"\",\"\",IF(T12=\"\",H12*I12,ABS(U12/S12*1000/(E12-F12))))","v":""},{"$f":"IF(A12=\"\",\"\",ABS(I12*(F12-E12)))","v":""},{"$f":"IF(A12=\"\",\"\",IF(T12=\"\",K12*H12,U12/S12*1000))","v":""},null,null,null,null,null,null,null,null,{"$f":"IF(A12=\"\",\"\",IF(T12=\"\",S12*L12/1000,T12))","v":""},null,"",{"$f":"IF(G12=\"cold\",J12,\"\")","v":""},"","",{"$f":"IF(D12=\"\",\"\",IF(AND(ISNUMBER(E12),ISNUMBER(F12),ISNUMBER(I12),ISNUMBER(S12),ISTEXT(D12),ISTEXT(V12),OR(ISNUMBER(H12),ISNUMBER(T12)),E12<>F12,E12>0,F12>0,I12>0,S12>0,OR(H12>0,T12>0))=TRUE,1,0))","v":""},null,null,null,null,null,null,null,null,null,null,null,0,null,{"$f":"IF(OR($V12=\"Utility\",$AA12=0),\"x\",IF($G12=\"hot\",\"x\",IF(AND(AO$10>$E12,AN$10<$F12),IF(AN$10>$E12,IF(AO$10>$F12,$U12/($F12-$E12)*($F12-AN$10),$U12/($F12-$E12)*(AO$10-AN$10)),$U12/($F12-$E12)*(AO$10-$E12)),\"x\")))","v":"x"},"x","x","x","x","x","x","x","x","x","x","x","x","x","x","x","x","x","x","x","x","x","x","x","x","x","x","x","x","x","x","x",{"$f":"IF(OR($V12=\"Utility\",$AA12=0),\"x\",IF($G12=\"hot\",\"x\",IF(AND(BU$10>$E12,BT$10<$F12),IF(BT$10>$E12,IF(BU$10>$F12,$U12/($F12-$E12)*($F12-BT$10),$U12/($F12-$E12)*(BU$10-BT$10)),$U12/($F12-$E12)*(BU$10-$E12)),\"x\")))","v":"x"},"x","x","x","x","x","x","x","x","x","x","x","x","x","x","x","x","x","x","x","x","x","x","x","x","x","x","x","x","x","x","x",{"$f":"IF(OR($V12=\"Utility\",$AA12=0),\"x\",IF($G12=\"hot\",\"x\",IF(AND(DA$10>$E12,CZ$10<$F12),IF(CZ$10>$E12,IF(DA$10>$F12,$U12/($F12-$E12)*($F12-CZ$10),$U12/($F12-$E12)*(DA$10-CZ$10)),$U12/($F12-$E12)*(DA$10-$E12)),\"x\")))","v":"x"},"x","x","x","x","x","x","x","x","x","x","x","x","x","x","x","x","x","x","x","x","x","x","x","x","x","x","x","x","x","x","x","x","x","x","x","x",null,null,null,0,null,{"$f":"IF(OR($V12=\"Utility\",$AA12=0),\"x\",IF($G12=\"cold\",\"x\",IF(AND(EQ$10>$F12,EP$10<$E12),IF(EP$10>$F12,IF(EQ$10>$E12,$U12/($E12-$F12)*($E12-EP$10),$U12/($E12-$F12)*(EQ$10-EP$10)),$U12/($E12-$F12)*(EQ$10-$F12)),\"x\")))","v":"x"},"x","x","x","x","x","x","x","x","x","x","x","x","x","x","x","x","x","x","x","x","x","x","x","x","x","x","x","x","x","x","x",{"$f":"IF(OR($V12=\"Utility\",$AA12=0),\"x\",IF($G12=\"cold\",\"x\",IF(AND(FW$10>$F12,FV$10<$E12),IF(FV$10>$F12,IF(FW$10>$E12,$U12/($E12-$F12)*($E12-FV$10),$U12/($E12-$F12)*(FW$10-FV$10)),$U12/($E12-$F12)*(FW$10-$F12)),\"x\")))","v":"x"},"x","x","x","x","x","x","x","x","x","x","x","x","x","x","x","x","x","x","x","x","x","x","x","x","x","x","x","x","x","x","x",{"$f":"IF(OR($V12=\"Utility\",$AA12=0),\"x\",IF($G12=\"cold\",\"x\",IF(AND(HC$10>$F12,HB$10<$E12),IF(HB$10>$F12,IF(HC$10>$E12,$U12/($E12-$F12)*($E12-HB$10),$U12/($E12-$F12)*(HC$10-HB$10)),$U12/($E12-$F12)*(HC$10-$F12)),\"x\")))","v":"x"},"x","x","x","x","x","x","x","x","x","x","x","x","x","x","x","x","x","x","x","x","x","x","x","x","x","x","x","x","x","x","x","x","x","x","x","x"]
["",{"$f":"IF(G13=\"hot\",COUNTIF($G$11:G13,\"hot\"),\"\")","v":""},{"$f":"IF(G13=\"cold\",COUNTIF($G$11:G13,\"cold\"),\"\")","v":""},null,null,null,"",null,null,"","","",null,null,null,null,null,null,null,null,"",null,"","","","","",null,null,null,null,null,null,null,"H MIN",0,"MWh",null,0,null,{"$f":"IF(OR($V13=\"Utility\",$AA13=0),\"x\",IF($G13=\"hot\",\"x\",IF(AND(AO$10>$E13,AN$10<$F13),IF(AN$10>$E13,IF(AO$10>$F13,$U13/($F13-$E13)*($F13-AN$10),$U13/($F13-$E13)*(AO$10-AN$10)),$U13/($F13-$E13)*(AO$10-$E13)),\"x\")))","v":"x"},"x","x","x","x","x","x","x","x","x","x","x","x","x","x","x","x","x","x","x","x","x","x","x","x","x","x","x","x","x","x","x",{"$f":"IF(OR($V13=\"Utility\",$AA13=0),\"x\",IF($G13=\"hot\",\"x\",IF(AND(BU$10>$E13,BT$10<$F13),IF(BT$10>$E13,IF(BU$10>$F13,$U13/($F13-$E13)*($F13-BT$10),$U13/($F13-$E13)*(BU$10-BT$10)),$U13/($F13-$E13)*(BU$10-$E13)),\"x\")))","v":"x"},"x","x","x","x","x","x","x","x","x","x","x","x","x","x","x","x","x","x","x","x","x","x","x","x","x","x","x","x","x","x","x",{"$f":"IF(OR($V13=\"Utility\",$AA13=0),\"x\",IF($G13=\"hot\",\"x\",IF(AND(DA$10>$E13,CZ$10<$F13),IF(CZ$10>$E13,IF(DA$10>$F13,$U13/($F13-$E13)*($F13-CZ$10),$U13/($F13-$E13)*(DA$10-CZ$10)),$U13/($F13-$E13)*(DA$10-$E13)),\"x\")))","v":"x"},"x","x","x","x","x","x","x","x","x","x","x","x","x","x","x","x","x","x","x","x","x","x","x","x","x","x","x","x","x","x","x","x","x","x","x","x",null,null,null,0,null,{"$f":"IF(OR($V13=\"Utility\",$AA13=0),\"x\",IF($G13=\"cold\",\"x\",IF(AND(EQ$10>$F13,EP$10<$E13),IF(EP$10>$F13,IF(EQ$10>$E13,$U13/($E13-$F13)*($E13-EP$10),$U13/($E13-$F13)*(EQ$10-EP$10)),$U13/($E13-$F13)*(EQ$10-$F13)),\"x\")))","v":"x"},"x","x","x","x","x","x","x","x","x","x","x","x","x","x","x","x","x","x","x","x","x","x","x","x","x","x","x","x","x","x","x",{"$f":"IF(OR($V13=\"Utility\",$AA13=0),\"x\",IF($G13=\"cold\",\"x\",IF(AND(FW$10>$F13,FV$10<$E13),IF(FV$10>$F13,IF(FW$10>$E13,$U13/($E13-$F13)*($E13-FV$10),$U13/($E13-$F13)*(FW$10-FV$10)),$U13/($E13-$F13)*(FW$10-$F13)),\"x\")))","v":"x"},"x","x","x","x","x","x","x","x","x","x","x","x","x","x","x","x","x","x","x","x","x","x","x","x","x","x","x","x","x","x","x",{"$f":"IF(OR($V13=\"Utility\",$AA13=0),\"x\",IF($G13=\"cold\",\"x\",IF(AND(HC$10>$F13,HB$10<$E13),IF(HB$10>$F13,IF(HC$10>$E13,$U13/($E13-$F13)*($E13-HB$10),$U13/($E13-$F13)*(HC$10-HB$10)),$U13/($E13-$F13)*(HC$10-$F13)),\"x\")))","v":"x"},"x","x","x","x","x","x","x","x","x","x","x","x","x","x","x","x","x","x","x","x","x","x","x","x","x","x","x","x","x","x","x","x","x","x","x","x"]
["",{"$f":"IF(G14=\"hot\",COUNTIF($G$11:G14,\"hot\"),\"\")","v":""},{"$f":"IF(G14=\"cold\",COUNTIF($G$11:G14,\"cold\"),\"\")","v":""},null,null,null,"",null,null,"","","",null,null,null,null,null,null,null,null,"",null,"","","","","",null,null,null,null,null,null,null,"H MAX",{"$f":"ROUNDUP(MAX(IM8,EK8),2)","v":62.4},"MWh",null,0,null,{"$f":"IF(OR($V14=\"Utility\",$AA14=0),\"x\",IF($G14=\"hot\",\"x\",IF(AND(AO$10>$E14,AN$10<$F14),IF(AN$10>$E14,IF(AO$10>$F14,$U14/($F14-$E14)*($F14-AN$10),$U14/($F14-$E14)*(AO$10-AN$10)),$U14/($F14-$E14)*(AO$10-$E14)),\"x\")))","v":"x"},"x","x","x","x","x","x","x","x","x","x","x","x","x","x","x","x","x","x","x","x","x","x","x","x","x","x","x","x","x","x","x",{"$f":"IF(OR($V14=\"Utility\",$AA14=0),\"x\",IF($G14=\"hot\",\"x\",IF(AND(BU$10>$E14,BT$10<$F14),IF(BT$10>$E14,IF(BU$10>$F14,$U14/($F14-$E14)*($F14-BT$10),$U14/($F14-$E14)*(BU$10-BT$10)),$U14/($F14-$E14)*(BU$10-$E14)),\"x\")))","v":"x"},"x","x","x","x","x","x","x","x","x","x","x","x","x","x","x","x","x","x","x","x","x","x","x","x","x","x","x","x","x","x","x",{"$f":"IF(OR($V14=\"Utility\",$AA14=0),\"x\",IF($G14=\"hot\",\"x\",IF(AND(DA$10>$E14,CZ$10<$F14),IF(CZ$10>$E14,IF(DA$10>$F14,$U14/($F14-$E14)*($F14-CZ$10),$U14/($F14-$E14)*(DA$10-CZ$10)),$U14/($F14-$E14)*(DA$10-$E14)),\"x\")))","v":"x"},"x","x","x","x","x","x","x","x","x","x","x","x","x","x","x","x","x","x","x","x","x","x","x","x","x","x","x","x","x","x","x","x","x","x","x","x",null,null,null,0,null,{"$f":"IF(OR($V14=\"Utility\",$AA14=0),\"x\",IF($G14=\"cold\",\"x\",IF(AND(EQ$10>$F14,EP$10<$E14),IF(EP$10>$F14,IF(EQ$10>$E14,$U14/($E14-$F14)*($E14-EP$10),$U14/($E14-$F14)*(EQ$10-EP$10)),$U14/($E14-$F14)*(EQ$10-$F14)),\"x\")))","v":"x"},"x","x","x","x","x","x","x","x","x","x","x","x","x","x","x","x","x","x","x","x","x","x","x","x","x","x","x","x","x","x","x",{"$f":"IF(OR($V14=\"Utility\",$AA14=0),\"x\",IF($G14=\"cold\",\"x\",IF(AND(FW$10>$F14,FV$10<$E14),IF(FV$10>$F14,IF(FW$10>$E14,$U14/($E14-$F14)*($E14-FV$10),$U14/($E14-$F14)*(FW$10-FV$10)),$U14/($E14-$F14)*(FW$10-$F14)),\"x\")))","v":"x"},"x","x","x","x","x","x","x","x","x","x","x","x","x","x","x","x","x","x","x","x","x","x","x","x","x","x","x","x","x","x","x",{"$f":"IF(OR($V14=\"Utility\",$AA14=0),\"x\",IF($G14=\"cold\",\"x\",IF(AND(HC$10>$F14,HB$10<$E14),IF(HB$10>$F14,IF(HC$10>$E14,$U14/($E14-$F14)*($E14-HB$10),$U14/($E14-$F14)*(HC$10-HB$10)),$U14/($E14-$F14)*(HC$10-$F14)),\"x\")))","v":"x"},"x","x","x","x","x","x","x","x","x","x","x","x","x","x","x","x","x","x","x","x","x","x","x","x","x","x","x","x","x","x","x","x","x","x","x","x",null,null,null,"Grand Composite Curve"]
["",{"$f":"IF(G15=\"hot\",COUNTIF($G$11:G15,\"hot\"),\"\")","v":""},{"$f":"IF(G15=\"cold\",COUNTIF($G$11:G15,\"cold\"),\"\")","v":""},null,null,null,"",null,null,"","","",null,null,null,null,null,null,null,null,"",null,"","","","","",null,null,null,null,null,null,null,null,null,null,null,0,null,{"$f":"IF(OR($V15=\"Utility\",$AA15=0),\"x\",IF($G15=\"hot\",\"x\",IF(AND(AO$10>$E15,AN$10<$F15),IF(AN$10>$E15,IF(AO$10>$F15,$U15/($F15-$E15)*($F15-AN$10),$U15/($F15-$E15)*(AO$10-AN$10)),$U15/($F15-$E15)*(AO$10-$E15)),\"x\")))","v":"x"},"x","x","x","x","x","x","x","x","x","x","x","x","x","x","x","x","x","x","x","x","x","x","x","x","x","x","x","x","x","x","x",{"$f":"IF(OR($V15=\"Utility\",$AA15=0),\"x\",IF($G15=\"hot\",\"x\",IF(AND(BU$10>$E15,BT$10<$F15),IF(BT$10>$E15,IF(BU$10>$F15,$U15/($F15-$E15)*($F15-BT$10),$U15/($F15-$E15)*(BU$10-BT$10)),$U15/($F15-$E15)*(BU$10-$E15)),\"x\")))","v":"x"},"x","x","x","x","x","x","x","x","x","x","x","x","x","x","x","x","x","x","x","x","x","x","x","x","x","x","x","x","x","x","x",{"$f":"IF(OR($V15=\"Utility\",$AA15=0),\"x\",IF($G15=\"hot\",\"x\",IF(AND(DA$10>$E15,CZ$10<$F15),IF(CZ$10>$E15,IF(DA$10>$F15,$U15/($F15-$E15)*($F15-CZ$10),$U15/($F15-$E15)*(DA$10-CZ$10)),$U15/($F15-$E15)*(DA$10-$E15)),\"x\")))","v":"x"},"x","x","x","x","x","x","x","x","x","x","x","x","x","x","x","x","x","x","x","x","x","x","x","x","x","x","x","x","x","x","x","x","x","x","x","x",null,null,null,0,null,{"$f":"IF(OR($V15=\"Utility\",$AA15=0),\"x\",IF($G15=\"cold\",\"x\",IF(AND(EQ$10>$F15,EP$10<$E15),IF(EP$10>$F15,IF(EQ$10>$E15,$U15/($E15-$F15)*($E15-EP$10),$U15/($E15-$F15)*(EQ$10-EP$10)),$U15/($E15-$F15)*(EQ$10-$F15)),\"x\")))","v":"x"},"x","x","x","x","x","x","x","x","x","x","x","x","x","x","x","x","x","x","x","x","x","x","x","x","x","x","x","x","x","x","x",{"$f":"IF(OR($V15=\"Utility\",$AA15=0),\"x\",IF($G15=\"cold\",\"x\",IF(AND(FW$10>$F15,FV$10<$E15),IF(FV$10>$F15,IF(FW$10>$E15,$U15/($E15-$F15)*($E15-FV$10),$U15/($E15-$F15)*(FW$10-FV$10)),$U15/($E15-$F15)*(FW$10-$F15)),\"x\")))","v":"x"},"x","x","x","x","x","x","x","x","x","x","x","x","x","x","x","x","x","x","x","x","x","x","x","x","x","x","x","x","x","x","x",{"$f":"IF(OR($V15=\"Utility\",$AA15=0),\"x\",IF($G15=\"cold\",\"x\",IF(AND(HC$10>$F15,HB$10<$E15),IF(HB$10>$F15,IF(HC$10>$E15,$U15/($E15-$F15)*($E15-HB$10),$U15/($E15-$F15)*(HC$10-HB$10)),$U15/($E15-$F15)*(HC$10-$F15)),\"x\")))","v":"x"},"x","x","x","x","x","x","x","x","x","x","x","x","x","x","x","x","x","x","x","x","x","x","x","x","x","x","x","x","x","x","x","x","x","x","x","x"]
["",{"$f":"IF(G16=\"hot\",COUNTIF($G$11:G16,\"hot\"),\"\")","v":""},{"$f":"IF(G16=\"cold\",COUNTIF($G$11:G16,\"cold\"),\"\")","v":""},null,null,null,"",null,null,"","","",null,null,null,null,null,null,null,null,"",null,"","","","","",null,null,null,null,null,null,null,"dTmin required",{"$f":"'02_PinchKurven'!D6","v":11},"Kelvin",null,0,null,{"$f":"IF(OR($V16=\"Utility\",$AA16=0),\"x\",IF($G16=\"hot\",\"x\",IF(AND(AO$10>$E16,AN$10<$F16),IF(AN$10>$E16,IF(AO$10>$F16,$U16/($F16-$E16)*($F16-AN$10),$U16/($F16-$E16)*(AO$10-AN$10)),$U16/($F16-$E16)*(AO$10-$E16)),\"x\")))","v":"x"},"x","x","x","x","x","x","x","x","x","x","x","x","x","x","x","x","x","x","x","x","x","x","x","x","x","x","x","x","x","x","x",{"$f":"IF(OR($V16=\"Utility\",$AA16=0),\"x\",IF($G16=\"hot\",\"x\",IF(AND(BU$10>$E16,BT$10<$F16),IF(BT$10>$E16,IF(BU$10>$F16,$U16/($F16-$E16)*($F16-BT$10),$U16/($F16-$E16)*(BU$10-BT$10)),$U16/($F16-$E16)*(BU$10-$E16)),\"x\")))","v":"x"},"x","x","x","x","x","x","x","x","x","x","x","x","x","x","x","x","x","x","x","x","x","x","x","x","x","x","x","x","x","x","x",{"$f":"IF(OR($V16=\"Utility\",$AA16=0),\"x\",IF($G16=\"hot\",\"x\",IF(AND(DA$10>$E16,CZ$10<$F16),IF(CZ$10>$E16,IF(DA$10>$F16,$U16/($F16-$E16)*($F16-CZ$10),$U16/($F16-$E16)*(DA$10-CZ$10)),$U16/($F16-$E16)*(DA$10-$E16)),\"x\")))","v":"x"},"x","x","x","x","x","x","x","x","x","x","x","x","x","x","x","x","x","x","x","x","x","x","x","x","x","x","x","x","x","x","x","x","x","x","x","x",null,null,null,0,null,{"$f":"IF(OR($V16=\"Utility\",$AA16=0),\"x\",IF($G16=\"cold\",\"x\",IF(AND(EQ$10>$F16,EP$10<$E16),IF(EP$10>$F16,IF(EQ$10>$E16,$U16/($E16-$F16)*($E16-EP$10),$U16/($E16-$F16)*(EQ$10-EP$10)),$U16/($E16-$F16)*(EQ$10-$F16)),\"x\")))","v":"x"},"x","x","x","x","x","x","x","x","x","x","x","x","x","x","x","x","x","x","x","x","x","x","x","x","x","x","x","x","x","x","x",{"$f":"IF(OR($V16=\"Utility\",$AA16=0),\"x\",IF($G16=\"cold\",\"x\",IF(AND(FW$10>$F16,FV$10<$E16),IF(FV$10>$F16,IF(FW$10>$E16,$U16/($E16-$F16)*($E16-FV$10),$U16/($E16-$F16)*(FW$10-FV$10)),$U16/($E16-$F16)*(FW$10-$F16)),\"x\")))","v":"x"},"x","x","x","x","x","x","x","x","x","x","x","x","x","x","x","x","x","x","x","x","x","x","x","x","x","x","x","x","x","x","x",{"$f":"IF(OR($V16=\"Utility\",$AA16=0),\"x\",IF($G16=\"cold\",\"x\",IF(AND(HC$10>$F16,HB$10<$E16),IF(HB$10>$F16,IF(HC$10>$E16,$U16/($E16-$F16)*($E16-HB$10),$U16/($E16-$F16)*(HC$10-HB$10)),$U16/($E16-$F16)*(HC$10-$F16)),\"x\")))","v":"x"},"x","x","x","x","x","x","x","x","x","x","x","x","x","x","x","x","x","x","x","x","x","x","x","x","x","x","x","x","x","x","x","x","x","x","x","x",null,null,null,"T",{"$f":"MIN(AO9:IM9)","v":0},{"$f":"IR16+(MAX($AO$9:$IM$9)-MIN($AO$9:$IM$9))/100","v":0},{"$f":"IS16+(MAX($AO$9:$IM$9)-MIN($AO$9:$IM$9))/100","v":0},0,0,0,0,0,0,0,0,0,0,0,0,0,0,0,0,0,0,0,0,0,0,0,0,0,0,0,0,0,0,0,0,0,0,0,0,0,0,0,0,0,0,0,0,0,0,0,0,0,0,0,0,0,0,0,0,0,0,0,0,0,0,0,{"$f":"LE16+(MAX($AO$9:$IM$9)-MIN($AO$9:$IM$9))/100","v":0},0,0,0,0,0,0,0,0,0,0,0,0,0,0,0,0,0,0,0,0,0,0,0,0,0,0,0,0,0,0,0,0,0,0]
["",{"$f":"IF(G17=\"hot\",COUNTIF($G$11:G17,\"hot\"),\"\")","v":""},{"$f":"IF(G17=\"cold\",COUNTIF($G$11:G17,\"cold\"),\"\")","v":""},null,null,null,"",null,null,"","","",null,null,null,null,null,null,null,null,"",null,"","","","","",null,null,null,null,null,null,null,"Shift",62.399999999999977,"kW",null,0,null,{"$f":"IF(OR($V17=\"Utility\",$AA17=0),\"x\",IF($G17=\"hot\",\"x\",IF(AND(AO$10>$E17,AN$10<$F17),IF(AN$10>$E17,IF(AO$10>$F17,$U17/($F17-$E17)*($F17-AN$10),$U17/($F17-$E17)*(AO$10-AN$10)),$U17/($F17-$E17)*(AO$10-$E17)),\"x\")))","v":"x"},"x","x","x","x","x","x","x","x","x","x","x","x","x","x","x","x","x","x","x","x","x","x","x","x","x","x","x","x","x","x","x",{"$f":"IF(OR($V17=\"Utility\",$AA17=0),\"x\",IF($G17=\"hot\",\"x\",IF(AND(BU$10>$E17,BT$10<$F17),IF(BT$10>$E17,IF(BU$10>$F17,$U17/($F17-$E17)*($F17-BT$10),$U17/($F17-$E17)*(BU$10-BT$10)),$U17/($F17-$E17)*(BU$10-$E17)),\"x\")))","v":"x"},"x","x","x","x","x","x","x","x","x","x","x","x","x","x","x","x","x","x","x","x","x","x","x","x","x","x","x","x","x","x","x",{"$f":"IF(OR($V17=\"Utility\",$AA17=0),\"x\",IF($G17=\"hot\",\"x\",IF(AND(DA$10>$E17,CZ$10<$F17),IF(CZ$10>$E17,IF(DA$10>$F17,$U17/($F17-$E17)*($F17-CZ$10),$U17/($F17-$E17)*(DA$10-CZ$10)),$U17/($F17-$E17)*(DA$10-$E17)),\"x\")))","v":"x"},"x","x","x","x","x","x","x","x","x","x","x","x","x","x","x","x","x","x","x","x","x","x","x","x","x","x","x","x","x","x","x","x","x","x","x","x",null,null,null,0,null,{"$f":"IF(OR($V17=\"Utility\",$AA17=0),\"x\",IF($G17=\"cold\",\"x\",IF(AND(EQ$10>$F17,EP$10<$E17),IF(EP$10>$F17,IF(EQ$10>$E17,$U17/($E17-$F17)*($E17-EP$10),$U17/($E17-$F17)*(EQ$10-EP$10)),$U17/($E17-$F17)*(EQ$10-$F17)),\"x\")))","v":"x"},"x","x","x","x","x","x","x","x","x","x","x","x","x","x","x","x","x","x","x","x","x","x","x","x","x","x","x","x","x","x","x",{"$f":"IF(OR($V17=\"Utility\",$AA17=0),\"x\",IF($G17=\"cold\",\"x\",IF(AND(FW$10>$F17,FV$10<$E17),IF(FV$10>$F17,IF(FW$10>$E17,$U17/($E17-$F17)*($E17-FV$10),$U17/($E17-$F17)*(FW$10-FV$10)),$U17/($E17-$F17)*(FW$10-$F17)),\"x\")))","v":"x"},"x","x","x","x","x","x","x","x","x","x","x","x","x","x","x","x","x","x","x","x","x","x","x","x","x","x","x","x","x","x","x",{"$f":"IF(OR($V17=\"Utility\",$AA17=0),\"x\",IF($G17=\"cold\",\"x\",IF(AND(HC$10>$F17,HB$10<$E17),IF(HB$10>$F17,IF(HC$10>$E17,$U17/($E17-$F17)*($E17-HB$10),$U17/($E17-$F17)*(HC$10-HB$10)),$U17/($E17-$F17)*(HC$10-$F17)),\"x\")))","v":"x"},"x","x","x","x","x","x","x","x","x","x","x","x","x","x","x","x","x","x","x","x","x","x","x","x","x","x","x","x","x","x","x","x","x","x","x","x"]
["",{"$f":"IF(G18=\"hot\",COUNTIF($G$11:G18,\"hot\"),\"\")","v":""},{"$f":"IF(G18=\"cold\",COUNTIF($G$11:G18,\"cold\"),\"\")","v":""},null,null,null,"",null,null,"","","",null,null,null,null,null,null,null,null,"",null,"","","","","",null,null,null,null,null,null,null,"dTmin actual",{"$f":"ROUND(MIN(IR11:MN11),0)","v":0},"Kelvin",null,0,null,{"$f":"IF(OR($V18=\"Utility\",$AA18=0),\"x\",IF($G18=\"hot\",\"x\",IF(AND(AO$10>$E18,AN$10<$F18),IF(AN$10>$E18,IF(AO$10>$F18,$U18/($F18-$E18)*($F18-AN$10),$U18/($F18-$E18)*(AO$10-AN$10)),$U18/($F18-$E18)*(AO$10-$E18)),\"x\")))","v":"x"},"x","x","x","x","x","x","x","x","x","x","x","x","x","x","x","x","x","x","x","x","x","x","x","x","x","x","x","x","x","x","x",{"$f":"IF(OR($V18=\"Utility\",$AA18=0),\"x\",IF($G18=\"hot\",\"x\",IF(AND(BU$10>$E18,BT$10<$F18),IF(BT$10>$E18,IF(BU$10>$F18,$U18/($F18-$E18)*($F18-BT$10),$U18/($F18-$E18)*(BU$10-BT$10)),$U18/($F18-$E18)*(BU$10-$E18)),\"x\")))","v":"x"},"x","x","x","x","x","x","x","x","x","x","x","x","x","x","x","x","x","x","x","x","x","x","x","x","x","x","x","x","x","x","x",{"$f":"IF(OR($V18=\"Utility\",$AA18=0),\"x\",IF($G18=\"hot\",\"x\",IF(AND(DA$10>$E18,CZ$10<$F18),IF(CZ$10>$E18,IF(DA$10>$F18,$U18/($F18-$E18)*($F18-CZ$10),$U18/($F18-$E18)*(DA$10-CZ$10)),$U18/($F18-$E18)*(DA$10-$E18)),\"x\")))","v":"x"},"x","x","x","x","x","x","x","x","x","x","x","x","x","x","x","x","x","x","x","x","x","x","x","x","x","x","x","x","x","x","x","x","x","x","x","x",null,null,null,0,null,{"$f":"IF(OR($V18=\"Utility\",$AA18=0),\"x\",IF($G18=\"cold\",\"x\",IF(AND(EQ$10>$F18,EP$10<$E18),IF(EP$10>$F18,IF(EQ$10>$E18,$U18/($E18-$F18)*($E18-EP$10),$U18/($E18-$F18)*(EQ$10-EP$10)),$U18/($E18-$F18)*(EQ$10-$F18)),\"x\")))","v":"x"},"x","x","x","x","x","x","x","x","x","x","x","x","x","x","x","x","x","x","x","x","x","x","x","x","x","x","x","x","x","x","x",{"$f":"IF(OR($V18=\"Utility\",$AA18=0),\"x\",IF($G18=\"cold\",\"x\",IF(AND(FW$10>$F18,FV$10<$E18),IF(FV$10>$F18,IF(FW$10>$E18,$U18/($E18-$F18)*($E18-FV$10),$U18/($E18-$F18)*(FW$10-FV$10)),$U18/($E18-$F18)*(FW$10-$F18)),\"x\")))","v":"x"},"x","x","x","x","x","x","x","x","x","x","x","x","x","x","x","x","x","x","x","x","x","x","x","x","x","x","x","x","x","x","x",{"$f":"IF(OR($V18=\"Utility\",$AA18=0),\"x\",IF($G18=\"cold\",\"x\",IF(AND(HC$10>$F18,HB$10<$E18),IF(HB$10>$F18,IF(HC$10>$E18,$U18/($E18-$F18)*($E18-HB$10),$U18/($E18-$F18)*(HC$10-HB$10)),$U18/($E18-$F18)*(HC$10-$F18)),\"x\")))","v":"x"},"x","x","x","x","x","x","x","x","x","x","x","x","x","x","x","x","x","x","x","x","x","x","x","x","x","x","x","x","x","x","x","x","x","x","x","x"]
["",{"$f":"IF(G19=\"hot\",COUNTIF($G$11:G19,\"hot\"),\"\")","v":""},{"$f":"IF(G19=\"cold\",COUNTIF($G$11:G19,\"cold\"),\"\")","v":""},null,null,null,"",null,null,"","","",null,null,null,null,null,null,null,null,"",null,"","","","","",null,null,null,null,null,null,null,null,null,null,null,0,null,{"$f":"IF(OR($V19=\"Utility\",$AA19=0),\"x\",IF($G19=\"hot\",\"x\",IF(AND(AO$10>$E19,AN$10<$F19),IF(AN$10>$E19,IF(AO$10>$F19,$U19/($F19-$E19)*($F19-AN$10),$U19/($F19-$E19)*(AO$10-AN$10)),$U19/($F19-$E19)*(AO$10-$E19)),\"x\")))","v":"x"},"x","x","x","x","x","x","x","x","x","x","x","x","x","x","x","x","x","x","x","x","x","x","x","x","x","x","x","x","x","x","x",{"$f":"IF(OR($V19=\"Utility\",$AA19=0),\"x\",IF($G19=\"hot\",\"x\",IF(AND(BU$10>$E19,BT$10<$F19),IF(BT$10>$E19,IF(BU$10>$F19,$U19/($F19-$E19)*($F19-BT$10),$U19/($F19-$E19)*(BU$10-BT$10)),$U19/($F19-$E19)*(BU$10-$E19)),\"x\")))","v":"x"},"x","x","x","x","x","x","x","x","x","x","x","x","x","x","x","x","x","x","x","x","x","x","x","x","x","x","x","x","x","x","x",{"$f":"IF(OR($V19=\"Utility\",$AA19=0),\"x\",IF($G19=\"hot\",\"x\",IF(AND(DA$10>$E19,CZ$10<$F19),IF(CZ$10>$E19,IF(DA$10>$F19,$U19/($F19-$E19)*($F19-CZ$10),$U19/($F19-$E19)*(DA$10-CZ$10)),$U19/($F19-$E19)*(DA$10-$E19)),\"x\")))","v":"x"},"x","x","x","x","x","x","x","x","x","x","x","x","x","x","x","x","x","x","x","x","x","x","x","x","x","x","x","x","x","x","x","x","x","x","x","x",null,null,null,0,null,{"$f":"IF(OR($V19=\"Utility\",$AA19=0),\"x\",IF($G19=\"cold\",\"x\",IF(AND(EQ$10>$F19,EP$10<$E19),IF(EP$10>$F19,IF(EQ$10>$E19,$U19/($E19-$F19)*($E19-EP$10),$U19/($E19-$F19)*(EQ$10-EP$10)),$U19/($E19-$F19)*(EQ$10-$F19)),\"x\")))","v":"x"},"x","x","x","x","x","x","x","x","x","x","x","x","x","x","x","x","x","x","x","x","x","x","x","x","x","x","x","x","x","x","x",{"$f":"IF(OR($V19=\"Utility\",$AA19=0),\"x\",IF($G19=\"cold\",\"x\",IF(AND(FW$10>$F19,FV$10<$E19),IF(FV$10>$F19,IF(FW$10>$E19,$U19/($E19-$F19)*($E19-FV$10),$U19/($E19-$F19)*(FW$10-FV$10)),$U19/($E19-$F19)*(FW$10-$F19)),\"x\")))","v":"x"},"x","x","x","x","x","x","x","x","x","x","x","x","x","x","x","x","x","x","x","x","x","x","x","x","x","x","x","x","x","x","x",{"$f":"IF(OR($V19=\"Utility\",$AA19=0),\"x\",IF($G19=\"cold\",\"x\",IF(AND(HC$10>$F19,HB$10<$E19),IF(HB$10>$F19,IF(HC$10>$E19,$U19/($E19-$F19)*($E19-HB$10),$U19/($E19-$F19)*(HC$10-HB$10)),$U19/($E19-$F19)*(HC$10-$F19)),\"x\")))","v":"x"},"x","x","x","x","x","x","x","x","x","x","x","x","x","x","x","x","x","x","x","x","x","x","x","x","x","x","x","x","x","x","x","x","x","x","x","x",null,null,null,"Slope CCC",{"$f":"IF(OR(IR16<$AJ$7+dTminActual/2,IR16>=$AJ$8+dTminActual/2),0,INDEX($AO$7:$EK$10,1,IR27+1)/(INDEX($AO$7:$EK$10,3,IR27+1)-INDEX($AO$7:$EK$10,3,IR27)))","v":0},0,0,0,0,0,0,0,0,0,0,0,0,0,0,0,0,0,0,0,0,0,0,0,0,0,0,0,0,0,0,0,{"$f":"IF(OR(JX16<$AJ$7+dTminActual/2,JX16>=$AJ$8+dTminActual/2),0,INDEX($AO$7:$EK$10,1,JX27+1)/(INDEX($AO$7:$EK$10,3,JX27+1)-INDEX($AO$7:$EK$10,3,JX27)))","v":0},0,0,0,0,0,0,0,0,0,0,0,0,0,0,0,0,0,0,0,0,0,0,0,0,0,0,0,0,0,0,0,{"$f":"IF(OR(LD16<$AJ$7+dTminActual/2,LD16>=$AJ$8+dTminActual/2),0,INDEX($AO$7:$EK$10,1,LD27+1)/(INDEX($AO$7:$EK$10,3,LD27+1)-INDEX($AO$7:$EK$10,3,LD27)))","v":0},0,0,0,0,0,0,0,0,0,0,0,0,0,0,0,0,0,0,0,0,0,0,0,0,0,0,0,0,0,0,0,0,0,0,0,0]
["",{"$f":"IF(G20=\"hot\",COUNTIF($G$11:G20,\"hot\"),\"\")","v":""},{"$f":"IF(G20=\"cold\",COUNTIF($G$11:G20,\"cold\"),\"\")","v":""},null,null,null,"",null,null,"","","",null,null,null,null,null,null,null,null,"",null,"","","","","",null,null,null,null,null,null,null,null,null,null,null,0,null,{"$f":"IF(OR($V20=\"Utility\",$AA20=0),\"x\",IF($G20=\"hot\",\"x\",IF(AND(AO$10>$E20,AN$10<$F20),IF(AN$10>$E20,IF(AO$10>$F20,$U20/($F20-$E20)*($F20-AN$10),$U20/($F20-$E20)*(AO$10-AN$10)),$U20/($F20-$E20)*(AO$10-$E20)),\"x\")))","v":"x"},"x","x","x","x","x","x","x","x","x","x","x","x","x","x","x","x","x","x","x","x","x","x","x","x","x","x","x","x","x","x","x",{"$f":"IF(OR($V20=\"Utility\",$AA20=0),\"x\",IF($G20=\"hot\",\"x\",IF(AND(BU$10>$E20,BT$10<$F20),IF(BT$10>$E20,IF(BU$10>$F20,$U20/($F20-$E20)*($F20-BT$10),$U20/($F20-$E20)*(BU$10-BT$10)),$U20/($F20-$E20)*(BU$10-$E20)),\"x\")))","v":"x"},"x","x","x","x","x","x","x","x","x","x","x","x","x","x","x","x","x","x","x","x","x","x","x","x","x","x","x","x","x","x","x",{"$f":"IF(OR($V20=\"Utility\",$AA20=0),\"x\",IF($G20=\"hot\",\"x\",IF(AND(DA$10>$E20,CZ$10<$F20),IF(CZ$10>$E20,IF(DA$10>$F20,$U20/($F20-$E20)*($F20-CZ$10),$U20/($F20-$E20)*(DA$10-CZ$10)),$U20/($F20-$E20)*(DA$10-$E20)),\"x\")))","v":"x"},"x","x","x","x","x","x","x","x","x","x","x","x","x","x","x","x","x","x","x","x","x","x","x","x","x","x","x","x","x","x","x","x","x","x","x","x",null,null,null,0,null,{"$f":"IF(OR($V20=\"Utility\",$AA20=0),\"x\",IF($G20=\"cold\",\"x\",IF(AND(EQ$10>$F20,EP$10<$E20),IF(EP$10>$F20,IF(EQ$10>$E20,$U20/($E20-$F20)*($E20-EP$10),$U20/($E20-$F20)*(EQ$10-EP$10)),$U20/($E20-$F20)*(EQ$10-$F20)),\"x\")))","v":"x"},"x","x","x","x","x","x","x","x","x","x","x","x","x","x","x","x","x","x","x","x","x","x","x","x","x","x","x","x","x","x","x",{"$f":"IF(OR($V20=\"Utility\",$AA20=0),\"x\",IF($G20=\"cold\",\"x\",IF(AND(FW$10>$F20,FV$10<$E20),IF(FV$10>$F20,IF(FW$10>$E20,$U20/($E20-$F20)*($E20-FV$10),$U20/($E20-$F20)*(FW$10-FV$10)),$U20/($E20-$F20)*(FW$10-$F20)),\"x\")))","v":"x"},"x","x","x","x","x","x","x","x","x","x","x","x","x","x","x","x","x","x","x","x","x","x","x","x","x","x","x","x","x","x","x",{"$f":"IF(OR($V20=\"Utility\",$AA20=0),\"x\",IF($G20=\"cold\",\"x\",IF(AND(HC$10>$F20,HB$10<$E20),IF(HB$10>$F20,IF(HC$10>$E20,$U20/($E20-$F20)*($E20-HB$10),$U20/($E20-$F20)*(HC$10-HB$10)),$U20/($E20-$F20)*(HC$10-$F20)),\"x\")))","v":"x"},"x","x","x","x","x","x","x","x","x","x","x","x","x","x","x","x","x","x","x","x","x","x","x","x","x","x","x","x","x","x","x","x","x","x","x","x",null,null,null,"Slope HCC",{"$f":"IF(OR(IR16<$AJ$10-dTminActual/2,IR16>=$AJ$11-dTminActual/2),0,INDEX($EQ$7:$IM$10,1,IR28+1)/(INDEX($EQ$7:$IM$10,3,IR28+1)-INDEX($EQ$7:$IM$10,3,IR28)))","v":0},0,0,0,0,0,0,0,0,0,0,0,0,0,0,0,0,0,0,0,0,0,0,0,0,0,0,0,0,0,0,0,{"$f":"IF(OR(JX16<$AJ$10-dTminActual/2,JX16>=$AJ$11-dTminActual/2),0,INDEX($EQ$7:$IM$10,1,JX28+1)/(INDEX($EQ$7:$IM$10,3,JX28+1)-INDEX($EQ$7:$IM$10,3,JX28)))","v":0},0,0,0,0,0,0,0,0,0,0,0,0,0,0,0,0,0,0,0,0,0,0,0,10,{"$f":"IF(OR(KW16<$AJ$10-dTminActual/2,KW16>=$AJ$11-dTminActual/2),0,INDEX($EQ$7:$IM$10,1,KW28+1)/(INDEX($EQ$7:$IM$10,3,KW28+1)-INDEX($EQ$7:$IM$10,3,KW28)))","v":0},0,0,0,0,0,0,0,0,0,0,0,0,0,0,0,0,0,0,0,0,0,0,0,0,0,0,0,0,0,0,0,0,0,0,0,0,0,0,0,0,0,0,0]
["",{"$f":"IF(G21=\"hot\",COUNTIF($G$11:G21,\"hot\"),\"\")","v":""},{"$f":"IF(G21=\"cold\",COUNTIF($G$11:G21,\"cold\"),\"\")","v":""},null,null,null,"",null,null,"","","",null,null,null,null,null,null,null,null,"",null,{"$f":"IF(G21=\"hot\",J21,\"\")","v":""},"","","","",null,null,null,null,null,null,null,"CCC high",{"$f":"EK8","v":62.399999999999977},"MWh",null,0,null,{"$f":"IF(OR($V21=\"Utility\",$AA21=0),\"x\",IF($G21=\"hot\",\"x\",IF(AND(AO$10>$E21,AN$10<$F21),IF(AN$10>$E21,IF(AO$10>$F21,$U21/($F21-$E21)*($F21-AN$10),$U21/($F21-$E21)*(AO$10-AN$10)),$U21/($F21-$E21)*(AO$10-$E21)),\"x\")))","v":"x"},"x","x","x","x","x","x","x","x","x","x","x","x","x","x","x","x","x","x","x","x","x","x","x","x","x","x","x","x","x","x","x",{"$f":"IF(OR($V21=\"Utility\",$AA21=0),\"x\",IF($G21=\"hot\",\"x\",IF(AND(BU$10>$E21,BT$10<$F21),IF(BT$10>$E21,IF(BU$10>$F21,$U21/($F21-$E21)*($F21-BT$10),$U21/($F21-$E21)*(BU$10-BT$10)),$U21/($F21-$E21)*(BU$10-$E21)),\"x\")))","v":"x"},"x","x","x","x","x","x","x","x","x","x","x","x","x","x","x","x","x","x","x","x","x","x","x","x","x","x","x","x","x","x","x",{"$f":"IF(OR($V21=\"Utility\",$AA21=0),\"x\",IF($G21=\"hot\",\"x\",IF(AND(DA$10>$E21,CZ$10<$F21),IF(CZ$10>$E21,IF(DA$10>$F21,$U21/($F21-$E21)*($F21-CZ$10),$U21/($F21-$E21)*(DA$10-CZ$10)),$U21/($F21-$E21)*(DA$10-$E21)),\"x\")))","v":"x"},"x","x","x","x","x","x","x","x","x","x","x","x","x","x","x","x","x","x","x","x","x","x","x","x","x","x","x","x","x","x","x","x","x","x","x","x",null,null,null,0,null,{"$f":"IF(OR($V21=\"Utility\",$AA21=0),\"x\",IF($G21=\"cold\",\"x\",IF(AND(EQ$10>$F21,EP$10<$E21),IF(EP$10>$F21,IF(EQ$10>$E21,$U21/($E21-$F21)*($E21-EP$10),$U21/($E21-$F21)*(EQ$10-EP$10)),$U21/($E21-$F21)*(EQ$10-$F21)),\"x\")))","v":"x"},"x","x","x","x","x","x","x","x","x","x","x","x","x","x","x","x","x","x","x","x","x","x","x","x","x","x","x","x","x","x","x",{"$f":"IF(OR($V21=\"Utility\",$AA21=0),\"x\",IF($G21=\"cold\",\"x\",IF(AND(FW$10>$F21,FV$10<$E21),IF(FV$10>$F21,IF(FW$10>$E21,$U21/($E21-$F21)*($E21-FV$10),$U21/($E21-$F21)*(FW$10-FV$10)),$U21/($E21-$F21)*(FW$10-$F21)),\"x\")))","v":"x"},"x","x","x","x","x","x","x","x","x","x","x","x","x","x","x","x","x","x","x","x","x","x","x","x","x","x","x","x","x","x","x",{"$f":"IF(OR($V21=\"Utility\",$AA21=0),\"x\",IF($G21=\"cold\",\"x\",IF(AND(HC$10>$F21,HB$10<$E21),IF(HB$10>$F21,IF(HC$10>$E21,$U21/($E21-$F21)*($E21-HB$10),$U21/($E21-$F21)*(HC$10-HB$10)),$U21/($E21-$F21)*(HC$10-$F21)),\"x\")))","v":"x"},"x","x","x","x","x","x","x","x","x","x","x","x","x","x","x","x","x","x","x","x","x","x","x","x","x","x","x","x","x","x","x","x","x","x","x","x",null,null,null,"H CCC",{"$f":"IR19*(IS16-IR16)","v":0},{"$f":"IS19*(IT16-IS16)","v":0},0,0,0,0,0,0,0,0,0,0,0,0,0,0,0,0,0,0,0,0,0,0,0,0,0,0,0,0,0,0,0,0,0,0,0,0,0,0,0,0,0,0,0,0,0,0,0,0,0,0,0,0,0,0,0,0,0,0,0,0,0,0,0,{"$f":"LE19*(LF16-LE16)","v":0},0,0,0,0,0,0,0,0,0,0,0,0,0,0,0,0,0,0,0,0,0,0,0,0,0,0,0,0,0,0,0,0,0,0,0]
["",{"$f":"IF(G22=\"hot\",COUNTIF($G$11:G22,\"hot\"),\"\")","v":""},{"$f":"IF(G22=\"cold\",COUNTIF($G$11:G22,\"cold\"),\"\")","v":""},null,null,null,"",null,null,"","","",null,null,null,null,null,null,null,null,"",null,"","","","","",null,null,null,null,null,null,null,"CCC low",{"$f":"AO8","v":62.399999999999977},"MWh",null,0,null,{"$f":"IF(OR($V22=\"Utility\",$AA22=0),\"x\",IF($G22=\"hot\",\"x\",IF(AND(AO$10>$E22,AN$10<$F22),IF(AN$10>$E22,IF(AO$10>$F22,$U22/($F22-$E22)*($F22-AN$10),$U22/($F22-$E22)*(AO$10-AN$10)),$U22/($F22-$E22)*(AO$10-$E22)),\"x\")))","v":"x"},"x","x","x","x","x","x","x","x","x","x","x","x","x","x","x","x","x","x","x","x","x","x","x","x","x","x","x","x","x","x","x",{"$f":"IF(OR($V22=\"Utility\",$AA22=0),\"x\",IF($G22=\"hot\",\"x\",IF(AND(BU$10>$E22,BT$10<$F22),IF(BT$10>$E22,IF(BU$10>$F22,$U22/($F22-$E22)*($F22-BT$10),$U22/($F22-$E22)*(BU$10-BT$10)),$U22/($F22-$E22)*(BU$10-$E22)),\"x\")))","v":"x"},"x","x","x","x","x","x","x","x","x","x","x","x","x","x","x","x","x","x","x","x","x","x","x","x","x","x","x","x","x","x","x",{"$f":"IF(OR($V22=\"Utility\",$AA22=0),\"x\",IF($G22=\"hot\",\"x\",IF(AND(DA$10>$E22,CZ$10<$F22),IF(CZ$10>$E22,IF(DA$10>$F22,$U22/($F22-$E22)*($F22-CZ$10),$U22/($F22-$E22)*(DA$10-CZ$10)),$U22/($F22-$E22)*(DA$10-$E22)),\"x\")))","v":"x"},"x","x","x","x","x","x","x","x","x","x","x","x","x","x","x","x","x","x","x","x","x","x","x","x","x","x","x","x","x","x","x","x","x","x","x","x",null,null,null,0,null,{"$f":"IF(OR($V22=\"Utility\",$AA22=0),\"x\",IF($G22=\"cold\",\"x\",IF(AND(EQ$10>$F22,EP$10<$E22),IF(EP$10>$F22,IF(EQ$10>$E22,$U22/($E22-$F22)*($E22-EP$10),$U22/($E22-$F22)*(EQ$10-EP$10)),$U22/($E22-$F22)*(EQ$10-$F22)),\"x\")))","v":"x"},"x","x","x","x","x","x","x","x","x","x","x","x","x","x","x","x","x","x","x","x","x","x","x","x","x","x","x","x","x","x","x",{"$f":"IF(OR($V22=\"Utility\",$AA22=0),\"x\",IF($G22=\"cold\",\"x\",IF(AND(FW$10>$F22,FV$10<$E22),IF(FV$10>$F22,IF(FW$10>$E22,$U22/($E22-$F22)*($E22-FV$10),$U22/($E22-$F22)*(FW$10-FV$10)),$U22/($E22-$F22)*(FW$10-$F22)),\"x\")))","v":"x"},"x","x","x","x","x","x","x","x","x","x","x","x","x","x","x","x","x","x","x","x","x","x","x","x","x","x","x","x","x","x","x",{"$f":"IF(OR($V22=\"Utility\",$AA22=0),\"x\",IF($G22=\"cold\",\"x\",IF(AND(HC$10>$F22,HB$10<$E22),IF(HB$10>$F22,IF(HC$10>$E22,$U22/($E22-$F22)*($E22-HB$10),$U22/($E22-$F22)*(HC$10-HB$10)),$U22/($E22-$F22)*(HC$10-$F22)),\"x\")))","v":"x"},"x","x","x","x","x","x","x","x","x","x","x","x","x","x","x","x","x","x","x","x","x","x","x","x","x","x","x","x","x","x","x","x","x","x","x","x",null,null,null,"H HCC",{"$f":"IR20*(IS16-IR16)","v":0},{"$f":"IS20*(IT16-IS16)","v":0},0,0,0,0,0,0,0,0,0,0,0,0,0,0,0,0,0,0,0,0,0,0,0,0,0,0,0,0,0,0,0,0,0,0,0,0,0,0,0,0,0,0,0,0,0,0,0,0,0,0,0,0,0,0,0,0,0,0,0,0,0,0,0,{"$f":"LE20*(LF16-LE16)","v":0},0,0,0,0,0,0,0,0,0,0,0,0,0,0,0,0,0,0,0,0,0,0,0,0,0,0,0,0,0,0,0,0,0,0,0]
["",{"$f":"IF(G23=\"hot\",COUNTIF($G$11:G23,\"hot\"),\"\")","v":""},{"$f":"IF(G23=\"cold\",COUNTIF($G$11:G23,\"cold\"),\"\")","v":""},null,null,null,"",null,null,"","","",null,null,null,null,null,null,null,null,"",null,"","","","","",null,null,null,null,null,null,null,"HCC high",{"$f":"IM8","v":0},"MWh",null,0,null,{"$f":"IF(OR($V23=\"Utility\",$AA23=0),\"x\",IF($G23=\"hot\",\"x\",IF(AND(AO$10>$E23,AN$10<$F23),IF(AN$10>$E23,IF(AO$10>$F23,$U23/($F23-$E23)*($F23-AN$10),$U23/($F23-$E23)*(AO$10-AN$10)),$U23/($F23-$E23)*(AO$10-$E23)),\"x\")))","v":"x"},"x","x","x","x","x","x","x","x","x","x","x","x","x","x","x","x","x","x","x","x","x","x","x","x","x","x","x","x","x","x","x",{"$f":"IF(OR($V23=\"Utility\",$AA23=0),\"x\",IF($G23=\"hot\",\"x\",IF(AND(BU$10>$E23,BT$10<$F23),IF(BT$10>$E23,IF(BU$10>$F23,$U23/($F23-$E23)*($F23-BT$10),$U23/($F23-$E23)*(BU$10-BT$10)),$U23/($F23-$E23)*(BU$10-$E23)),\"x\")))","v":"x"},"x","x","x","x","x","x","x","x","x","x","x","x","x","x","x","x","x","x","x","x","x","x","x","x","x","x","x","x","x","x","x",{"$f":"IF(OR($V23=\"Utility\",$AA23=0),\"x\",IF($G23=\"hot\",\"x\",IF(AND(DA$10>$E23,CZ$10<$F23),IF(CZ$10>$E23,IF(DA$10>$F23,$U23/($F23-$E23)*($F23-CZ$10),$U23/($F23-$E23)*(DA$10-CZ$10)),$U23/($F23-$E23)*(DA$10-$E23)),\"x\")))","v":"x"},"x","x","x","x","x","x","x","x","x","x","x","x","x","x","x","x","x","x","x","x","x","x","x","x","x","x","x","x","x","x","x","x","x","x","x","x",null,null,null,0,null,{"$f":"IF(OR($V23=\"Utility\",$AA23=0),\"x\",IF($G23=\"cold\",\"x\",IF(AND(EQ$10>$F23,EP$10<$E23),IF(EP$10>$F23,IF(EQ$10>$E23,$U23/($E23-$F23)*($E23-EP$10),$U23/($E23-$F23)*(EQ$10-EP$10)),$U23/($E23-$F23)*(EQ$10-$F23)),\"x\")))","v":"x"},"x","x","x","x","x","x","x","x","x","x","x","x","x","x","x","x","x","x","x","x","x","x","x","x","x","x","x","x","x","x","x",{"$f":"IF(OR($V23=\"Utility\",$AA23=0),\"x\",IF($G23=\"cold\",\"x\",IF(AND(FW$10>$F23,FV$10<$E23),IF(FV$10>$F23,IF(FW$10>$E23,$U23/($E23-$F23)*($E23-FV$10),$U23/($E23-$F23)*(FW$10-FV$10)),$U23/($E23-$F23)*(FW$10-$F23)),\"x\")))","v":"x"},"x","x","x","x","x","x","x","x","x","x","x","x","x","x","x","x","x","x","x","x","x","x","x","x","x","x","x","x","x","x","x",{"$f":"IF(OR($V23=\"Utility\",$AA23=0),\"x\",IF($G23=\"cold\",\"x\",IF(AND(HC$10>$F23,HB$10<$E23),IF(HB$10>$F23,IF(HC$10>$E23,$U23/($E23-$F23)*($E23-HB$10),$U23/($E23-$F23)*(HC$10-HB$10)),$U23/($E23-$F23)*(HC$10-$F23)),\"x\")))","v":"x"},"x","x","x","x","x","x","x","x","x","x","x","x","x","x","x","x","x","x","x","x","x","x","x","x","x","x","x","x","x","x","x","x","x","x","x","x",null,null,null,"acc",{"$f":"IR21","v":0},{"$f":"IS21+IR23","v":0},{"$f":"IT21+IS23","v":0},0,0,0,0,0,0,0,0,0,0,0,0,0,0,0,0,0,0,0,0,0,0,0,0,0,0,0,0,0,0,0,0,0,0,0,0,0,0,0,0,0,0,0,0,0,0,0,0,0,0,0,0,0,0,0,0,0,0,0,0,0,0,0,{"$f":"LF21+LE23","v":0},0,0,0,0,{"$f":"LK21+LJ23","v":0},{"$f":"LL21+LK23","v":0},0,0,0,0,0,0,0,0,0,0,0,0,0,0,0,0,0,0,0,0,0,0,0,0,0,0,0,0]
[{"$f":"IF(D24=\"\",\"\",A23+1)","v":""},{"$f":"IF(G24=\"hot\",COUNTIF($G$11:G24,\"hot\"),\"\")","v":""},{"$f":"IF(G24=\"cold\",COUNTIF($G$11:G24,\"cold\"),\"\")","v":""},null,null,null,"",null,null,"","","",null,null,null,null,null,null,null,null,"",null,"","","","","",null,null,null,null,null,null,null,"HCC low",{"$f":"EQ8","v":0},"MWh",null,0,null,{"$f":"IF(OR($V24=\"Utility\",$AA24=0),\"x\",IF($G24=\"hot\",\"x\",IF(AND(AO$10>$E24,AN$10<$F24),IF(AN$10>$E24,IF(AO$10>$F24,$U24/($F24-$E24)*($F24-AN$10),$U24/($F24-$E24)*(AO$10-AN$10)),$U24/($F24-$E24)*(AO$10-$E24)),\"x\")))","v":"x"},"x","x","x","x","x","x","x","x","x","x","x","x","x","x","x","x","x","x","x","x","x","x","x","x","x","x","x","x","x","x","x",{"$f":"IF(OR($V24=\"Utility\",$AA24=0),\"x\",IF($G24=\"hot\",\"x\",IF(AND(BU$10>$E24,BT$10<$F24),IF(BT$10>$E24,IF(BU$10>$F24,$U24/($F24-$E24)*($F24-BT$10),$U24/($F24-$E24)*(BU$10-BT$10)),$U24/($F24-$E24)*(BU$10-$E24)),\"x\")))","v":"x"},"x","x","x","x","x","x","x","x","x","x","x","x","x","x","x","x","x","x","x","x","x","x","x","x","x","x","x","x","x","x","x",{"$f":"IF(OR($V24=\"Utility\",$AA24=0),\"x\",IF($G24=\"hot\",\"x\",IF(AND(DA$10>$E24,CZ$10<$F24),IF(CZ$10>$E24,IF(DA$10>$F24,$U24/($F24-$E24)*($F24-CZ$10),$U24/($F24-$E24)*(DA$10-CZ$10)),$U24/($F24-$E24)*(DA$10-$E24)),\"x\")))","v":"x"},"x","x","x","x","x","x","x","x","x","x","x","x","x","x","x","x","x","x","x","x","x","x","x","x","x","x","x","x","x","x","x","x","x","x","x","x",null,null,null,0,null,{"$f":"IF(OR($V24=\"Utility\",$AA24=0),\"x\",IF($G24=\"cold\",\"x\",IF(AND(EQ$10>$F24,EP$10<$E24),IF(EP$10>$F24,IF(EQ$10>$E24,$U24/($E24-$F24)*($E24-EP$10),$U24/($E24-$F24)*(EQ$10-EP$10)),$U24/($E24-$F24)*(EQ$10-$F24)),\"x\")))","v":"x"},"x","x","x","x","x","x","x","x","x","x","x","x","x","x","x","x","x","x","x","x","x","x","x","x","x","x","x","x","x","x","x",{"$f":"IF(OR($V24=\"Utility\",$AA24=0),\"x\",IF($G24=\"cold\",\"x\",IF(AND(FW$10>$F24,FV$10<$E24),IF(FV$10>$F24,IF(FW$10>$E24,$U24/($E24-$F24)*($E24-FV$10),$U24/($E24-$F24)*(FW$10-FV$10)),$U24/($E24-$F24)*(FW$10-$F24)),\"x\")))","v":"x"},"x","x","x","x","x","x","x","x","x","x","x","x","x","x","x","x","x","x","x","x","x","x","x","x","x","x","x","x","x","x","x",{"$f":"IF(OR($V24=\"Utility\",$AA24=0),\"x\",IF($G24=\"cold\",\"x\",IF(AND(HC$10>$F24,HB$10<$E24),IF(HB$10>$F24,IF(HC$10>$E24,$U24/($E24-$F24)*($E24-HB$10),$U24/($E24-$F24)*(HC$10-HB$10)),$U24/($E24-$F24)*(HC$10-$F24)),\"x\")))","v":"x"},"x","x","x","x","x","x","x","x","x","x","x","x","x","x","x","x","x","x","x","x","x","x","x","x","x","x","x","x","x","x","x","x","x","x","x","x",null,null,null,"acc",{"$f":"IR22","v":0},{"$f":"IS22+IR24","v":0},0,0,0,0,0,0,0,0,0,0,0,0,0,0,0,0,0,0,0,0,0,0,0,0,0,0,0,0,0,0,0,0,0,0,0,0,0,0,0,0,0,0,0,0,0,0,0,0,0,0,0,0,0,0,0,0,0,0,0,0,0,0,0,0,0,0,0,0,0,{"$f":"LK22+LJ24","v":0},0,0,0,0,0,0,0,0,0,0,0,0,0,0,0,0,0,0,0,0,0,0,0,0,0,0,0,0,0]
[{"$f":"IF(D25=\"\",\"\",A24+1)","v":""},{"$f":"IF(G25=\"hot\",COUNTIF($G$11:G25,\"hot\"),\"\")","v":""},{"$f":"IF(G25=\"cold\",COUNTIF($G$11:G25,\"cold\"),\"\")","v":""},null,null,null,"",null,null,"","","",null,null,null,null,null,null,null,null,"",null,"","","","","",null,null,null,null,null,null,null,null,null,null,null,0,null,{"$f":"IF(OR($V25=\"Utility\",$AA25=0),\"x\",IF($G25=\"hot\",\"x\",IF(AND(AO$10>$E25,AN$10<$F25),IF(AN$10>$E25,IF(AO$10>$F25,$U25/($F25-$E25)*($F25-AN$10),$U25/($F25-$E25)*(AO$10-AN$10)),$U25/($F25-$E25)*(AO$10-$E25)),\"x\")))","v":"x"},"x","x","x","x","x","x","x","x","x","x","x","x","x","x","x","x","x","x","x","x","x","x","x","x","x","x","x","x","x","x","x",{"$f":"IF(OR($V25=\"Utility\",$AA25=0),\"x\",IF($G25=\"hot\",\"x\",IF(AND(BU$10>$E25,BT$10<$F25),IF(BT$10>$E25,IF(BU$10>$F25,$U25/($F25-$E25)*($F25-BT$10),$U25/($F25-$E25)*(BU$10-BT$10)),$U25/($F25-$E25)*(BU$10-$E25)),\"x\")))","v":"x"},"x","x","x","x","x","x","x","x","x","x","x","x","x","x","x","x","x","x","x","x","x","x","x","x","x","x","x","x","x","x","x",{"$f":"IF(OR($V25=\"Utility\",$AA25=0),\"x\",IF($G25=\"hot\",\"x\",IF(AND(DA$10>$E25,CZ$10<$F25),IF(CZ$10>$E25,IF(DA$10>$F25,$U25/($F25-$E25)*($F25-CZ$10),$U25/($F25-$E25)*(DA$10-CZ$10)),$U25/($F25-$E25)*(DA$10-$E25)),\"x\")))","v":"x"},"x","x","x","x","x","x","x","x","x","x","x","x","x","x","x","x","x","x","x","x","x","x","x","x","x","x","x","x","x","x","x","x","x","x","x","x",null,null,null,0,null,{"$f":"IF(OR($V25=\"Utility\",$AA25=0),\"x\",IF($G25=\"cold\",\"x\",IF(AND(EQ$10>$F25,EP$10<$E25),IF(EP$10>$F25,IF(EQ$10>$E25,$U25/($E25-$F25)*($E25-EP$10),$U25/($E25-$F25)*(EQ$10-EP$10)),$U25/($E25-$F25)*(EQ$10-$F25)),\"x\")))","v":"x"},"x","x","x","x","x","x","x","x","x","x","x","x","x","x","x","x","x","x","x","x","x","x","x","x","x","x","x","x","x","x","x",{"$f":"IF(OR($V25=\"Utility\",$AA25=0),\"x\",IF($G25=\"cold\",\"x\",IF(AND(FW$10>$F25,FV$10<$E25),IF(FV$10>$F25,IF(FW$10>$E25,$U25/($E25-$F25)*($E25-FV$10),$U25/($E25-$F25)*(FW$10-FV$10)),$U25/($E25-$F25)*(FW$10-$F25)),\"x\")))","v":"x"},"x","x","x","x","x","x","x","x","x","x","x","x","x","x","x","x","x","x","x","x","x","x","x","x","x","x","x","x","x","x","x",{"$f":"IF(OR($V25=\"Utility\",$AA25=0),\"x\",IF($G25=\"cold\",\"x\",IF(AND(HC$10>$F25,HB$10<$E25),IF(HB$10>$F25,IF(HC$10>$E25,$U25/($E25-$F25)*($E25-HB$10),$U25/($E25-$F25)*(HC$10-HB$10)),$U25/($E25-$F25)*(HC$10-$F25)),\"x\")))","v":"x"},"x","x","x","x","x","x","x","x","x","x","x","x","x","x","x","x","x","x","x","x","x","x","x","x","x","x","x","x","x","x","x","x","x","x","x","x",null,null,null,"dH",{"$f":"IR23-IR24+ShiftGCC","v":67.391999999999939},{"$f":"IS23-IS24+ShiftGCC","v":67.391999999999939},{"$f":"IT23-IT24+ShiftGCC","v":67.391999999999939},67.391999999999939,67.391999999999939,67.391999999999939,67.391999999999939,67.391999999999939,{"$f":"IZ23-IZ24+ShiftGCC","v":67.391999999999939},67.391999999999939,67.391999999999939,67.391999999999939,67.391999999999939,67.391999999999939,67.391999999999939,67.391999999999939,67.391999999999939,67.391999999999939,67.391999999999939,67.391999999999939,67.391999999999939,67.391999999999939,67.391999999999939,67.391999999999939,67.391999999999939,67.391999999999939,67.391999999999939,67.391999999999939,67.391999999999939,67.391999999999939,67.391999999999939,67.391999999999939,67.391999999999939,67.391999999999939,67.391999999999939,67.391999999999939,67.391999999999939,67.391999999999939,67.391999999999939,67.391999999999939,67.391999999999939,67.391999999999939,67.391999999999939,67.391999999999939,67.391999999999939,67.391999999999939,67.391999999999939,67.391999999999939,67.391999999999939,67.391999999999939,67.391999999999939,67.391999999999939,67.391999999999939,67.391999999999939,67.391999999999939,67.391999999999939,67.391999999999939,67.391999999999939,67.391999999999939,67.391999999999939,67.391999999999939,67.391999999999939,67.391999999999939,67.391999999999939,67.391999999999939,67.391999999999939,{"$f":"LF23-LF24+ShiftGCC","v":67.391999999999939},67.391999999999939,67.391999999999939,67.391999999999939,67.391999999999939,67.391999999999939,67.391999999999939,67.391999999999939,67.391999999999939,67.391999999999939,67.391999999999939,67.391999999999939,67.391999999999939,67.391999999999939,67.391999999999939,67.391999999999939,67.391999999999939,67.391999999999939,67.391999999999939,67.391999999999939,67.391999999999939,67.391999999999939,67.391999999999939,67.391999999999939,67.391999999999939,67.391999999999939,67.391999999999939,67.391999999999939,67.391999999999939,67.391999999999939,67.391999999999939,67.391999999999939,67.391999999999939,67.391999999999939,67.391999999999939]
["",{"$f":"IF(G26=\"hot\",COUNTIF($G$11:G26,\"hot\"),\"\")","v":""},{"$f":"IF(G26=\"cold\",COUNTIF($G$11:G26,\"cold\"),\"\")","v":""},null,null,null,"",null,null,"","","",null,null,null,null,null,null,null,null,"",null,"","","","","",null,null,null,null,null,null,null,null,null,null,null,0,null,{"$f":"IF(OR($V26=\"Utility\",$AA26=0),\"x\",IF($G26=\"hot\",\"x\",IF(AND(AO$10>$E26,AN$10<$F26),IF(AN$10>$E26,IF(AO$10>$F26,$U26/($F26-$E26)*($F26-AN$10),$U26/($F26-$E26)*(AO$10-AN$10)),$U26/($F26-$E26)*(AO$10-$E26)),\"x\")))","v":"x"},"x","x","x","x","x","x","x","x","x","x","x","x","x","x","x","x","x","x","x","x","x","x","x","x","x","x","x","x","x","x","x",{"$f":"IF(OR($V26=\"Utility\",$AA26=0),\"x\",IF($G26=\"hot\",\"x\",IF(AND(BU$10>$E26,BT$10<$F26),IF(BT$10>$E26,IF(BU$10>$F26,$U26/($F26-$E26)*($F26-BT$10),$U26/($F26-$E26)*(BU$10-BT$10)),$U26/($F26-$E26)*(BU$10-$E26)),\"x\")))","v":"x"},"x","x","x","x","x","x","x","x","x","x","x","x","x","x","x","x","x","x","x","x","x","x","x","x","x","x","x","x","x","x","x",{"$f":"IF(OR($V26=\"Utility\",$AA26=0),\"x\",IF($G26=\"hot\",\"x\",IF(AND(DA$10>$E26,CZ$10<$F26),IF(CZ$10>$E26,IF(DA$10>$F26,$U26/($F26-$E26)*($F26-CZ$10),$U26/($F26-$E26)*(DA$10-CZ$10)),$U26/($F26-$E26)*(DA$10-$E26)),\"x\")))","v":"x"},"x","x","x","x","x","x","x","x","x","x","x","x","x","x","x","x","x","x","x","x","x","x","x","x","x","x","x","x","x","x","x","x","x","x","x","x",null,null,null,0,null,{"$f":"IF(OR($V26=\"Utility\",$AA26=0),\"x\",IF($G26=\"cold\",\"x\",IF(AND(EQ$10>$F26,EP$10<$E26),IF(EP$10>$F26,IF(EQ$10>$E26,$U26/($E26-$F26)*($E26-EP$10),$U26/($E26-$F26)*(EQ$10-EP$10)),$U26/($E26-$F26)*(EQ$10-$F26)),\"x\")))","v":"x"},"x","x","x","x","x","x","x","x","x","x","x","x","x","x","x","x","x","x","x","x","x","x","x","x","x","x","x","x","x","x","x",{"$f":"IF(OR($V26=\"Utility\",$AA26=0),\"x\",IF($G26=\"cold\",\"x\",IF(AND(FW$10>$F26,FV$10<$E26),IF(FV$10>$F26,IF(FW$10>$E26,$U26/($E26-$F26)*($E26-FV$10),$U26/($E26-$F26)*(FW$10-FV$10)),$U26/($E26-$F26)*(FW$10-$F26)),\"x\")))","v":"x"},"x","x","x","x","x","x","x","x","x","x","x","x","x","x","x","x","x","x","x","x","x","x","x","x","x","x","x","x","x","x","x",{"$f":"IF(OR($V26=\"Utility\",$AA26=0),\"x\",IF($G26=\"cold\",\"x\",IF(AND(HC$10>$F26,HB$10<$E26),IF(HB$10>$F26,IF(HC$10>$E26,$U26/($E26-$F26)*($E26-HB$10),$U26/($E26-$F26)*(HC$10-HB$10)),$U26/($E26-$F26)*(HC$10-$F26)),\"x\")))","v":"x"},"x","x","x","x","x","x","x","x","x","x","x","x","x","x","x","x","x","x","x","x","x","x","x","x","x","x","x","x","x","x","x","x","x","x","x","x"]
["",{"$f":"IF(G27=\"hot\",COUNTIF($G$11:G27,\"hot\"),\"\")","v":""},{"$f":"IF(G27=\"cold\",COUNTIF($G$11:G27,\"cold\"),\"\")","v":""},null,null,null,"",null,null,"","","",null,null,null,null,null,null,null,null,"",null,"","","","","",null,null,null,null,null,null,null,null,null,null,null,0,null,{"$f":"IF(OR($V27=\"Utility\",$AA27=0),\"x\",IF($G27=\"hot\",\"x\",IF(AND(AO$10>$E27,AN$10<$F27),IF(AN$10>$E27,IF(AO$10>$F27,$U27/($F27-$E27)*($F27-AN$10),$U27/($F27-$E27)*(AO$10-AN$10)),$U27/($F27-$E27)*(AO$10-$E27)),\"x\")))","v":"x"},"x","x","x","x","x","x","x","x","x","x","x","x","x","x","x","x","x","x","x","x","x","x","x","x","x","x","x","x","x","x","x",{"$f":"IF(OR($V27=\"Utility\",$AA27=0),\"x\",IF($G27=\"hot\",\"x\",IF(AND(BU$10>$E27,BT$10<$F27),IF(BT$10>$E27,IF(BU$10>$F27,$U27/($F27-$E27)*($F27-BT$10),$U27/($F27-$E27)*(BU$10-BT$10)),$U27/($F27-$E27)*(BU$10-$E27)),\"x\")))","v":"x"},"x","x","x","x","x","x","x","x","x","x","x","x","x","x","x","x","x","x","x","x","x","x","x","x","x","x","x","x","x","x","x",{"$f":"IF(OR($V27=\"Utility\",$AA27=0),\"x\",IF($G27=\"hot\",\"x\",IF(AND(DA$10>$E27,CZ$10<$F27),IF(CZ$10>$E27,IF(DA$10>$F27,$U27/($F27-$E27)*($F27-CZ$10),$U27/($F27-$E27)*(DA$10-CZ$10)),$U27/($F27-$E27)*(DA$10-$E27)),\"x\")))","v":"x"},"x","x","x","x","x","x","x","x","x","x","x","x","x","x","x","x","x","x","x","x","x","x","x","x","x","x","x","x","x","x","x","x","x","x","x","x",null,null,null,0,null,{"$f":"IF(OR($V27=\"Utility\",$AA27=0),\"x\",IF($G27=\"cold\",\"x\",IF(AND(EQ$10>$F27,EP$10<$E27),IF(EP$10>$F27,IF(EQ$10>$E27,$U27/($E27-$F27)*($E27-EP$10),$U27/($E27-$F27)*(EQ$10-EP$10)),$U27/($E27-$F27)*(EQ$10-$F27)),\"x\")))","v":"x"},"x","x","x","x","x","x","x","x","x","x","x","x","x","x","x","x","x","x","x","x","x","x","x","x","x","x","x","x","x","x","x",{"$f":"IF(OR($V27=\"Utility\",$AA27=0),\"x\",IF($G27=\"cold\",\"x\",IF(AND(FW$10>$F27,FV$10<$E27),IF(FV$10>$F27,IF(FW$10>$E27,$U27/($E27-$F27)*($E27-FV$10),$U27/($E27-$F27)*(FW$10-FV$10)),$U27/($E27-$F27)*(FW$10-$F27)),\"x\")))","v":"x"},"x","x","x","x","x","x","x","x","x","x","x","x","x","x","x","x","x","x","x","x","x","x","x","x","x","x","x","x","x","x","x",{"$f":"IF(OR($V27=\"Utility\",$AA27=0),\"x\",IF($G27=\"cold\",\"x\",IF(AND(HC$10>$F27,HB$10<$E27),IF(HB$10>$F27,IF(HC$10>$E27,$U27/($E27-$F27)*($E27-HB$10),$U27/($E27-$F27)*(HC$10-HB$10)),$U27/($E27-$F27)*(HC$10-$F27)),\"x\")))","v":"x"},"x","x","x","x","x","x","x","x","x","x","x","x","x","x","x","x","x","x","x","x","x","x","x","x","x","x","x","x","x","x","x","x","x","x","x","x",null,null,null,"Column CCC",{"$f":"MATCH(IR16,$AO$9:$EK$9,1)","v":101},101,101,101,101,101,101,101,101,101,101,101,101,101,101,101,101,101,101,101,101,101,101,101,101,101,101,101,101,101,101,101,101,101,101,101,101,101,101,101,101,101,101,101,101,101,101,101,101,101,101,101,101,101,101,101,101,101,101,101,101,101,101,101,{"$f":"MATCH(LD16,$AO$9:$EK$9,1)","v":101},101,101,101,101,101,101,101,101,101,101,101,101,101,101,101,101,101,101,101,101,101,101,101,101,101,101,101,101,101,101,101,101,101,101,101,101]
["",{"$f":"IF(G28=\"hot\",COUNTIF($G$11:G28,\"hot\"),\"\")","v":""},{"$f":"IF(G28=\"cold\",COUNTIF($G$11:G28,\"cold\"),\"\")","v":""},null,null,null,"",null,null,"","","",null,null,null,null,null,null,null,null,"",null,"","","","","",null,null,null,null,null,null,null,"Maximal Heat Recovery",{"$f":"IF(MinHU=0,AJ21-AJ22,AJ23-AJ22)","v":-62.399999999999977},"MWh",null,0,null,{"$f":"IF(OR($V28=\"Utility\",$AA28=0),\"x\",IF($G28=\"hot\",\"x\",IF(AND(AO$10>$E28,AN$10<$F28),IF(AN$10>$E28,IF(AO$10>$F28,$U28/($F28-$E28)*($F28-AN$10),$U28/($F28-$E28)*(AO$10-AN$10)),$U28/($F28-$E28)*(AO$10-$E28)),\"x\")))","v":"x"},"x","x","x","x","x","x","x","x","x","x","x","x","x","x","x","x","x","x","x","x","x","x","x","x","x","x","x","x","x","x","x",{"$f":"IF(OR($V28=\"Utility\",$AA28=0),\"x\",IF($G28=\"hot\",\"x\",IF(AND(BU$10>$E28,BT$10<$F28),IF(BT$10>$E28,IF(BU$10>$F28,$U28/($F28-$E28)*($F28-BT$10),$U28/($F28-$E28)*(BU$10-BT$10)),$U28/($F28-$E28)*(BU$10-$E28)),\"x\")))","v":"x"},"x","x","x","x","x","x","x","x","x","x","x","x","x","x","x","x","x","x","x","x","x","x","x","x","x","x","x","x","x","x","x",{"$f":"IF(OR($V28=\"Utility\",$AA28=0),\"x\",IF($G28=\"hot\",\"x\",IF(AND(DA$10>$E28,CZ$10<$F28),IF(CZ$10>$E28,IF(DA$10>$F28,$U28/($F28-$E28)*($F28-CZ$10),$U28/($F28-$E28)*(DA$10-CZ$10)),$U28/($F28-$E28)*(DA$10-$E28)),\"x\")))","v":"x"},"x","x","x","x","x","x","x","x","x","x","x","x","x","x","x","x","x","x","x","x","x","x","x","x","x","x","x","x","x","x","x","x","x","x","x","x",null,null,null,0,null,{"$f":"IF(OR($V28=\"Utility\",$AA28=0),\"x\",IF($G28=\"cold\",\"x\",IF(AND(EQ$10>$F28,EP$10<$E28),IF(EP$10>$F28,IF(EQ$10>$E28,$U28/($E28-$F28)*($E28-EP$10),$U28/($E28-$F28)*(EQ$10-EP$10)),$U28/($E28-$F28)*(EQ$10-$F28)),\"x\")))","v":"x"},"x","x","x","x","x","x","x","x","x","x","x","x","x","x","x","x","x","x","x","x","x","x","x","x","x","x","x","x","x","x","x",{"$f":"IF(OR($V28=\"Utility\",$AA28=0),\"x\",IF($G28=\"cold\",\"x\",IF(AND(FW$10>$F28,FV$10<$E28),IF(FV$10>$F28,IF(FW$10>$E28,$U28/($E28-$F28)*($E28-FV$10),$U28/($E28-$F28)*(FW$10-FV$10)),$U28/($E28-$F28)*(FW$10-$F28)),\"x\")))","v":"x"},"x","x","x","x","x","x","x","x","x","x","x","x","x","x","x","x","x","x","x","x","x","x","x","x","x","x","x","x","x","x","x",{"$f":"IF(OR($V28=\"Utility\",$AA28=0),\"x\",IF($G28=\"cold\",\"x\",IF(AND(HC$10>$F28,HB$10<$E28),IF(HB$10>$F28,IF(HC$10>$E28,$U28/($E28-$F28)*($E28-HB$10),$U28/($E28-$F28)*(HC$10-HB$10)),$U28/($E28-$F28)*(HC$10-$F28)),\"x\")))","v":"x"},"x","x","x","x","x","x","x","x","x","x","x","x","x","x","x","x","x","x","x","x","x","x","x","x","x","x","x","x","x","x","x","x","x","x","x","x",null,null,null,"Column HCCC",{"$f":"MATCH(IR16,$EQ$9:$IM$9,1)","v":101},101,101,101,101,101,101,101,101,101,101,101,101,101,101,101,101,101,101,101,101,101,101,101,101,101,101,101,101,101,101,101,101,101,101,101,101,101,101,101,101,101,101,101,101,101,101,101,101,101,101,101,101,101,101,101,101,101,101,101,101,101,101,101,{"$f":"MATCH(LD16,$EQ$9:$IM$9,1)","v":101},101,101,101,101,101,101,101,101,101,101,101,101,101,101,101,101,101,101,101,101,101,101,101,101,101,101,101,101,101,101,101,101,101,101,101,101]
["",{"$f":"IF(G29=\"hot\",COUNTIF($G$11:G29,\"hot\"),\"\")","v":""},{"$f":"IF(G29=\"cold\",COUNTIF($G$11:G29,\"cold\"),\"\")","v":""},null,null,null,"",null,null,"","","",null,null,null,null,null,null,null,null,"",null,"","","","","",null,null,null,null,null,null,null,"Minimal Hot Utility",{"$f":"IF(AJ21-AJ23<0,0,AJ21-AJ23)","v":62.399999999999977},"MWh",null,0,null,{"$f":"IF(OR($V29=\"Utility\",$AA29=0),\"x\",IF($G29=\"hot\",\"x\",IF(AND(AO$10>$E29,AN$10<$F29),IF(AN$10>$E29,IF(AO$10>$F29,$U29/($F29-$E29)*($F29-AN$10),$U29/($F29-$E29)*(AO$10-AN$10)),$U29/($F29-$E29)*(AO$10-$E29)),\"x\")))","v":"x"},"x","x","x","x","x","x","x","x","x","x","x","x","x","x","x","x","x","x","x","x","x","x","x","x","x","x","x","x","x","x","x",{"$f":"IF(OR($V29=\"Utility\",$AA29=0),\"x\",IF($G29=\"hot\",\"x\",IF(AND(BU$10>$E29,BT$10<$F29),IF(BT$10>$E29,IF(BU$10>$F29,$U29/($F29-$E29)*($F29-BT$10),$U29/($F29-$E29)*(BU$10-BT$10)),$U29/($F29-$E29)*(BU$10-$E29)),\"x\")))","v":"x"},"x","x","x","x","x","x","x","x","x","x","x","x","x","x","x","x","x","x","x","x","x","x","x","x","x","x","x","x","x","x","x",{"$f":"IF(OR($V29=\"Utility\",$AA29=0),\"x\",IF($G29=\"hot\",\"x\",IF(AND(DA$10>$E29,CZ$10<$F29),IF(CZ$10>$E29,IF(DA$10>$F29,$U29/($F29-$E29)*($F29-CZ$10),$U29/($F29-$E29)*(DA$10-CZ$10)),$U29/($F29-$E29)*(DA$10-$E29)),\"x\")))","v":"x"},"x","x","x","x","x","x","x","x","x","x","x","x","x","x","x","x","x","x","x","x","x","x","x","x","x","x","x","x","x","x","x","x","x","x","x","x",null,null,null,0,null,{"$f":"IF(OR($V29=\"Utility\",$AA29=0),\"x\",IF($G29=\"cold\",\"x\",IF(AND(EQ$10>$F29,EP$10<$E29),IF(EP$10>$F29,IF(EQ$10>$E29,$U29/($E29-$F29)*($E29-EP$10),$U29/($E29-$F29)*(EQ$10-EP$10)),$U29/($E29-$F29)*(EQ$10-$F29)),\"x\")))","v":"x"},"x","x","x","x","x","x","x","x","x","x","x","x","x","x","x","x","x","x","x","x","x","x","x","x","x","x","x","x","x","x","x",{"$f":"IF(OR($V29=\"Utility\",$AA29=0),\"x\",IF($G29=\"cold\",\"x\",IF(AND(FW$10>$F29,FV$10<$E29),IF(FV$10>$F29,IF(FW$10>$E29,$U29/($E29-$F29)*($E29-FV$10),$U29/($E29-$F29)*(FW$10-FV$10)),$U29/($E29-$F29)*(FW$10-$F29)),\"x\")))","v":"x"},"x","x","x","x","x","x","x","x","x","x","x","x","x","x","x","x","x","x","x","x","x","x","x","x","x","x","x","x","x","x","x",{"$f":"IF(OR($V29=\"Utility\",$AA29=0),\"x\",IF($G29=\"cold\",\"x\",IF(AND(HC$10>$F29,HB$10<$E29),IF(HB$10>$F29,IF(HC$10>$E29,$U29/($E29-$F29)*($E29-HB$10),$U29/($E29-$F29)*(HC$10-HB$10)),$U29/($E29-$F29)*(HC$10-$F29)),\"x\")))","v":"x"},"x","x","x","x","x","x","x","x","x","x","x","x","x","x","x","x","x","x","x","x","x","x","x","x","x","x","x","x","x","x","x","x","x","x","x","x"]
["",{"$f":"IF(G30=\"hot\",COUNTIF($G$11:G30,\"hot\"),\"\")","v":""},{"$f":"IF(G30=\"cold\",COUNTIF($G$11:G30,\"cold\"),\"\")","v":""},null,null,null,"",null,null,"","","",null,null,null,null,null,null,null,null,"",null,"","","","","",null,null,null,null,null,null,null,"Minimal Cold Utility",{"$f":"AJ22-AJ24","v":62.399999999999977},"MWh",null,0,null,{"$f":"IF(OR($V30=\"Utility\",$AA30=0),\"x\",IF($G30=\"hot\",\"x\",IF(AND(AO$10>$E30,AN$10<$F30),IF(AN$10>$E30,IF(AO$10>$F30,$U30/($F30-$E30)*($F30-AN$10),$U30/($F30-$E30)*(AO$10-AN$10)),$U30/($F30-$E30)*(AO$10-$E30)),\"x\")))","v":"x"},"x","x","x","x","x","x","x","x","x","x","x","x","x","x","x","x","x","x","x","x","x","x","x","x","x","x","x","x","x","x","x",{"$f":"IF(OR($V30=\"Utility\",$AA30=0),\"x\",IF($G30=\"hot\",\"x\",IF(AND(BU$10>$E30,BT$10<$F30),IF(BT$10>$E30,IF(BU$10>$F30,$U30/($F30-$E30)*($F30-BT$10),$U30/($F30-$E30)*(BU$10-BT$10)),$U30/($F30-$E30)*(BU$10-$E30)),\"x\")))","v":"x"},"x","x","x","x","x","x","x","x","x","x","x","x","x","x","x","x","x","x","x","x","x","x","x","x","x","x","x","x","x","x","x",{"$f":"IF(OR($V30=\"Utility\",$AA30=0),\"x\",IF($G30=\"hot\",\"x\",IF(AND(DA$10>$E30,CZ$10<$F30),IF(CZ$10>$E30,IF(DA$10>$F30,$U30/($F30-$E30)*($F30-CZ$10),$U30/($F30-$E30)*(DA$10-CZ$10)),$U30/($F30-$E30)*(DA$10-$E30)),\"x\")))","v":"x"},"x","x","x","x","x","x","x","x","x","x","x","x","x","x","x","x","x","x","x","x","x","x","x","x","x","x","x","x","x","x","x","x","x","x","x","x",null,null,null,0,null,{"$f":"IF(OR($V30=\"Utility\",$AA30=0),\"x\",IF($G30=\"cold\",\"x\",IF(AND(EQ$10>$F30,EP$10<$E30),IF(EP$10>$F30,IF(EQ$10>$E30,$U30/($E30-$F30)*($E30-EP$10),$U30/($E30-$F30)*(EQ$10-EP$10)),$U30/($E30-$F30)*(EQ$10-$F30)),\"x\")))","v":"x"},"x","x","x","x","x","x","x","x","x","x","x","x","x","x","x","x","x","x","x","x","x","x","x","x","x","x","x","x","x","x","x",{"$f":"IF(OR($V30=\"Utility\",$AA30=0),\"x\",IF($G30=\"cold\",\"x\",IF(AND(FW$10>$F30,FV$10<$E30),IF(FV$10>$F30,IF(FW$10>$E30,$U30/($E30-$F30)*($E30-FV$10),$U30/($E30-$F30)*(FW$10-FV$10)),$U30/($E30-$F30)*(FW$10-$F30)),\"x\")))","v":"x"},"x","x","x","x","x","x","x","x","x","x","x","x","x","x","x","x","x","x","x","x","x","x","x","x","x","x","x","x","x","x","x",{"$f":"IF(OR($V30=\"Utility\",$AA30=0),\"x\",IF($G30=\"cold\",\"x\",IF(AND(HC$10>$F30,HB$10<$E30),IF(HB$10>$F30,IF(HC$10>$E30,$U30/($E30-$F30)*($E30-HB$10),$U30/($E30-$F30)*(HC$10-HB$10)),$U30/($E30-$F30)*(HC$10-$F30)),\"x\")))","v":"x"},"x","x","x","x","x","x","x","x","x","x","x","x","x","x","x","x","x","x","x","x","x","x","x","x","x","x","x","x","x","x","x","x","x","x","x","x"]
["",{"$f":"IF(G31=\"hot\",COUNTIF($G$11:G31,\"hot\"),\"\")","v":""},{"$f":"IF(G31=\"cold\",COUNTIF($G$11:G31,\"cold\"),\"\")","v":""},null,null,null,"",null,null,"","","",null,null,null,null,null,null,null,null,"",null,"","","","","",null,null,null,null,null,null,null,null,null,null,null,0,null,{"$f":"IF(OR($V31=\"Utility\",$AA31=0),\"x\",IF($G31=\"hot\",\"x\",IF(AND(AO$10>$E31,AN$10<$F31),IF(AN$10>$E31,IF(AO$10>$F31,$U31/($F31-$E31)*($F31-AN$10),$U31/($F31-$E31)*(AO$10-AN$10)),$U31/($F31-$E31)*(AO$10-$E31)),\"x\")))","v":"x"},"x","x","x","x","x","x","x","x","x","x","x","x","x","x","x","x","x","x","x","x","x","x","x","x","x","x","x","x","x","x","x",{"$f":"IF(OR($V31=\"Utility\",$AA31=0),\"x\",IF($G31=\"hot\",\"x\",IF(AND(BU$10>$E31,BT$10<$F31),IF(BT$10>$E31,IF(BU$10>$F31,$U31/($F31-$E31)*($F31-BT$10),$U31/($F31-$E31)*(BU$10-BT$10)),$U31/($F31-$E31)*(BU$10-$E31)),\"x\")))","v":"x"},"x","x","x","x","x","x","x","x","x","x","x","x","x","x","x","x","x","x","x","x","x","x","x","x","x","x","x","x","x","x","x",{"$f":"IF(OR($V31=\"Utility\",$AA31=0),\"x\",IF($G31=\"hot\",\"x\",IF(AND(DA$10>$E31,CZ$10<$F31),IF(CZ$10>$E31,IF(DA$10>$F31,$U31/($F31-$E31)*($F31-CZ$10),$U31/($F31-$E31)*(DA$10-CZ$10)),$U31/($F31-$E31)*(DA$10-$E31)),\"x\")))","v":"x"},"x","x","x","x","x","x","x","x","x","x","x","x","x","x","x","x","x","x","x","x","x","x","x","x","x","x","x","x","x","x","x","x","x","x","x","x",null,null,null,0,null,{"$f":"IF(OR($V31=\"Utility\",$AA31=0),\"x\",IF($G31=\"cold\",\"x\",IF(AND(EQ$10>$F31,EP$10<$E31),IF(EP$10>$F31,IF(EQ$10>$E31,$U31/($E31-$F31)*($E31-EP$10),$U31/($E31-$F31)*(EQ$10-EP$10)),$U31/($E31-$F31)*(EQ$10-$F31)),\"x\")))","v":"x"},"x","x","x","x","x","x","x","x","x","x","x","x","x","x","x","x","x","x","x","x","x","x","x","x","x","x","x","x","x","x","x",{"$f":"IF(OR($V31=\"Utility\",$AA31=0),\"x\",IF($G31=\"cold\",\"x\",IF(AND(FW$10>$F31,FV$10<$E31),IF(FV$10>$F31,IF(FW$10>$E31,$U31/($E31-$F31)*($E31-FV$10),$U31/($E31-$F31)*(FW$10-FV$10)),$U31/($E31-$F31)*(FW$10-$F31)),\"x\")))","v":"x"},"x","x","x","x","x","x","x","x","x","x","x","x","x","x","x","x","x","x","x","x","x","x","x","x","x","x","x","x","x","x","x",{"$f":"IF(OR($V31=\"Utility\",$AA31=0),\"x\",IF($G31=\"cold\",\"x\",IF(AND(HC$10>$F31,HB$10<$E31),IF(HB$10>$F31,IF(HC$10>$E31,$U31/($E31-$F31)*($E31-HB$10),$U31/($E31-$F31)*(HC$10-HB$10)),$U31/($E31-$F31)*(HC$10-$F31)),\"x\")))","v":"x"},"x","x","x","x","x","x","x","x","x","x","x","x","x","x","x","x","x","x","x","x","x","x","x","x","x","x","x","x","x","x","x","x","x","x","x","x"]
["",{"$f":"IF(G32=\"hot\",COUNTIF($G$11:G32,\"hot\"),\"\")","v":""},{"$f":"IF(G32=\"cold\",COUNTIF($G$11:G32,\"cold\"),\"\")","v":""},null,null,null,"",null,null,"","","",null,null,null,null,null,null,null,null,"",null,"","","","","",null,null,null,null,null,null,null,null,null,null,null,0,null,{"$f":"IF(OR($V32=\"Utility\",$AA32=0),\"x\",IF($G32=\"hot\",\"x\",IF(AND(AO$10>$E32,AN$10<$F32),IF(AN$10>$E32,IF(AO$10>$F32,$U32/($F32-$E32)*($F32-AN$10),$U32/($F32-$E32)*(AO$10-AN$10)),$U32/($F32-$E32)*(AO$10-$E32)),\"x\")))","v":"x"},"x","x","x","x","x","x","x","x","x","x","x","x","x","x","x","x","x","x","x","x","x","x","x","x","x","x","x","x","x","x","x",{"$f":"IF(OR($V32=\"Utility\",$AA32=0),\"x\",IF($G32=\"hot\",\"x\",IF(AND(BU$10>$E32,BT$10<$F32),IF(BT$10>$E32,IF(BU$10>$F32,$U32/($F32-$E32)*($F32-BT$10),$U32/($F32-$E32)*(BU$10-BT$10)),$U32/($F32-$E32)*(BU$10-$E32)),\"x\")))","v":"x"},"x","x","x","x","x","x","x","x","x","x","x","x","x","x","x","x","x","x","x","x","x","x","x","x","x","x","x","x","x","x","x",{"$f":"IF(OR($V32=\"Utility\",$AA32=0),\"x\",IF($G32=\"hot\",\"x\",IF(AND(DA$10>$E32,CZ$10<$F32),IF(CZ$10>$E32,IF(DA$10>$F32,$U32/($F32-$E32)*($F32-CZ$10),$U32/($F32-$E32)*(DA$10-CZ$10)),$U32/($F32-$E32)*(DA$10-$E32)),\"x\")))","v":"x"},"x","x","x","x","x","x","x","x","x","x","x","x","x","x","x","x","x","x","x","x","x","x","x","x","x","x","x","x","x","x","x","x","x","x","x","x",null,null,null,0,null,{"$f":"IF(OR($V32=\"Utility\",$AA32=0),\"x\",IF($G32=\"cold\",\"x\",IF(AND(EQ$10>$F32,EP$10<$E32),IF(EP$10>$F32,IF(EQ$10>$E32,$U32/($E32-$F32)*($E32-EP$10),$U32/($E32-$F32)*(EQ$10-EP$10)),$U32/($E32-$F32)*(EQ$10-$F32)),\"x\")))","v":"x"},"x","x","x","x","x","x","x","x","x","x","x","x","x","x","x","x","x","x","x","x","x","x","x","x","x","x","x","x","x","x","x",{"$f":"IF(OR($V32=\"Utility\",$AA32=0),\"x\",IF($G32=\"cold\",\"x\",IF(AND(FW$10>$F32,FV$10<$E32),IF(FV$10>$F32,IF(FW$10>$E32,$U32/($E32-$F32)*($E32-FV$10),$U32/($E32-$F32)*(FW$10-FV$10)),$U32/($E32-$F32)*(FW$10-$F32)),\"x\")))","v":"x"},"x","x","x","x","x","x","x","x","x","x","x","x","x","x","x","x","x","x","x","x","x","x","x","x","x","x","x","x","x","x","x",{"$f":"IF(OR($V32=\"Utility\",$AA32=0),\"x\",IF($G32=\"cold\",\"x\",IF(AND(HC$10>$F32,HB$10<$E32),IF(HB$10>$F32,IF(HC$10>$E32,$U32/($E32-$F32)*($E32-HB$10),$U32/($E32-$F32)*(HC$10-HB$10)),$U32/($E32-$F32)*(HC$10-$F32)),\"x\")))","v":"x"},"x","x","x","x","x","x","x","x","x","x","x","x","x","x","x","x","x","x","x","x","x","x","x","x","x","x","x","x","x","x","x","x","x","x","x","x"]
["",{"$f":"IF(G33=\"hot\",COUNTIF($G$11:G33,\"hot\"),\"\")","v":""},{"$f":"IF(G33=\"cold\",COUNTIF($G$11:G33,\"cold\"),\"\")","v":""},null,null,null,"",null,null,"","","",null,null,null,null,null,null,null,null,"",null,"","","","","",null,null,null,null,null,null,null,"Shift GCC",67.391999999999939,"MWh",null,0,null,{"$f":"IF(OR($V33=\"Utility\",$AA33=0),\"x\",IF($G33=\"hot\",\"x\",IF(AND(AO$10>$E33,AN$10<$F33),IF(AN$10>$E33,IF(AO$10>$F33,$U33/($F33-$E33)*($F33-AN$10),$U33/($F33-$E33)*(AO$10-AN$10)),$U33/($F33-$E33)*(AO$10-$E33)),\"x\")))","v":"x"},"x","x","x","x","x","x","x","x","x","x","x","x","x","x","x","x","x","x","x","x","x","x","x","x","x","x","x","x","x","x","x",{"$f":"IF(OR($V33=\"Utility\",$AA33=0),\"x\",IF($G33=\"hot\",\"x\",IF(AND(BU$10>$E33,BT$10<$F33),IF(BT$10>$E33,IF(BU$10>$F33,$U33/($F33-$E33)*($F33-BT$10),$U33/($F33-$E33)*(BU$10-BT$10)),$U33/($F33-$E33)*(BU$10-$E33)),\"x\")))","v":"x"},"x","x","x","x","x","x","x","x","x","x","x","x","x","x","x","x","x","x","x","x","x","x","x","x","x","x","x","x","x","x","x",{"$f":"IF(OR($V33=\"Utility\",$AA33=0),\"x\",IF($G33=\"hot\",\"x\",IF(AND(DA$10>$E33,CZ$10<$F33),IF(CZ$10>$E33,IF(DA$10>$F33,$U33/($F33-$E33)*($F33-CZ$10),$U33/($F33-$E33)*(DA$10-CZ$10)),$U33/($F33-$E33)*(DA$10-$E33)),\"x\")))","v":"x"},"x","x","x","x","x","x","x","x","x","x","x","x","x","x","x","x","x","x","x","x","x","x","x","x","x","x","x","x","x","x","x","x","x","x","x","x",null,null,null,0,null,{"$f":"IF(OR($V33=\"Utility\",$AA33=0),\"x\",IF($G33=\"cold\",\"x\",IF(AND(EQ$10>$F33,EP$10<$E33),IF(EP$10>$F33,IF(EQ$10>$E33,$U33/($E33-$F33)*($E33-EP$10),$U33/($E33-$F33)*(EQ$10-EP$10)),$U33/($E33-$F33)*(EQ$10-$F33)),\"x\")))","v":"x"},"x","x","x","x","x","x","x","x","x","x","x","x","x","x","x","x","x","x","x","x","x","x","x","x","x","x","x","x","x","x","x",{"$f":"IF(OR($V33=\"Utility\",$AA33=0),\"x\",IF($G33=\"cold\",\"x\",IF(AND(FW$10>$F33,FV$10<$E33),IF(FV$10>$F33,IF(FW$10>$E33,$U33/($E33-$F33)*($E33-FV$10),$U33/($E33-$F33)*(FW$10-FV$10)),$U33/($E33-$F33)*(FW$10-$F33)),\"x\")))","v":"x"},"x","x","x","x","x","x","x","x","x","x","x","x","x","x","x","x","x","x","x","x","x","x","x","x","x","x","x","x","x","x","x",{"$f":"IF(OR($V33=\"Utility\",$AA33=0),\"x\",IF($G33=\"cold\",\"x\",IF(AND(HC$10>$F33,HB$10<$E33),IF(HB$10>$F33,IF(HC$10>$E33,$U33/($E33-$F33)*($E33-HB$10),$U33/($E33-$F33)*(HC$10-HB$10)),$U33/($E33-$F33)*(HC$10-$F33)),\"x\")))","v":"x"},"x","x","x","x","x","x","x","x","x","x","x","x","x","x","x","x","x","x","x","x","x","x","x","x","x","x","x","x","x","x","x","x","x","x","x","x"]
["",{"$f":"IF(G34=\"hot\",COUNTIF($G$11:G34,\"hot\"),\"\")","v":""},{"$f":"IF(G34=\"cold\",COUNTIF($G$11:G34,\"cold\"),\"\")","v":""},null,null,null,"",null,null,"","","",null,null,null,null,null,null,null,null,"",null,"","","","","",null,null,null,null,null,null,null,"Diff to Y-Axis",{"$f":"MIN($IR$25:$MN$25)","v":67.391999999999939},"MWh",null,0,null,{"$f":"IF(OR($V34=\"Utility\",$AA34=0),\"x\",IF($G34=\"hot\",\"x\",IF(AND(AO$10>$E34,AN$10<$F34),IF(AN$10>$E34,IF(AO$10>$F34,$U34/($F34-$E34)*($F34-AN$10),$U34/($F34-$E34)*(AO$10-AN$10)),$U34/($F34-$E34)*(AO$10-$E34)),\"x\")))","v":"x"},"x","x","x","x","x","x","x","x","x","x","x","x","x","x","x","x","x","x","x","x","x","x","x","x","x","x","x","x","x","x","x",{"$f":"IF(OR($V34=\"Utility\",$AA34=0),\"x\",IF($G34=\"hot\",\"x\",IF(AND(BU$10>$E34,BT$10<$F34),IF(BT$10>$E34,IF(BU$10>$F34,$U34/($F34-$E34)*($F34-BT$10),$U34/($F34-$E34)*(BU$10-BT$10)),$U34/($F34-$E34)*(BU$10-$E34)),\"x\")))","v":"x"},"x","x","x","x","x","x","x","x","x","x","x","x","x","x","x","x","x","x","x","x","x","x","x","x","x","x","x","x","x","x","x",{"$f":"IF(OR($V34=\"Utility\",$AA34=0),\"x\",IF($G34=\"hot\",\"x\",IF(AND(DA$10>$E34,CZ$10<$F34),IF(CZ$10>$E34,IF(DA$10>$F34,$U34/($F34-$E34)*($F34-CZ$10),$U34/($F34-$E34)*(DA$10-CZ$10)),$U34/($F34-$E34)*(DA$10-$E34)),\"x\")))","v":"x"},"x","x","x","x","x","x","x","x","x","x","x","x","x","x","x","x","x","x","x","x","x","x","x","x","x","x","x","x","x","x","x","x","x","x","x","x",null,null,null,0,null,{"$f":"IF(OR($V34=\"Utility\",$AA34=0),\"x\",IF($G34=\"cold\",\"x\",IF(AND(EQ$10>$F34,EP$10<$E34),IF(EP$10>$F34,IF(EQ$10>$E34,$U34/($E34-$F34)*($E34-EP$10),$U34/($E34-$F34)*(EQ$10-EP$10)),$U34/($E34-$F34)*(EQ$10-$F34)),\"x\")))","v":"x"},"x","x","x","x","x","x","x","x","x","x","x","x","x","x","x","x","x","x","x","x","x","x","x","x","x","x","x","x","x","x","x",{"$f":"IF(OR($V34=\"Utility\",$AA34=0),\"x\",IF($G34=\"cold\",\"x\",IF(AND(FW$10>$F34,FV$10<$E34),IF(FV$10>$F34,IF(FW$10>$E34,$U34/($E34-$F34)*($E34-FV$10),$U34/($E34-$F34)*(FW$10-FV$10)),$U34/($E34-$F34)*(FW$10-$F34)),\"x\")))","v":"x"},"x","x","x","x","x","x","x","x","x","x","x","x","x","x","x","x","x","x","x","x","x","x","x","x","x","x","x","x","x","x","x",{"$f":"IF(OR($V34=\"Utility\",$AA34=0),\"x\",IF($G34=\"cold\",\"x\",IF(AND(HC$10>$F34,HB$10<$E34),IF(HB$10>$F34,IF(HC$10>$E34,$U34/($E34-$F34)*($E34-HB$10),$U34/($E34-$F34)*(HC$10-HB$10)),$U34/($E34-$F34)*(HC$10-$F34)),\"x\")))","v":"x"},"x","x","x","x","x","x","x","x","x","x","x","x","x","x","x","x","x","x","x","x","x","x","x","x","x","x","x","x","x","x","x","x","x","x","x","x"]
["",{"$f":"IF(G35=\"hot\",COUNTIF($G$11:G35,\"hot\"),\"\")","v":""},{"$f":"IF(G35=\"cold\",COUNTIF($G$11:G35,\"cold\"),\"\")","v":""},null,null,null,"",null,null,"","","",null,null,null,null,null,null,null,null,"",null,"","","","","",null,null,null,null,null,null,null,null,null,null,null,0,null,{"$f":"IF(OR($V35=\"Utility\",$AA35=0),\"x\",IF($G35=\"hot\",\"x\",IF(AND(AO$10>$E35,AN$10<$F35),IF(AN$10>$E35,IF(AO$10>$F35,$U35/($F35-$E35)*($F35-AN$10),$U35/($F35-$E35)*(AO$10-AN$10)),$U35/($F35-$E35)*(AO$10-$E35)),\"x\")))","v":"x"},"x","x","x","x","x","x","x","x","x","x","x","x","x","x","x","x","x","x","x","x","x","x","x","x","x","x","x","x","x","x","x",{"$f":"IF(OR($V35=\"Utility\",$AA35=0),\"x\",IF($G35=\"hot\",\"x\",IF(AND(BU$10>$E35,BT$10<$F35),IF(BT$10>$E35,IF(BU$10>$F35,$U35/($F35-$E35)*($F35-BT$10),$U35/($F35-$E35)*(BU$10-BT$10)),$U35/($F35-$E35)*(BU$10-$E35)),\"x\")))","v":"x"},"x","x","x","x","x","x","x","x","x","x","x","x","x","x","x","x","x","x","x","x","x","x","x","x","x","x","x","x","x","x","x",{"$f":"IF(OR($V35=\"Utility\",$AA35=0),\"x\",IF($G35=\"hot\",\"x\",IF(AND(DA$10>$E35,CZ$10<$F35),IF(CZ$10>$E35,IF(DA$10>$F35,$U35/($F35-$E35)*($F35-CZ$10),$U35/($F35-$E35)*(DA$10-CZ$10)),$U35/($F35-$E35)*(DA$10-$E35)),\"x\")))","v":"x"},"x","x","x","x","x","x","x","x","x","x","x","x","x","x","x","x","x","x","x","x","x","x","x","x","x","x","x","x","x","x","x","x","x","x","x","x",null,null,null,0,null,{"$f":"IF(OR($V35=\"Utility\",$AA35=0),\"x\",IF($G35=\"cold\",\"x\",IF(AND(EQ$10>$F35,EP$10<$E35),IF(EP$10>$F35,IF(EQ$10>$E35,$U35/($E35-$F35)*($E35-EP$10),$U35/($E35-$F35)*(EQ$10-EP$10)),$U35/($E35-$F35)*(EQ$10-$F35)),\"x\")))","v":"x"},"x","x","x","x","x","x","x","x","x","x","x","x","x","x","x","x","x","x","x","x","x","x","x","x","x","x","x","x","x","x","x",{"$f":"IF(OR($V35=\"Utility\",$AA35=0),\"x\",IF($G35=\"cold\",\"x\",IF(AND(FW$10>$F35,FV$10<$E35),IF(FV$10>$F35,IF(FW$10>$E35,$U35/($E35-$F35)*($E35-FV$10),$U35/($E35-$F35)*(FW$10-FV$10)),$U35/($E35-$F35)*(FW$10-$F35)),\"x\")))","v":"x"},"x","x","x","x","x","x","x","x","x","x","x","x","x","x","x","x","x","x","x","x","x","x","x","x","x","x","x","x","x","x","x",{"$f":"IF(OR($V35=\"Utility\",$AA35=0),\"x\",IF($G35=\"cold\",\"x\",IF(AND(HC$10>$F35,HB$10<$E35),IF(HB$10>$F35,IF(HC$10>$E35,$U35/($E35-$F35)*($E35-HB$10),$U35/($E35-$F35)*(HC$10-HB$10)),$U35/($E35-$F35)*(HC$10-$F35)),\"x\")))","v":"x"},"x","x","x","x","x","x","x","x","x","x","x","x","x","x","x","x","x","x","x","x","x","x","x","x","x","x","x","x","x","x","x","x","x","x","x","x"]
["",{"$f":"IF(G36=\"hot\",COUNTIF($G$11:G36,\"hot\"),\"\")","v":""},{"$f":"IF(G36=\"cold\",COUNTIF($G$11:G36,\"cold\"),\"\")","v":""},null,null,null,"",null,null,"","","",null,null,null,null,null,null,null,null,"",null,"","","","","",null,null,null,null,null,null,null,"Nebenbedingung 1",{"$f":"SUMIF($G$11:$G$110,\"hot\",$L$11:$L$110)","v":0},"MWh",null,0,null,{"$f":"IF(OR($V36=\"Utility\",$AA36=0),\"x\",IF($G36=\"hot\",\"x\",IF(AND(AO$10>$E36,AN$10<$F36),IF(AN$10>$E36,IF(AO$10>$F36,$U36/($F36-$E36)*($F36-AN$10),$U36/($F36-$E36)*(AO$10-AN$10)),$U36/($F36-$E36)*(AO$10-$E36)),\"x\")))","v":"x"},"x","x","x","x","x","x","x","x","x","x","x","x","x","x","x","x","x","x","x","x","x","x","x","x","x","x","x","x","x","x","x",{"$f":"IF(OR($V36=\"Utility\",$AA36=0),\"x\",IF($G36=\"hot\",\"x\",IF(AND(BU$10>$E36,BT$10<$F36),IF(BT$10>$E36,IF(BU$10>$F36,$U36/($F36-$E36)*($F36-BT$10),$U36/($F36-$E36)*(BU$10-BT$10)),$U36/($F36-$E36)*(BU$10-$E36)),\"x\")))","v":"x"},"x","x","x","x","x","x","x","x","x","x","x","x","x","x","x","x","x","x","x","x","x","x","x","x","x","x","x","x","x","x","x",{"$f":"IF(OR($V36=\"Utility\",$AA36=0),\"x\",IF($G36=\"hot\",\"x\",IF(AND(DA$10>$E36,CZ$10<$F36),IF(CZ$10>$E36,IF(DA$10>$F36,$U36/($F36-$E36)*($F36-CZ$10),$U36/($F36-$E36)*(DA$10-CZ$10)),$U36/($F36-$E36)*(DA$10-$E36)),\"x\")))","v":"x"},"x","x","x","x","x","x","x","x","x","x","x","x","x","x","x","x","x","x","x","x","x","x","x","x","x","x","x","x","x","x","x","x","x","x","x","x",null,null,null,0,null,{"$f":"IF(OR($V36=\"Utility\",$AA36=0),\"x\",IF($G36=\"cold\",\"x\",IF(AND(EQ$10>$F36,EP$10<$E36),IF(EP$10>$F36,IF(EQ$10>$E36,$U36/($E36-$F36)*($E36-EP$10),$U36/($E36-$F36)*(EQ$10-EP$10)),$U36/($E36-$F36)*(EQ$10-$F36)),\"x\")))","v":"x"},"x","x","x","x","x","x","x","x","x","x","x","x","x","x","x","x","x","x","x","x","x","x","x","x","x","x","x","x","x","x","x",{"$f":"IF(OR($V36=\"Utility\",$AA36=0),\"x\",IF($G36=\"cold\",\"x\",IF(AND(FW$10>$F36,FV$10<$E36),IF(FV$10>$F36,IF(FW$10>$E36,$U36/($E36-$F36)*($E36-FV$10),$U36/($E36-$F36)*(FW$10-FV$10)),$U36/($E36-$F36)*(FW$10-$F36)),\"x\")))","v":"x"},"x","x","x","x","x","x","x","x","x","x","x","x","x","x","x","x","x","x","x","x","x","x","x","x","x","x","x","x","x","x","x",{"$f":"IF(OR($V36=\"Utility\",$AA36=0),\"x\",IF($G36=\"cold\",\"x\",IF(AND(HC$10>$F36,HB$10<$E36),IF(HB$10>$F36,IF(HC$10>$E36,$U36/($E36-$F36)*($E36-HB$10),$U36/($E36-$F36)*(HC$10-HB$10)),$U36/($E36-$F36)*(HC$10-$F36)),\"x\")))","v":"x"},"x","x","x","x","x","x","x","x","x","x","x","x","x","x","x","x","x","x","x","x","x","x","x","x","x","x","x","x","x","x","x","x","x","x","x","x"]
["",{"$f":"IF(G37=\"hot\",COUNTIF($G$11:G37,\"hot\"),\"\")","v":""},{"$f":"IF(G37=\"cold\",COUNTIF($G$11:G37,\"cold\"),\"\")","v":""},null,null,null,"",null,null,"","","",null,null,null,null,null,null,null,null,"",null,"","","","","",null,null,null,null,null,null,null,"Startwert",{"$f":"lngMaxShift/3","v":0},"MWh",null,0,null,{"$f":"IF(OR($V37=\"Utility\",$AA37=0),\"x\",IF($G37=\"hot\",\"x\",IF(AND(AO$10>$E37,AN$10<$F37),IF(AN$10>$E37,IF(AO$10>$F37,$U37/($F37-$E37)*($F37-AN$10),$U37/($F37-$E37)*(AO$10-AN$10)),$U37/($F37-$E37)*(AO$10-$E37)),\"x\")))","v":"x"},"x","x","x","x","x","x","x","x","x","x","x","x","x","x","x","x","x","x","x","x","x","x","x","x","x","x","x","x","x","x","x",{"$f":"IF(OR($V37=\"Utility\",$AA37=0),\"x\",IF($G37=\"hot\",\"x\",IF(AND(BU$10>$E37,BT$10<$F37),IF(BT$10>$E37,IF(BU$10>$F37,$U37/($F37-$E37)*($F37-BT$10),$U37/($F37-$E37)*(BU$10-BT$10)),$U37/($F37-$E37)*(BU$10-$E37)),\"x\")))","v":"x"},"x","x","x","x","x","x","x","x","x","x","x","x","x","x","x","x","x","x","x","x","x","x","x","x","x","x","x","x","x","x","x",{"$f":"IF(OR($V37=\"Utility\",$AA37=0),\"x\",IF($G37=\"hot\",\"x\",IF(AND(DA$10>$E37,CZ$10<$F37),IF(CZ$10>$E37,IF(DA$10>$F37,$U37/($F37-$E37)*($F37-CZ$10),$U37/($F37-$E37)*(DA$10-CZ$10)),$U37/($F37-$E37)*(DA$10-$E37)),\"x\")))","v":"x"},"x","x","x","x","x","x","x","x","x","x","x","x","x","x","x","x","x","x","x","x","x","x","x","x","x","x","x","x","x","x","x","x","x","x","x","x",null,null,null,0,null,{"$f":"IF(OR($V37=\"Utility\",$AA37=0),\"x\",IF($G37=\"cold\",\"x\",IF(AND(EQ$10>$F37,EP$10<$E37),IF(EP$10>$F37,IF(EQ$10>$E37,$U37/($E37-$F37)*($E37-EP$10),$U37/($E37-$F37)*(EQ$10-EP$10)),$U37/($E37-$F37)*(EQ$10-$F37)),\"x\")))","v":"x"},"x","x","x","x","x","x","x","x","x","x","x","x","x","x","x","x","x","x","x","x","x","x","x","x","x","x","x","x","x","x","x",{"$f":"IF(OR($V37=\"Utility\",$AA37=0),\"x\",IF($G37=\"cold\",\"x\",IF(AND(FW$10>$F37,FV$10<$E37),IF(FV$10>$F37,IF(FW$10>$E37,$U37/($E37-$F37)*($E37-FV$10),$U37/($E37-$F37)*(FW$10-FV$10)),$U37/($E37-$F37)*(FW$10-$F37)),\"x\")))","v":"x"},"x","x","x","x","x","x","x","x","x","x","x","x","x","x","x","x","x","x","x","x","x","x","x","x","x","x","x","x","x","x","x",{"$f":"IF(OR($V37=\"Utility\",$AA37=0),\"x\",IF($G37=\"cold\",\"x\",IF(AND(HC$10>$F37,HB$10<$E37),IF(HB$10>$F37,IF(HC$10>$E37,$U37/($E37-$F37)*($E37-HB$10),$U37/($E37-$F37)*(HC$10-HB$10)),$U37/($E37-$F37)*(HC$10-$F37)),\"x\")))","v":"x"},"x","x","x","x","x","x","x","x","x","x","x","x","x","x","x","x","x","x","x","x","x","x","x","x","x","x","x","x","x","x","x","x","x","x","x","x"]
["",{"$f":"IF(G38=\"hot\",COUNTIF($G$11:G38,\"hot\"),\"\")","v":""},{"$f":"IF(G38=\"cold\",COUNTIF($G$11:G38,\"cold\"),\"\")","v":""},null,null,null,"",null,null,"","","",null,null,null,null,null,null,null,null,"",null,"","","","","",null,null,null,null,null,null,null,null,null,null,null,0,null,{"$f":"IF(OR($V38=\"Utility\",$AA38=0),\"x\",IF($G38=\"hot\",\"x\",IF(AND(AO$10>$E38,AN$10<$F38),IF(AN$10>$E38,IF(AO$10>$F38,$U38/($F38-$E38)*($F38-AN$10),$U38/($F38-$E38)*(AO$10-AN$10)),$U38/($F38-$E38)*(AO$10-$E38)),\"x\")))","v":"x"},"x","x","x","x","x","x","x","x","x","x","x","x","x","x","x","x","x","x","x","x","x","x","x","x","x","x","x","x","x","x","x",{"$f":"IF(OR($V38=\"Utility\",$AA38=0),\"x\",IF($G38=\"hot\",\"x\",IF(AND(BU$10>$E38,BT$10<$F38),IF(BT$10>$E38,IF(BU$10>$F38,$U38/($F38-$E38)*($F38-BT$10),$U38/($F38-$E38)*(BU$10-BT$10)),$U38/($F38-$E38)*(BU$10-$E38)),\"x\")))","v":"x"},"x","x","x","x","x","x","x","x","x","x","x","x","x","x","x","x","x","x","x","x","x","x","x","x","x","x","x","x","x","x","x",{"$f":"IF(OR($V38=\"Utility\",$AA38=0),\"x\",IF($G38=\"hot\",\"x\",IF(AND(DA$10>$E38,CZ$10<$F38),IF(CZ$10>$E38,IF(DA$10>$F38,$U38/($F38-$E38)*($F38-CZ$10),$U38/($F38-$E38)*(DA$10-CZ$10)),$U38/($F38-$E38)*(DA$10-$E38)),\"x\")))","v":"x"},"x","x","x","x","x","x","x","x","x","x","x","x","x","x","x","x","x","x","x","x","x","x","x","x","x","x","x","x","x","x","x","x","x","x","x","x",null,null,null,0,null,{"$f":"IF(OR($V38=\"Utility\",$AA38=0),\"x\",IF($G38=\"cold\",\"x\",IF(AND(EQ$10>$F38,EP$10<$E38),IF(EP$10>$F38,IF(EQ$10>$E38,$U38/($E38-$F38)*($E38-EP$10),$U38/($E38-$F38)*(EQ$10-EP$10)),$U38/($E38-$F38)*(EQ$10-$F38)),\"x\")))","v":"x"},"x","x","x","x","x","x","x","x","x","x","x","x","x","x","x","x","x","x","x","x","x","x","x","x","x","x","x","x","x","x","x",{"$f":"IF(OR($V38=\"Utility\",$AA38=0),\"x\",IF($G38=\"cold\",\"x\",IF(AND(FW$10>$F38,FV$10<$E38),IF(FV$10>$F38,IF(FW$10>$E38,$U38/($E38-$F38)*($E38-FV$10),$U38/($E38-$F38)*(FW$10-FV$10)),$U38/($E38-$F38)*(FW$10-$F38)),\"x\")))","v":"x"},"x","x","x","x","x","x","x","x","x","x","x","x","x","x","x","x","x","x","x","x","x","x","x","x","x","x","x","x","x","x","x",{"$f":"IF(OR($V38=\"Utility\",$AA38=0),\"x\",IF($G38=\"cold\",\"x\",IF(AND(HC$10>$F38,HB$10<$E38),IF(HB$10>$F38,IF(HC$10>$E38,$U38/($E38-$F38)*($E38-HB$10),$U38/($E38-$F38)*(HC$10-HB$10)),$U38/($E38-$F38)*(HC$10-$F38)),\"x\")))","v":"x"},"x","x","x","x","x","x","x","x","x","x","x","x","x","x","x","x","x","x","x","x","x","x","x","x","x","x","x","x","x","x","x","x","x","x","x","x"]
["",{"$f":"IF(G39=\"hot\",COUNTIF($G$11:G39,\"hot\"),\"\")","v":""},{"$f":"IF(G39=\"cold\",COUNTIF($G$11:G39,\"cold\"),\"\")","v":""},null,null,null,"",null,null,"","","",null,null,null,null,null,null,null,null,"",null,"","","","","",null,null,null,null,null,null,null,"Pinch T high",{"$f":"INDEX($IR$9:$MN$10,2,$AJ$41)","v":{"$error":"#N/A"}},"°C",null,0,null,{"$f":"IF(OR($V39=\"Utility\",$AA39=0),\"x\",IF($G39=\"hot\",\"x\",IF(AND(AO$10>$E39,AN$10<$F39),IF(AN$10>$E39,IF(AO$10>$F39,$U39/($F39-$E39)*($F39-AN$10),$U39/($F39-$E39)*(AO$10-AN$10)),$U39/($F39-$E39)*(AO$10-$E39)),\"x\")))","v":"x"},"x","x","x","x","x","x","x","x","x","x","x","x","x","x","x","x","x","x","x","x","x","x","x","x","x","x","x","x","x","x","x",{"$f":"IF(OR($V39=\"Utility\",$AA39=0),\"x\",IF($G39=\"hot\",\"x\",IF(AND(BU$10>$E39,BT$10<$F39),IF(BT$10>$E39,IF(BU$10>$F39,$U39/($F39-$E39)*($F39-BT$10),$U39/($F39-$E39)*(BU$10-BT$10)),$U39/($F39-$E39)*(BU$10-$E39)),\"x\")))","v":"x"},"x","x","x","x","x","x","x","x","x","x","x","x","x","x","x","x","x","x","x","x","x","x","x","x","x","x","x","x","x","x","x",{"$f":"IF(OR($V39=\"Utility\",$AA39=0),\"x\",IF($G39=\"hot\",\"x\",IF(AND(DA$10>$E39,CZ$10<$F39),IF(CZ$10>$E39,IF(DA$10>$F39,$U39/($F39-$E39)*($F39-CZ$10),$U39/($F39-$E39)*(DA$10-CZ$10)),$U39/($F39-$E39)*(DA$10-$E39)),\"x\")))","v":"x"},"x","x","x","x","x","x","x","x","x","x","x","x","x","x","x","x","x","x","x","x","x","x","x","x","x","x","x","x","x","x","x","x","x","x","x","x",null,null,null,0,null,{"$f":"IF(OR($V39=\"Utility\",$AA39=0),\"x\",IF($G39=\"cold\",\"x\",IF(AND(EQ$10>$F39,EP$10<$E39),IF(EP$10>$F39,IF(EQ$10>$E39,$U39/($E39-$F39)*($E39-EP$10),$U39/($E39-$F39)*(EQ$10-EP$10)),$U39/($E39-$F39)*(EQ$10-$F39)),\"x\")))","v":"x"},"x","x","x","x","x","x","x","x","x","x","x","x","x","x","x","x","x","x","x","x","x","x","x","x","x","x","x","x","x","x","x",{"$f":"IF(OR($V39=\"Utility\",$AA39=0),\"x\",IF($G39=\"cold\",\"x\",IF(AND(FW$10>$F39,FV$10<$E39),IF(FV$10>$F39,IF(FW$10>$E39,$U39/($E39-$F39)*($E39-FV$10),$U39/($E39-$F39)*(FW$10-FV$10)),$U39/($E39-$F39)*(FW$10-$F39)),\"x\")))","v":"x"},"x","x","x","x","x","x","x","x","x","x","x","x","x","x","x","x","x","x","x","x","x","x","x","x","x","x","x","x","x","x","x",{"$f":"IF(OR($V39=\"Utility\",$AA39=0),\"x\",IF($G39=\"cold\",\"x\",IF(AND(HC$10>$F39,HB$10<$E39),IF(HB$10>$F39,IF(HC$10>$E39,$U39/($E39-$F39)*($E39-HB$10),$U39/($E39-$F39)*(HC$10-HB$10)),$U39/($E39-$F39)*(HC$10-$F39)),\"x\")))","v":"x"},"x","x","x","x","x","x","x","x","x","x","x","x","x","x","x","x","x","x","x","x","x","x","x","x","x","x","x","x","x","x","x","x","x","x","x","x"]
["",{"$f":"IF(G40=\"hot\",COUNTIF($G$11:G40,\"hot\"),\"\")","v":""},{"$f":"IF(G40=\"cold\",COUNTIF($G$11:G40,\"cold\"),\"\")","v":""},null,null,null,"",null,null,"","","",null,null,null,null,null,null,null,null,"",null,"","","","","",null,null,null,null,null,null,null,"Pinch T low",{"$f":"INDEX($IR$9:$MN$10,1,$AJ$41)","v":{"$error":"#N/A"}},"°C",null,0,null,{"$f":"IF(OR($V40=\"Utility\",$AA40=0),\"x\",IF($G40=\"hot\",\"x\",IF(AND(AO$10>$E40,AN$10<$F40),IF(AN$10>$E40,IF(AO$10>$F40,$U40/($F40-$E40)*($F40-AN$10),$U40/($F40-$E40)*(AO$10-AN$10)),$U40/($F40-$E40)*(AO$10-$E40)),\"x\")))","v":"x"},"x","x","x","x","x","x","x","x","x","x","x","x","x","x","x","x","x","x","x","x","x","x","x","x","x","x","x","x","x","x","x",{"$f":"IF(OR($V40=\"Utility\",$AA40=0),\"x\",IF($G40=\"hot\",\"x\",IF(AND(BU$10>$E40,BT$10<$F40),IF(BT$10>$E40,IF(BU$10>$F40,$U40/($F40-$E40)*($F40-BT$10),$U40/($F40-$E40)*(BU$10-BT$10)),$U40/($F40-$E40)*(BU$10-$E40)),\"x\")))","v":"x"},"x","x","x","x","x","x","x","x","x","x","x","x","x","x","x","x","x","x","x","x","x","x","x","x","x","x","x","x","x","x","x",{"$f":"IF(OR($V40=\"Utility\",$AA40=0),\"x\",IF($G40=\"hot\",\"x\",IF(AND(DA$10>$E40,CZ$10<$F40),IF(CZ$10>$E40,IF(DA$10>$F40,$U40/($F40-$E40)*($F40-CZ$10),$U40/($F40-$E40)*(DA$10-CZ$10)),$U40/($F40-$E40)*(DA$10-$E40)),\"x\")))","v":"x"},"x","x","x","x","x","x","x","x","x","x","x","x","x","x","x","x","x","x","x","x","x","x","x","x","x","x","x","x","x","x","x","x","x","x","x","x",null,null,null,0,null,{"$f":"IF(OR($V40=\"Utility\",$AA40=0),\"x\",IF($G40=\"cold\",\"x\",IF(AND(EQ$10>$F40,EP$10<$E40),IF(EP$10>$F40,IF(EQ$10>$E40,$U40/($E40-$F40)*($E40-EP$10),$U40/($E40-$F40)*(EQ$10-EP$10)),$U40/($E40-$F40)*(EQ$10-$F40)),\"x\")))","v":"x"},"x","x","x","x","x","x","x","x","x","x","x","x","x","x","x","x","x","x","x","x","x","x","x","x","x","x","x","x","x","x","x",{"$f":"IF(OR($V40=\"Utility\",$AA40=0),\"x\",IF($G40=\"cold\",\"x\",IF(AND(FW$10>$F40,FV$10<$E40),IF(FV$10>$F40,IF(FW$10>$E40,$U40/($E40-$F40)*($E40-FV$10),$U40/($E40-$F40)*(FW$10-FV$10)),$U40/($E40-$F40)*(FW$10-$F40)),\"x\")))","v":"x"},"x","x","x","x","x","x","x","x","x","x","x","x","x","x","x","x","x","x","x","x","x","x","x","x","x","x","x","x","x","x","x",{"$f":"IF(OR($V40=\"Utility\",$AA40=0),\"x\",IF($G40=\"cold\",\"x\",IF(AND(HC$10>$F40,HB$10<$E40),IF(HB$10>$F40,IF(HC$10>$E40,$U40/($E40-$F40)*($E40-HB$10),$U40/($E40-$F40)*(HC$10-HB$10)),$U40/($E40-$F40)*(HC$10-$F40)),\"x\")))","v":"x"},"x","x","x","x","x","x","x","x","x","x","x","x","x","x","x","x","x","x","x","x","x","x","x","x","x","x","x","x","x","x","x","x","x","x","x","x"]
["",{"$f":"IF(G41=\"hot\",COUNTIF($G$11:G41,\"hot\"),\"\")","v":""},{"$f":"IF(G41=\"cold\",COUNTIF($G$11:G41,\"cold\"),\"\")","v":""},null,null,null,"",null,null,"","","",null,null,null,null,null,null,null,null,"",null,"","","","","",null,null,null,null,null,null,null,"Row of Pinch T",{"$f":"MATCH(MIN($IR$11:$MN$11),$IR$11:$MN$11,0)","v":{"$error":"#N/A"}}," -",null,0,null,{"$f":"IF(OR($V41=\"Utility\",$AA41=0),\"x\",IF($G41=\"hot\",\"x\",IF(AND(AO$10>$E41,AN$10<$F41),IF(AN$10>$E41,IF(AO$10>$F41,$U41/($F41-$E41)*($F41-AN$10),$U41/($F41-$E41)*(AO$10-AN$10)),$U41/($F41-$E41)*(AO$10-$E41)),\"x\")))","v":"x"},"x","x","x","x","x","x","x","x","x","x","x","x","x","x","x","x","x","x","x","x","x","x","x","x","x","x","x","x","x","x","x",{"$f":"IF(OR($V41=\"Utility\",$AA41=0),\"x\",IF($G41=\"hot\",\"x\",IF(AND(BU$10>$E41,BT$10<$F41),IF(BT$10>$E41,IF(BU$10>$F41,$U41/($F41-$E41)*($F41-BT$10),$U41/($F41-$E41)*(BU$10-BT$10)),$U41/($F41-$E41)*(BU$10-$E41)),\"x\")))","v":"x"},"x","x","x","x","x","x","x","x","x","x","x","x","x","x","x","x","x","x","x","x","x","x","x","x","x","x","x","x","x","x","x",{"$f":"IF(OR($V41=\"Utility\",$AA41=0),\"x\",IF($G41=\"hot\",\"x\",IF(AND(DA$10>$E41,CZ$10<$F41),IF(CZ$10>$E41,IF(DA$10>$F41,$U41/($F41-$E41)*($F41-CZ$10),$U41/($F41-$E41)*(DA$10-CZ$10)),$U41/($F41-$E41)*(DA$10-$E41)),\"x\")))","v":"x"},"x","x","x","x","x","x","x","x","x","x","x","x","x","x","x","x","x","x","x","x","x","x","x","x","x","x","x","x","x","x","x","x","x","x","x","x",null,null,null,0,null,{"$f":"IF(OR($V41=\"Utility\",$AA41=0),\"x\",IF($G41=\"cold\",\"x\",IF(AND(EQ$10>$F41,EP$10<$E41),IF(EP$10>$F41,IF(EQ$10>$E41,$U41/($E41-$F41)*($E41-EP$10),$U41/($E41-$F41)*(EQ$10-EP$10)),$U41/($E41-$F41)*(EQ$10-$F41)),\"x\")))","v":"x"},"x","x","x","x","x","x","x","x","x","x","x","x","x","x","x","x","x","x","x","x","x","x","x","x","x","x","x","x","x","x","x",{"$f":"IF(OR($V41=\"Utility\",$AA41=0),\"x\",IF($G41=\"cold\",\"x\",IF(AND(FW$10>$F41,FV$10<$E41),IF(FV$10>$F41,IF(FW$10>$E41,$U41/($E41-$F41)*($E41-FV$10),$U41/($E41-$F41)*(FW$10-FV$10)),$U41/($E41-$F41)*(FW$10-$F41)),\"x\")))","v":"x"},"x","x","x","x","x","x","x","x","x","x","x","x","x","x","x","x","x","x","x","x","x","x","x","x","x","x","x","x","x","x","x",{"$f":"IF(OR($V41=\"Utility\",$AA41=0),\"x\",IF($G41=\"cold\",\"x\",IF(AND(HC$10>$F41,HB$10<$E41),IF(HB$10>$F41,IF(HC$10>$E41,$U41/($E41-$F41)*($E41-HB$10),$U41/($E41-$F41)*(HC$10-HB$10)),$U41/($E41-$F41)*(HC$10-$F41)),\"x\")))","v":"x"},"x","x","x","x","x","x","x","x","x","x","x","x","x","x","x","x","x","x","x","x","x","x","x","x","x","x","x","x","x","x","x","x","x","x","x","x"]
["",{"$f":"IF(G42=\"hot\",COUNTIF($G$11:G42,\"hot\"),\"\")","v":""},{"$f":"IF(G42=\"cold\",COUNTIF($G$11:G42,\"cold\"),\"\")","v":""},null,null,null,"",null,null,"","","",null,null,null,null,null,null,null,null,"",null,"","","","","",null,null,null,null,null,null,null,null,null,null,null,0,null,{"$f":"IF(OR($V42=\"Utility\",$AA42=0),\"x\",IF($G42=\"hot\",\"x\",IF(AND(AO$10>$E42,AN$10<$F42),IF(AN$10>$E42,IF(AO$10>$F42,$U42/($F42-$E42)*($F42-AN$10),$U42/($F42-$E42)*(AO$10-AN$10)),$U42/($F42-$E42)*(AO$10-$E42)),\"x\")))","v":"x"},"x","x","x","x","x","x","x","x","x","x","x","x","x","x","x","x","x","x","x","x","x","x","x","x","x","x","x","x","x","x","x",{"$f":"IF(OR($V42=\"Utility\",$AA42=0),\"x\",IF($G42=\"hot\",\"x\",IF(AND(BU$10>$E42,BT$10<$F42),IF(BT$10>$E42,IF(BU$10>$F42,$U42/($F42-$E42)*($F42-BT$10),$U42/($F42-$E42)*(BU$10-BT$10)),$U42/($F42-$E42)*(BU$10-$E42)),\"x\")))","v":"x"},"x","x","x","x","x","x","x","x","x","x","x","x","x","x","x","x","x","x","x","x","x","x","x","x","x","x","x","x","x","x","x",{"$f":"IF(OR($V42=\"Utility\",$AA42=0),\"x\",IF($G42=\"hot\",\"x\",IF(AND(DA$10>$E42,CZ$10<$F42),IF(CZ$10>$E42,IF(DA$10>$F42,$U42/($F42-$E42)*($F42-CZ$10),$U42/($F42-$E42)*(DA$10-CZ$10)),$U42/($F42-$E42)*(DA$10-$E42)),\"x\")))","v":"x"},"x","x","x","x","x","x","x","x","x","x","x","x","x","x","x","x","x","x","x","x","x","x","x","x","x","x","x","x","x","x","x","x","x","x","x","x",null,null,null,0,null,{"$f":"IF(OR($V42=\"Utility\",$AA42=0),\"x\",IF($G42=\"cold\",\"x\",IF(AND(EQ$10>$F42,EP$10<$E42),IF(EP$10>$F42,IF(EQ$10>$E42,$U42/($E42-$F42)*($E42-EP$10),$U42/($E42-$F42)*(EQ$10-EP$10)),$U42/($E42-$F42)*(EQ$10-$F42)),\"x\")))","v":"x"},"x","x","x","x","x","x","x","x","x","x","x","x","x","x","x","x","x","x","x","x","x","x","x","x","x","x","x","x","x","x","x",{"$f":"IF(OR($V42=\"Utility\",$AA42=0),\"x\",IF($G42=\"cold\",\"x\",IF(AND(FW$10>$F42,FV$10<$E42),IF(FV$10>$F42,IF(FW$10>$E42,$U42/($E42-$F42)*($E42-FV$10),$U42/($E42-$F42)*(FW$10-FV$10)),$U42/($E42-$F42)*(FW$10-$F42)),\"x\")))","v":"x"},"x","x","x","x","x","x","x","x","x","x","x","x","x","x","x","x","x","x","x","x","x","x","x","x","x","x","x","x","x","x","x",{"$f":"IF(OR($V42=\"Utility\",$AA42=0),\"x\",IF($G42=\"cold\",\"x\",IF(AND(HC$10>$F42,HB$10<$E42),IF(HB$10>$F42,IF(HC$10>$E42,$U42/($E42-$F42)*($E42-HB$10),$U42/($E42-$F42)*(HC$10-HB$10)),$U42/($E42-$F42)*(HC$10-$F42)),\"x\")))","v":"x"},"x","x","x","x","x","x","x","x","x","x","x","x","x","x","x","x","x","x","x","x","x","x","x","x","x","x","x","x","x","x","x","x","x","x","x","x"]
["",{"$f":"IF(G43=\"hot\",COUNTIF($G$11:G43,\"hot\"),\"\")","v":""},{"$f":"IF(G43=\"cold\",COUNTIF($G$11:G43,\"cold\"),\"\")","v":""},null,null,null,"",null,null,"","","",null,null,null,null,null,null,null,null,"",null,"","","","","",null,null,null,null,null,null,null,"Q max",{"$f":"MAX($L$11:$L$110)","v":0},"kW",null,{"$f":"D43","v":0},null,{"$f":"IF(OR($V43=\"Utility\",$AA43=0),\"x\",IF($G43=\"hot\",\"x\",IF(AND(AO$10>$E43,AN$10<$F43),IF(AN$10>$E43,IF(AO$10>$F43,$U43/($F43-$E43)*($F43-AN$10),$U43/($F43-$E43)*(AO$10-AN$10)),$U43/($F43-$E43)*(AO$10-$E43)),\"x\")))","v":"x"},"x","x","x","x","x","x","x","x","x","x","x","x","x","x","x","x","x","x","x","x","x","x","x","x","x","x","x","x","x","x","x",{"$f":"IF(OR($V43=\"Utility\",$AA43=0),\"x\",IF($G43=\"hot\",\"x\",IF(AND(BU$10>$E43,BT$10<$F43),IF(BT$10>$E43,IF(BU$10>$F43,$U43/($F43-$E43)*($F43-BT$10),$U43/($F43-$E43)*(BU$10-BT$10)),$U43/($F43-$E43)*(BU$10-$E43)),\"x\")))","v":"x"},"x","x","x","x","x","x","x","x","x","x","x","x","x","x","x","x","x","x","x","x","x","x","x","x","x","x","x","x","x","x","x",{"$f":"IF(OR($V43=\"Utility\",$AA43=0),\"x\",IF($G43=\"hot\",\"x\",IF(AND(DA$10>$E43,CZ$10<$F43),IF(CZ$10>$E43,IF(DA$10>$F43,$U43/($F43-$E43)*($F43-CZ$10),$U43/($F43-$E43)*(DA$10-CZ$10)),$U43/($F43-$E43)*(DA$10-$E43)),\"x\")))","v":"x"},"x","x","x","x","x","x","x","x","x","x","x","x","x","x","x","x","x","x","x","x","x","x","x","x","x","x","x","x","x","x","x","x","x","x","x","x",null,null,null,{"$f":"D43","v":0},null,{"$f":"IF(OR($V43=\"Utility\",$AA43=0),\"x\",IF($G43=\"cold\",\"x\",IF(AND(EQ$10>$F43,EP$10<$E43),IF(EP$10>$F43,IF(EQ$10>$E43,$U43/($E43-$F43)*($E43-EP$10),$U43/($E43-$F43)*(EQ$10-EP$10)),$U43/($E43-$F43)*(EQ$10-$F43)),\"x\")))","v":"x"},"x","x","x","x","x","x","x","x","x","x","x","x","x","x","x","x","x","x","x","x","x","x","x","x","x","x","x","x","x","x","x",{"$f":"IF(OR($V43=\"Utility\",$AA43=0),\"x\",IF($G43=\"cold\",\"x\",IF(AND(FW$10>$F43,FV$10<$E43),IF(FV$10>$F43,IF(FW$10>$E43,$U43/($E43-$F43)*($E43-FV$10),$U43/($E43-$F43)*(FW$10-FV$10)),$U43/($E43-$F43)*(FW$10-$F43)),\"x\")))","v":"x"},"x","x","x","x","x","x","x","x","x","x","x","x","x","x","x","x","x","x","x","x","x","x","x","x","x","x","x","x","x","x","x",{"$f":"IF(OR($V43=\"Utility\",$AA43=0),\"x\",IF($G43=\"cold\",\"x\",IF(AND(HC$10>$F43,HB$10<$E43),IF(HB$10>$F43,IF(HC$10>$E43,$U43/($E43-$F43)*($E43-HB$10),$U43/($E43-$F43)*(HC$10-HB$10)),$U43/($E43-$F43)*(HC$10-$F43)),\"x\")))","v":"x"},"x","x","x","x","x","x","x","x","x","x","x","x","x","x","x","x","x","x","x","x","x","x","x","x","x","x","x","x","x","x","x","x","x","x","x","x"]
["",{"$f":"IF(G44=\"hot\",COUNTIF($G$11:G44,\"hot\"),\"\")","v":""},{"$f":"IF(G44=\"cold\",COUNTIF($G$11:G44,\"cold\"),\"\")","v":""},null,null,null,"",null,null,"","","",null,null,null,null,null,null,null,null,"",null,"","","","","",null,null,null,null,null,null,null,"Q min",{"$f":"MIN($L$11:$L$110)","v":0},"kW",null,0,null,{"$f":"IF(OR($V44=\"Utility\",$AA44=0),\"x\",IF($G44=\"hot\",\"x\",IF(AND(AO$10>$E44,AN$10<$F44),IF(AN$10>$E44,IF(AO$10>$F44,$U44/($F44-$E44)*($F44-AN$10),$U44/($F44-$E44)*(AO$10-AN$10)),$U44/($F44-$E44)*(AO$10-$E44)),\"x\")))","v":"x"},"x","x","x","x","x","x","x","x","x","x","x","x","x","x","x","x","x","x","x","x","x","x","x","x","x","x","x","x","x","x","x",{"$f":"IF(OR($V44=\"Utility\",$AA44=0),\"x\",IF($G44=\"hot\",\"x\",IF(AND(BU$10>$E44,BT$10<$F44),IF(BT$10>$E44,IF(BU$10>$F44,$U44/($F44-$E44)*($F44-BT$10),$U44/($F44-$E44)*(BU$10-BT$10)),$U44/($F44-$E44)*(BU$10-$E44)),\"x\")))","v":"x"},"x","x","x","x","x","x","x","x","x","x","x","x","x","x","x","x","x","x","x","x","x","x","x","x","x","x","x","x","x","x","x",{"$f":"IF(OR($V44=\"Utility\",$AA44=0),\"x\",IF($G44=\"hot\",\"x\",IF(AND(DA$10>$E44,CZ$10<$F44),IF(CZ$10>$E44,IF(DA$10>$F44,$U44/($F44-$E44)*($F44-CZ$10),$U44/($F44-$E44)*(DA$10-CZ$10)),$U44/($F44-$E44)*(DA$10-$E44)),\"x\")))","v":"x"},"x","x","x","x","x","x","x","x","x","x","x","x","x","x","x","x","x","x","x","x","x","x","x","x","x","x","x","x","x","x","x","x","x","x","x","x",null,null,null,0,null,{"$f":"IF(OR($V44=\"Utility\",$AA44=0),\"x\",IF($G44=\"cold\",\"x\",IF(AND(EQ$10>$F44,EP$10<$E44),IF(EP$10>$F44,IF(EQ$10>$E44,$U44/($E44-$F44)*($E44-EP$10),$U44/($E44-$F44)*(EQ$10-EP$10)),$U44/($E44-$F44)*(EQ$10-$F44)),\"x\")))","v":"x"},"x","x","x","x","x","x","x","x","x","x","x","x","x","x","x","x","x","x","x","x","x","x","x","x","x","x","x","x","x","x","x",{"$f":"IF(OR($V44=\"Utility\",$AA44=0),\"x\",IF($G44=\"cold\",\"x\",IF(AND(FW$10>$F44,FV$10<$E44),IF(FV$10>$F44,IF(FW$10>$E44,$U44/($E44-$F44)*($E44-FV$10),$U44/($E44-$F44)*(FW$10-FV$10)),$U44/($E44-$F44)*(FW$10-$F44)),\"x\")))","v":"x"},"x","x","x","x","x","x","x","x","x","x","x","x","x","x","x","x","x","x","x","x","x","x","x","x","x","x","x","x","x","x","x",{"$f":"IF(OR($V44=\"Utility\",$AA44=0),\"x\",IF($G44=\"cold\",\"x\",IF(AND(HC$10>$F44,HB$10<$E44),IF(HB$10>$F44,IF(HC$10>$E44,$U44/($E44-$F44)*($E44-HB$10),$U44/($E44-$F44)*(HC$10-HB$10)),$U44/($E44-$F44)*(HC$10-$F44)),\"x\")))","v":"x"},"x","x","x","x","x","x","x","x","x","x","x","x","x","x","x","x","x","x","x","x","x","x","x","x","x","x","x","x","x","x","x","x","x","x","x","x"]
["",{"$f":"IF(G45=\"hot\",COUNTIF($G$11:G45,\"hot\"),\"\")","v":""},{"$f":"IF(G45=\"cold\",COUNTIF($G$11:G45,\"cold\"),\"\")","v":""},null,null,null,"",null,null,"","","",null,null,null,null,null,null,null,null,"",null,"","","","","",null,null,null,null,null,null,null,"E max",{"$f":"MAX($U$11:$U$110)","v":0},"kWh/a",null,0,null,{"$f":"IF(OR($V45=\"Utility\",$AA45=0),\"x\",IF($G45=\"hot\",\"x\",IF(AND(AO$10>$E45,AN$10<$F45),IF(AN$10>$E45,IF(AO$10>$F45,$U45/($F45-$E45)*($F45-AN$10),$U45/($F45-$E45)*(AO$10-AN$10)),$U45/($F45-$E45)*(AO$10-$E45)),\"x\")))","v":"x"},"x","x","x","x","x","x","x","x","x","x","x","x","x","x","x","x","x","x","x","x","x","x","x","x","x","x","x","x","x","x","x",{"$f":"IF(OR($V45=\"Utility\",$AA45=0),\"x\",IF($G45=\"hot\",\"x\",IF(AND(BU$10>$E45,BT$10<$F45),IF(BT$10>$E45,IF(BU$10>$F45,$U45/($F45-$E45)*($F45-BT$10),$U45/($F45-$E45)*(BU$10-BT$10)),$U45/($F45-$E45)*(BU$10-$E45)),\"x\")))","v":"x"},"x","x","x","x","x","x","x","x","x","x","x","x","x","x","x","x","x","x","x","x","x","x","x","x","x","x","x","x","x","x","x",{"$f":"IF(OR($V45=\"Utility\",$AA45=0),\"x\",IF($G45=\"hot\",\"x\",IF(AND(DA$10>$E45,CZ$10<$F45),IF(CZ$10>$E45,IF(DA$10>$F45,$U45/($F45-$E45)*($F45-CZ$10),$U45/($F45-$E45)*(DA$10-CZ$10)),$U45/($F45-$E45)*(DA$10-$E45)),\"x\")))","v":"x"},"x","x","x","x","x","x","x","x","x","x","x","x","x","x","x","x","x","x","x","x","x","x","x","x","x","x","x","x","x","x","x","x","x","x","x","x",null,null,null,0,null,{"$f":"IF(OR($V45=\"Utility\",$AA45=0),\"x\",IF($G45=\"cold\",\"x\",IF(AND(EQ$10>$F45,EP$10<$E45),IF(EP$10>$F45,IF(EQ$10>$E45,$U45/($E45-$F45)*($E45-EP$10),$U45/($E45-$F45)*(EQ$10-EP$10)),$U45/($E45-$F45)*(EQ$10-$F45)),\"x\")))","v":"x"},"x","x","x","x","x","x","x","x","x","x","x","x","x","x","x","x","x","x","x","x","x","x","x","x","x","x","x","x","x","x","x",{"$f":"IF(OR($V45=\"Utility\",$AA45=0),\"x\",IF($G45=\"cold\",\"x\",IF(AND(FW$10>$F45,FV$10<$E45),IF(FV$10>$F45,IF(FW$10>$E45,$U45/($E45-$F45)*($E45-FV$10),$U45/($E45-$F45)*(FW$10-FV$10)),$U45/($E45-$F45)*(FW$10-$F45)),\"x\")))","v":"x"},"x","x","x","x","x","x","x","x","x","x","x","x","x","x","x","x","x","x","x","x","x","x","x","x","x","x","x","x","x","x","x",{"$f":"IF(OR($V45=\"Utility\",$AA45=0),\"x\",IF($G45=\"cold\",\"x\",IF(AND(HC$10>$F45,HB$10<$E45),IF(HB$10>$F45,IF(HC$10>$E45,$U45/($E45-$F45)*($E45-HB$10),$U45/($E45-$F45)*(HC$10-HB$10)),$U45/($E45-$F45)*(HC$10-$F45)),\"x\")))","v":"x"},"x","x","x","x","x","x","x","x","x","x","x","x","x","x","x","x","x","x","x","x","x","x","x","x","x","x","x","x","x","x","x","x","x","x","x","x"]
["",{"$f":"IF(G46=\"hot\",COUNTIF($G$11:G46,\"hot\"),\"\")","v":""},{"$f":"IF(G46=\"cold\",COUNTIF($G$11:G46,\"cold\"),\"\")","v":""},null,null,null,"",null,null,"","","",null,null,null,null,null,null,null,null,"",null,"","","","","",null,null,null,null,null,null,null,"E min",{"$f":"MIN($U$11:$U$110)","v":0},"kWh/a",null,0,null,{"$f":"IF(OR($V46=\"Utility\",$AA46=0),\"x\",IF($G46=\"hot\",\"x\",IF(AND(AO$10>$E46,AN$10<$F46),IF(AN$10>$E46,IF(AO$10>$F46,$U46/($F46-$E46)*($F46-AN$10),$U46/($F46-$E46)*(AO$10-AN$10)),$U46/($F46-$E46)*(AO$10-$E46)),\"x\")))","v":"x"},"x","x","x","x","x","x","x","x","x","x","x","x","x","x","x","x","x","x","x","x","x","x","x","x","x","x","x","x","x","x","x",{"$f":"IF(OR($V46=\"Utility\",$AA46=0),\"x\",IF($G46=\"hot\",\"x\",IF(AND(BU$10>$E46,BT$10<$F46),IF(BT$10>$E46,IF(BU$10>$F46,$U46/($F46-$E46)*($F46-BT$10),$U46/($F46-$E46)*(BU$10-BT$10)),$U46/($F46-$E46)*(BU$10-$E46)),\"x\")))","v":"x"},"x","x","x","x","x","x","x","x","x","x","x","x","x","x","x","x","x","x","x","x","x","x","x","x","x","x","x","x","x","x","x",{"$f":"IF(OR($V46=\"Utility\",$AA46=0),\"x\",IF($G46=\"hot\",\"x\",IF(AND(DA$10>$E46,CZ$10<$F46),IF(CZ$10>$E46,IF(DA$10>$F46,$U46/($F46-$E46)*($F46-CZ$10),$U46/($F46-$E46)*(DA$10-CZ$10)),$U46/($F46-$E46)*(DA$10-$E46)),\"x\")))","v":"x"},"x","x","x","x","x","x","x","x","x","x","x","x","x","x","x","x","x","x","x","x","x","x","x","x","x","x","x","x","x","x","x","x","x","x","x","x",null,null,null,0,null,{"$f":"IF(OR($V46=\"Utility\",$AA46=0),\"x\",IF($G46=\"cold\",\"x\",IF(AND(EQ$10>$F46,EP$10<$E46),IF(EP$10>$F46,IF(EQ$10>$E46,$U46/($E46-$F46)*($E46-EP$10),$U46/($E46-$F46)*(EQ$10-EP$10)),$U46/($E46-$F46)*(EQ$10-$F46)),\"x\")))","v":"x"},"x","x","x","x","x","x","x","x","x","x","x","x","x","x","x","x","x","x","x","x","x","x","x","x","x","x","x","x","x","x","x",{"$f":"IF(OR($V46=\"Utility\",$AA46=0),\"x\",IF($G46=\"cold\",\"x\",IF(AND(FW$10>$F46,FV$10<$E46),IF(FV$10>$F46,IF(FW$10>$E46,$U46/($E46-$F46)*($E46-FV$10),$U46/($E46-$F46)*(FW$10-FV$10)),$U46/($E46-$F46)*(FW$10-$F46)),\"x\")))","v":"x"},"x","x","x","x","x","x","x","x","x","x","x","x","x","x","x","x","x","x","x","x","x","x","x","x","x","x","x","x","x","x","x",{"$f":"IF(OR($V46=\"Utility\",$AA46=0),\"x\",IF($G46=\"cold\",\"x\",IF(AND(HC$10>$F46,HB$10<$E46),IF(HB$10>$F46,IF(HC$10>$E46,$U46/($E46-$F46)*($E46-HB$10),$U46/($E46-$F46)*(HC$10-HB$10)),$U46/($E46-$F46)*(HC$10-$F46)),\"x\")))","v":"x"},"x","x","x","x","x","x","x","x","x","x","x","x","x","x","x","x","x","x","x","x","x","x","x","x","x","x","x","x","x","x","x","x","x","x","x","x"]
["",{"$f":"IF(G47=\"hot\",COUNTIF($G$11:G47,\"hot\"),\"\")","v":""},{"$f":"IF(G47=\"cold\",COUNTIF($G$11:G47,\"cold\"),\"\")","v":""},null,null,null,"",null,null,"","","",null,null,null,null,null,null,null,null,"",null,"","","","","",null,null,null,null,null,null,null,null,null,null,null,0,null,{"$f":"IF(OR($V47=\"Utility\",$AA47=0),\"x\",IF($G47=\"hot\",\"x\",IF(AND(AO$10>$E47,AN$10<$F47),IF(AN$10>$E47,IF(AO$10>$F47,$U47/($F47-$E47)*($F47-AN$10),$U47/($F47-$E47)*(AO$10-AN$10)),$U47/($F47-$E47)*(AO$10-$E47)),\"x\")))","v":"x"},"x","x","x","x","x","x","x","x","x","x","x","x","x","x","x","x","x","x","x","x","x","x","x","x","x","x","x","x","x","x","x",{"$f":"IF(OR($V47=\"Utility\",$AA47=0),\"x\",IF($G47=\"hot\",\"x\",IF(AND(BU$10>$E47,BT$10<$F47),IF(BT$10>$E47,IF(BU$10>$F47,$U47/($F47-$E47)*($F47-BT$10),$U47/($F47-$E47)*(BU$10-BT$10)),$U47/($F47-$E47)*(BU$10-$E47)),\"x\")))","v":"x"},"x","x","x","x","x","x","x","x","x","x","x","x","x","x","x","x","x","x","x","x","x","x","x","x","x","x","x","x","x","x","x",{"$f":"IF(OR($V47=\"Utility\",$AA47=0),\"x\",IF($G47=\"hot\",\"x\",IF(AND(DA$10>$E47,CZ$10<$F47),IF(CZ$10>$E47,IF(DA$10>$F47,$U47/($F47-$E47)*($F47-CZ$10),$U47/($F47-$E47)*(DA$10-CZ$10)),$U47/($F47-$E47)*(DA$10-$E47)),\"x\")))","v":"x"},"x","x","x","x","x","x","x","x","x","x","x","x","x","x","x","x","x","x","x","x","x","x","x","x","x","x","x","x","x","x","x","x","x","x","x","x",null,null,null,0,null,{"$f":"IF(OR($V47=\"Utility\",$AA47=0),\"x\",IF($G47=\"cold\",\"x\",IF(AND(EQ$10>$F47,EP$10<$E47),IF(EP$10>$F47,IF(EQ$10>$E47,$U47/($E47-$F47)*($E47-EP$10),$U47/($E47-$F47)*(EQ$10-EP$10)),$U47/($E47-$F47)*(EQ$10-$F47)),\"x\")))","v":"x"},"x","x","x","x","x","x","x","x","x","x","x","x","x","x","x","x","x","x","x","x","x","x","x","x","x","x","x","x","x","x","x",{"$f":"IF(OR($V47=\"Utility\",$AA47=0),\"x\",IF($G47=\"cold\",\"x\",IF(AND(FW$10>$F47,FV$10<$E47),IF(FV$10>$F47,IF(FW$10>$E47,$U47/($E47-$F47)*($E47-FV$10),$U47/($E47-$F47)*(FW$10-FV$10)),$U47/($E47-$F47)*(FW$10-$F47)),\"x\")))","v":"x"},"x","x","x","x","x","x","x","x","x","x","x","x","x","x","x","x","x","x","x","x","x","x","x","x","x","x","x","x","x","x","x",{"$f":"IF(OR($V47=\"Utility\",$AA47=0),\"x\",IF($G47=\"cold\",\"x\",IF(AND(HC$10>$F47,HB$10<$E47),IF(HB$10>$F47,IF(HC$10>$E47,$U47/($E47-$F47)*($E47-HB$10),$U47/($E47-$F47)*(HC$10-HB$10)),$U47/($E47-$F47)*(HC$10-$F47)),\"x\")))","v":"x"},"x","x","x","x","x","x","x","x","x","x","x","x","x","x","x","x","x","x","x","x","x","x","x","x","x","x","x","x","x","x","x","x","x","x","x","x"]
["",{"$f":"IF(G48=\"hot\",COUNTIF($G$11:G48,\"hot\"),\"\")","v":""},{"$f":"IF(G48=\"cold\",COUNTIF($G$11:G48,\"cold\"),\"\")","v":""},null,null,null,"",null,null,"","","",null,null,null,null,null,null,null,null,"",null,"","","","","",null,null,null,null,null,null,null,null,null,null,null,0,null,{"$f":"IF(OR($V48=\"Utility\",$AA48=0),\"x\",IF($G48=\"hot\",\"x\",IF(AND(AO$10>$E48,AN$10<$F48),IF(AN$10>$E48,IF(AO$10>$F48,$U48/($F48-$E48)*($F48-AN$10),$U48/($F48-$E48)*(AO$10-AN$10)),$U48/($F48-$E48)*(AO$10-$E48)),\"x\")))","v":"x"},"x","x","x","x","x","x","x","x","x","x","x","x","x","x","x","x","x","x","x","x","x","x","x","x","x","x","x","x","x","x","x",{"$f":"IF(OR($V48=\"Utility\",$AA48=0),\"x\",IF($G48=\"hot\",\"x\",IF(AND(BU$10>$E48,BT$10<$F48),IF(BT$10>$E48,IF(BU$10>$F48,$U48/($F48-$E48)*($F48-BT$10),$U48/($F48-$E48)*(BU$10-BT$10)),$U48/($F48-$E48)*(BU$10-$E48)),\"x\")))","v":"x"},"x","x","x","x","x","x","x","x","x","x","x","x","x","x","x","x","x","x","x","x","x","x","x","x","x","x","x","x","x","x","x",{"$f":"IF(OR($V48=\"Utility\",$AA48=0),\"x\",IF($G48=\"hot\",\"x\",IF(AND(DA$10>$E48,CZ$10<$F48),IF(CZ$10>$E48,IF(DA$10>$F48,$U48/($F48-$E48)*($F48-CZ$10),$U48/($F48-$E48)*(DA$10-CZ$10)),$U48/($F48-$E48)*(DA$10-$E48)),\"x\")))","v":"x"},"x","x","x","x","x","x","x","x","x","x","x","x","x","x","x","x","x","x","x","x","x","x","x","x","x","x","x","x","x","x","x","x","x","x","x","x",null,null,null,0,null,{"$f":"IF(OR($V48=\"Utility\",$AA48=0),\"x\",IF($G48=\"cold\",\"x\",IF(AND(EQ$10>$F48,EP$10<$E48),IF(EP$10>$F48,IF(EQ$10>$E48,$U48/($E48-$F48)*($E48-EP$10),$U48/($E48-$F48)*(EQ$10-EP$10)),$U48/($E48-$F48)*(EQ$10-$F48)),\"x\")))","v":"x"},"x","x","x","x","x","x","x","x","x","x","x","x","x","x","x","x","x","x","x","x","x","x","x","x","x","x","x","x","x","x","x",{"$f":"IF(OR($V48=\"Utility\",$AA48=0),\"x\",IF($G48=\"cold\",\"x\",IF(AND(FW$10>$F48,FV$10<$E48),IF(FV$10>$F48,IF(FW$10>$E48,$U48/($E48-$F48)*($E48-FV$10),$U48/($E48-$F48)*(FW$10-FV$10)),$U48/($E48-$F48)*(FW$10-$F48)),\"x\")))","v":"x"},"x","x","x","x","x","x","x","x","x","x","x","x","x","x","x","x","x","x","x","x","x","x","x","x","x","x","x","x","x","x","x",{"$f":"IF(OR($V48=\"Utility\",$AA48=0),\"x\",IF($G48=\"cold\",\"x\",IF(AND(HC$10>$F48,HB$10<$E48),IF(HB$10>$F48,IF(HC$10>$E48,$U48/($E48-$F48)*($E48-HB$10),$U48/($E48-$F48)*(HC$10-HB$10)),$U48/($E48-$F48)*(HC$10-$F48)),\"x\")))","v":"x"},"x","x","x","x","x","x","x","x","x","x","x","x","x","x","x","x","x","x","x","x","x","x","x","x","x","x","x","x","x","x","x","x","x","x","x","x"]
["",{"$f":"IF(G49=\"hot\",COUNTIF($G$11:G49,\"hot\"),\"\")","v":""},{"$f":"IF(G49=\"cold\",COUNTIF($G$11:G49,\"cold\"),\"\")","v":""},null,null,null,"",null,null,"","","",null,null,null,null,null,null,null,null,"",null,"","","","","",null,null,null,null,null,null,null,null,null,null,null,0,null,{"$f":"IF(OR($V49=\"Utility\",$AA49=0),\"x\",IF($G49=\"hot\",\"x\",IF(AND(AO$10>$E49,AN$10<$F49),IF(AN$10>$E49,IF(AO$10>$F49,$U49/($F49-$E49)*($F49-AN$10),$U49/($F49-$E49)*(AO$10-AN$10)),$U49/($F49-$E49)*(AO$10-$E49)),\"x\")))","v":"x"},"x","x","x","x","x","x","x","x","x","x","x","x","x","x","x","x","x","x","x","x","x","x","x","x","x","x","x","x","x","x","x",{"$f":"IF(OR($V49=\"Utility\",$AA49=0),\"x\",IF($G49=\"hot\",\"x\",IF(AND(BU$10>$E49,BT$10<$F49),IF(BT$10>$E49,IF(BU$10>$F49,$U49/($F49-$E49)*($F49-BT$10),$U49/($F49-$E49)*(BU$10-BT$10)),$U49/($F49-$E49)*(BU$10-$E49)),\"x\")))","v":"x"},"x","x","x","x","x","x","x","x","x","x","x","x","x","x","x","x","x","x","x","x","x","x","x","x","x","x","x","x","x","x","x",{"$f":"IF(OR($V49=\"Utility\",$AA49=0),\"x\",IF($G49=\"hot\",\"x\",IF(AND(DA$10>$E49,CZ$10<$F49),IF(CZ$10>$E49,IF(DA$10>$F49,$U49/($F49-$E49)*($F49-CZ$10),$U49/($F49-$E49)*(DA$10-CZ$10)),$U49/($F49-$E49)*(DA$10-$E49)),\"x\")))","v":"x"},"x","x","x","x","x","x","x","x","x","x","x","x","x","x","x","x","x","x","x","x","x","x","x","x","x","x","x","x","x","x","x","x","x","x","x","x",null,null,null,0,null,{"$f":"IF(OR($V49=\"Utility\",$AA49=0),\"x\",IF($G49=\"cold\",\"x\",IF(AND(EQ$10>$F49,EP$10<$E49),IF(EP$10>$F49,IF(EQ$10>$E49,$U49/($E49-$F49)*($E49-EP$10),$U49/($E49-$F49)*(EQ$10-EP$10)),$U49/($E49-$F49)*(EQ$10-$F49)),\"x\")))","v":"x"},"x","x","x","x","x","x","x","x","x","x","x","x","x","x","x","x","x","x","x","x","x","x","x","x","x","x","x","x","x","x","x",{"$f":"IF(OR($V49=\"Utility\",$AA49=0),\"x\",IF($G49=\"cold\",\"x\",IF(AND(FW$10>$F49,FV$10<$E49),IF(FV$10>$F49,IF(FW$10>$E49,$U49/($E49-$F49)*($E49-FV$10),$U49/($E49-$F49)*(FW$10-FV$10)),$U49/($E49-$F49)*(FW$10-$F49)),\"x\")))","v":"x"},"x","x","x","x","x","x","x","x","x","x","x","x","x","x","x","x","x","x","x","x","x","x","x","x","x","x","x","x","x","x","x",{"$f":"IF(OR($V49=\"Utility\",$AA49=0),\"x\",IF($G49=\"cold\",\"x\",IF(AND(HC$10>$F49,HB$10<$E49),IF(HB$10>$F49,IF(HC$10>$E49,$U49/($E49-$F49)*($E49-HB$10),$U49/($E49-$F49)*(HC$10-HB$10)),$U49/($E49-$F49)*(HC$10-$F49)),\"x\")))","v":"x"},"x","x","x","x","x","x","x","x","x","x","x","x","x","x","x","x","x","x","x","x","x","x","x","x","x","x","x","x","x","x","x","x","x","x","x","x"]
["",{"$f":"IF(G50=\"hot\",COUNTIF($G$11:G50,\"hot\"),\"\")","v":""},{"$f":"IF(G50=\"cold\",COUNTIF($G$11:G50,\"cold\"),\"\")","v":""},null,null,null,"",null,null,"","","",null,null,null,null,null,null,null,null,"",null,"","","","","",null,null,null,null,null,null,null,null,null,null,null,0,null,{"$f":"IF(OR($V50=\"Utility\",$AA50=0),\"x\",IF($G50=\"hot\",\"x\",IF(AND(AO$10>$E50,AN$10<$F50),IF(AN$10>$E50,IF(AO$10>$F50,$U50/($F50-$E50)*($F50-AN$10),$U50/($F50-$E50)*(AO$10-AN$10)),$U50/($F50-$E50)*(AO$10-$E50)),\"x\")))","v":"x"},"x","x","x","x","x","x","x","x","x","x","x","x","x","x","x","x","x","x","x","x","x","x","x","x","x","x","x","x","x","x","x",{"$f":"IF(OR($V50=\"Utility\",$AA50=0),\"x\",IF($G50=\"hot\",\"x\",IF(AND(BU$10>$E50,BT$10<$F50),IF(BT$10>$E50,IF(BU$10>$F50,$U50/($F50-$E50)*($F50-BT$10),$U50/($F50-$E50)*(BU$10-BT$10)),$U50/($F50-$E50)*(BU$10-$E50)),\"x\")))","v":"x"},"x","x","x","x","x","x","x","x","x","x","x","x","x","x","x","x","x","x","x","x","x","x","x","x","x","x","x","x","x","x","x",{"$f":"IF(OR($V50=\"Utility\",$AA50=0),\"x\",IF($G50=\"hot\",\"x\",IF(AND(DA$10>$E50,CZ$10<$F50),IF(CZ$10>$E50,IF(DA$10>$F50,$U50/($F50-$E50)*($F50-CZ$10),$U50/($F50-$E50)*(DA$10-CZ$10)),$U50/($F50-$E50)*(DA$10-$E50)),\"x\")))","v":"x"},"x","x","x","x","x","x","x","x","x","x","x","x","x","x","x","x","x","x","x","x","x","x","x","x","x","x","x","x","x","x","x","x","x","x","x","x",null,null,null,0,null,{"$f":"IF(OR($V50=\"Utility\",$AA50=0),\"x\",IF($G50=\"cold\",\"x\",IF(AND(EQ$10>$F50,EP$10<$E50),IF(EP$10>$F50,IF(EQ$10>$E50,$U50/($E50-$F50)*($E50-EP$10),$U50/($E50-$F50)*(EQ$10-EP$10)),$U50/($E50-$F50)*(EQ$10-$F50)),\"x\")))","v":"x"},"x","x","x","x","x","x","x","x","x","x","x","x","x","x","x","x","x","x","x","x","x","x","x","x","x","x","x","x","x","x","x",{"$f":"IF(OR($V50=\"Utility\",$AA50=0),\"x\",IF($G50=\"cold\",\"x\",IF(AND(FW$10>$F50,FV$10<$E50),IF(FV$10>$F50,IF(FW$10>$E50,$U50/($E50-$F50)*($E50-FV$10),$U50/($E50-$F50)*(FW$10-FV$10)),$U50/($E50-$F50)*(FW$10-$F50)),\"x\")))","v":"x"},"x","x","x","x","x","x","x","x","x","x","x","x","x","x","x","x","x","x","x","x","x","x","x","x","x","x","x","x","x","x","x",{"$f":"IF(OR($V50=\"Utility\",$AA50=0),\"x\",IF($G50=\"cold\",\"x\",IF(AND(HC$10>$F50,HB$10<$E50),IF(HB$10>$F50,IF(HC$10>$E50,$U50/($E50-$F50)*($E50-HB$10),$U50/($E50-$F50)*(HC$10-HB$10)),$U50/($E50-$F50)*(HC$10-$F50)),\"x\")))","v":"x"},"x","x","x","x","x","x","x","x","x","x","x","x","x","x","x","x","x","x","x","x","x","x","x","x","x","x","x","x","x","x","x","x","x","x","x","x"]
["",{"$f":"IF(G51=\"hot\",COUNTIF($G$11:G51,\"hot\"),\"\")","v":""},{"$f":"IF(G51=\"cold\",COUNTIF($G$11:G51,\"cold\"),\"\")","v":""},null,null,null,"",null,null,"","","",null,null,null,null,null,null,null,null,"",null,"","","","","",null,null,null,null,null,null,null,null,null,null,null,0,null,{"$f":"IF(OR($V51=\"Utility\",$AA51=0),\"x\",IF($G51=\"hot\",\"x\",IF(AND(AO$10>$E51,AN$10<$F51),IF(AN$10>$E51,IF(AO$10>$F51,$U51/($F51-$E51)*($F51-AN$10),$U51/($F51-$E51)*(AO$10-AN$10)),$U51/($F51-$E51)*(AO$10-$E51)),\"x\")))","v":"x"},"x","x","x","x","x","x","x","x","x","x","x","x","x","x","x","x","x","x","x","x","x","x","x","x","x","x","x","x","x","x","x",{"$f":"IF(OR($V51=\"Utility\",$AA51=0),\"x\",IF($G51=\"hot\",\"x\",IF(AND(BU$10>$E51,BT$10<$F51),IF(BT$10>$E51,IF(BU$10>$F51,$U51/($F51-$E51)*($F51-BT$10),$U51/($F51-$E51)*(BU$10-BT$10)),$U51/($F51-$E51)*(BU$10-$E51)),\"x\")))","v":"x"},"x","x","x","x","x","x","x","x","x","x","x","x","x","x","x","x","x","x","x","x","x","x","x","x","x","x","x","x","x","x","x",{"$f":"IF(OR($V51=\"Utility\",$AA51=0),\"x\",IF($G51=\"hot\",\"x\",IF(AND(DA$10>$E51,CZ$10<$F51),IF(CZ$10>$E51,IF(DA$10>$F51,$U51/($F51-$E51)*($F51-CZ$10),$U51/($F51-$E51)*(DA$10-CZ$10)),$U51/($F51-$E51)*(DA$10-$E51)),\"x\")))","v":"x"},"x","x","x","x","x","x","x","x","x","x","x","x","x","x","x","x","x","x","x","x","x","x","x","x","x","x","x","x","x","x","x","x","x","x","x","x",null,null,null,0,null,{"$f":"IF(OR($V51=\"Utility\",$AA51=0),\"x\",IF($G51=\"cold\",\"x\",IF(AND(EQ$10>$F51,EP$10<$E51),IF(EP$10>$F51,IF(EQ$10>$E51,$U51/($E51-$F51)*($E51-EP$10),$U51/($E51-$F51)*(EQ$10-EP$10)),$U51/($E51-$F51)*(EQ$10-$F51)),\"x\")))","v":"x"},"x","x","x","x","x","x","x","x","x","x","x","x","x","x","x","x","x","x","x","x","x","x","x","x","x","x","x","x","x","x","x",{"$f":"IF(OR($V51=\"Utility\",$AA51=0),\"x\",IF($G51=\"cold\",\"x\",IF(AND(FW$10>$F51,FV$10<$E51),IF(FV$10>$F51,IF(FW$10>$E51,$U51/($E51-$F51)*($E51-FV$10),$U51/($E51-$F51)*(FW$10-FV$10)),$U51/($E51-$F51)*(FW$10-$F51)),\"x\")))","v":"x"},"x","x","x","x","x","x","x","x","x","x","x","x","x","x","x","x","x","x","x","x","x","x","x","x","x","x","x","x","x","x","x",{"$f":"IF(OR($V51=\"Utility\",$AA51=0),\"x\",IF($G51=\"cold\",\"x\",IF(AND(HC$10>$F51,HB$10<$E51),IF(HB$10>$F51,IF(HC$10>$E51,$U51/($E51-$F51)*($E51-HB$10),$U51/($E51-$F51)*(HC$10-HB$10)),$U51/($E51-$F51)*(HC$10-$F51)),\"x\")))","v":"x"},"x","x","x","x","x","x","x","x","x","x","x","x","x","x","x","x","x","x","x","x","x","x","x","x","x","x","x","x","x","x","x","x","x","x","x","x"]
["",{"$f":"IF(G52=\"hot\",COUNTIF($G$11:G52,\"hot\"),\"\")","v":""},{"$f":"IF(G52=\"cold\",COUNTIF($G$11:G52,\"cold\"),\"\")","v":""},null,null,null,"",null,null,"","","",null,null,null,null,null,null,null,null,"",null,"","","","","",null,null,null,null,null,null,null,null,null,null,null,0,null,{"$f":"IF(OR($V52=\"Utility\",$AA52=0),\"x\",IF($G52=\"hot\",\"x\",IF(AND(AO$10>$E52,AN$10<$F52),IF(AN$10>$E52,IF(AO$10>$F52,$U52/($F52-$E52)*($F52-AN$10),$U52/($F52-$E52)*(AO$10-AN$10)),$U52/($F52-$E52)*(AO$10-$E52)),\"x\")))","v":"x"},"x","x","x","x","x","x","x","x","x","x","x","x","x","x","x","x","x","x","x","x","x","x","x","x","x","x","x","x","x","x","x",{"$f":"IF(OR($V52=\"Utility\",$AA52=0),\"x\",IF($G52=\"hot\",\"x\",IF(AND(BU$10>$E52,BT$10<$F52),IF(BT$10>$E52,IF(BU$10>$F52,$U52/($F52-$E52)*($F52-BT$10),$U52/($F52-$E52)*(BU$10-BT$10)),$U52/($F52-$E52)*(BU$10-$E52)),\"x\")))","v":"x"},"x","x","x","x","x","x","x","x","x","x","x","x","x","x","x","x","x","x","x","x","x","x","x","x","x","x","x","x","x","x","x",{"$f":"IF(OR($V52=\"Utility\",$AA52=0),\"x\",IF($G52=\"hot\",\"x\",IF(AND(DA$10>$E52,CZ$10<$F52),IF(CZ$10>$E52,IF(DA$10>$F52,$U52/($F52-$E52)*($F52-CZ$10),$U52/($F52-$E52)*(DA$10-CZ$10)),$U52/($F52-$E52)*(DA$10-$E52)),\"x\")))","v":"x"},"x","x","x","x","x","x","x","x","x","x","x","x","x","x","x","x","x","x","x","x","x","x","x","x","x","x","x","x","x","x","x","x","x","x","x","x",null,null,null,0,null,{"$f":"IF(OR($V52=\"Utility\",$AA52=0),\"x\",IF($G52=\"cold\",\"x\",IF(AND(EQ$10>$F52,EP$10<$E52),IF(EP$10>$F52,IF(EQ$10>$E52,$U52/($E52-$F52)*($E52-EP$10),$U52/($E52-$F52)*(EQ$10-EP$10)),$U52/($E52-$F52)*(EQ$10-$F52)),\"x\")))","v":"x"},"x","x","x","x","x","x","x","x","x","x","x","x","x","x","x","x","x","x","x","x","x","x","x","x","x","x","x","x","x","x","x",{"$f":"IF(OR($V52=\"Utility\",$AA52=0),\"x\",IF($G52=\"cold\",\"x\",IF(AND(FW$10>$F52,FV$10<$E52),IF(FV$10>$F52,IF(FW$10>$E52,$U52/($E52-$F52)*($E52-FV$10),$U52/($E52-$F52)*(FW$10-FV$10)),$U52/($E52-$F52)*(FW$10-$F52)),\"x\")))","v":"x"},"x","x","x","x","x","x","x","x","x","x","x","x","x","x","x","x","x","x","x","x","x","x","x","x","x","x","x","x","x","x","x",{"$f":"IF(OR($V52=\"Utility\",$AA52=0),\"x\",IF($G52=\"cold\",\"x\",IF(AND(HC$10>$F52,HB$10<$E52),IF(HB$10>$F52,IF(HC$10>$E52,$U52/($E52-$F52)*($E52-HB$10),$U52/($E52-$F52)*(HC$10-HB$10)),$U52/($E52-$F52)*(HC$10-$F52)),\"x\")))","v":"x"},"x","x","x","x","x","x","x","x","x","x","x","x","x","x","x","x","x","x","x","x","x","x","x","x","x","x","x","x","x","x","x","x","x","x","x","x"]
["",{"$f":"IF(G53=\"hot\",COUNTIF($G$11:G53,\"hot\"),\"\")","v":""},{"$f":"IF(G53=\"cold\",COUNTIF($G$11:G53,\"cold\"),\"\")","v":""},null,null,null,"",null,null,"","","",null,null,null,null,null,null,null,null,"",null,"","","","","",null,null,null,null,null,null,null,null,null,null,null,0,null,{"$f":"IF(OR($V53=\"Utility\",$AA53=0),\"x\",IF($G53=\"hot\",\"x\",IF(AND(AO$10>$E53,AN$10<$F53),IF(AN$10>$E53,IF(AO$10>$F53,$U53/($F53-$E53)*($F53-AN$10),$U53/($F53-$E53)*(AO$10-AN$10)),$U53/($F53-$E53)*(AO$10-$E53)),\"x\")))","v":"x"},"x","x","x","x","x","x","x","x","x","x","x","x","x","x","x","x","x","x","x","x","x","x","x","x","x","x","x","x","x","x","x",{"$f":"IF(OR($V53=\"Utility\",$AA53=0),\"x\",IF($G53=\"hot\",\"x\",IF(AND(BU$10>$E53,BT$10<$F53),IF(BT$10>$E53,IF(BU$10>$F53,$U53/($F53-$E53)*($F53-BT$10),$U53/($F53-$E53)*(BU$10-BT$10)),$U53/($F53-$E53)*(BU$10-$E53)),\"x\")))","v":"x"},"x","x","x","x","x","x","x","x","x","x","x","x","x","x","x","x","x","x","x","x","x","x","x","x","x","x","x","x","x","x","x",{"$f":"IF(OR($V53=\"Utility\",$AA53=0),\"x\",IF($G53=\"hot\",\"x\",IF(AND(DA$10>$E53,CZ$10<$F53),IF(CZ$10>$E53,IF(DA$10>$F53,$U53/($F53-$E53)*($F53-CZ$10),$U53/($F53-$E53)*(DA$10-CZ$10)),$U53/($F53-$E53)*(DA$10-$E53)),\"x\")))","v":"x"},"x","x","x","x","x","x","x","x","x","x","x","x","x","x","x","x","x","x","x","x","x","x","x","x","x","x","x","x","x","x","x","x","x","x","x","x",null,null,null,0,null,{"$f":"IF(OR($V53=\"Utility\",$AA53=0),\"x\",IF($G53=\"cold\",\"x\",IF(AND(EQ$10>$F53,EP$10<$E53),IF(EP$10>$F53,IF(EQ$10>$E53,$U53/($E53-$F53)*($E53-EP$10),$U53/($E53-$F53)*(EQ$10-EP$10)),$U53/($E53-$F53)*(EQ$10-$F53)),\"x\")))","v":"x"},"x","x","x","x","x","x","x","x","x","x","x","x","x","x","x","x","x","x","x","x","x","x","x","x","x","x","x","x","x","x","x",{"$f":"IF(OR($V53=\"Utility\",$AA53=0),\"x\",IF($G53=\"cold\",\"x\",IF(AND(FW$10>$F53,FV$10<$E53),IF(FV$10>$F53,IF(FW$10>$E53,$U53/($E53-$F53)*($E53-FV$10),$U53/($E53-$F53)*(FW$10-FV$10)),$U53/($E53-$F53)*(FW$10-$F53)),\"x\")))","v":"x"},"x","x","x","x","x","x","x","x","x","x","x","x","x","x","x","x","x","x","x","x","x","x","x","x","x","x","x","x","x","x","x",{"$f":"IF(OR($V53=\"Utility\",$AA53=0),\"x\",IF($G53=\"cold\",\"x\",IF(AND(HC$10>$F53,HB$10<$E53),IF(HB$10>$F53,IF(HC$10>$E53,$U53/($E53-$F53)*($E53-HB$10),$U53/($E53-$F53)*(HC$10-HB$10)),$U53/($E53-$F53)*(HC$10-$F53)),\"x\")))","v":"x"},"x","x","x","x","x","x","x","x","x","x","x","x","x","x","x","x","x","x","x","x","x","x","x","x","x","x","x","x","x","x","x","x","x","x","x","x"]
["",{"$f":"IF(G54=\"hot\",COUNTIF($G$11:G54,\"hot\"),\"\")","v":""},{"$f":"IF(G54=\"cold\",COUNTIF($G$11:G54,\"cold\"),\"\")","v":""},null,null,null,"",null,null,"","","",null,null,null,null,null,null,null,null,"",null,"","","","","",null,null,null,null,null,null,null,null,null,null,null,0,null,{"$f":"IF(OR($V54=\"Utility\",$AA54=0),\"x\",IF($G54=\"hot\",\"x\",IF(AND(AO$10>$E54,AN$10<$F54),IF(AN$10>$E54,IF(AO$10>$F54,$U54/($F54-$E54)*($F54-AN$10),$U54/($F54-$E54)*(AO$10-AN$10)),$U54/($F54-$E54)*(AO$10-$E54)),\"x\")))","v":"x"},"x","x","x","x","x","x","x","x","x","x","x","x","x","x","x","x","x","x","x","x","x","x","x","x","x","x","x","x","x","x","x",{"$f":"IF(OR($V54=\"Utility\",$AA54=0),\"x\",IF($G54=\"hot\",\"x\",IF(AND(BU$10>$E54,BT$10<$F54),IF(BT$10>$E54,IF(BU$10>$F54,$U54/($F54-$E54)*($F54-BT$10),$U54/($F54-$E54)*(BU$10-BT$10)),$U54/($F54-$E54)*(BU$10-$E54)),\"x\")))","v":"x"},"x","x","x","x","x","x","x","x","x","x","x","x","x","x","x","x","x","x","x","x","x","x","x","x","x","x","x","x","x","x","x",{"$f":"IF(OR($V54=\"Utility\",$AA54=0),\"x\",IF($G54=\"hot\",\"x\",IF(AND(DA$10>$E54,CZ$10<$F54),IF(CZ$10>$E54,IF(DA$10>$F54,$U54/($F54-$E54)*($F54-CZ$10),$U54/($F54-$E54)*(DA$10-CZ$10)),$U54/($F54-$E54)*(DA$10-$E54)),\"x\")))","v":"x"},"x","x","x","x","x","x","x","x","x","x","x","x","x","x","x","x","x","x","x","x","x","x","x","x","x","x","x","x","x","x","x","x","x","x","x","x",null,null,null,0,null,{"$f":"IF(OR($V54=\"Utility\",$AA54=0),\"x\",IF($G54=\"cold\",\"x\",IF(AND(EQ$10>$F54,EP$10<$E54),IF(EP$10>$F54,IF(EQ$10>$E54,$U54/($E54-$F54)*($E54-EP$10),$U54/($E54-$F54)*(EQ$10-EP$10)),$U54/($E54-$F54)*(EQ$10-$F54)),\"x\")))","v":"x"},"x","x","x","x","x","x","x","x","x","x","x","x","x","x","x","x","x","x","x","x","x","x","x","x","x","x","x","x","x","x","x",{"$f":"IF(OR($V54=\"Utility\",$AA54=0),\"x\",IF($G54=\"cold\",\"x\",IF(AND(FW$10>$F54,FV$10<$E54),IF(FV$10>$F54,IF(FW$10>$E54,$U54/($E54-$F54)*($E54-FV$10),$U54/($E54-$F54)*(FW$10-FV$10)),$U54/($E54-$F54)*(FW$10-$F54)),\"x\")))","v":"x"},"x","x","x","x","x","x","x","x","x","x","x","x","x","x","x","x","x","x","x","x","x","x","x","x","x","x","x","x","x","x","x",{"$f":"IF(OR($V54=\"Utility\",$AA54=0),\"x\",IF($G54=\"cold\",\"x\",IF(AND(HC$10>$F54,HB$10<$E54),IF(HB$10>$F54,IF(HC$10>$E54,$U54/($E54-$F54)*($E54-HB$10),$U54/($E54-$F54)*(HC$10-HB$10)),$U54/($E54-$F54)*(HC$10-$F54)),\"x\")))","v":"x"},"x","x","x","x","x","x","x","x","x","x","x","x","x","x","x","x","x","x","x","x","x","x","x","x","x","x","x","x","x","x","x","x","x","x","x","x"]
["",{"$f":"IF(G55=\"hot\",COUNTIF($G$11:G55,\"hot\"),\"\")","v":""},{"$f":"IF(G55=\"cold\",COUNTIF($G$11:G55,\"cold\"),\"\")","v":""},null,null,null,"",null,null,"","","",null,null,null,null,null,null,null,null,"",null,"","","","","",null,null,null,null,null,null,null,null,null,null,null,0,null,{"$f":"IF(OR($V55=\"Utility\",$AA55=0),\"x\",IF($G55=\"hot\",\"x\",IF(AND(AO$10>$E55,AN$10<$F55),IF(AN$10>$E55,IF(AO$10>$F55,$U55/($F55-$E55)*($F55-AN$10),$U55/($F55-$E55)*(AO$10-AN$10)),$U55/($F55-$E55)*(AO$10-$E55)),\"x\")))","v":"x"},"x","x","x","x","x","x","x","x","x","x","x","x","x","x","x","x","x","x","x","x","x","x","x","x","x","x","x","x","x","x","x",{"$f":"IF(OR($V55=\"Utility\",$AA55=0),\"x\",IF($G55=\"hot\",\"x\",IF(AND(BU$10>$E55,BT$10<$F55),IF(BT$10>$E55,IF(BU$10>$F55,$U55/($F55-$E55)*($F55-BT$10),$U55/($F55-$E55)*(BU$10-BT$10)),$U55/($F55-$E55)*(BU$10-$E55)),\"x\")))","v":"x"},"x","x","x","x","x","x","x","x","x","x","x","x","x","x","x","x","x","x","x","x","x","x","x","x","x","x","x","x","x","x","x",{"$f":"IF(OR($V55=\"Utility\",$AA55=0),\"x\",IF($G55=\"hot\",\"x\",IF(AND(DA$10>$E55,CZ$10<$F55),IF(CZ$10>$E55,IF(DA$10>$F55,$U55/($F55-$E55)*($F55-CZ$10),$U55/($F55-$E55)*(DA$10-CZ$10)),$U55/($F55-$E55)*(DA$10-$E55)),\"x\")))","v":"x"},"x","x","x","x","x","x","x","x","x","x","x","x","x","x","x","x","x","x","x","x","x","x","x","x","x","x","x","x","x","x","x","x","x","x","x","x",null,null,null,0,null,{"$f":"IF(OR($V55=\"Utility\",$AA55=0),\"x\",IF($G55=\"cold\",\"x\",IF(AND(EQ$10>$F55,EP$10<$E55),IF(EP$10>$F55,IF(EQ$10>$E55,$U55/($E55-$F55)*($E55-EP$10),$U55/($E55-$F55)*(EQ$10-EP$10)),$U55/($E55-$F55)*(EQ$10-$F55)),\"x\")))","v":"x"},"x","x","x","x","x","x","x","x","x","x","x","x","x","x","x","x","x","x","x","x","x","x","x","x","x","x","x","x","x","x","x",{"$f":"IF(OR($V55=\"Utility\",$AA55=0),\"x\",IF($G55=\"cold\",\"x\",IF(AND(FW$10>$F55,FV$10<$E55),IF(FV$10>$F55,IF(FW$10>$E55,$U55/($E55-$F55)*($E55-FV$10),$U55/($E55-$F55)*(FW$10-FV$10)),$U55/($E55-$F55)*(FW$10-$F55)),\"x\")))","v":"x"},"x","x","x","x","x","x","x","x","x","x","x","x","x","x","x","x","x","x","x","x","x","x","x","x","x","x","x","x","x","x","x",{"$f":"IF(OR($V55=\"Utility\",$AA55=0),\"x\",IF($G55=\"cold\",\"x\",IF(AND(HC$10>$F55,HB$10<$E55),IF(HB$10>$F55,IF(HC$10>$E55,$U55/($E55-$F55)*($E55-HB$10),$U55/($E55-$F55)*(HC$10-HB$10)),$U55/($E55-$F55)*(HC$10-$F55)),\"x\")))","v":"x"},"x","x","x","x","x","x","x","x","x","x","x","x","x","x","x","x","x","x","x","x","x","x","x","x","x","x","x","x","x","x","x","x","x","x","x","x"]
["",{"$f":"IF(G56=\"hot\",COUNTIF($G$11:G56,\"hot\"),\"\")","v":""},{"$f":"IF(G56=\"cold\",COUNTIF($G$11:G56,\"cold\"),\"\")","v":""},null,null,null,"",null,null,"","","",null,null,null,null,null,null,null,null,"",null,"","","","","",null,null,null,null,null,null,null,null,null,null,null,0,null,{"$f":"IF(OR($V56=\"Utility\",$AA56=0),\"x\",IF($G56=\"hot\",\"x\",IF(AND(AO$10>$E56,AN$10<$F56),IF(AN$10>$E56,IF(AO$10>$F56,$U56/($F56-$E56)*($F56-AN$10),$U56/($F56-$E56)*(AO$10-AN$10)),$U56/($F56-$E56)*(AO$10-$E56)),\"x\")))","v":"x"},"x","x","x","x","x","x","x","x","x","x","x","x","x","x","x","x","x","x","x","x","x","x","x","x","x","x","x","x","x","x","x",{"$f":"IF(OR($V56=\"Utility\",$AA56=0),\"x\",IF($G56=\"hot\",\"x\",IF(AND(BU$10>$E56,BT$10<$F56),IF(BT$10>$E56,IF(BU$10>$F56,$U56/($F56-$E56)*($F56-BT$10),$U56/($F56-$E56)*(BU$10-BT$10)),$U56/($F56-$E56)*(BU$10-$E56)),\"x\")))","v":"x"},"x","x","x","x","x","x","x","x","x","x","x","x","x","x","x","x","x","x","x","x","x","x","x","x","x","x","x","x","x","x","x",{"$f":"IF(OR($V56=\"Utility\",$AA56=0),\"x\",IF($G56=\"hot\",\"x\",IF(AND(DA$10>$E56,CZ$10<$F56),IF(CZ$10>$E56,IF(DA$10>$F56,$U56/($F56-$E56)*($F56-CZ$10),$U56/($F56-$E56)*(DA$10-CZ$10)),$U56/($F56-$E56)*(DA$10-$E56)),\"x\")))","v":"x"},"x","x","x","x","x","x","x","x","x","x","x","x","x","x","x","x","x","x","x","x","x","x","x","x","x","x","x","x","x","x","x","x","x","x","x","x",null,null,null,0,null,{"$f":"IF(OR($V56=\"Utility\",$AA56=0),\"x\",IF($G56=\"cold\",\"x\",IF(AND(EQ$10>$F56,EP$10<$E56),IF(EP$10>$F56,IF(EQ$10>$E56,$U56/($E56-$F56)*($E56-EP$10),$U56/($E56-$F56)*(EQ$10-EP$10)),$U56/($E56-$F56)*(EQ$10-$F56)),\"x\")))","v":"x"},"x","x","x","x","x","x","x","x","x","x","x","x","x","x","x","x","x","x","x","x","x","x","x","x","x","x","x","x","x","x","x",{"$f":"IF(OR($V56=\"Utility\",$AA56=0),\"x\",IF($G56=\"cold\",\"x\",IF(AND(FW$10>$F56,FV$10<$E56),IF(FV$10>$F56,IF(FW$10>$E56,$U56/($E56-$F56)*($E56-FV$10),$U56/($E56-$F56)*(FW$10-FV$10)),$U56/($E56-$F56)*(FW$10-$F56)),\"x\")))","v":"x"},"x","x","x","x","x","x","x","x","x","x","x","x","x","x","x","x","x","x","x","x","x","x","x","x","x","x","x","x","x","x","x",{"$f":"IF(OR($V56=\"Utility\",$AA56=0),\"x\",IF($G56=\"cold\",\"x\",IF(AND(HC$10>$F56,HB$10<$E56),IF(HB$10>$F56,IF(HC$10>$E56,$U56/($E56-$F56)*($E56-HB$10),$U56/($E56-$F56)*(HC$10-HB$10)),$U56/($E56-$F56)*(HC$10-$F56)),\"x\")))","v":"x"},"x","x","x","x","x","x","x","x","x","x","x","x","x","x","x","x","x","x","x","x","x","x","x","x","x","x","x","x","x","x","x","x","x","x","x","x"]
["",{"$f":"IF(G57=\"hot\",COUNTIF($G$11:G57,\"hot\"),\"\")","v":""},{"$f":"IF(G57=\"cold\",COUNTIF($G$11:G57,\"cold\"),\"\")","v":""},null,null,null,"",null,null,"","","",null,null,null,null,null,null,null,null,"",null,"","","","","",null,null,null,null,null,null,null,null,null,null,null,0,null,{"$f":"IF(OR($V57=\"Utility\",$AA57=0),\"x\",IF($G57=\"hot\",\"x\",IF(AND(AO$10>$E57,AN$10<$F57),IF(AN$10>$E57,IF(AO$10>$F57,$U57/($F57-$E57)*($F57-AN$10),$U57/($F57-$E57)*(AO$10-AN$10)),$U57/($F57-$E57)*(AO$10-$E57)),\"x\")))","v":"x"},"x","x","x","x","x","x","x","x","x","x","x","x","x","x","x","x","x","x","x","x","x","x","x","x","x","x","x","x","x","x","x",{"$f":"IF(OR($V57=\"Utility\",$AA57=0),\"x\",IF($G57=\"hot\",\"x\",IF(AND(BU$10>$E57,BT$10<$F57),IF(BT$10>$E57,IF(BU$10>$F57,$U57/($F57-$E57)*($F57-BT$10),$U57/($F57-$E57)*(BU$10-BT$10)),$U57/($F57-$E57)*(BU$10-$E57)),\"x\")))","v":"x"},"x","x","x","x","x","x","x","x","x","x","x","x","x","x","x","x","x","x","x","x","x","x","x","x","x","x","x","x","x","x","x",{"$f":"IF(OR($V57=\"Utility\",$AA57=0),\"x\",IF($G57=\"hot\",\"x\",IF(AND(DA$10>$E57,CZ$10<$F57),IF(CZ$10>$E57,IF(DA$10>$F57,$U57/($F57-$E57)*($F57-CZ$10),$U57/($F57-$E57)*(DA$10-CZ$10)),$U57/($F57-$E57)*(DA$10-$E57)),\"x\")))","v":"x"},"x","x","x","x","x","x","x","x","x","x","x","x","x","x","x","x","x","x","x","x","x","x","x","x","x","x","x","x","x","x","x","x","x","x","x","x",null,null,null,0,null,{"$f":"IF(OR($V57=\"Utility\",$AA57=0),\"x\",IF($G57=\"cold\",\"x\",IF(AND(EQ$10>$F57,EP$10<$E57),IF(EP$10>$F57,IF(EQ$10>$E57,$U57/($E57-$F57)*($E57-EP$10),$U57/($E57-$F57)*(EQ$10-EP$10)),$U57/($E57-$F57)*(EQ$10-$F57)),\"x\")))","v":"x"},"x","x","x","x","x","x","x","x","x","x","x","x","x","x","x","x","x","x","x","x","x","x","x","x","x","x","x","x","x","x","x",{"$f":"IF(OR($V57=\"Utility\",$AA57=0),\"x\",IF($G57=\"cold\",\"x\",IF(AND(FW$10>$F57,FV$10<$E57),IF(FV$10>$F57,IF(FW$10>$E57,$U57/($E57-$F57)*($E57-FV$10),$U57/($E57-$F57)*(FW$10-FV$10)),$U57/($E57-$F57)*(FW$10-$F57)),\"x\")))","v":"x"},"x","x","x","x","x","x","x","x","x","x","x","x","x","x","x","x","x","x","x","x","x","x","x","x","x","x","x","x","x","x","x",{"$f":"IF(OR($V57=\"Utility\",$AA57=0),\"x\",IF($G57=\"cold\",\"x\",IF(AND(HC$10>$F57,HB$10<$E57),IF(HB$10>$F57,IF(HC$10>$E57,$U57/($E57-$F57)*($E57-HB$10),$U57/($E57-$F57)*(HC$10-HB$10)),$U57/($E57-$F57)*(HC$10-$F57)),\"x\")))","v":"x"},"x","x","x","x","x","x","x","x","x","x","x","x","x","x","x","x","x","x","x","x","x","x","x","x","x","x","x","x","x","x","x","x","x","x","x","x"]
["",{"$f":"IF(G58=\"hot\",COUNTIF($G$11:G58,\"hot\"),\"\")","v":""},{"$f":"IF(G58=\"cold\",COUNTIF($G$11:G58,\"cold\"),\"\")","v":""},null,null,null,"",null,null,"","","",null,null,null,null,null,null,null,null,"",null,"","","","","",null,null,null,null,null,null,null,null,null,null,null,0,null,{"$f":"IF(OR($V58=\"Utility\",$AA58=0),\"x\",IF($G58=\"hot\",\"x\",IF(AND(AO$10>$E58,AN$10<$F58),IF(AN$10>$E58,IF(AO$10>$F58,$U58/($F58-$E58)*($F58-AN$10),$U58/($F58-$E58)*(AO$10-AN$10)),$U58/($F58-$E58)*(AO$10-$E58)),\"x\")))","v":"x"},"x","x","x","x","x","x","x","x","x","x","x","x","x","x","x","x","x","x","x","x","x","x","x","x","x","x","x","x","x","x","x",{"$f":"IF(OR($V58=\"Utility\",$AA58=0),\"x\",IF($G58=\"hot\",\"x\",IF(AND(BU$10>$E58,BT$10<$F58),IF(BT$10>$E58,IF(BU$10>$F58,$U58/($F58-$E58)*($F58-BT$10),$U58/($F58-$E58)*(BU$10-BT$10)),$U58/($F58-$E58)*(BU$10-$E58)),\"x\")))","v":"x"},"x","x","x","x","x","x","x","x","x","x","x","x","x","x","x","x","x","x","x","x","x","x","x","x","x","x","x","x","x","x","x",{"$f":"IF(OR($V58=\"Utility\",$AA58=0),\"x\",IF($G58=\"hot\",\"x\",IF(AND(DA$10>$E58,CZ$10<$F58),IF(CZ$10>$E58,IF(DA$10>$F58,$U58/($F58-$E58)*($F58-CZ$10),$U58/($F58-$E58)*(DA$10-CZ$10)),$U58/($F58-$E58)*(DA$10-$E58)),\"x\")))","v":"x"},"x","x","x","x","x","x","x","x","x","x","x","x","x","x","x","x","x","x","x","x","x","x","x","x","x","x","x","x","x","x","x","x","x","x","x","x",null,null,null,0,null,{"$f":"IF(OR($V58=\"Utility\",$AA58=0),\"x\",IF($G58=\"cold\",\"x\",IF(AND(EQ$10>$F58,EP$10<$E58),IF(EP$10>$F58,IF(EQ$10>$E58,$U58/($E58-$F58)*($E58-EP$10),$U58/($E58-$F58)*(EQ$10-EP$10)),$U58/($E58-$F58)*(EQ$10-$F58)),\"x\")))","v":"x"},"x","x","x","x","x","x","x","x","x","x","x","x","x","x","x","x","x","x","x","x","x","x","x","x","x","x","x","x","x","x","x",{"$f":"IF(OR($V58=\"Utility\",$AA58=0),\"x\",IF($G58=\"cold\",\"x\",IF(AND(FW$10>$F58,FV$10<$E58),IF(FV$10>$F58,IF(FW$10>$E58,$U58/($E58-$F58)*($E58-FV$10),$U58/($E58-$F58)*(FW$10-FV$10)),$U58/($E58-$F58)*(FW$10-$F58)),\"x\")))","v":"x"},"x","x","x","x","x","x","x","x","x","x","x","x","x","x","x","x","x","x","x","x","x","x","x","x","x","x","x","x","x","x","x",{"$f":"IF(OR($V58=\"Utility\",$AA58=0),\"x\",IF($G58=\"cold\",\"x\",IF(AND(HC$10>$F58,HB$10<$E58),IF(HB$10>$F58,IF(HC$10>$E58,$U58/($E58-$F58)*($E58-HB$10),$U58/($E58-$F58)*(HC$10-HB$10)),$U58/($E58-$F58)*(HC$10-$F58)),\"x\")))","v":"x"},"x","x","x","x","x","x","x","x","x","x","x","x","x","x","x","x","x","x","x","x","x","x","x","x","x","x","x","x","x","x","x","x","x","x","x","x"]
["",{"$f":"IF(G59=\"hot\",COUNTIF($G$11:G59,\"hot\"),\"\")","v":""},{"$f":"IF(G59=\"cold\",COUNTIF($G$11:G59,\"cold\"),\"\")","v":""},null,null,null,"",null,null,"","","",null,null,null,null,null,null,null,null,"",null,"","","","","",null,null,null,null,null,null,null,null,null,null,null,0,null,{"$f":"IF(OR($V59=\"Utility\",$AA59=0),\"x\",IF($G59=\"hot\",\"x\",IF(AND(AO$10>$E59,AN$10<$F59),IF(AN$10>$E59,IF(AO$10>$F59,$U59/($F59-$E59)*($F59-AN$10),$U59/($F59-$E59)*(AO$10-AN$10)),$U59/($F59-$E59)*(AO$10-$E59)),\"x\")))","v":"x"},"x","x","x","x","x","x","x","x","x","x","x","x","x","x","x","x","x","x","x","x","x","x","x","x","x","x","x","x","x","x","x",{"$f":"IF(OR($V59=\"Utility\",$AA59=0),\"x\",IF($G59=\"hot\",\"x\",IF(AND(BU$10>$E59,BT$10<$F59),IF(BT$10>$E59,IF(BU$10>$F59,$U59/($F59-$E59)*($F59-BT$10),$U59/($F59-$E59)*(BU$10-BT$10)),$U59/($F59-$E59)*(BU$10-$E59)),\"x\")))","v":"x"},"x","x","x","x","x","x","x","x","x","x","x","x","x","x","x","x","x","x","x","x","x","x","x","x","x","x","x","x","x","x","x",{"$f":"IF(OR($V59=\"Utility\",$AA59=0),\"x\",IF($G59=\"hot\",\"x\",IF(AND(DA$10>$E59,CZ$10<$F59),IF(CZ$10>$E59,IF(DA$10>$F59,$U59/($F59-$E59)*($F59-CZ$10),$U59/($F59-$E59)*(DA$10-CZ$10)),$U59/($F59-$E59)*(DA$10-$E59)),\"x\")))","v":"x"},"x","x","x","x","x","x","x","x","x","x","x","x","x","x","x","x","x","x","x","x","x","x","x","x","x","x","x","x","x","x","x","x","x","x","x","x",null,null,null,0,null,{"$f":"IF(OR($V59=\"Utility\",$AA59=0),\"x\",IF($G59=\"cold\",\"x\",IF(AND(EQ$10>$F59,EP$10<$E59),IF(EP$10>$F59,IF(EQ$10>$E59,$U59/($E59-$F59)*($E59-EP$10),$U59/($E59-$F59)*(EQ$10-EP$10)),$U59/($E59-$F59)*(EQ$10-$F59)),\"x\")))","v":"x"},"x","x","x","x","x","x","x","x","x","x","x","x","x","x","x","x","x","x","x","x","x","x","x","x","x","x","x","x","x","x","x",{"$f":"IF(OR($V59=\"Utility\",$AA59=0),\"x\",IF($G59=\"cold\",\"x\",IF(AND(FW$10>$F59,FV$10<$E59),IF(FV$10>$F59,IF(FW$10>$E59,$U59/($E59-$F59)*($E59-FV$10),$U59/($E59-$F59)*(FW$10-FV$10)),$U59/($E59-$F59)*(FW$10-$F59)),\"x\")))","v":"x"},"x","x","x","x","x","x","x","x","x","x","x","x","x","x","x","x","x","x","x","x","x","x","x","x","x","x","x","x","x","x","x",{"$f":"IF(OR($V59=\"Utility\",$AA59=0),\"x\",IF($G59=\"cold\",\"x\",IF(AND(HC$10>$F59,HB$10<$E59),IF(HB$10>$F59,IF(HC$10>$E59,$U59/($E59-$F59)*($E59-HB$10),$U59/($E59-$F59)*(HC$10-HB$10)),$U59/($E59-$F59)*(HC$10-$F59)),\"x\")))","v":"x"},"x","x","x","x","x","x","x","x","x","x","x","x","x","x","x","x","x","x","x","x","x","x","x","x","x","x","x","x","x","x","x","x","x","x","x","x"]
["",{"$f":"IF(G60=\"hot\",COUNTIF($G$11:G60,\"hot\"),\"\")","v":""},{"$f":"IF(G60=\"cold\",COUNTIF($G$11:G60,\"cold\"),\"\")","v":""},null,null,null,"",null,null,"","","",null,null,null,null,null,null,null,null,"",null,"","","","","",null,null,null,null,null,null,null,null,null,null,null,0,null,{"$f":"IF(OR($V60=\"Utility\",$AA60=0),\"x\",IF($G60=\"hot\",\"x\",IF(AND(AO$10>$E60,AN$10<$F60),IF(AN$10>$E60,IF(AO$10>$F60,$U60/($F60-$E60)*($F60-AN$10),$U60/($F60-$E60)*(AO$10-AN$10)),$U60/($F60-$E60)*(AO$10-$E60)),\"x\")))","v":"x"},"x","x","x","x","x","x","x","x","x","x","x","x","x","x","x","x","x","x","x","x","x","x","x","x","x","x","x","x","x","x","x",{"$f":"IF(OR($V60=\"Utility\",$AA60=0),\"x\",IF($G60=\"hot\",\"x\",IF(AND(BU$10>$E60,BT$10<$F60),IF(BT$10>$E60,IF(BU$10>$F60,$U60/($F60-$E60)*($F60-BT$10),$U60/($F60-$E60)*(BU$10-BT$10)),$U60/($F60-$E60)*(BU$10-$E60)),\"x\")))","v":"x"},"x","x","x","x","x","x","x","x","x","x","x","x","x","x","x","x","x","x","x","x","x","x","x","x","x","x","x","x","x","x","x",{"$f":"IF(OR($V60=\"Utility\",$AA60=0),\"x\",IF($G60=\"hot\",\"x\",IF(AND(DA$10>$E60,CZ$10<$F60),IF(CZ$10>$E60,IF(DA$10>$F60,$U60/($F60-$E60)*($F60-CZ$10),$U60/($F60-$E60)*(DA$10-CZ$10)),$U60/($F60-$E60)*(DA$10-$E60)),\"x\")))","v":"x"},"x","x","x","x","x","x","x","x","x","x","x","x","x","x","x","x","x","x","x","x","x","x","x","x","x","x","x","x","x","x","x","x","x","x","x","x",null,null,null,0,null,{"$f":"IF(OR($V60=\"Utility\",$AA60=0),\"x\",IF($G60=\"cold\",\"x\",IF(AND(EQ$10>$F60,EP$10<$E60),IF(EP$10>$F60,IF(EQ$10>$E60,$U60/($E60-$F60)*($E60-EP$10),$U60/($E60-$F60)*(EQ$10-EP$10)),$U60/($E60-$F60)*(EQ$10-$F60)),\"x\")))","v":"x"},"x","x","x","x","x","x","x","x","x","x","x","x","x","x","x","x","x","x","x","x","x","x","x","x","x","x","x","x","x","x","x",{"$f":"IF(OR($V60=\"Utility\",$AA60=0),\"x\",IF($G60=\"cold\",\"x\",IF(AND(FW$10>$F60,FV$10<$E60),IF(FV$10>$F60,IF(FW$10>$E60,$U60/($E60-$F60)*($E60-FV$10),$U60/($E60-$F60)*(FW$10-FV$10)),$U60/($E60-$F60)*(FW$10-$F60)),\"x\")))","v":"x"},"x","x","x","x","x","x","x","x","x","x","x","x","x","x","x","x","x","x","x","x","x","x","x","x","x","x","x","x","x","x","x",{"$f":"IF(OR($V60=\"Utility\",$AA60=0),\"x\",IF($G60=\"cold\",\"x\",IF(AND(HC$10>$F60,HB$10<$E60),IF(HB$10>$F60,IF(HC$10>$E60,$U60/($E60-$F60)*($E60-HB$10),$U60/($E60-$F60)*(HC$10-HB$10)),$U60/($E60-$F60)*(HC$10-$F60)),\"x\")))","v":"x"},"x","x","x","x","x","x","x","x","x","x","x","x","x","x","x","x","x","x","x","x","x","x","x","x","x","x","x","x","x","x","x","x","x","x","x","x"]
["",{"$f":"IF(G61=\"hot\",COUNTIF($G$11:G61,\"hot\"),\"\")","v":""},{"$f":"IF(G61=\"cold\",COUNTIF($G$11:G61,\"cold\"),\"\")","v":""},null,null,null,"",null,null,"","","",null,null,null,null,null,null,null,null,"",null,"","","","","",null,null,null,null,null,null,null,null,null,null,null,0,null,{"$f":"IF(OR($V61=\"Utility\",$AA61=0),\"x\",IF($G61=\"hot\",\"x\",IF(AND(AO$10>$E61,AN$10<$F61),IF(AN$10>$E61,IF(AO$10>$F61,$U61/($F61-$E61)*($F61-AN$10),$U61/($F61-$E61)*(AO$10-AN$10)),$U61/($F61-$E61)*(AO$10-$E61)),\"x\")))","v":"x"},"x","x","x","x","x","x","x","x","x","x","x","x","x","x","x","x","x","x","x","x","x","x","x","x","x","x","x","x","x","x","x",{"$f":"IF(OR($V61=\"Utility\",$AA61=0),\"x\",IF($G61=\"hot\",\"x\",IF(AND(BU$10>$E61,BT$10<$F61),IF(BT$10>$E61,IF(BU$10>$F61,$U61/($F61-$E61)*($F61-BT$10),$U61/($F61-$E61)*(BU$10-BT$10)),$U61/($F61-$E61)*(BU$10-$E61)),\"x\")))","v":"x"},"x","x","x","x","x","x","x","x","x","x","x","x","x","x","x","x","x","x","x","x","x","x","x","x","x","x","x","x","x","x","x",{"$f":"IF(OR($V61=\"Utility\",$AA61=0),\"x\",IF($G61=\"hot\",\"x\",IF(AND(DA$10>$E61,CZ$10<$F61),IF(CZ$10>$E61,IF(DA$10>$F61,$U61/($F61-$E61)*($F61-CZ$10),$U61/($F61-$E61)*(DA$10-CZ$10)),$U61/($F61-$E61)*(DA$10-$E61)),\"x\")))","v":"x"},"x","x","x","x","x","x","x","x","x","x","x","x","x","x","x","x","x","x","x","x","x","x","x","x","x","x","x","x","x","x","x","x","x","x","x","x",null,null,null,0,null,{"$f":"IF(OR($V61=\"Utility\",$AA61=0),\"x\",IF($G61=\"cold\",\"x\",IF(AND(EQ$10>$F61,EP$10<$E61),IF(EP$10>$F61,IF(EQ$10>$E61,$U61/($E61-$F61)*($E61-EP$10),$U61/($E61-$F61)*(EQ$10-EP$10)),$U61/($E61-$F61)*(EQ$10-$F61)),\"x\")))","v":"x"},"x","x","x","x","x","x","x","x","x","x","x","x","x","x","x","x","x","x","x","x","x","x","x","x","x","x","x","x","x","x","x",{"$f":"IF(OR($V61=\"Utility\",$AA61=0),\"x\",IF($G61=\"cold\",\"x\",IF(AND(FW$10>$F61,FV$10<$E61),IF(FV$10>$F61,IF(FW$10>$E61,$U61/($E61-$F61)*($E61-FV$10),$U61/($E61-$F61)*(FW$10-FV$10)),$U61/($E61-$F61)*(FW$10-$F61)),\"x\")))","v":"x"},"x","x","x","x","x","x","x","x","x","x","x","x","x","x","x","x","x","x","x","x","x","x","x","x","x","x","x","x","x","x","x",{"$f":"IF(OR($V61=\"Utility\",$AA61=0),\"x\",IF($G61=\"cold\",\"x\",IF(AND(HC$10>$F61,HB$10<$E61),IF(HB$10>$F61,IF(HC$10>$E61,$U61/($E61-$F61)*($E61-HB$10),$U61/($E61-$F61)*(HC$10-HB$10)),$U61/($E61-$F61)*(HC$10-$F61)),\"x\")))","v":"x"},"x","x","x","x","x","x","x","x","x","x","x","x","x","x","x","x","x","x","x","x","x","x","x","x","x","x","x","x","x","x","x","x","x","x","x","x"]
["",{"$f":"IF(G62=\"hot\",COUNTIF($G$11:G62,\"hot\"),\"\")","v":""},{"$f":"IF(G62=\"cold\",COUNTIF($G$11:G62,\"cold\"),\"\")","v":""},null,null,null,"",null,null,"","","",null,null,null,null,null,null,null,null,"",null,"","","","","",null,null,null,null,null,null,null,null,null,null,null,0,null,{"$f":"IF(OR($V62=\"Utility\",$AA62=0),\"x\",IF($G62=\"hot\",\"x\",IF(AND(AO$10>$E62,AN$10<$F62),IF(AN$10>$E62,IF(AO$10>$F62,$U62/($F62-$E62)*($F62-AN$10),$U62/($F62-$E62)*(AO$10-AN$10)),$U62/($F62-$E62)*(AO$10-$E62)),\"x\")))","v":"x"},"x","x","x","x","x","x","x","x","x","x","x","x","x","x","x","x","x","x","x","x","x","x","x","x","x","x","x","x","x","x","x",{"$f":"IF(OR($V62=\"Utility\",$AA62=0),\"x\",IF($G62=\"hot\",\"x\",IF(AND(BU$10>$E62,BT$10<$F62),IF(BT$10>$E62,IF(BU$10>$F62,$U62/($F62-$E62)*($F62-BT$10),$U62/($F62-$E62)*(BU$10-BT$10)),$U62/($F62-$E62)*(BU$10-$E62)),\"x\")))","v":"x"},"x","x","x","x","x","x","x","x","x","x","x","x","x","x","x","x","x","x","x","x","x","x","x","x","x","x","x","x","x","x","x",{"$f":"IF(OR($V62=\"Utility\",$AA62=0),\"x\",IF($G62=\"hot\",\"x\",IF(AND(DA$10>$E62,CZ$10<$F62),IF(CZ$10>$E62,IF(DA$10>$F62,$U62/($F62-$E62)*($F62-CZ$10),$U62/($F62-$E62)*(DA$10-CZ$10)),$U62/($F62-$E62)*(DA$10-$E62)),\"x\")))","v":"x"},"x","x","x","x","x","x","x","x","x","x","x","x","x","x","x","x","x","x","x","x","x","x","x","x","x","x","x","x","x","x","x","x","x","x","x","x",null,null,null,0,null,{"$f":"IF(OR($V62=\"Utility\",$AA62=0),\"x\",IF($G62=\"cold\",\"x\",IF(AND(EQ$10>$F62,EP$10<$E62),IF(EP$10>$F62,IF(EQ$10>$E62,$U62/($E62-$F62)*($E62-EP$10),$U62/($E62-$F62)*(EQ$10-EP$10)),$U62/($E62-$F62)*(EQ$10-$F62)),\"x\")))","v":"x"},"x","x","x","x","x","x","x","x","x","x","x","x","x","x","x","x","x","x","x","x","x","x","x","x","x","x","x","x","x","x","x",{"$f":"IF(OR($V62=\"Utility\",$AA62=0),\"x\",IF($G62=\"cold\",\"x\",IF(AND(FW$10>$F62,FV$10<$E62),IF(FV$10>$F62,IF(FW$10>$E62,$U62/($E62-$F62)*($E62-FV$10),$U62/($E62-$F62)*(FW$10-FV$10)),$U62/($E62-$F62)*(FW$10-$F62)),\"x\")))","v":"x"},"x","x","x","x","x","x","x","x","x","x","x","x","x","x","x","x","x","x","x","x","x","x","x","x","x","x","x","x","x","x","x",{"$f":"IF(OR($V62=\"Utility\",$AA62=0),\"x\",IF($G62=\"cold\",\"x\",IF(AND(HC$10>$F62,HB$10<$E62),IF(HB$10>$F62,IF(HC$10>$E62,$U62/($E62-$F62)*($E62-HB$10),$U62/($E62-$F62)*(HC$10-HB$10)),$U62/($E62-$F62)*(HC$10-$F62)),\"x\")))","v":"x"},"x","x","x","x","x","x","x","x","x","x","x","x","x","x","x","x","x","x","x","x","x","x","x","x","x","x","x","x","x","x","x","x","x","x","x","x"]
["",{"$f":"IF(G63=\"hot\",COUNTIF($G$11:G63,\"hot\"),\"\")","v":""},{"$f":"IF(G63=\"cold\",COUNTIF($G$11:G63,\"cold\"),\"\")","v":""},null,null,null,"",null,null,"","","",null,null,null,null,null,null,null,null,"",null,"","","","","",null,null,null,null,null,null,null,null,null,null,null,0,null,{"$f":"IF(OR($V63=\"Utility\",$AA63=0),\"x\",IF($G63=\"hot\",\"x\",IF(AND(AO$10>$E63,AN$10<$F63),IF(AN$10>$E63,IF(AO$10>$F63,$U63/($F63-$E63)*($F63-AN$10),$U63/($F63-$E63)*(AO$10-AN$10)),$U63/($F63-$E63)*(AO$10-$E63)),\"x\")))","v":"x"},"x","x","x","x","x","x","x","x","x","x","x","x","x","x","x","x","x","x","x","x","x","x","x","x","x","x","x","x","x","x","x",{"$f":"IF(OR($V63=\"Utility\",$AA63=0),\"x\",IF($G63=\"hot\",\"x\",IF(AND(BU$10>$E63,BT$10<$F63),IF(BT$10>$E63,IF(BU$10>$F63,$U63/($F63-$E63)*($F63-BT$10),$U63/($F63-$E63)*(BU$10-BT$10)),$U63/($F63-$E63)*(BU$10-$E63)),\"x\")))","v":"x"},"x","x","x","x","x","x","x","x","x","x","x","x","x","x","x","x","x","x","x","x","x","x","x","x","x","x","x","x","x","x","x",{"$f":"IF(OR($V63=\"Utility\",$AA63=0),\"x\",IF($G63=\"hot\",\"x\",IF(AND(DA$10>$E63,CZ$10<$F63),IF(CZ$10>$E63,IF(DA$10>$F63,$U63/($F63-$E63)*($F63-CZ$10),$U63/($F63-$E63)*(DA$10-CZ$10)),$U63/($F63-$E63)*(DA$10-$E63)),\"x\")))","v":"x"},"x","x","x","x","x","x","x","x","x","x","x","x","x","x","x","x","x","x","x","x","x","x","x","x","x","x","x","x","x","x","x","x","x","x","x","x",null,null,null,0,null,{"$f":"IF(OR($V63=\"Utility\",$AA63=0),\"x\",IF($G63=\"cold\",\"x\",IF(AND(EQ$10>$F63,EP$10<$E63),IF(EP$10>$F63,IF(EQ$10>$E63,$U63/($E63-$F63)*($E63-EP$10),$U63/($E63-$F63)*(EQ$10-EP$10)),$U63/($E63-$F63)*(EQ$10-$F63)),\"x\")))","v":"x"},"x","x","x","x","x","x","x","x","x","x","x","x","x","x","x","x","x","x","x","x","x","x","x","x","x","x","x","x","x","x","x",{"$f":"IF(OR($V63=\"Utility\",$AA63=0),\"x\",IF($G63=\"cold\",\"x\",IF(AND(FW$10>$F63,FV$10<$E63),IF(FV$10>$F63,IF(FW$10>$E63,$U63/($E63-$F63)*($E63-FV$10),$U63/($E63-$F63)*(FW$10-FV$10)),$U63/($E63-$F63)*(FW$10-$F63)),\"x\")))","v":"x"},"x","x","x","x","x","x","x","x","x","x","x","x","x","x","x","x","x","x","x","x","x","x","x","x","x","x","x","x","x","x","x",{"$f":"IF(OR($V63=\"Utility\",$AA63=0),\"x\",IF($G63=\"cold\",\"x\",IF(AND(HC$10>$F63,HB$10<$E63),IF(HB$10>$F63,IF(HC$10>$E63,$U63/($E63-$F63)*($E63-HB$10),$U63/($E63-$F63)*(HC$10-HB$10)),$U63/($E63-$F63)*(HC$10-$F63)),\"x\")))","v":"x"},"x","x","x","x","x","x","x","x","x","x","x","x","x","x","x","x","x","x","x","x","x","x","x","x","x","x","x","x","x","x","x","x","x","x","x","x"]
["",{"$f":"IF(G64=\"hot\",COUNTIF($G$11:G64,\"hot\"),\"\")","v":""},{"$f":"IF(G64=\"cold\",COUNTIF($G$11:G64,\"cold\"),\"\")","v":""},null,null,null,"",null,null,"","","",null,null,null,null,null,null,null,null,"",null,"","","","","",null,null,null,null,null,null,null,null,null,null,null,0,null,{"$f":"IF(OR($V64=\"Utility\",$AA64=0),\"x\",IF($G64=\"hot\",\"x\",IF(AND(AO$10>$E64,AN$10<$F64),IF(AN$10>$E64,IF(AO$10>$F64,$U64/($F64-$E64)*($F64-AN$10),$U64/($F64-$E64)*(AO$10-AN$10)),$U64/($F64-$E64)*(AO$10-$E64)),\"x\")))","v":"x"},"x","x","x","x","x","x","x","x","x","x","x","x","x","x","x","x","x","x","x","x","x","x","x","x","x","x","x","x","x","x","x",{"$f":"IF(OR($V64=\"Utility\",$AA64=0),\"x\",IF($G64=\"hot\",\"x\",IF(AND(BU$10>$E64,BT$10<$F64),IF(BT$10>$E64,IF(BU$10>$F64,$U64/($F64-$E64)*($F64-BT$10),$U64/($F64-$E64)*(BU$10-BT$10)),$U64/($F64-$E64)*(BU$10-$E64)),\"x\")))","v":"x"},"x","x","x","x","x","x","x","x","x","x","x","x","x","x","x","x","x","x","x","x","x","x","x","x","x","x","x","x","x","x","x",{"$f":"IF(OR($V64=\"Utility\",$AA64=0),\"x\",IF($G64=\"hot\",\"x\",IF(AND(DA$10>$E64,CZ$10<$F64),IF(CZ$10>$E64,IF(DA$10>$F64,$U64/($F64-$E64)*($F64-CZ$10),$U64/($F64-$E64)*(DA$10-CZ$10)),$U64/($F64-$E64)*(DA$10-$E64)),\"x\")))","v":"x"},"x","x","x","x","x","x","x","x","x","x","x","x","x","x","x","x","x","x","x","x","x","x","x","x","x","x","x","x","x","x","x","x","x","x","x","x",null,null,null,0,null,{"$f":"IF(OR($V64=\"Utility\",$AA64=0),\"x\",IF($G64=\"cold\",\"x\",IF(AND(EQ$10>$F64,EP$10<$E64),IF(EP$10>$F64,IF(EQ$10>$E64,$U64/($E64-$F64)*($E64-EP$10),$U64/($E64-$F64)*(EQ$10-EP$10)),$U64/($E64-$F64)*(EQ$10-$F64)),\"x\")))","v":"x"},"x","x","x","x","x","x","x","x","x","x","x","x","x","x","x","x","x","x","x","x","x","x","x","x","x","x","x","x","x","x","x",{"$f":"IF(OR($V64=\"Utility\",$AA64=0),\"x\",IF($G64=\"cold\",\"x\",IF(AND(FW$10>$F64,FV$10<$E64),IF(FV$10>$F64,IF(FW$10>$E64,$U64/($E64-$F64)*($E64-FV$10),$U64/($E64-$F64)*(FW$10-FV$10)),$U64/($E64-$F64)*(FW$10-$F64)),\"x\")))","v":"x"},"x","x","x","x","x","x","x","x","x","x","x","x","x","x","x","x","x","x","x","x","x","x","x","x","x","x","x","x","x","x","x",{"$f":"IF(OR($V64=\"Utility\",$AA64=0),\"x\",IF($G64=\"cold\",\"x\",IF(AND(HC$10>$F64,HB$10<$E64),IF(HB$10>$F64,IF(HC$10>$E64,$U64/($E64-$F64)*($E64-HB$10),$U64/($E64-$F64)*(HC$10-HB$10)),$U64/($E64-$F64)*(HC$10-$F64)),\"x\")))","v":"x"},"x","x","x","x","x","x","x","x","x","x","x","x","x","x","x","x","x","x","x","x","x","x","x","x","x","x","x","x","x","x","x","x","x","x","x","x"]
["",{"$f":"IF(G65=\"hot\",COUNTIF($G$11:G65,\"hot\"),\"\")","v":""},{"$f":"IF(G65=\"cold\",COUNTIF($G$11:G65,\"cold\"),\"\")","v":""},null,null,null,"",null,null,"","","",null,null,null,null,null,null,null,null,"",null,"","","","","",null,null,null,null,null,null,null,null,null,null,null,0,null,{"$f":"IF(OR($V65=\"Utility\",$AA65=0),\"x\",IF($G65=\"hot\",\"x\",IF(AND(AO$10>$E65,AN$10<$F65),IF(AN$10>$E65,IF(AO$10>$F65,$U65/($F65-$E65)*($F65-AN$10),$U65/($F65-$E65)*(AO$10-AN$10)),$U65/($F65-$E65)*(AO$10-$E65)),\"x\")))","v":"x"},"x","x","x","x","x","x","x","x","x","x","x","x","x","x","x","x","x","x","x","x","x","x","x","x","x","x","x","x","x","x","x",{"$f":"IF(OR($V65=\"Utility\",$AA65=0),\"x\",IF($G65=\"hot\",\"x\",IF(AND(BU$10>$E65,BT$10<$F65),IF(BT$10>$E65,IF(BU$10>$F65,$U65/($F65-$E65)*($F65-BT$10),$U65/($F65-$E65)*(BU$10-BT$10)),$U65/($F65-$E65)*(BU$10-$E65)),\"x\")))","v":"x"},"x","x","x","x","x","x","x","x","x","x","x","x","x","x","x","x","x","x","x","x","x","x","x","x","x","x","x","x","x","x","x",{"$f":"IF(OR($V65=\"Utility\",$AA65=0),\"x\",IF($G65=\"hot\",\"x\",IF(AND(DA$10>$E65,CZ$10<$F65),IF(CZ$10>$E65,IF(DA$10>$F65,$U65/($F65-$E65)*($F65-CZ$10),$U65/($F65-$E65)*(DA$10-CZ$10)),$U65/($F65-$E65)*(DA$10-$E65)),\"x\")))","v":"x"},"x","x","x","x","x","x","x","x","x","x","x","x","x","x","x","x","x","x","x","x","x","x","x","x","x","x","x","x","x","x","x","x","x","x","x","x",null,null,null,0,null,{"$f":"IF(OR($V65=\"Utility\",$AA65=0),\"x\",IF($G65=\"cold\",\"x\",IF(AND(EQ$10>$F65,EP$10<$E65),IF(EP$10>$F65,IF(EQ$10>$E65,$U65/($E65-$F65)*($E65-EP$10),$U65/($E65-$F65)*(EQ$10-EP$10)),$U65/($E65-$F65)*(EQ$10-$F65)),\"x\")))","v":"x"},"x","x","x","x","x","x","x","x","x","x","x","x","x","x","x","x","x","x","x","x","x","x","x","x","x","x","x","x","x","x","x",{"$f":"IF(OR($V65=\"Utility\",$AA65=0),\"x\",IF($G65=\"cold\",\"x\",IF(AND(FW$10>$F65,FV$10<$E65),IF(FV$10>$F65,IF(FW$10>$E65,$U65/($E65-$F65)*($E65-FV$10),$U65/($E65-$F65)*(FW$10-FV$10)),$U65/($E65-$F65)*(FW$10-$F65)),\"x\")))","v":"x"},"x","x","x","x","x","x","x","x","x","x","x","x","x","x","x","x","x","x","x","x","x","x","x","x","x","x","x","x","x","x","x",{"$f":"IF(OR($V65=\"Utility\",$AA65=0),\"x\",IF($G65=\"cold\",\"x\",IF(AND(HC$10>$F65,HB$10<$E65),IF(HB$10>$F65,IF(HC$10>$E65,$U65/($E65-$F65)*($E65-HB$10),$U65/($E65-$F65)*(HC$10-HB$10)),$U65/($E65-$F65)*(HC$10-$F65)),\"x\")))","v":"x"},"x","x","x","x","x","x","x","x","x","x","x","x","x","x","x","x","x","x","x","x","x","x","x","x","x","x","x","x","x","x","x","x","x","x","x","x"]
["",{"$f":"IF(G66=\"hot\",COUNTIF($G$11:G66,\"hot\"),\"\")","v":""},{"$f":"IF(G66=\"cold\",COUNTIF($G$11:G66,\"cold\"),\"\")","v":""},null,null,null,"",null,null,"","","",null,null,null,null,null,null,null,null,"",null,"","","","","",null,null,null,null,null,null,null,null,null,null,null,0,null,{"$f":"IF(OR($V66=\"Utility\",$AA66=0),\"x\",IF($G66=\"hot\",\"x\",IF(AND(AO$10>$E66,AN$10<$F66),IF(AN$10>$E66,IF(AO$10>$F66,$U66/($F66-$E66)*($F66-AN$10),$U66/($F66-$E66)*(AO$10-AN$10)),$U66/($F66-$E66)*(AO$10-$E66)),\"x\")))","v":"x"},"x","x","x","x","x","x","x","x","x","x","x","x","x","x","x","x","x","x","x","x","x","x","x","x","x","x","x","x","x","x","x",{"$f":"IF(OR($V66=\"Utility\",$AA66=0),\"x\",IF($G66=\"hot\",\"x\",IF(AND(BU$10>$E66,BT$10<$F66),IF(BT$10>$E66,IF(BU$10>$F66,$U66/($F66-$E66)*($F66-BT$10),$U66/($F66-$E66)*(BU$10-BT$10)),$U66/($F66-$E66)*(BU$10-$E66)),\"x\")))","v":"x"},"x","x","x","x","x","x","x","x","x","x","x","x","x","x","x","x","x","x","x","x","x","x","x","x","x","x","x","x","x","x","x",{"$f":"IF(OR($V66=\"Utility\",$AA66=0),\"x\",IF($G66=\"hot\",\"x\",IF(AND(DA$10>$E66,CZ$10<$F66),IF(CZ$10>$E66,IF(DA$10>$F66,$U66/($F66-$E66)*($F66-CZ$10),$U66/($F66-$E66)*(DA$10-CZ$10)),$U66/($F66-$E66)*(DA$10-$E66)),\"x\")))","v":"x"},"x","x","x","x","x","x","x","x","x","x","x","x","x","x","x","x","x","x","x","x","x","x","x","x","x","x","x","x","x","x","x","x","x","x","x","x",null,null,null,0,null,{"$f":"IF(OR($V66=\"Utility\",$AA66=0),\"x\",IF($G66=\"cold\",\"x\",IF(AND(EQ$10>$F66,EP$10<$E66),IF(EP$10>$F66,IF(EQ$10>$E66,$U66/($E66-$F66)*($E66-EP$10),$U66/($E66-$F66)*(EQ$10-EP$10)),$U66/($E66-$F66)*(EQ$10-$F66)),\"x\")))","v":"x"},"x","x","x","x","x","x","x","x","x","x","x","x","x","x","x","x","x","x","x","x","x","x","x","x","x","x","x","x","x","x","x",{"$f":"IF(OR($V66=\"Utility\",$AA66=0),\"x\",IF($G66=\"cold\",\"x\",IF(AND(FW$10>$F66,FV$10<$E66),IF(FV$10>$F66,IF(FW$10>$E66,$U66/($E66-$F66)*($E66-FV$10),$U66/($E66-$F66)*(FW$10-FV$10)),$U66/($E66-$F66)*(FW$10-$F66)),\"x\")))","v":"x"},"x","x","x","x","x","x","x","x","x","x","x","x","x","x","x","x","x","x","x","x","x","x","x","x","x","x","x","x","x","x","x",{"$f":"IF(OR($V66=\"Utility\",$AA66=0),\"x\",IF($G66=\"cold\",\"x\",IF(AND(HC$10>$F66,HB$10<$E66),IF(HB$10>$F66,IF(HC$10>$E66,$U66/($E66-$F66)*($E66-HB$10),$U66/($E66-$F66)*(HC$10-HB$10)),$U66/($E66-$F66)*(HC$10-$F66)),\"x\")))","v":"x"},"x","x","x","x","x","x","x","x","x","x","x","x","x","x","x","x","x","x","x","x","x","x","x","x","x","x","x","x","x","x","x","x","x","x","x","x"]
["",{"$f":"IF(G67=\"hot\",COUNTIF($G$11:G67,\"hot\"),\"\")","v":""},{"$f":"IF(G67=\"cold\",COUNTIF($G$11:G67,\"cold\"),\"\")","v":""},null,null,null,"",null,null,"","","",null,null,null,null,null,null,null,null,"",null,"","","","","",null,null,null,null,null,null,null,null,null,null,null,0,null,{"$f":"IF(OR($V67=\"Utility\",$AA67=0),\"x\",IF($G67=\"hot\",\"x\",IF(AND(AO$10>$E67,AN$10<$F67),IF(AN$10>$E67,IF(AO$10>$F67,$U67/($F67-$E67)*($F67-AN$10),$U67/($F67-$E67)*(AO$10-AN$10)),$U67/($F67-$E67)*(AO$10-$E67)),\"x\")))","v":"x"},"x","x","x","x","x","x","x","x","x","x","x","x","x","x","x","x","x","x","x","x","x","x","x","x","x","x","x","x","x","x","x",{"$f":"IF(OR($V67=\"Utility\",$AA67=0),\"x\",IF($G67=\"hot\",\"x\",IF(AND(BU$10>$E67,BT$10<$F67),IF(BT$10>$E67,IF(BU$10>$F67,$U67/($F67-$E67)*($F67-BT$10),$U67/($F67-$E67)*(BU$10-BT$10)),$U67/($F67-$E67)*(BU$10-$E67)),\"x\")))","v":"x"},"x","x","x","x","x","x","x","x","x","x","x","x","x","x","x","x","x","x","x","x","x","x","x","x","x","x","x","x","x","x","x",{"$f":"IF(OR($V67=\"Utility\",$AA67=0),\"x\",IF($G67=\"hot\",\"x\",IF(AND(DA$10>$E67,CZ$10<$F67),IF(CZ$10>$E67,IF(DA$10>$F67,$U67/($F67-$E67)*($F67-CZ$10),$U67/($F67-$E67)*(DA$10-CZ$10)),$U67/($F67-$E67)*(DA$10-$E67)),\"x\")))","v":"x"},"x","x","x","x","x","x","x","x","x","x","x","x","x","x","x","x","x","x","x","x","x","x","x","x","x","x","x","x","x","x","x","x","x","x","x","x",null,null,null,0,null,{"$f":"IF(OR($V67=\"Utility\",$AA67=0),\"x\",IF($G67=\"cold\",\"x\",IF(AND(EQ$10>$F67,EP$10<$E67),IF(EP$10>$F67,IF(EQ$10>$E67,$U67/($E67-$F67)*($E67-EP$10),$U67/($E67-$F67)*(EQ$10-EP$10)),$U67/($E67-$F67)*(EQ$10-$F67)),\"x\")))","v":"x"},"x","x","x","x","x","x","x","x","x","x","x","x","x","x","x","x","x","x","x","x","x","x","x","x","x","x","x","x","x","x","x",{"$f":"IF(OR($V67=\"Utility\",$AA67=0),\"x\",IF($G67=\"cold\",\"x\",IF(AND(FW$10>$F67,FV$10<$E67),IF(FV$10>$F67,IF(FW$10>$E67,$U67/($E67-$F67)*($E67-FV$10),$U67/($E67-$F67)*(FW$10-FV$10)),$U67/($E67-$F67)*(FW$10-$F67)),\"x\")))","v":"x"},"x","x","x","x","x","x","x","x","x","x","x","x","x","x","x","x","x","x","x","x","x","x","x","x","x","x","x","x","x","x","x",{"$f":"IF(OR($V67=\"Utility\",$AA67=0),\"x\",IF($G67=\"cold\",\"x\",IF(AND(HC$10>$F67,HB$10<$E67),IF(HB$10>$F67,IF(HC$10>$E67,$U67/($E67-$F67)*($E67-HB$10),$U67/($E67-$F67)*(HC$10-HB$10)),$U67/($E67-$F67)*(HC$10-$F67)),\"x\")))","v":"x"},"x","x","x","x","x","x","x","x","x","x","x","x","x","x","x","x","x","x","x","x","x","x","x","x","x","x","x","x","x","x","x","x","x","x","x","x"]
["",{"$f":"IF(G68=\"hot\",COUNTIF($G$11:G68,\"hot\"),\"\")","v":""},{"$f":"IF(G68=\"cold\",COUNTIF($G$11:G68,\"cold\"),\"\")","v":""},null,null,null,"",null,null,"","","",null,null,null,null,null,null,null,null,"",null,"","","","","",null,null,null,null,null,null,null,null,null,null,null,0,null,{"$f":"IF(OR($V68=\"Utility\",$AA68=0),\"x\",IF($G68=\"hot\",\"x\",IF(AND(AO$10>$E68,AN$10<$F68),IF(AN$10>$E68,IF(AO$10>$F68,$U68/($F68-$E68)*($F68-AN$10),$U68/($F68-$E68)*(AO$10-AN$10)),$U68/($F68-$E68)*(AO$10-$E68)),\"x\")))","v":"x"},"x","x","x","x","x","x","x","x","x","x","x","x","x","x","x","x","x","x","x","x","x","x","x","x","x","x","x","x","x","x","x",{"$f":"IF(OR($V68=\"Utility\",$AA68=0),\"x\",IF($G68=\"hot\",\"x\",IF(AND(BU$10>$E68,BT$10<$F68),IF(BT$10>$E68,IF(BU$10>$F68,$U68/($F68-$E68)*($F68-BT$10),$U68/($F68-$E68)*(BU$10-BT$10)),$U68/($F68-$E68)*(BU$10-$E68)),\"x\")))","v":"x"},"x","x","x","x","x","x","x","x","x","x","x","x","x","x","x","x","x","x","x","x","x","x","x","x","x","x","x","x","x","x","x",{"$f":"IF(OR($V68=\"Utility\",$AA68=0),\"x\",IF($G68=\"hot\",\"x\",IF(AND(DA$10>$E68,CZ$10<$F68),IF(CZ$10>$E68,IF(DA$10>$F68,$U68/($F68-$E68)*($F68-CZ$10),$U68/($F68-$E68)*(DA$10-CZ$10)),$U68/($F68-$E68)*(DA$10-$E68)),\"x\")))","v":"x"},"x","x","x","x","x","x","x","x","x","x","x","x","x","x","x","x","x","x","x","x","x","x","x","x","x","x","x","x","x","x","x","x","x","x","x","x",null,null,null,0,null,{"$f":"IF(OR($V68=\"Utility\",$AA68=0),\"x\",IF($G68=\"cold\",\"x\",IF(AND(EQ$10>$F68,EP$10<$E68),IF(EP$10>$F68,IF(EQ$10>$E68,$U68/($E68-$F68)*($E68-EP$10),$U68/($E68-$F68)*(EQ$10-EP$10)),$U68/($E68-$F68)*(EQ$10-$F68)),\"x\")))","v":"x"},"x","x","x","x","x","x","x","x","x","x","x","x","x","x","x","x","x","x","x","x","x","x","x","x","x","x","x","x","x","x","x",{"$f":"IF(OR($V68=\"Utility\",$AA68=0),\"x\",IF($G68=\"cold\",\"x\",IF(AND(FW$10>$F68,FV$10<$E68),IF(FV$10>$F68,IF(FW$10>$E68,$U68/($E68-$F68)*($E68-FV$10),$U68/($E68-$F68)*(FW$10-FV$10)),$U68/($E68-$F68)*(FW$10-$F68)),\"x\")))","v":"x"},"x","x","x","x","x","x","x","x","x","x","x","x","x","x","x","x","x","x","x","x","x","x","x","x","x","x","x","x","x","x","x",{"$f":"IF(OR($V68=\"Utility\",$AA68=0),\"x\",IF($G68=\"cold\",\"x\",IF(AND(HC$10>$F68,HB$10<$E68),IF(HB$10>$F68,IF(HC$10>$E68,$U68/($E68-$F68)*($E68-HB$10),$U68/($E68-$F68)*(HC$10-HB$10)),$U68/($E68-$F68)*(HC$10-$F68)),\"x\")))","v":"x"},"x","x","x","x","x","x","x","x","x","x","x","x","x","x","x","x","x","x","x","x","x","x","x","x","x","x","x","x","x","x","x","x","x","x","x","x"]
["",{"$f":"IF(G69=\"hot\",COUNTIF($G$11:G69,\"hot\"),\"\")","v":""},{"$f":"IF(G69=\"cold\",COUNTIF($G$11:G69,\"cold\"),\"\")","v":""},null,null,null,"",null,null,"","","",null,null,null,null,null,null,null,null,"",null,"","","","","",null,null,null,null,null,null,null,null,null,null,null,0,null,{"$f":"IF(OR($V69=\"Utility\",$AA69=0),\"x\",IF($G69=\"hot\",\"x\",IF(AND(AO$10>$E69,AN$10<$F69),IF(AN$10>$E69,IF(AO$10>$F69,$U69/($F69-$E69)*($F69-AN$10),$U69/($F69-$E69)*(AO$10-AN$10)),$U69/($F69-$E69)*(AO$10-$E69)),\"x\")))","v":"x"},"x","x","x","x","x","x","x","x","x","x","x","x","x","x","x","x","x","x","x","x","x","x","x","x","x","x","x","x","x","x","x",{"$f":"IF(OR($V69=\"Utility\",$AA69=0),\"x\",IF($G69=\"hot\",\"x\",IF(AND(BU$10>$E69,BT$10<$F69),IF(BT$10>$E69,IF(BU$10>$F69,$U69/($F69-$E69)*($F69-BT$10),$U69/($F69-$E69)*(BU$10-BT$10)),$U69/($F69-$E69)*(BU$10-$E69)),\"x\")))","v":"x"},"x","x","x","x","x","x","x","x","x","x","x","x","x","x","x","x","x","x","x","x","x","x","x","x","x","x","x","x","x","x","x",{"$f":"IF(OR($V69=\"Utility\",$AA69=0),\"x\",IF($G69=\"hot\",\"x\",IF(AND(DA$10>$E69,CZ$10<$F69),IF(CZ$10>$E69,IF(DA$10>$F69,$U69/($F69-$E69)*($F69-CZ$10),$U69/($F69-$E69)*(DA$10-CZ$10)),$U69/($F69-$E69)*(DA$10-$E69)),\"x\")))","v":"x"},"x","x","x","x","x","x","x","x","x","x","x","x","x","x","x","x","x","x","x","x","x","x","x","x","x","x","x","x","x","x","x","x","x","x","x","x",null,null,null,0,null,{"$f":"IF(OR($V69=\"Utility\",$AA69=0),\"x\",IF($G69=\"cold\",\"x\",IF(AND(EQ$10>$F69,EP$10<$E69),IF(EP$10>$F69,IF(EQ$10>$E69,$U69/($E69-$F69)*($E69-EP$10),$U69/($E69-$F69)*(EQ$10-EP$10)),$U69/($E69-$F69)*(EQ$10-$F69)),\"x\")))","v":"x"},"x","x","x","x","x","x","x","x","x","x","x","x","x","x","x","x","x","x","x","x","x","x","x","x","x","x","x","x","x","x","x",{"$f":"IF(OR($V69=\"Utility\",$AA69=0),\"x\",IF($G69=\"cold\",\"x\",IF(AND(FW$10>$F69,FV$10<$E69),IF(FV$10>$F69,IF(FW$10>$E69,$U69/($E69-$F69)*($E69-FV$10),$U69/($E69-$F69)*(FW$10-FV$10)),$U69/($E69-$F69)*(FW$10-$F69)),\"x\")))","v":"x"},"x","x","x","x","x","x","x","x","x","x","x","x","x","x","x","x","x","x","x","x","x","x","x","x","x","x","x","x","x","x","x",{"$f":"IF(OR($V69=\"Utility\",$AA69=0),\"x\",IF($G69=\"cold\",\"x\",IF(AND(HC$10>$F69,HB$10<$E69),IF(HB$10>$F69,IF(HC$10>$E69,$U69/($E69-$F69)*($E69-HB$10),$U69/($E69-$F69)*(HC$10-HB$10)),$U69/($E69-$F69)*(HC$10-$F69)),\"x\")))","v":"x"},"x","x","x","x","x","x","x","x","x","x","x","x","x","x","x","x","x","x","x","x","x","x","x","x","x","x","x","x","x","x","x","x","x","x","x","x"]
["",{"$f":"IF(G70=\"hot\",COUNTIF($G$11:G70,\"hot\"),\"\")","v":""},{"$f":"IF(G70=\"cold\",COUNTIF($G$11:G70,\"cold\"),\"\")","v":""},null,null,null,"",null,null,"","","",null,null,null,null,null,null,null,null,"",null,"","","","","",null,null,null,null,null,null,null,null,null,null,null,0,null,{"$f":"IF(OR($V70=\"Utility\",$AA70=0),\"x\",IF($G70=\"hot\",\"x\",IF(AND(AO$10>$E70,AN$10<$F70),IF(AN$10>$E70,IF(AO$10>$F70,$U70/($F70-$E70)*($F70-AN$10),$U70/($F70-$E70)*(AO$10-AN$10)),$U70/($F70-$E70)*(AO$10-$E70)),\"x\")))","v":"x"},"x","x","x","x","x","x","x","x","x","x","x","x","x","x","x","x","x","x","x","x","x","x","x","x","x","x","x","x","x","x","x",{"$f":"IF(OR($V70=\"Utility\",$AA70=0),\"x\",IF($G70=\"hot\",\"x\",IF(AND(BU$10>$E70,BT$10<$F70),IF(BT$10>$E70,IF(BU$10>$F70,$U70/($F70-$E70)*($F70-BT$10),$U70/($F70-$E70)*(BU$10-BT$10)),$U70/($F70-$E70)*(BU$10-$E70)),\"x\")))","v":"x"},"x","x","x","x","x","x","x","x","x","x","x","x","x","x","x","x","x","x","x","x","x","x","x","x","x","x","x","x","x","x","x",{"$f":"IF(OR($V70=\"Utility\",$AA70=0),\"x\",IF($G70=\"hot\",\"x\",IF(AND(DA$10>$E70,CZ$10<$F70),IF(CZ$10>$E70,IF(DA$10>$F70,$U70/($F70-$E70)*($F70-CZ$10),$U70/($F70-$E70)*(DA$10-CZ$10)),$U70/($F70-$E70)*(DA$10-$E70)),\"x\")))","v":"x"},"x","x","x","x","x","x","x","x","x","x","x","x","x","x","x","x","x","x","x","x","x","x","x","x","x","x","x","x","x","x","x","x","x","x","x","x",null,null,null,0,null,{"$f":"IF(OR($V70=\"Utility\",$AA70=0),\"x\",IF($G70=\"cold\",\"x\",IF(AND(EQ$10>$F70,EP$10<$E70),IF(EP$10>$F70,IF(EQ$10>$E70,$U70/($E70-$F70)*($E70-EP$10),$U70/($E70-$F70)*(EQ$10-EP$10)),$U70/($E70-$F70)*(EQ$10-$F70)),\"x\")))","v":"x"},"x","x","x","x","x","x","x","x","x","x","x","x","x","x","x","x","x","x","x","x","x","x","x","x","x","x","x","x","x","x","x",{"$f":"IF(OR($V70=\"Utility\",$AA70=0),\"x\",IF($G70=\"cold\",\"x\",IF(AND(FW$10>$F70,FV$10<$E70),IF(FV$10>$F70,IF(FW$10>$E70,$U70/($E70-$F70)*($E70-FV$10),$U70/($E70-$F70)*(FW$10-FV$10)),$U70/($E70-$F70)*(FW$10-$F70)),\"x\")))","v":"x"},"x","x","x","x","x","x","x","x","x","x","x","x","x","x","x","x","x","x","x","x","x","x","x","x","x","x","x","x","x","x","x",{"$f":"IF(OR($V70=\"Utility\",$AA70=0),\"x\",IF($G70=\"cold\",\"x\",IF(AND(HC$10>$F70,HB$10<$E70),IF(HB$10>$F70,IF(HC$10>$E70,$U70/($E70-$F70)*($E70-HB$10),$U70/($E70-$F70)*(HC$10-HB$10)),$U70/($E70-$F70)*(HC$10-$F70)),\"x\")))","v":"x"},"x","x","x","x","x","x","x","x","x","x","x","x","x","x","x","x","x","x","x","x","x","x","x","x","x","x","x","x","x","x","x","x","x","x","x","x"]
["",{"$f":"IF(G71=\"hot\",COUNTIF($G$11:G71,\"hot\"),\"\")","v":""},{"$f":"IF(G71=\"cold\",COUNTIF($G$11:G71,\"cold\"),\"\")","v":""},null,null,null,"",null,null,"","","",null,null,null,null,null,null,null,null,"",null,"","","","","",null,null,null,null,null,null,null,null,null,null,null,0,null,{"$f":"IF(OR($V71=\"Utility\",$AA71=0),\"x\",IF($G71=\"hot\",\"x\",IF(AND(AO$10>$E71,AN$10<$F71),IF(AN$10>$E71,IF(AO$10>$F71,$U71/($F71-$E71)*($F71-AN$10),$U71/($F71-$E71)*(AO$10-AN$10)),$U71/($F71-$E71)*(AO$10-$E71)),\"x\")))","v":"x"},"x","x","x","x","x","x","x","x","x","x","x","x","x","x","x","x","x","x","x","x","x","x","x","x","x","x","x","x","x","x","x",{"$f":"IF(OR($V71=\"Utility\",$AA71=0),\"x\",IF($G71=\"hot\",\"x\",IF(AND(BU$10>$E71,BT$10<$F71),IF(BT$10>$E71,IF(BU$10>$F71,$U71/($F71-$E71)*($F71-BT$10),$U71/($F71-$E71)*(BU$10-BT$10)),$U71/($F71-$E71)*(BU$10-$E71)),\"x\")))","v":"x"},"x","x","x","x","x","x","x","x","x","x","x","x","x","x","x","x","x","x","x","x","x","x","x","x","x","x","x","x","x","x","x",{"$f":"IF(OR($V71=\"Utility\",$AA71=0),\"x\",IF($G71=\"hot\",\"x\",IF(AND(DA$10>$E71,CZ$10<$F71),IF(CZ$10>$E71,IF(DA$10>$F71,$U71/($F71-$E71)*($F71-CZ$10),$U71/($F71-$E71)*(DA$10-CZ$10)),$U71/($F71-$E71)*(DA$10-$E71)),\"x\")))","v":"x"},"x","x","x","x","x","x","x","x","x","x","x","x","x","x","x","x","x","x","x","x","x","x","x","x","x","x","x","x","x","x","x","x","x","x","x","x",null,null,null,0,null,{"$f":"IF(OR($V71=\"Utility\",$AA71=0),\"x\",IF($G71=\"cold\",\"x\",IF(AND(EQ$10>$F71,EP$10<$E71),IF(EP$10>$F71,IF(EQ$10>$E71,$U71/($E71-$F71)*($E71-EP$10),$U71/($E71-$F71)*(EQ$10-EP$10)),$U71/($E71-$F71)*(EQ$10-$F71)),\"x\")))","v":"x"},"x","x","x","x","x","x","x","x","x","x","x","x","x","x","x","x","x","x","x","x","x","x","x","x","x","x","x","x","x","x","x",{"$f":"IF(OR($V71=\"Utility\",$AA71=0),\"x\",IF($G71=\"cold\",\"x\",IF(AND(FW$10>$F71,FV$10<$E71),IF(FV$10>$F71,IF(FW$10>$E71,$U71/($E71-$F71)*($E71-FV$10),$U71/($E71-$F71)*(FW$10-FV$10)),$U71/($E71-$F71)*(FW$10-$F71)),\"x\")))","v":"x"},"x","x","x","x","x","x","x","x","x","x","x","x","x","x","x","x","x","x","x","x","x","x","x","x","x","x","x","x","x","x","x",{"$f":"IF(OR($V71=\"Utility\",$AA71=0),\"x\",IF($G71=\"cold\",\"x\",IF(AND(HC$10>$F71,HB$10<$E71),IF(HB$10>$F71,IF(HC$10>$E71,$U71/($E71-$F71)*($E71-HB$10),$U71/($E71-$F71)*(HC$10-HB$10)),$U71/($E71-$F71)*(HC$10-$F71)),\"x\")))","v":"x"},"x","x","x","x","x","x","x","x","x","x","x","x","x","x","x","x","x","x","x","x","x","x","x","x","x","x","x","x","x","x","x","x","x","x","x","x"]
["",{"$f":"IF(G72=\"hot\",COUNTIF($G$11:G72,\"hot\"),\"\")","v":""},{"$f":"IF(G72=\"cold\",COUNTIF($G$11:G72,\"cold\"),\"\")","v":""},null,null,null,"",null,null,"","","",null,null,null,null,null,null,null,null,"",null,"","","","","",null,null,null,null,null,null,null,null,null,null,null,0,null,{"$f":"IF(OR($V72=\"Utility\",$AA72=0),\"x\",IF($G72=\"hot\",\"x\",IF(AND(AO$10>$E72,AN$10<$F72),IF(AN$10>$E72,IF(AO$10>$F72,$U72/($F72-$E72)*($F72-AN$10),$U72/($F72-$E72)*(AO$10-AN$10)),$U72/($F72-$E72)*(AO$10-$E72)),\"x\")))","v":"x"},"x","x","x","x","x","x","x","x","x","x","x","x","x","x","x","x","x","x","x","x","x","x","x","x","x","x","x","x","x","x","x",{"$f":"IF(OR($V72=\"Utility\",$AA72=0),\"x\",IF($G72=\"hot\",\"x\",IF(AND(BU$10>$E72,BT$10<$F72),IF(BT$10>$E72,IF(BU$10>$F72,$U72/($F72-$E72)*($F72-BT$10),$U72/($F72-$E72)*(BU$10-BT$10)),$U72/($F72-$E72)*(BU$10-$E72)),\"x\")))","v":"x"},"x","x","x","x","x","x","x","x","x","x","x","x","x","x","x","x","x","x","x","x","x","x","x","x","x","x","x","x","x","x","x",{"$f":"IF(OR($V72=\"Utility\",$AA72=0),\"x\",IF($G72=\"hot\",\"x\",IF(AND(DA$10>$E72,CZ$10<$F72),IF(CZ$10>$E72,IF(DA$10>$F72,$U72/($F72-$E72)*($F72-CZ$10),$U72/($F72-$E72)*(DA$10-CZ$10)),$U72/($F72-$E72)*(DA$10-$E72)),\"x\")))","v":"x"},"x","x","x","x","x","x","x","x","x","x","x","x","x","x","x","x","x","x","x","x","x","x","x","x","x","x","x","x","x","x","x","x","x","x","x","x",null,null,null,0,null,{"$f":"IF(OR($V72=\"Utility\",$AA72=0),\"x\",IF($G72=\"cold\",\"x\",IF(AND(EQ$10>$F72,EP$10<$E72),IF(EP$10>$F72,IF(EQ$10>$E72,$U72/($E72-$F72)*($E72-EP$10),$U72/($E72-$F72)*(EQ$10-EP$10)),$U72/($E72-$F72)*(EQ$10-$F72)),\"x\")))","v":"x"},"x","x","x","x","x","x","x","x","x","x","x","x","x","x","x","x","x","x","x","x","x","x","x","x","x","x","x","x","x","x","x",{"$f":"IF(OR($V72=\"Utility\",$AA72=0),\"x\",IF($G72=\"cold\",\"x\",IF(AND(FW$10>$F72,FV$10<$E72),IF(FV$10>$F72,IF(FW$10>$E72,$U72/($E72-$F72)*($E72-FV$10),$U72/($E72-$F72)*(FW$10-FV$10)),$U72/($E72-$F72)*(FW$10-$F72)),\"x\")))","v":"x"},"x","x","x","x","x","x","x","x","x","x","x","x","x","x","x","x","x","x","x","x","x","x","x","x","x","x","x","x","x","x","x",{"$f":"IF(OR($V72=\"Utility\",$AA72=0),\"x\",IF($G72=\"cold\",\"x\",IF(AND(HC$10>$F72,HB$10<$E72),IF(HB$10>$F72,IF(HC$10>$E72,$U72/($E72-$F72)*($E72-HB$10),$U72/($E72-$F72)*(HC$10-HB$10)),$U72/($E72-$F72)*(HC$10-$F72)),\"x\")))","v":"x"},"x","x","x","x","x","x","x","x","x","x","x","x","x","x","x","x","x","x","x","x","x","x","x","x","x","x","x","x","x","x","x","x","x","x","x","x"]
["",{"$f":"IF(G73=\"hot\",COUNTIF($G$11:G73,\"hot\"),\"\")","v":""},{"$f":"IF(G73=\"cold\",COUNTIF($G$11:G73,\"cold\"),\"\")","v":""},null,null,null,"",null,null,"","","",null,null,null,null,null,null,null,null,"",null,"","","","","",null,null,null,null,null,null,null,null,null,null,null,0,null,{"$f":"IF(OR($V73=\"Utility\",$AA73=0),\"x\",IF($G73=\"hot\",\"x\",IF(AND(AO$10>$E73,AN$10<$F73),IF(AN$10>$E73,IF(AO$10>$F73,$U73/($F73-$E73)*($F73-AN$10),$U73/($F73-$E73)*(AO$10-AN$10)),$U73/($F73-$E73)*(AO$10-$E73)),\"x\")))","v":"x"},"x","x","x","x","x","x","x","x","x","x","x","x","x","x","x","x","x","x","x","x","x","x","x","x","x","x","x","x","x","x","x",{"$f":"IF(OR($V73=\"Utility\",$AA73=0),\"x\",IF($G73=\"hot\",\"x\",IF(AND(BU$10>$E73,BT$10<$F73),IF(BT$10>$E73,IF(BU$10>$F73,$U73/($F73-$E73)*($F73-BT$10),$U73/($F73-$E73)*(BU$10-BT$10)),$U73/($F73-$E73)*(BU$10-$E73)),\"x\")))","v":"x"},"x","x","x","x","x","x","x","x","x","x","x","x","x","x","x","x","x","x","x","x","x","x","x","x","x","x","x","x","x","x","x",{"$f":"IF(OR($V73=\"Utility\",$AA73=0),\"x\",IF($G73=\"hot\",\"x\",IF(AND(DA$10>$E73,CZ$10<$F73),IF(CZ$10>$E73,IF(DA$10>$F73,$U73/($F73-$E73)*($F73-CZ$10),$U73/($F73-$E73)*(DA$10-CZ$10)),$U73/($F73-$E73)*(DA$10-$E73)),\"x\")))","v":"x"},"x","x","x","x","x","x","x","x","x","x","x","x","x","x","x","x","x","x","x","x","x","x","x","x","x","x","x","x","x","x","x","x","x","x","x","x",null,null,null,0,null,{"$f":"IF(OR($V73=\"Utility\",$AA73=0),\"x\",IF($G73=\"cold\",\"x\",IF(AND(EQ$10>$F73,EP$10<$E73),IF(EP$10>$F73,IF(EQ$10>$E73,$U73/($E73-$F73)*($E73-EP$10),$U73/($E73-$F73)*(EQ$10-EP$10)),$U73/($E73-$F73)*(EQ$10-$F73)),\"x\")))","v":"x"},"x","x","x","x","x","x","x","x","x","x","x","x","x","x","x","x","x","x","x","x","x","x","x","x","x","x","x","x","x","x","x",{"$f":"IF(OR($V73=\"Utility\",$AA73=0),\"x\",IF($G73=\"cold\",\"x\",IF(AND(FW$10>$F73,FV$10<$E73),IF(FV$10>$F73,IF(FW$10>$E73,$U73/($E73-$F73)*($E73-FV$10),$U73/($E73-$F73)*(FW$10-FV$10)),$U73/($E73-$F73)*(FW$10-$F73)),\"x\")))","v":"x"},"x","x","x","x","x","x","x","x","x","x","x","x","x","x","x","x","x","x","x","x","x","x","x","x","x","x","x","x","x","x","x",{"$f":"IF(OR($V73=\"Utility\",$AA73=0),\"x\",IF($G73=\"cold\",\"x\",IF(AND(HC$10>$F73,HB$10<$E73),IF(HB$10>$F73,IF(HC$10>$E73,$U73/($E73-$F73)*($E73-HB$10),$U73/($E73-$F73)*(HC$10-HB$10)),$U73/($E73-$F73)*(HC$10-$F73)),\"x\")))","v":"x"},"x","x","x","x","x","x","x","x","x","x","x","x","x","x","x","x","x","x","x","x","x","x","x","x","x","x","x","x","x","x","x","x","x","x","x","x"]
["",{"$f":"IF(G74=\"hot\",COUNTIF($G$11:G74,\"hot\"),\"\")","v":""},{"$f":"IF(G74=\"cold\",COUNTIF($G$11:G74,\"cold\"),\"\")","v":""},null,null,null,"",null,null,"","","",null,null,null,null,null,null,null,null,"",null,"","","","","",null,null,null,null,null,null,null,null,null,null,null,0,null,{"$f":"IF(OR($V74=\"Utility\",$AA74=0),\"x\",IF($G74=\"hot\",\"x\",IF(AND(AO$10>$E74,AN$10<$F74),IF(AN$10>$E74,IF(AO$10>$F74,$U74/($F74-$E74)*($F74-AN$10),$U74/($F74-$E74)*(AO$10-AN$10)),$U74/($F74-$E74)*(AO$10-$E74)),\"x\")))","v":"x"},"x","x","x","x","x","x","x","x","x","x","x","x","x","x","x","x","x","x","x","x","x","x","x","x","x","x","x","x","x","x","x",{"$f":"IF(OR($V74=\"Utility\",$AA74=0),\"x\",IF($G74=\"hot\",\"x\",IF(AND(BU$10>$E74,BT$10<$F74),IF(BT$10>$E74,IF(BU$10>$F74,$U74/($F74-$E74)*($F74-BT$10),$U74/($F74-$E74)*(BU$10-BT$10)),$U74/($F74-$E74)*(BU$10-$E74)),\"x\")))","v":"x"},"x","x","x","x","x","x","x","x","x","x","x","x","x","x","x","x","x","x","x","x","x","x","x","x","x","x","x","x","x","x","x",{"$f":"IF(OR($V74=\"Utility\",$AA74=0),\"x\",IF($G74=\"hot\",\"x\",IF(AND(DA$10>$E74,CZ$10<$F74),IF(CZ$10>$E74,IF(DA$10>$F74,$U74/($F74-$E74)*($F74-CZ$10),$U74/($F74-$E74)*(DA$10-CZ$10)),$U74/($F74-$E74)*(DA$10-$E74)),\"x\")))","v":"x"},"x","x","x","x","x","x","x","x","x","x","x","x","x","x","x","x","x","x","x","x","x","x","x","x","x","x","x","x","x","x","x","x","x","x","x","x",null,null,null,0,null,{"$f":"IF(OR($V74=\"Utility\",$AA74=0),\"x\",IF($G74=\"cold\",\"x\",IF(AND(EQ$10>$F74,EP$10<$E74),IF(EP$10>$F74,IF(EQ$10>$E74,$U74/($E74-$F74)*($E74-EP$10),$U74/($E74-$F74)*(EQ$10-EP$10)),$U74/($E74-$F74)*(EQ$10-$F74)),\"x\")))","v":"x"},"x","x","x","x","x","x","x","x","x","x","x","x","x","x","x","x","x","x","x","x","x","x","x","x","x","x","x","x","x","x","x",{"$f":"IF(OR($V74=\"Utility\",$AA74=0),\"x\",IF($G74=\"cold\",\"x\",IF(AND(FW$10>$F74,FV$10<$E74),IF(FV$10>$F74,IF(FW$10>$E74,$U74/($E74-$F74)*($E74-FV$10),$U74/($E74-$F74)*(FW$10-FV$10)),$U74/($E74-$F74)*(FW$10-$F74)),\"x\")))","v":"x"},"x","x","x","x","x","x","x","x","x","x","x","x","x","x","x","x","x","x","x","x","x","x","x","x","x","x","x","x","x","x","x",{"$f":"IF(OR($V74=\"Utility\",$AA74=0),\"x\",IF($G74=\"cold\",\"x\",IF(AND(HC$10>$F74,HB$10<$E74),IF(HB$10>$F74,IF(HC$10>$E74,$U74/($E74-$F74)*($E74-HB$10),$U74/($E74-$F74)*(HC$10-HB$10)),$U74/($E74-$F74)*(HC$10-$F74)),\"x\")))","v":"x"},"x","x","x","x","x","x","x","x","x","x","x","x","x","x","x","x","x","x","x","x","x","x","x","x","x","x","x","x","x","x","x","x","x","x","x","x"]
["",{"$f":"IF(G75=\"hot\",COUNTIF($G$11:G75,\"hot\"),\"\")","v":""},{"$f":"IF(G75=\"cold\",COUNTIF($G$11:G75,\"cold\"),\"\")","v":""},null,null,null,"",null,null,"","","",null,null,null,null,null,null,null,null,"",null,{"$f":"IF(G75=\"hot\",J75,\"\")","v":""},{"$f":"IF(G75=\"cold\",J75,\"\")","v":""},{"$f":"IF(G75=\"\",\"\",IF(G75=\"hot\",_xlfn.RANK.EQ(W75,$W$11:$W$110),_xlfn.RANK.EQ(X75,$X$11:$X$110)))","v":""},{"$f":"IF(D75=\"\",\"\",D75)","v":""},"",null,null,null,null,null,null,null,null,null,null,null,{"$f":"D75","v":0},null,{"$f":"IF(OR($V75=\"Utility\",$AA75=0),\"x\",IF($G75=\"hot\",\"x\",IF(AND(AO$10>$E75,AN$10<$F75),IF(AN$10>$E75,IF(AO$10>$F75,$U75/($F75-$E75)*($F75-AN$10),$U75/($F75-$E75)*(AO$10-AN$10)),$U75/($F75-$E75)*(AO$10-$E75)),\"x\")))","v":"x"},"x","x","x","x","x","x","x","x","x","x","x","x","x","x","x","x","x","x","x","x","x","x","x","x","x","x","x","x","x","x","x",{"$f":"IF(OR($V75=\"Utility\",$AA75=0),\"x\",IF($G75=\"hot\",\"x\",IF(AND(BU$10>$E75,BT$10<$F75),IF(BT$10>$E75,IF(BU$10>$F75,$U75/($F75-$E75)*($F75-BT$10),$U75/($F75-$E75)*(BU$10-BT$10)),$U75/($F75-$E75)*(BU$10-$E75)),\"x\")))","v":"x"},"x","x","x","x","x","x","x","x","x","x","x","x","x","x","x","x","x","x","x","x","x","x","x","x","x","x","x","x","x","x","x",{"$f":"IF(OR($V75=\"Utility\",$AA75=0),\"x\",IF($G75=\"hot\",\"x\",IF(AND(DA$10>$E75,CZ$10<$F75),IF(CZ$10>$E75,IF(DA$10>$F75,$U75/($F75-$E75)*($F75-CZ$10),$U75/($F75-$E75)*(DA$10-CZ$10)),$U75/($F75-$E75)*(DA$10-$E75)),\"x\")))","v":"x"},"x","x","x","x","x","x","x","x","x","x","x","x","x","x","x","x","x","x","x","x","x","x","x","x","x","x","x","x","x","x","x","x","x","x","x","x",null,null,null,{"$f":"D75","v":0},null,{"$f":"IF(OR($V75=\"Utility\",$AA75=0),\"x\",IF($G75=\"cold\",\"x\",IF(AND(EQ$10>$F75,EP$10<$E75),IF(EP$10>$F75,IF(EQ$10>$E75,$U75/($E75-$F75)*($E75-EP$10),$U75/($E75-$F75)*(EQ$10-EP$10)),$U75/($E75-$F75)*(EQ$10-$F75)),\"x\")))","v":"x"},"x","x","x","x","x","x","x","x","x","x","x","x","x","x","x","x","x","x","x","x","x","x","x","x","x","x","x","x","x","x","x",{"$f":"IF(OR($V75=\"Utility\",$AA75=0),\"x\",IF($G75=\"cold\",\"x\",IF(AND(FW$10>$F75,FV$10<$E75),IF(FV$10>$F75,IF(FW$10>$E75,$U75/($E75-$F75)*($E75-FV$10),$U75/($E75-$F75)*(FW$10-FV$10)),$U75/($E75-$F75)*(FW$10-$F75)),\"x\")))","v":"x"},"x","x","x","x","x","x","x","x","x","x","x","x","x","x","x","x","x","x","x","x","x","x","x","x","x","x","x","x","x","x","x",{"$f":"IF(OR($V75=\"Utility\",$AA75=0),\"x\",IF($G75=\"cold\",\"x\",IF(AND(HC$10>$F75,HB$10<$E75),IF(HB$10>$F75,IF(HC$10>$E75,$U75/($E75-$F75)*($E75-HB$10),$U75/($E75-$F75)*(HC$10-HB$10)),$U75/($E75-$F75)*(HC$10-$F75)),\"x\")))","v":"x"},"x","x","x","x","x","x","x","x","x","x","x","x","x","x","x","x","x","x","x","x","x","x","x","x","x","x","x","x","x","x","x","x","x","x","x","x"]
["",{"$f":"IF(G76=\"hot\",COUNTIF($G$11:G76,\"hot\"),\"\")","v":""},{"$f":"IF(G76=\"cold\",COUNTIF($G$11:G76,\"cold\"),\"\")","v":""},null,null,null,{"$f":"IF(A76=\"\",\"\",IF(E76<F76,\"cold\",\"hot\"))","v":""},null,null,{"$f":"IF(A76=\"\",\"\",IF(T76=\"\",H76*I76,ABS(U76/S76*1000/(E76-F76))))","v":""},{"$f":"IF(A76=\"\",\"\",ABS(I76*(F76-E76)))","v":""},{"$f":"IF(A76=\"\",\"\",IF(T76=\"\",K76*H76,U76/S76*1000))","v":""},null,null,null,null,null,null,null,null,{"$f":"IF(A76=\"\",\"\",IF(T76=\"\",S76*L76/1000,T76))","v":""},null,"","","","",{"$f":"IF(D76=\"\",\"\",IF(AND(ISNUMBER(E76),ISNUMBER(F76),ISNUMBER(I76),ISNUMBER(S76),ISTEXT(D76),ISTEXT(V76),OR(ISNUMBER(H76),ISNUMBER(T76)),E76<>F76,E76>0,F76>0,I76>0,S76>0,OR(H76>0,T76>0))=TRUE,1,0))","v":""},null,null,null,null,null,null,null,null,null,null,null,0,null,{"$f":"IF(OR($V76=\"Utility\",$AA76=0),\"x\",IF($G76=\"hot\",\"x\",IF(AND(AO$10>$E76,AN$10<$F76),IF(AN$10>$E76,IF(AO$10>$F76,$U76/($F76-$E76)*($F76-AN$10),$U76/($F76-$E76)*(AO$10-AN$10)),$U76/($F76-$E76)*(AO$10-$E76)),\"x\")))","v":"x"},"x","x","x","x","x","x","x","x","x","x","x","x","x","x","x","x","x","x","x","x","x","x","x","x","x","x","x","x","x","x","x",{"$f":"IF(OR($V76=\"Utility\",$AA76=0),\"x\",IF($G76=\"hot\",\"x\",IF(AND(BU$10>$E76,BT$10<$F76),IF(BT$10>$E76,IF(BU$10>$F76,$U76/($F76-$E76)*($F76-BT$10),$U76/($F76-$E76)*(BU$10-BT$10)),$U76/($F76-$E76)*(BU$10-$E76)),\"x\")))","v":"x"},"x","x","x","x","x","x","x","x","x","x","x","x","x","x","x","x","x","x","x","x","x","x","x","x","x","x","x","x","x","x","x",{"$f":"IF(OR($V76=\"Utility\",$AA76=0),\"x\",IF($G76=\"hot\",\"x\",IF(AND(DA$10>$E76,CZ$10<$F76),IF(CZ$10>$E76,IF(DA$10>$F76,$U76/($F76-$E76)*($F76-CZ$10),$U76/($F76-$E76)*(DA$10-CZ$10)),$U76/($F76-$E76)*(DA$10-$E76)),\"x\")))","v":"x"},"x","x","x","x","x","x","x","x","x","x","x","x","x","x","x","x","x","x","x","x","x","x","x","x","x","x","x","x","x","x","x","x","x","x","x","x",null,null,null,0,null,{"$f":"IF(OR($V76=\"Utility\",$AA76=0),\"x\",IF($G76=\"cold\",\"x\",IF(AND(EQ$10>$F76,EP$10<$E76),IF(EP$10>$F76,IF(EQ$10>$E76,$U76/($E76-$F76)*($E76-EP$10),$U76/($E76-$F76)*(EQ$10-EP$10)),$U76/($E76-$F76)*(EQ$10-$F76)),\"x\")))","v":"x"},"x","x","x","x","x","x","x","x","x","x","x","x","x","x","x","x","x","x","x","x","x","x","x","x","x","x","x","x","x","x","x",{"$f":"IF(OR($V76=\"Utility\",$AA76=0),\"x\",IF($G76=\"cold\",\"x\",IF(AND(FW$10>$F76,FV$10<$E76),IF(FV$10>$F76,IF(FW$10>$E76,$U76/($E76-$F76)*($E76-FV$10),$U76/($E76-$F76)*(FW$10-FV$10)),$U76/($E76-$F76)*(FW$10-$F76)),\"x\")))","v":"x"},"x","x","x","x","x","x","x","x","x","x","x","x","x","x","x","x","x","x","x","x","x","x","x","x","x","x","x","x","x","x","x",{"$f":"IF(OR($V76=\"Utility\",$AA76=0),\"x\",IF($G76=\"cold\",\"x\",IF(AND(HC$10>$F76,HB$10<$E76),IF(HB$10>$F76,IF(HC$10>$E76,$U76/($E76-$F76)*($E76-HB$10),$U76/($E76-$F76)*(HC$10-HB$10)),$U76/($E76-$F76)*(HC$10-$F76)),\"x\")))","v":"x"},"x","x","x","x","x","x","x","x","x","x","x","x","x","x","x","x","x","x","x","x","x","x","x","x","x","x","x","x","x","x","x","x","x","x","x","x"]
["",{"$f":"IF(G77=\"hot\",COUNTIF($G$11:G77,\"hot\"),\"\")","v":""},{"$f":"IF(G77=\"cold\",COUNTIF($G$11:G77,\"cold\"),\"\")","v":""},null,null,null,"",null,null,"","","",null,null,null,null,null,null,null,null,"",null,"","","","","",null,null,null,null,null,null,null,null,null,null,null,0,null,{"$f":"IF(OR($V77=\"Utility\",$AA77=0),\"x\",IF($G77=\"hot\",\"x\",IF(AND(AO$10>$E77,AN$10<$F77),IF(AN$10>$E77,IF(AO$10>$F77,$U77/($F77-$E77)*($F77-AN$10),$U77/($F77-$E77)*(AO$10-AN$10)),$U77/($F77-$E77)*(AO$10-$E77)),\"x\")))","v":"x"},"x","x","x","x","x","x","x","x","x","x","x","x","x","x","x","x","x","x","x","x","x","x","x","x","x","x","x","x","x","x","x",{"$f":"IF(OR($V77=\"Utility\",$AA77=0),\"x\",IF($G77=\"hot\",\"x\",IF(AND(BU$10>$E77,BT$10<$F77),IF(BT$10>$E77,IF(BU$10>$F77,$U77/($F77-$E77)*($F77-BT$10),$U77/($F77-$E77)*(BU$10-BT$10)),$U77/($F77-$E77)*(BU$10-$E77)),\"x\")))","v":"x"},"x","x","x","x","x","x","x","x","x","x","x","x","x","x","x","x","x","x","x","x","x","x","x","x","x","x","x","x","x","x","x",{"$f":"IF(OR($V77=\"Utility\",$AA77=0),\"x\",IF($G77=\"hot\",\"x\",IF(AND(DA$10>$E77,CZ$10<$F77),IF(CZ$10>$E77,IF(DA$10>$F77,$U77/($F77-$E77)*($F77-CZ$10),$U77/($F77-$E77)*(DA$10-CZ$10)),$U77/($F77-$E77)*(DA$10-$E77)),\"x\")))","v":"x"},"x","x","x","x","x","x","x","x","x","x","x","x","x","x","x","x","x","x","x","x","x","x","x","x","x","x","x","x","x","x","x","x","x","x","x","x",null,null,null,0,null,{"$f":"IF(OR($V77=\"Utility\",$AA77=0),\"x\",IF($G77=\"cold\",\"x\",IF(AND(EQ$10>$F77,EP$10<$E77),IF(EP$10>$F77,IF(EQ$10>$E77,$U77/($E77-$F77)*($E77-EP$10),$U77/($E77-$F77)*(EQ$10-EP$10)),$U77/($E77-$F77)*(EQ$10-$F77)),\"x\")))","v":"x"},"x","x","x","x","x","x","x","x","x","x","x","x","x","x","x","x","x","x","x","x","x","x","x","x","x","x","x","x","x","x","x",{"$f":"IF(OR($V77=\"Utility\",$AA77=0),\"x\",IF($G77=\"cold\",\"x\",IF(AND(FW$10>$F77,FV$10<$E77),IF(FV$10>$F77,IF(FW$10>$E77,$U77/($E77-$F77)*($E77-FV$10),$U77/($E77-$F77)*(FW$10-FV$10)),$U77/($E77-$F77)*(FW$10-$F77)),\"x\")))","v":"x"},"x","x","x","x","x","x","x","x","x","x","x","x","x","x","x","x","x","x","x","x","x","x","x","x","x","x","x","x","x","x","x",{"$f":"IF(OR($V77=\"Utility\",$AA77=0),\"x\",IF($G77=\"cold\",\"x\",IF(AND(HC$10>$F77,HB$10<$E77),IF(HB$10>$F77,IF(HC$10>$E77,$U77/($E77-$F77)*($E77-HB$10),$U77/($E77-$F77)*(HC$10-HB$10)),$U77/($E77-$F77)*(HC$10-$F77)),\"x\")))","v":"x"},"x","x","x","x","x","x","x","x","x","x","x","x","x","x","x","x","x","x","x","x","x","x","x","x","x","x","x","x","x","x","x","x","x","x","x","x"]
["",{"$f":"IF(G78=\"hot\",COUNTIF($G$11:G78,\"hot\"),\"\")","v":""},{"$f":"IF(G78=\"cold\",COUNTIF($G$11:G78,\"cold\"),\"\")","v":""},null,null,null,"",null,null,"","","",null,null,null,null,null,null,null,null,"",null,"","","","","",null,null,null,null,null,null,null,null,null,null,null,0,null,{"$f":"IF(OR($V78=\"Utility\",$AA78=0),\"x\",IF($G78=\"hot\",\"x\",IF(AND(AO$10>$E78,AN$10<$F78),IF(AN$10>$E78,IF(AO$10>$F78,$U78/($F78-$E78)*($F78-AN$10),$U78/($F78-$E78)*(AO$10-AN$10)),$U78/($F78-$E78)*(AO$10-$E78)),\"x\")))","v":"x"},"x","x","x","x","x","x","x","x","x","x","x","x","x","x","x","x","x","x","x","x","x","x","x","x","x","x","x","x","x","x","x",{"$f":"IF(OR($V78=\"Utility\",$AA78=0),\"x\",IF($G78=\"hot\",\"x\",IF(AND(BU$10>$E78,BT$10<$F78),IF(BT$10>$E78,IF(BU$10>$F78,$U78/($F78-$E78)*($F78-BT$10),$U78/($F78-$E78)*(BU$10-BT$10)),$U78/($F78-$E78)*(BU$10-$E78)),\"x\")))","v":"x"},"x","x","x","x","x","x","x","x","x","x","x","x","x","x","x","x","x","x","x","x","x","x","x","x","x","x","x","x","x","x","x",{"$f":"IF(OR($V78=\"Utility\",$AA78=0),\"x\",IF($G78=\"hot\",\"x\",IF(AND(DA$10>$E78,CZ$10<$F78),IF(CZ$10>$E78,IF(DA$10>$F78,$U78/($F78-$E78)*($F78-CZ$10),$U78/($F78-$E78)*(DA$10-CZ$10)),$U78/($F78-$E78)*(DA$10-$E78)),\"x\")))","v":"x"},"x","x","x","x","x","x","x","x","x","x","x","x","x","x","x","x","x","x","x","x","x","x","x","x","x","x","x","x","x","x","x","x","x","x","x","x",null,null,null,0,null,{"$f":"IF(OR($V78=\"Utility\",$AA78=0),\"x\",IF($G78=\"cold\",\"x\",IF(AND(EQ$10>$F78,EP$10<$E78),IF(EP$10>$F78,IF(EQ$10>$E78,$U78/($E78-$F78)*($E78-EP$10),$U78/($E78-$F78)*(EQ$10-EP$10)),$U78/($E78-$F78)*(EQ$10-$F78)),\"x\")))","v":"x"},"x","x","x","x","x","x","x","x","x","x","x","x","x","x","x","x","x","x","x","x","x","x","x","x","x","x","x","x","x","x","x",{"$f":"IF(OR($V78=\"Utility\",$AA78=0),\"x\",IF($G78=\"cold\",\"x\",IF(AND(FW$10>$F78,FV$10<$E78),IF(FV$10>$F78,IF(FW$10>$E78,$U78/($E78-$F78)*($E78-FV$10),$U78/($E78-$F78)*(FW$10-FV$10)),$U78/($E78-$F78)*(FW$10-$F78)),\"x\")))","v":"x"},"x","x","x","x","x","x","x","x","x","x","x","x","x","x","x","x","x","x","x","x","x","x","x","x","x","x","x","x","x","x","x",{"$f":"IF(OR($V78=\"Utility\",$AA78=0),\"x\",IF($G78=\"cold\",\"x\",IF(AND(HC$10>$F78,HB$10<$E78),IF(HB$10>$F78,IF(HC$10>$E78,$U78/($E78-$F78)*($E78-HB$10),$U78/($E78-$F78)*(HC$10-HB$10)),$U78/($E78-$F78)*(HC$10-$F78)),\"x\")))","v":"x"},"x","x","x","x","x","x","x","x","x","x","x","x","x","x","x","x","x","x","x","x","x","x","x","x","x","x","x","x","x","x","x","x","x","x","x","x"]
["",{"$f":"IF(G79=\"hot\",COUNTIF($G$11:G79,\"hot\"),\"\")","v":""},{"$f":"IF(G79=\"cold\",COUNTIF($G$11:G79,\"cold\"),\"\")","v":""},null,null,null,"",null,null,"","","",null,null,null,null,null,null,null,null,"",null,"","","","","",null,null,null,null,null,null,null,null,null,null,null,0,null,{"$f":"IF(OR($V79=\"Utility\",$AA79=0),\"x\",IF($G79=\"hot\",\"x\",IF(AND(AO$10>$E79,AN$10<$F79),IF(AN$10>$E79,IF(AO$10>$F79,$U79/($F79-$E79)*($F79-AN$10),$U79/($F79-$E79)*(AO$10-AN$10)),$U79/($F79-$E79)*(AO$10-$E79)),\"x\")))","v":"x"},"x","x","x","x","x","x","x","x","x","x","x","x","x","x","x","x","x","x","x","x","x","x","x","x","x","x","x","x","x","x","x",{"$f":"IF(OR($V79=\"Utility\",$AA79=0),\"x\",IF($G79=\"hot\",\"x\",IF(AND(BU$10>$E79,BT$10<$F79),IF(BT$10>$E79,IF(BU$10>$F79,$U79/($F79-$E79)*($F79-BT$10),$U79/($F79-$E79)*(BU$10-BT$10)),$U79/($F79-$E79)*(BU$10-$E79)),\"x\")))","v":"x"},"x","x","x","x","x","x","x","x","x","x","x","x","x","x","x","x","x","x","x","x","x","x","x","x","x","x","x","x","x","x","x",{"$f":"IF(OR($V79=\"Utility\",$AA79=0),\"x\",IF($G79=\"hot\",\"x\",IF(AND(DA$10>$E79,CZ$10<$F79),IF(CZ$10>$E79,IF(DA$10>$F79,$U79/($F79-$E79)*($F79-CZ$10),$U79/($F79-$E79)*(DA$10-CZ$10)),$U79/($F79-$E79)*(DA$10-$E79)),\"x\")))","v":"x"},"x","x","x","x","x","x","x","x","x","x","x","x","x","x","x","x","x","x","x","x","x","x","x","x","x","x","x","x","x","x","x","x","x","x","x","x",null,null,null,0,null,{"$f":"IF(OR($V79=\"Utility\",$AA79=0),\"x\",IF($G79=\"cold\",\"x\",IF(AND(EQ$10>$F79,EP$10<$E79),IF(EP$10>$F79,IF(EQ$10>$E79,$U79/($E79-$F79)*($E79-EP$10),$U79/($E79-$F79)*(EQ$10-EP$10)),$U79/($E79-$F79)*(EQ$10-$F79)),\"x\")))","v":"x"},"x","x","x","x","x","x","x","x","x","x","x","x","x","x","x","x","x","x","x","x","x","x","x","x","x","x","x","x","x","x","x",{"$f":"IF(OR($V79=\"Utility\",$AA79=0),\"x\",IF($G79=\"cold\",\"x\",IF(AND(FW$10>$F79,FV$10<$E79),IF(FV$10>$F79,IF(FW$10>$E79,$U79/($E79-$F79)*($E79-FV$10),$U79/($E79-$F79)*(FW$10-FV$10)),$U79/($E79-$F79)*(FW$10-$F79)),\"x\")))","v":"x"},"x","x","x","x","x","x","x","x","x","x","x","x","x","x","x","x","x","x","x","x","x","x","x","x","x","x","x","x","x","x","x",{"$f":"IF(OR($V79=\"Utility\",$AA79=0),\"x\",IF($G79=\"cold\",\"x\",IF(AND(HC$10>$F79,HB$10<$E79),IF(HB$10>$F79,IF(HC$10>$E79,$U79/($E79-$F79)*($E79-HB$10),$U79/($E79-$F79)*(HC$10-HB$10)),$U79/($E79-$F79)*(HC$10-$F79)),\"x\")))","v":"x"},"x","x","x","x","x","x","x","x","x","x","x","x","x","x","x","x","x","x","x","x","x","x","x","x","x","x","x","x","x","x","x","x","x","x","x","x"]
["",{"$f":"IF(G80=\"hot\",COUNTIF($G$11:G80,\"hot\"),\"\")","v":""},{"$f":"IF(G80=\"cold\",COUNTIF($G$11:G80,\"cold\"),\"\")","v":""},null,null,null,"",null,null,"","","",null,null,null,null,null,null,null,null,"",null,"","","","","",null,null,null,null,null,null,null,null,null,null,null,0,null,{"$f":"IF(OR($V80=\"Utility\",$AA80=0),\"x\",IF($G80=\"hot\",\"x\",IF(AND(AO$10>$E80,AN$10<$F80),IF(AN$10>$E80,IF(AO$10>$F80,$U80/($F80-$E80)*($F80-AN$10),$U80/($F80-$E80)*(AO$10-AN$10)),$U80/($F80-$E80)*(AO$10-$E80)),\"x\")))","v":"x"},"x","x","x","x","x","x","x","x","x","x","x","x","x","x","x","x","x","x","x","x","x","x","x","x","x","x","x","x","x","x","x",{"$f":"IF(OR($V80=\"Utility\",$AA80=0),\"x\",IF($G80=\"hot\",\"x\",IF(AND(BU$10>$E80,BT$10<$F80),IF(BT$10>$E80,IF(BU$10>$F80,$U80/($F80-$E80)*($F80-BT$10),$U80/($F80-$E80)*(BU$10-BT$10)),$U80/($F80-$E80)*(BU$10-$E80)),\"x\")))","v":"x"},"x","x","x","x","x","x","x","x","x","x","x","x","x","x","x","x","x","x","x","x","x","x","x","x","x","x","x","x","x","x","x",{"$f":"IF(OR($V80=\"Utility\",$AA80=0),\"x\",IF($G80=\"hot\",\"x\",IF(AND(DA$10>$E80,CZ$10<$F80),IF(CZ$10>$E80,IF(DA$10>$F80,$U80/($F80-$E80)*($F80-CZ$10),$U80/($F80-$E80)*(DA$10-CZ$10)),$U80/($F80-$E80)*(DA$10-$E80)),\"x\")))","v":"x"},"x","x","x","x","x","x","x","x","x","x","x","x","x","x","x","x","x","x","x","x","x","x","x","x","x","x","x","x","x","x","x","x","x","x","x","x",null,null,null,0,null,{"$f":"IF(OR($V80=\"Utility\",$AA80=0),\"x\",IF($G80=\"cold\",\"x\",IF(AND(EQ$10>$F80,EP$10<$E80),IF(EP$10>$F80,IF(EQ$10>$E80,$U80/($E80-$F80)*($E80-EP$10),$U80/($E80-$F80)*(EQ$10-EP$10)),$U80/($E80-$F80)*(EQ$10-$F80)),\"x\")))","v":"x"},"x","x","x","x","x","x","x","x","x","x","x","x","x","x","x","x","x","x","x","x","x","x","x","x","x","x","x","x","x","x","x",{"$f":"IF(OR($V80=\"Utility\",$AA80=0),\"x\",IF($G80=\"cold\",\"x\",IF(AND(FW$10>$F80,FV$10<$E80),IF(FV$10>$F80,IF(FW$10>$E80,$U80/($E80-$F80)*($E80-FV$10),$U80/($E80-$F80)*(FW$10-FV$10)),$U80/($E80-$F80)*(FW$10-$F80)),\"x\")))","v":"x"},"x","x","x","x","x","x","x","x","x","x","x","x","x","x","x","x","x","x","x","x","x","x","x","x","x","x","x","x","x","x","x",{"$f":"IF(OR($V80=\"Utility\",$AA80=0),\"x\",IF($G80=\"cold\",\"x\",IF(AND(HC$10>$F80,HB$10<$E80),IF(HB$10>$F80,IF(HC$10>$E80,$U80/($E80-$F80)*($E80-HB$10),$U80/($E80-$F80)*(HC$10-HB$10)),$U80/($E80-$F80)*(HC$10-$F80)),\"x\")))","v":"x"},"x","x","x","x","x","x","x","x","x","x","x","x","x","x","x","x","x","x","x","x","x","x","x","x","x","x","x","x","x","x","x","x","x","x","x","x"]
["",{"$f":"IF(G81=\"hot\",COUNTIF($G$11:G81,\"hot\"),\"\")","v":""},{"$f":"IF(G81=\"cold\",COUNTIF($G$11:G81,\"cold\"),\"\")","v":""},null,null,null,"",null,null,"","","",null,null,null,null,null,null,null,null,"",null,"","","","","",null,null,null,null,null,null,null,null,null,null,null,0,null,{"$f":"IF(OR($V81=\"Utility\",$AA81=0),\"x\",IF($G81=\"hot\",\"x\",IF(AND(AO$10>$E81,AN$10<$F81),IF(AN$10>$E81,IF(AO$10>$F81,$U81/($F81-$E81)*($F81-AN$10),$U81/($F81-$E81)*(AO$10-AN$10)),$U81/($F81-$E81)*(AO$10-$E81)),\"x\")))","v":"x"},"x","x","x","x","x","x","x","x","x","x","x","x","x","x","x","x","x","x","x","x","x","x","x","x","x","x","x","x","x","x","x",{"$f":"IF(OR($V81=\"Utility\",$AA81=0),\"x\",IF($G81=\"hot\",\"x\",IF(AND(BU$10>$E81,BT$10<$F81),IF(BT$10>$E81,IF(BU$10>$F81,$U81/($F81-$E81)*($F81-BT$10),$U81/($F81-$E81)*(BU$10-BT$10)),$U81/($F81-$E81)*(BU$10-$E81)),\"x\")))","v":"x"},"x","x","x","x","x","x","x","x","x","x","x","x","x","x","x","x","x","x","x","x","x","x","x","x","x","x","x","x","x","x","x",{"$f":"IF(OR($V81=\"Utility\",$AA81=0),\"x\",IF($G81=\"hot\",\"x\",IF(AND(DA$10>$E81,CZ$10<$F81),IF(CZ$10>$E81,IF(DA$10>$F81,$U81/($F81-$E81)*($F81-CZ$10),$U81/($F81-$E81)*(DA$10-CZ$10)),$U81/($F81-$E81)*(DA$10-$E81)),\"x\")))","v":"x"},"x","x","x","x","x","x","x","x","x","x","x","x","x","x","x","x","x","x","x","x","x","x","x","x","x","x","x","x","x","x","x","x","x","x","x","x",null,null,null,0,null,{"$f":"IF(OR($V81=\"Utility\",$AA81=0),\"x\",IF($G81=\"cold\",\"x\",IF(AND(EQ$10>$F81,EP$10<$E81),IF(EP$10>$F81,IF(EQ$10>$E81,$U81/($E81-$F81)*($E81-EP$10),$U81/($E81-$F81)*(EQ$10-EP$10)),$U81/($E81-$F81)*(EQ$10-$F81)),\"x\")))","v":"x"},"x","x","x","x","x","x","x","x","x","x","x","x","x","x","x","x","x","x","x","x","x","x","x","x","x","x","x","x","x","x","x",{"$f":"IF(OR($V81=\"Utility\",$AA81=0),\"x\",IF($G81=\"cold\",\"x\",IF(AND(FW$10>$F81,FV$10<$E81),IF(FV$10>$F81,IF(FW$10>$E81,$U81/($E81-$F81)*($E81-FV$10),$U81/($E81-$F81)*(FW$10-FV$10)),$U81/($E81-$F81)*(FW$10-$F81)),\"x\")))","v":"x"},"x","x","x","x","x","x","x","x","x","x","x","x","x","x","x","x","x","x","x","x","x","x","x","x","x","x","x","x","x","x","x",{"$f":"IF(OR($V81=\"Utility\",$AA81=0),\"x\",IF($G81=\"cold\",\"x\",IF(AND(HC$10>$F81,HB$10<$E81),IF(HB$10>$F81,IF(HC$10>$E81,$U81/($E81-$F81)*($E81-HB$10),$U81/($E81-$F81)*(HC$10-HB$10)),$U81/($E81-$F81)*(HC$10-$F81)),\"x\")))","v":"x"},"x","x","x","x","x","x","x","x","x","x","x","x","x","x","x","x","x","x","x","x","x","x","x","x","x","x","x","x","x","x","x","x","x","x","x","x"]
["",{"$f":"IF(G82=\"hot\",COUNTIF($G$11:G82,\"hot\"),\"\")","v":""},{"$f":"IF(G82=\"cold\",COUNTIF($G$11:G82,\"cold\"),\"\")","v":""},null,null,null,"",null,null,"","","",null,null,null,null,null,null,null,null,"",null,"","","","","",null,null,null,null,null,null,null,null,null,null,null,0,null,{"$f":"IF(OR($V82=\"Utility\",$AA82=0),\"x\",IF($G82=\"hot\",\"x\",IF(AND(AO$10>$E82,AN$10<$F82),IF(AN$10>$E82,IF(AO$10>$F82,$U82/($F82-$E82)*($F82-AN$10),$U82/($F82-$E82)*(AO$10-AN$10)),$U82/($F82-$E82)*(AO$10-$E82)),\"x\")))","v":"x"},"x","x","x","x","x","x","x","x","x","x","x","x","x","x","x","x","x","x","x","x","x","x","x","x","x","x","x","x","x","x","x",{"$f":"IF(OR($V82=\"Utility\",$AA82=0),\"x\",IF($G82=\"hot\",\"x\",IF(AND(BU$10>$E82,BT$10<$F82),IF(BT$10>$E82,IF(BU$10>$F82,$U82/($F82-$E82)*($F82-BT$10),$U82/($F82-$E82)*(BU$10-BT$10)),$U82/($F82-$E82)*(BU$10-$E82)),\"x\")))","v":"x"},"x","x","x","x","x","x","x","x","x","x","x","x","x","x","x","x","x","x","x","x","x","x","x","x","x","x","x","x","x","x","x",{"$f":"IF(OR($V82=\"Utility\",$AA82=0),\"x\",IF($G82=\"hot\",\"x\",IF(AND(DA$10>$E82,CZ$10<$F82),IF(CZ$10>$E82,IF(DA$10>$F82,$U82/($F82-$E82)*($F82-CZ$10),$U82/($F82-$E82)*(DA$10-CZ$10)),$U82/($F82-$E82)*(DA$10-$E82)),\"x\")))","v":"x"},"x","x","x","x","x","x","x","x","x","x","x","x","x","x","x","x","x","x","x","x","x","x","x","x","x","x","x","x","x","x","x","x","x","x","x","x",null,null,null,0,null,{"$f":"IF(OR($V82=\"Utility\",$AA82=0),\"x\",IF($G82=\"cold\",\"x\",IF(AND(EQ$10>$F82,EP$10<$E82),IF(EP$10>$F82,IF(EQ$10>$E82,$U82/($E82-$F82)*($E82-EP$10),$U82/($E82-$F82)*(EQ$10-EP$10)),$U82/($E82-$F82)*(EQ$10-$F82)),\"x\")))","v":"x"},"x","x","x","x","x","x","x","x","x","x","x","x","x","x","x","x","x","x","x","x","x","x","x","x","x","x","x","x","x","x","x",{"$f":"IF(OR($V82=\"Utility\",$AA82=0),\"x\",IF($G82=\"cold\",\"x\",IF(AND(FW$10>$F82,FV$10<$E82),IF(FV$10>$F82,IF(FW$10>$E82,$U82/($E82-$F82)*($E82-FV$10),$U82/($E82-$F82)*(FW$10-FV$10)),$U82/($E82-$F82)*(FW$10-$F82)),\"x\")))","v":"x"},"x","x","x","x","x","x","x","x","x","x","x","x","x","x","x","x","x","x","x","x","x","x","x","x","x","x","x","x","x","x","x",{"$f":"IF(OR($V82=\"Utility\",$AA82=0),\"x\",IF($G82=\"cold\",\"x\",IF(AND(HC$10>$F82,HB$10<$E82),IF(HB$10>$F82,IF(HC$10>$E82,$U82/($E82-$F82)*($E82-HB$10),$U82/($E82-$F82)*(HC$10-HB$10)),$U82/($E82-$F82)*(HC$10-$F82)),\"x\")))","v":"x"},"x","x","x","x","x","x","x","x","x","x","x","x","x","x","x","x","x","x","x","x","x","x","x","x","x","x","x","x","x","x","x","x","x","x","x","x"]
["",{"$f":"IF(G83=\"hot\",COUNTIF($G$11:G83,\"hot\"),\"\")","v":""},{"$f":"IF(G83=\"cold\",COUNTIF($G$11:G83,\"cold\"),\"\")","v":""},null,null,null,"",null,null,"","","",null,null,null,null,null,null,null,null,"",null,"","","","","",null,null,null,null,null,null,null,null,null,null,null,0,null,{"$f":"IF(OR($V83=\"Utility\",$AA83=0),\"x\",IF($G83=\"hot\",\"x\",IF(AND(AO$10>$E83,AN$10<$F83),IF(AN$10>$E83,IF(AO$10>$F83,$U83/($F83-$E83)*($F83-AN$10),$U83/($F83-$E83)*(AO$10-AN$10)),$U83/($F83-$E83)*(AO$10-$E83)),\"x\")))","v":"x"},"x","x","x","x","x","x","x","x","x","x","x","x","x","x","x","x","x","x","x","x","x","x","x","x","x","x","x","x","x","x","x",{"$f":"IF(OR($V83=\"Utility\",$AA83=0),\"x\",IF($G83=\"hot\",\"x\",IF(AND(BU$10>$E83,BT$10<$F83),IF(BT$10>$E83,IF(BU$10>$F83,$U83/($F83-$E83)*($F83-BT$10),$U83/($F83-$E83)*(BU$10-BT$10)),$U83/($F83-$E83)*(BU$10-$E83)),\"x\")))","v":"x"},"x","x","x","x","x","x","x","x","x","x","x","x","x","x","x","x","x","x","x","x","x","x","x","x","x","x","x","x","x","x","x",{"$f":"IF(OR($V83=\"Utility\",$AA83=0),\"x\",IF($G83=\"hot\",\"x\",IF(AND(DA$10>$E83,CZ$10<$F83),IF(CZ$10>$E83,IF(DA$10>$F83,$U83/($F83-$E83)*($F83-CZ$10),$U83/($F83-$E83)*(DA$10-CZ$10)),$U83/($F83-$E83)*(DA$10-$E83)),\"x\")))","v":"x"},"x","x","x","x","x","x","x","x","x","x","x","x","x","x","x","x","x","x","x","x","x","x","x","x","x","x","x","x","x","x","x","x","x","x","x","x",null,null,null,0,null,{"$f":"IF(OR($V83=\"Utility\",$AA83=0),\"x\",IF($G83=\"cold\",\"x\",IF(AND(EQ$10>$F83,EP$10<$E83),IF(EP$10>$F83,IF(EQ$10>$E83,$U83/($E83-$F83)*($E83-EP$10),$U83/($E83-$F83)*(EQ$10-EP$10)),$U83/($E83-$F83)*(EQ$10-$F83)),\"x\")))","v":"x"},"x","x","x","x","x","x","x","x","x","x","x","x","x","x","x","x","x","x","x","x","x","x","x","x","x","x","x","x","x","x","x",{"$f":"IF(OR($V83=\"Utility\",$AA83=0),\"x\",IF($G83=\"cold\",\"x\",IF(AND(FW$10>$F83,FV$10<$E83),IF(FV$10>$F83,IF(FW$10>$E83,$U83/($E83-$F83)*($E83-FV$10),$U83/($E83-$F83)*(FW$10-FV$10)),$U83/($E83-$F83)*(FW$10-$F83)),\"x\")))","v":"x"},"x","x","x","x","x","x","x","x","x","x","x","x","x","x","x","x","x","x","x","x","x","x","x","x","x","x","x","x","x","x","x",{"$f":"IF(OR($V83=\"Utility\",$AA83=0),\"x\",IF($G83=\"cold\",\"x\",IF(AND(HC$10>$F83,HB$10<$E83),IF(HB$10>$F83,IF(HC$10>$E83,$U83/($E83-$F83)*($E83-HB$10),$U83/($E83-$F83)*(HC$10-HB$10)),$U83/($E83-$F83)*(HC$10-$F83)),\"x\")))","v":"x"},"x","x","x","x","x","x","x","x","x","x","x","x","x","x","x","x","x","x","x","x","x","x","x","x","x","x","x","x","x","x","x","x","x","x","x","x"]
["",{"$f":"IF(G84=\"hot\",COUNTIF($G$11:G84,\"hot\"),\"\")","v":""},{"$f":"IF(G84=\"cold\",COUNTIF($G$11:G84,\"cold\"),\"\")","v":""},null,null,null,"",null,null,"","","",null,null,null,null,null,null,null,null,"",null,"","","","","",null,null,null,null,null,null,null,null,null,null,null,0,null,{"$f":"IF(OR($V84=\"Utility\",$AA84=0),\"x\",IF($G84=\"hot\",\"x\",IF(AND(AO$10>$E84,AN$10<$F84),IF(AN$10>$E84,IF(AO$10>$F84,$U84/($F84-$E84)*($F84-AN$10),$U84/($F84-$E84)*(AO$10-AN$10)),$U84/($F84-$E84)*(AO$10-$E84)),\"x\")))","v":"x"},"x","x","x","x","x","x","x","x","x","x","x","x","x","x","x","x","x","x","x","x","x","x","x","x","x","x","x","x","x","x","x",{"$f":"IF(OR($V84=\"Utility\",$AA84=0),\"x\",IF($G84=\"hot\",\"x\",IF(AND(BU$10>$E84,BT$10<$F84),IF(BT$10>$E84,IF(BU$10>$F84,$U84/($F84-$E84)*($F84-BT$10),$U84/($F84-$E84)*(BU$10-BT$10)),$U84/($F84-$E84)*(BU$10-$E84)),\"x\")))","v":"x"},"x","x","x","x","x","x","x","x","x","x","x","x","x","x","x","x","x","x","x","x","x","x","x","x","x","x","x","x","x","x","x",{"$f":"IF(OR($V84=\"Utility\",$AA84=0),\"x\",IF($G84=\"hot\",\"x\",IF(AND(DA$10>$E84,CZ$10<$F84),IF(CZ$10>$E84,IF(DA$10>$F84,$U84/($F84-$E84)*($F84-CZ$10),$U84/($F84-$E84)*(DA$10-CZ$10)),$U84/($F84-$E84)*(DA$10-$E84)),\"x\")))","v":"x"},"x","x","x","x","x","x","x","x","x","x","x","x","x","x","x","x","x","x","x","x","x","x","x","x","x","x","x","x","x","x","x","x","x","x","x","x",null,null,null,0,null,{"$f":"IF(OR($V84=\"Utility\",$AA84=0),\"x\",IF($G84=\"cold\",\"x\",IF(AND(EQ$10>$F84,EP$10<$E84),IF(EP$10>$F84,IF(EQ$10>$E84,$U84/($E84-$F84)*($E84-EP$10),$U84/($E84-$F84)*(EQ$10-EP$10)),$U84/($E84-$F84)*(EQ$10-$F84)),\"x\")))","v":"x"},"x","x","x","x","x","x","x","x","x","x","x","x","x","x","x","x","x","x","x","x","x","x","x","x","x","x","x","x","x","x","x",{"$f":"IF(OR($V84=\"Utility\",$AA84=0),\"x\",IF($G84=\"cold\",\"x\",IF(AND(FW$10>$F84,FV$10<$E84),IF(FV$10>$F84,IF(FW$10>$E84,$U84/($E84-$F84)*($E84-FV$10),$U84/($E84-$F84)*(FW$10-FV$10)),$U84/($E84-$F84)*(FW$10-$F84)),\"x\")))","v":"x"},"x","x","x","x","x","x","x","x","x","x","x","x","x","x","x","x","x","x","x","x","x","x","x","x","x","x","x","x","x","x","x",{"$f":"IF(OR($V84=\"Utility\",$AA84=0),\"x\",IF($G84=\"cold\",\"x\",IF(AND(HC$10>$F84,HB$10<$E84),IF(HB$10>$F84,IF(HC$10>$E84,$U84/($E84-$F84)*($E84-HB$10),$U84/($E84-$F84)*(HC$10-HB$10)),$U84/($E84-$F84)*(HC$10-$F84)),\"x\")))","v":"x"},"x","x","x","x","x","x","x","x","x","x","x","x","x","x","x","x","x","x","x","x","x","x","x","x","x","x","x","x","x","x","x","x","x","x","x","x"]
["",{"$f":"IF(G85=\"hot\",COUNTIF($G$11:G85,\"hot\"),\"\")","v":""},{"$f":"IF(G85=\"cold\",COUNTIF($G$11:G85,\"cold\"),\"\")","v":""},null,null,null,"",null,null,"","","",null,null,null,null,null,null,null,null,"",null,"","","","","",null,null,null,null,null,null,null,null,null,null,null,0,null,{"$f":"IF(OR($V85=\"Utility\",$AA85=0),\"x\",IF($G85=\"hot\",\"x\",IF(AND(AO$10>$E85,AN$10<$F85),IF(AN$10>$E85,IF(AO$10>$F85,$U85/($F85-$E85)*($F85-AN$10),$U85/($F85-$E85)*(AO$10-AN$10)),$U85/($F85-$E85)*(AO$10-$E85)),\"x\")))","v":"x"},"x","x","x","x","x","x","x","x","x","x","x","x","x","x","x","x","x","x","x","x","x","x","x","x","x","x","x","x","x","x","x",{"$f":"IF(OR($V85=\"Utility\",$AA85=0),\"x\",IF($G85=\"hot\",\"x\",IF(AND(BU$10>$E85,BT$10<$F85),IF(BT$10>$E85,IF(BU$10>$F85,$U85/($F85-$E85)*($F85-BT$10),$U85/($F85-$E85)*(BU$10-BT$10)),$U85/($F85-$E85)*(BU$10-$E85)),\"x\")))","v":"x"},"x","x","x","x","x","x","x","x","x","x","x","x","x","x","x","x","x","x","x","x","x","x","x","x","x","x","x","x","x","x","x",{"$f":"IF(OR($V85=\"Utility\",$AA85=0),\"x\",IF($G85=\"hot\",\"x\",IF(AND(DA$10>$E85,CZ$10<$F85),IF(CZ$10>$E85,IF(DA$10>$F85,$U85/($F85-$E85)*($F85-CZ$10),$U85/($F85-$E85)*(DA$10-CZ$10)),$U85/($F85-$E85)*(DA$10-$E85)),\"x\")))","v":"x"},"x","x","x","x","x","x","x","x","x","x","x","x","x","x","x","x","x","x","x","x","x","x","x","x","x","x","x","x","x","x","x","x","x","x","x","x",null,null,null,0,null,{"$f":"IF(OR($V85=\"Utility\",$AA85=0),\"x\",IF($G85=\"cold\",\"x\",IF(AND(EQ$10>$F85,EP$10<$E85),IF(EP$10>$F85,IF(EQ$10>$E85,$U85/($E85-$F85)*($E85-EP$10),$U85/($E85-$F85)*(EQ$10-EP$10)),$U85/($E85-$F85)*(EQ$10-$F85)),\"x\")))","v":"x"},"x","x","x","x","x","x","x","x","x","x","x","x","x","x","x","x","x","x","x","x","x","x","x","x","x","x","x","x","x","x","x",{"$f":"IF(OR($V85=\"Utility\",$AA85=0),\"x\",IF($G85=\"cold\",\"x\",IF(AND(FW$10>$F85,FV$10<$E85),IF(FV$10>$F85,IF(FW$10>$E85,$U85/($E85-$F85)*($E85-FV$10),$U85/($E85-$F85)*(FW$10-FV$10)),$U85/($E85-$F85)*(FW$10-$F85)),\"x\")))","v":"x"},"x","x","x","x","x","x","x","x","x","x","x","x","x","x","x","x","x","x","x","x","x","x","x","x","x","x","x","x","x","x","x",{"$f":"IF(OR($V85=\"Utility\",$AA85=0),\"x\",IF($G85=\"cold\",\"x\",IF(AND(HC$10>$F85,HB$10<$E85),IF(HB$10>$F85,IF(HC$10>$E85,$U85/($E85-$F85)*($E85-HB$10),$U85/($E85-$F85)*(HC$10-HB$10)),$U85/($E85-$F85)*(HC$10-$F85)),\"x\")))","v":"x"},"x","x","x","x","x","x","x","x","x","x","x","x","x","x","x","x","x","x","x","x","x","x","x","x","x","x","x","x","x","x","x","x","x","x","x","x"]
["",{"$f":"IF(G86=\"hot\",COUNTIF($G$11:G86,\"hot\"),\"\")","v":""},{"$f":"IF(G86=\"cold\",COUNTIF($G$11:G86,\"cold\"),\"\")","v":""},null,null,null,"",null,null,"","","",null,null,null,null,null,null,null,null,"",null,"","","","","",null,null,null,null,null,null,null,null,null,null,null,0,null,{"$f":"IF(OR($V86=\"Utility\",$AA86=0),\"x\",IF($G86=\"hot\",\"x\",IF(AND(AO$10>$E86,AN$10<$F86),IF(AN$10>$E86,IF(AO$10>$F86,$U86/($F86-$E86)*($F86-AN$10),$U86/($F86-$E86)*(AO$10-AN$10)),$U86/($F86-$E86)*(AO$10-$E86)),\"x\")))","v":"x"},"x","x","x","x","x","x","x","x","x","x","x","x","x","x","x","x","x","x","x","x","x","x","x","x","x","x","x","x","x","x","x",{"$f":"IF(OR($V86=\"Utility\",$AA86=0),\"x\",IF($G86=\"hot\",\"x\",IF(AND(BU$10>$E86,BT$10<$F86),IF(BT$10>$E86,IF(BU$10>$F86,$U86/($F86-$E86)*($F86-BT$10),$U86/($F86-$E86)*(BU$10-BT$10)),$U86/($F86-$E86)*(BU$10-$E86)),\"x\")))","v":"x"},"x","x","x","x","x","x","x","x","x","x","x","x","x","x","x","x","x","x","x","x","x","x","x","x","x","x","x","x","x","x","x",{"$f":"IF(OR($V86=\"Utility\",$AA86=0),\"x\",IF($G86=\"hot\",\"x\",IF(AND(DA$10>$E86,CZ$10<$F86),IF(CZ$10>$E86,IF(DA$10>$F86,$U86/($F86-$E86)*($F86-CZ$10),$U86/($F86-$E86)*(DA$10-CZ$10)),$U86/($F86-$E86)*(DA$10-$E86)),\"x\")))","v":"x"},"x","x","x","x","x","x","x","x","x","x","x","x","x","x","x","x","x","x","x","x","x","x","x","x","x","x","x","x","x","x","x","x","x","x","x","x",null,null,null,0,null,{"$f":"IF(OR($V86=\"Utility\",$AA86=0),\"x\",IF($G86=\"cold\",\"x\",IF(AND(EQ$10>$F86,EP$10<$E86),IF(EP$10>$F86,IF(EQ$10>$E86,$U86/($E86-$F86)*($E86-EP$10),$U86/($E86-$F86)*(EQ$10-EP$10)),$U86/($E86-$F86)*(EQ$10-$F86)),\"x\")))","v":"x"},"x","x","x","x","x","x","x","x","x","x","x","x","x","x","x","x","x","x","x","x","x","x","x","x","x","x","x","x","x","x","x",{"$f":"IF(OR($V86=\"Utility\",$AA86=0),\"x\",IF($G86=\"cold\",\"x\",IF(AND(FW$10>$F86,FV$10<$E86),IF(FV$10>$F86,IF(FW$10>$E86,$U86/($E86-$F86)*($E86-FV$10),$U86/($E86-$F86)*(FW$10-FV$10)),$U86/($E86-$F86)*(FW$10-$F86)),\"x\")))","v":"x"},"x","x","x","x","x","x","x","x","x","x","x","x","x","x","x","x","x","x","x","x","x","x","x","x","x","x","x","x","x","x","x",{"$f":"IF(OR($V86=\"Utility\",$AA86=0),\"x\",IF($G86=\"cold\",\"x\",IF(AND(HC$10>$F86,HB$10<$E86),IF(HB$10>$F86,IF(HC$10>$E86,$U86/($E86-$F86)*($E86-HB$10),$U86/($E86-$F86)*(HC$10-HB$10)),$U86/($E86-$F86)*(HC$10-$F86)),\"x\")))","v":"x"},"x","x","x","x","x","x","x","x","x","x","x","x","x","x","x","x","x","x","x","x","x","x","x","x","x","x","x","x","x","x","x","x","x","x","x","x"]
["",{"$f":"IF(G87=\"hot\",COUNTIF($G$11:G87,\"hot\"),\"\")","v":""},{"$f":"IF(G87=\"cold\",COUNTIF($G$11:G87,\"cold\"),\"\")","v":""},null,null,null,"",null,null,"","","",null,null,null,null,null,null,null,null,"",null,"","","","","",null,null,null,null,null,null,null,null,null,null,null,0,null,{"$f":"IF(OR($V87=\"Utility\",$AA87=0),\"x\",IF($G87=\"hot\",\"x\",IF(AND(AO$10>$E87,AN$10<$F87),IF(AN$10>$E87,IF(AO$10>$F87,$U87/($F87-$E87)*($F87-AN$10),$U87/($F87-$E87)*(AO$10-AN$10)),$U87/($F87-$E87)*(AO$10-$E87)),\"x\")))","v":"x"},"x","x","x","x","x","x","x","x","x","x","x","x","x","x","x","x","x","x","x","x","x","x","x","x","x","x","x","x","x","x","x",{"$f":"IF(OR($V87=\"Utility\",$AA87=0),\"x\",IF($G87=\"hot\",\"x\",IF(AND(BU$10>$E87,BT$10<$F87),IF(BT$10>$E87,IF(BU$10>$F87,$U87/($F87-$E87)*($F87-BT$10),$U87/($F87-$E87)*(BU$10-BT$10)),$U87/($F87-$E87)*(BU$10-$E87)),\"x\")))","v":"x"},"x","x","x","x","x","x","x","x","x","x","x","x","x","x","x","x","x","x","x","x","x","x","x","x","x","x","x","x","x","x","x",{"$f":"IF(OR($V87=\"Utility\",$AA87=0),\"x\",IF($G87=\"hot\",\"x\",IF(AND(DA$10>$E87,CZ$10<$F87),IF(CZ$10>$E87,IF(DA$10>$F87,$U87/($F87-$E87)*($F87-CZ$10),$U87/($F87-$E87)*(DA$10-CZ$10)),$U87/($F87-$E87)*(DA$10-$E87)),\"x\")))","v":"x"},"x","x","x","x","x","x","x","x","x","x","x","x","x","x","x","x","x","x","x","x","x","x","x","x","x","x","x","x","x","x","x","x","x","x","x","x",null,null,null,0,null,{"$f":"IF(OR($V87=\"Utility\",$AA87=0),\"x\",IF($G87=\"cold\",\"x\",IF(AND(EQ$10>$F87,EP$10<$E87),IF(EP$10>$F87,IF(EQ$10>$E87,$U87/($E87-$F87)*($E87-EP$10),$U87/($E87-$F87)*(EQ$10-EP$10)),$U87/($E87-$F87)*(EQ$10-$F87)),\"x\")))","v":"x"},"x","x","x","x","x","x","x","x","x","x","x","x","x","x","x","x","x","x","x","x","x","x","x","x","x","x","x","x","x","x","x",{"$f":"IF(OR($V87=\"Utility\",$AA87=0),\"x\",IF($G87=\"cold\",\"x\",IF(AND(FW$10>$F87,FV$10<$E87),IF(FV$10>$F87,IF(FW$10>$E87,$U87/($E87-$F87)*($E87-FV$10),$U87/($E87-$F87)*(FW$10-FV$10)),$U87/($E87-$F87)*(FW$10-$F87)),\"x\")))","v":"x"},"x","x","x","x","x","x","x","x","x","x","x","x","x","x","x","x","x","x","x","x","x","x","x","x","x","x","x","x","x","x","x",{"$f":"IF(OR($V87=\"Utility\",$AA87=0),\"x\",IF($G87=\"cold\",\"x\",IF(AND(HC$10>$F87,HB$10<$E87),IF(HB$10>$F87,IF(HC$10>$E87,$U87/($E87-$F87)*($E87-HB$10),$U87/($E87-$F87)*(HC$10-HB$10)),$U87/($E87-$F87)*(HC$10-$F87)),\"x\")))","v":"x"},"x","x","x","x","x","x","x","x","x","x","x","x","x","x","x","x","x","x","x","x","x","x","x","x","x","x","x","x","x","x","x","x","x","x","x","x"]
["",{"$f":"IF(G88=\"hot\",COUNTIF($G$11:G88,\"hot\"),\"\")","v":""},{"$f":"IF(G88=\"cold\",COUNTIF($G$11:G88,\"cold\"),\"\")","v":""},null,null,null,"",null,null,"","","",null,null,null,null,null,null,null,null,"",null,"","","","","",null,null,null,null,null,null,null,null,null,null,null,0,null,{"$f":"IF(OR($V88=\"Utility\",$AA88=0),\"x\",IF($G88=\"hot\",\"x\",IF(AND(AO$10>$E88,AN$10<$F88),IF(AN$10>$E88,IF(AO$10>$F88,$U88/($F88-$E88)*($F88-AN$10),$U88/($F88-$E88)*(AO$10-AN$10)),$U88/($F88-$E88)*(AO$10-$E88)),\"x\")))","v":"x"},"x","x","x","x","x","x","x","x","x","x","x","x","x","x","x","x","x","x","x","x","x","x","x","x","x","x","x","x","x","x","x",{"$f":"IF(OR($V88=\"Utility\",$AA88=0),\"x\",IF($G88=\"hot\",\"x\",IF(AND(BU$10>$E88,BT$10<$F88),IF(BT$10>$E88,IF(BU$10>$F88,$U88/($F88-$E88)*($F88-BT$10),$U88/($F88-$E88)*(BU$10-BT$10)),$U88/($F88-$E88)*(BU$10-$E88)),\"x\")))","v":"x"},"x","x","x","x","x","x","x","x","x","x","x","x","x","x","x","x","x","x","x","x","x","x","x","x","x","x","x","x","x","x","x",{"$f":"IF(OR($V88=\"Utility\",$AA88=0),\"x\",IF($G88=\"hot\",\"x\",IF(AND(DA$10>$E88,CZ$10<$F88),IF(CZ$10>$E88,IF(DA$10>$F88,$U88/($F88-$E88)*($F88-CZ$10),$U88/($F88-$E88)*(DA$10-CZ$10)),$U88/($F88-$E88)*(DA$10-$E88)),\"x\")))","v":"x"},"x","x","x","x","x","x","x","x","x","x","x","x","x","x","x","x","x","x","x","x","x","x","x","x","x","x","x","x","x","x","x","x","x","x","x","x",null,null,null,0,null,{"$f":"IF(OR($V88=\"Utility\",$AA88=0),\"x\",IF($G88=\"cold\",\"x\",IF(AND(EQ$10>$F88,EP$10<$E88),IF(EP$10>$F88,IF(EQ$10>$E88,$U88/($E88-$F88)*($E88-EP$10),$U88/($E88-$F88)*(EQ$10-EP$10)),$U88/($E88-$F88)*(EQ$10-$F88)),\"x\")))","v":"x"},"x","x","x","x","x","x","x","x","x","x","x","x","x","x","x","x","x","x","x","x","x","x","x","x","x","x","x","x","x","x","x",{"$f":"IF(OR($V88=\"Utility\",$AA88=0),\"x\",IF($G88=\"cold\",\"x\",IF(AND(FW$10>$F88,FV$10<$E88),IF(FV$10>$F88,IF(FW$10>$E88,$U88/($E88-$F88)*($E88-FV$10),$U88/($E88-$F88)*(FW$10-FV$10)),$U88/($E88-$F88)*(FW$10-$F88)),\"x\")))","v":"x"},"x","x","x","x","x","x","x","x","x","x","x","x","x","x","x","x","x","x","x","x","x","x","x","x","x","x","x","x","x","x","x",{"$f":"IF(OR($V88=\"Utility\",$AA88=0),\"x\",IF($G88=\"cold\",\"x\",IF(AND(HC$10>$F88,HB$10<$E88),IF(HB$10>$F88,IF(HC$10>$E88,$U88/($E88-$F88)*($E88-HB$10),$U88/($E88-$F88)*(HC$10-HB$10)),$U88/($E88-$F88)*(HC$10-$F88)),\"x\")))","v":"x"},"x","x","x","x","x","x","x","x","x","x","x","x","x","x","x","x","x","x","x","x","x","x","x","x","x","x","x","x","x","x","x","x","x","x","x","x"]
[{"$f":"IF(D89=\"\",\"\",A88+1)","v":""},{"$f":"IF(G89=\"hot\",COUNTIF($G$11:G89,\"hot\"),\"\")","v":""},{"$f":"IF(G89=\"cold\",COUNTIF($G$11:G89,\"cold\"),\"\")","v":""},null,null,null,"",null,null,"","","",null,null,null,null,null,null,null,null,"",null,"","","","","",null,null,null,null,null,null,null,null,null,null,null,0,null,{"$f":"IF(OR($V89=\"Utility\",$AA89=0),\"x\",IF($G89=\"hot\",\"x\",IF(AND(AO$10>$E89,AN$10<$F89),IF(AN$10>$E89,IF(AO$10>$F89,$U89/($F89-$E89)*($F89-AN$10),$U89/($F89-$E89)*(AO$10-AN$10)),$U89/($F89-$E89)*(AO$10-$E89)),\"x\")))","v":"x"},"x","x","x","x","x","x","x","x","x","x","x","x","x","x","x","x","x","x","x","x","x","x","x","x","x","x","x","x","x","x","x",{"$f":"IF(OR($V89=\"Utility\",$AA89=0),\"x\",IF($G89=\"hot\",\"x\",IF(AND(BU$10>$E89,BT$10<$F89),IF(BT$10>$E89,IF(BU$10>$F89,$U89/($F89-$E89)*($F89-BT$10),$U89/($F89-$E89)*(BU$10-BT$10)),$U89/($F89-$E89)*(BU$10-$E89)),\"x\")))","v":"x"},"x","x","x","x","x","x","x","x","x","x","x","x","x","x","x","x","x","x","x","x","x","x","x","x","x","x","x","x","x","x","x",{"$f":"IF(OR($V89=\"Utility\",$AA89=0),\"x\",IF($G89=\"hot\",\"x\",IF(AND(DA$10>$E89,CZ$10<$F89),IF(CZ$10>$E89,IF(DA$10>$F89,$U89/($F89-$E89)*($F89-CZ$10),$U89/($F89-$E89)*(DA$10-CZ$10)),$U89/($F89-$E89)*(DA$10-$E89)),\"x\")))","v":"x"},"x","x","x","x","x","x","x","x","x","x","x","x","x","x","x","x","x","x","x","x","x","x","x","x","x","x","x","x","x","x","x","x","x","x","x","x",null,null,null,0,null,{"$f":"IF(OR($V89=\"Utility\",$AA89=0),\"x\",IF($G89=\"cold\",\"x\",IF(AND(EQ$10>$F89,EP$10<$E89),IF(EP$10>$F89,IF(EQ$10>$E89,$U89/($E89-$F89)*($E89-EP$10),$U89/($E89-$F89)*(EQ$10-EP$10)),$U89/($E89-$F89)*(EQ$10-$F89)),\"x\")))","v":"x"},"x","x","x","x","x","x","x","x","x","x","x","x","x","x","x","x","x","x","x","x","x","x","x","x","x","x","x","x","x","x","x",{"$f":"IF(OR($V89=\"Utility\",$AA89=0),\"x\",IF($G89=\"cold\",\"x\",IF(AND(FW$10>$F89,FV$10<$E89),IF(FV$10>$F89,IF(FW$10>$E89,$U89/($E89-$F89)*($E89-FV$10),$U89/($E89-$F89)*(FW$10-FV$10)),$U89/($E89-$F89)*(FW$10-$F89)),\"x\")))","v":"x"},"x","x","x","x","x","x","x","x","x","x","x","x","x","x","x","x","x","x","x","x","x","x","x","x","x","x","x","x","x","x","x",{"$f":"IF(OR($V89=\"Utility\",$AA89=0),\"x\",IF($G89=\"cold\",\"x\",IF(AND(HC$10>$F89,HB$10<$E89),IF(HB$10>$F89,IF(HC$10>$E89,$U89/($E89-$F89)*($E89-HB$10),$U89/($E89-$F89)*(HC$10-HB$10)),$U89/($E89-$F89)*(HC$10-$F89)),\"x\")))","v":"x"},"x","x","x","x","x","x","x","x","x","x","x","x","x","x","x","x","x","x","x","x","x","x","x","x","x","x","x","x","x","x","x","x","x","x","x","x"]
["",{"$f":"IF(G90=\"hot\",COUNTIF($G$11:G90,\"hot\"),\"\")","v":""},{"$f":"IF(G90=\"cold\",COUNTIF($G$11:G90,\"cold\"),\"\")","v":""},null,null,null,"",null,null,"","","",null,null,null,null,null,null,null,null,"",null,"","","","","",null,null,null,null,null,null,null,null,null,null,null,0,null,{"$f":"IF(OR($V90=\"Utility\",$AA90=0),\"x\",IF($G90=\"hot\",\"x\",IF(AND(AO$10>$E90,AN$10<$F90),IF(AN$10>$E90,IF(AO$10>$F90,$U90/($F90-$E90)*($F90-AN$10),$U90/($F90-$E90)*(AO$10-AN$10)),$U90/($F90-$E90)*(AO$10-$E90)),\"x\")))","v":"x"},"x","x","x","x","x","x","x","x","x","x","x","x","x","x","x","x","x","x","x","x","x","x","x","x","x","x","x","x","x","x","x",{"$f":"IF(OR($V90=\"Utility\",$AA90=0),\"x\",IF($G90=\"hot\",\"x\",IF(AND(BU$10>$E90,BT$10<$F90),IF(BT$10>$E90,IF(BU$10>$F90,$U90/($F90-$E90)*($F90-BT$10),$U90/($F90-$E90)*(BU$10-BT$10)),$U90/($F90-$E90)*(BU$10-$E90)),\"x\")))","v":"x"},"x","x","x","x","x","x","x","x","x","x","x","x","x","x","x","x","x","x","x","x","x","x","x","x","x","x","x","x","x","x","x",{"$f":"IF(OR($V90=\"Utility\",$AA90=0),\"x\",IF($G90=\"hot\",\"x\",IF(AND(DA$10>$E90,CZ$10<$F90),IF(CZ$10>$E90,IF(DA$10>$F90,$U90/($F90-$E90)*($F90-CZ$10),$U90/($F90-$E90)*(DA$10-CZ$10)),$U90/($F90-$E90)*(DA$10-$E90)),\"x\")))","v":"x"},"x","x","x","x","x","x","x","x","x","x","x","x","x","x","x","x","x","x","x","x","x","x","x","x","x","x","x","x","x","x","x","x","x","x","x","x",null,null,null,0,null,{"$f":"IF(OR($V90=\"Utility\",$AA90=0),\"x\",IF($G90=\"cold\",\"x\",IF(AND(EQ$10>$F90,EP$10<$E90),IF(EP$10>$F90,IF(EQ$10>$E90,$U90/($E90-$F90)*($E90-EP$10),$U90/($E90-$F90)*(EQ$10-EP$10)),$U90/($E90-$F90)*(EQ$10-$F90)),\"x\")))","v":"x"},"x","x","x","x","x","x","x","x","x","x","x","x","x","x","x","x","x","x","x","x","x","x","x","x","x","x","x","x","x","x","x",{"$f":"IF(OR($V90=\"Utility\",$AA90=0),\"x\",IF($G90=\"cold\",\"x\",IF(AND(FW$10>$F90,FV$10<$E90),IF(FV$10>$F90,IF(FW$10>$E90,$U90/($E90-$F90)*($E90-FV$10),$U90/($E90-$F90)*(FW$10-FV$10)),$U90/($E90-$F90)*(FW$10-$F90)),\"x\")))","v":"x"},"x","x","x","x","x","x","x","x","x","x","x","x","x","x","x","x","x","x","x","x","x","x","x","x","x","x","x","x","x","x","x",{"$f":"IF(OR($V90=\"Utility\",$AA90=0),\"x\",IF($G90=\"cold\",\"x\",IF(AND(HC$10>$F90,HB$10<$E90),IF(HB$10>$F90,IF(HC$10>$E90,$U90/($E90-$F90)*($E90-HB$10),$U90/($E90-$F90)*(HC$10-HB$10)),$U90/($E90-$F90)*(HC$10-$F90)),\"x\")))","v":"x"},"x","x","x","x","x","x","x","x","x","x","x","x","x","x","x","x","x","x","x","x","x","x","x","x","x","x","x","x","x","x","x","x","x","x","x","x"]
["",{"$f":"IF(G91=\"hot\",COUNTIF($G$11:G91,\"hot\"),\"\")","v":""},{"$f":"IF(G91=\"cold\",COUNTIF($G$11:G91,\"cold\"),\"\")","v":""},null,null,null,"",null,null,"","","",null,null,null,null,null,null,null,null,"",null,"","","","","",null,null,null,null,null,null,null,null,null,null,null,0,null,{"$f":"IF(OR($V91=\"Utility\",$AA91=0),\"x\",IF($G91=\"hot\",\"x\",IF(AND(AO$10>$E91,AN$10<$F91),IF(AN$10>$E91,IF(AO$10>$F91,$U91/($F91-$E91)*($F91-AN$10),$U91/($F91-$E91)*(AO$10-AN$10)),$U91/($F91-$E91)*(AO$10-$E91)),\"x\")))","v":"x"},"x","x","x","x","x","x","x","x","x","x","x","x","x","x","x","x","x","x","x","x","x","x","x","x","x","x","x","x","x","x","x",{"$f":"IF(OR($V91=\"Utility\",$AA91=0),\"x\",IF($G91=\"hot\",\"x\",IF(AND(BU$10>$E91,BT$10<$F91),IF(BT$10>$E91,IF(BU$10>$F91,$U91/($F91-$E91)*($F91-BT$10),$U91/($F91-$E91)*(BU$10-BT$10)),$U91/($F91-$E91)*(BU$10-$E91)),\"x\")))","v":"x"},"x","x","x","x","x","x","x","x","x","x","x","x","x","x","x","x","x","x","x","x","x","x","x","x","x","x","x","x","x","x","x",{"$f":"IF(OR($V91=\"Utility\",$AA91=0),\"x\",IF($G91=\"hot\",\"x\",IF(AND(DA$10>$E91,CZ$10<$F91),IF(CZ$10>$E91,IF(DA$10>$F91,$U91/($F91-$E91)*($F91-CZ$10),$U91/($F91-$E91)*(DA$10-CZ$10)),$U91/($F91-$E91)*(DA$10-$E91)),\"x\")))","v":"x"},"x","x","x","x","x","x","x","x","x","x","x","x","x","x","x","x","x","x","x","x","x","x","x","x","x","x","x","x","x","x","x","x","x","x","x","x",null,null,null,0,null,{"$f":"IF(OR($V91=\"Utility\",$AA91=0),\"x\",IF($G91=\"cold\",\"x\",IF(AND(EQ$10>$F91,EP$10<$E91),IF(EP$10>$F91,IF(EQ$10>$E91,$U91/($E91-$F91)*($E91-EP$10),$U91/($E91-$F91)*(EQ$10-EP$10)),$U91/($E91-$F91)*(EQ$10-$F91)),\"x\")))","v":"x"},"x","x","x","x","x","x","x","x","x","x","x","x","x","x","x","x","x","x","x","x","x","x","x","x","x","x","x","x","x","x","x",{"$f":"IF(OR($V91=\"Utility\",$AA91=0),\"x\",IF($G91=\"cold\",\"x\",IF(AND(FW$10>$F91,FV$10<$E91),IF(FV$10>$F91,IF(FW$10>$E91,$U91/($E91-$F91)*($E91-FV$10),$U91/($E91-$F91)*(FW$10-FV$10)),$U91/($E91-$F91)*(FW$10-$F91)),\"x\")))","v":"x"},"x","x","x","x","x","x","x","x","x","x","x","x","x","x","x","x","x","x","x","x","x","x","x","x","x","x","x","x","x","x","x",{"$f":"IF(OR($V91=\"Utility\",$AA91=0),\"x\",IF($G91=\"cold\",\"x\",IF(AND(HC$10>$F91,HB$10<$E91),IF(HB$10>$F91,IF(HC$10>$E91,$U91/($E91-$F91)*($E91-HB$10),$U91/($E91-$F91)*(HC$10-HB$10)),$U91/($E91-$F91)*(HC$10-$F91)),\"x\")))","v":"x"},"x","x","x","x","x","x","x","x","x","x","x","x","x","x","x","x","x","x","x","x","x","x","x","x","x","x","x","x","x","x","x","x","x","x","x","x"]
["",{"$f":"IF(G92=\"hot\",COUNTIF($G$11:G92,\"hot\"),\"\")","v":""},{"$f":"IF(G92=\"cold\",COUNTIF($G$11:G92,\"cold\"),\"\")","v":""},null,null,null,"",null,null,"","","",null,null,null,null,null,null,null,null,"",null,"","","","","",null,null,null,null,null,null,null,null,null,null,null,0,null,{"$f":"IF(OR($V92=\"Utility\",$AA92=0),\"x\",IF($G92=\"hot\",\"x\",IF(AND(AO$10>$E92,AN$10<$F92),IF(AN$10>$E92,IF(AO$10>$F92,$U92/($F92-$E92)*($F92-AN$10),$U92/($F92-$E92)*(AO$10-AN$10)),$U92/($F92-$E92)*(AO$10-$E92)),\"x\")))","v":"x"},"x","x","x","x","x","x","x","x","x","x","x","x","x","x","x","x","x","x","x","x","x","x","x","x","x","x","x","x","x","x","x",{"$f":"IF(OR($V92=\"Utility\",$AA92=0),\"x\",IF($G92=\"hot\",\"x\",IF(AND(BU$10>$E92,BT$10<$F92),IF(BT$10>$E92,IF(BU$10>$F92,$U92/($F92-$E92)*($F92-BT$10),$U92/($F92-$E92)*(BU$10-BT$10)),$U92/($F92-$E92)*(BU$10-$E92)),\"x\")))","v":"x"},"x","x","x","x","x","x","x","x","x","x","x","x","x","x","x","x","x","x","x","x","x","x","x","x","x","x","x","x","x","x","x",{"$f":"IF(OR($V92=\"Utility\",$AA92=0),\"x\",IF($G92=\"hot\",\"x\",IF(AND(DA$10>$E92,CZ$10<$F92),IF(CZ$10>$E92,IF(DA$10>$F92,$U92/($F92-$E92)*($F92-CZ$10),$U92/($F92-$E92)*(DA$10-CZ$10)),$U92/($F92-$E92)*(DA$10-$E92)),\"x\")))","v":"x"},"x","x","x","x","x","x","x","x","x","x","x","x","x","x","x","x","x","x","x","x","x","x","x","x","x","x","x","x","x","x","x","x","x","x","x","x",null,null,null,0,null,{"$f":"IF(OR($V92=\"Utility\",$AA92=0),\"x\",IF($G92=\"cold\",\"x\",IF(AND(EQ$10>$F92,EP$10<$E92),IF(EP$10>$F92,IF(EQ$10>$E92,$U92/($E92-$F92)*($E92-EP$10),$U92/($E92-$F92)*(EQ$10-EP$10)),$U92/($E92-$F92)*(EQ$10-$F92)),\"x\")))","v":"x"},"x","x","x","x","x","x","x","x","x","x","x","x","x","x","x","x","x","x","x","x","x","x","x","x","x","x","x","x","x","x","x",{"$f":"IF(OR($V92=\"Utility\",$AA92=0),\"x\",IF($G92=\"cold\",\"x\",IF(AND(FW$10>$F92,FV$10<$E92),IF(FV$10>$F92,IF(FW$10>$E92,$U92/($E92-$F92)*($E92-FV$10),$U92/($E92-$F92)*(FW$10-FV$10)),$U92/($E92-$F92)*(FW$10-$F92)),\"x\")))","v":"x"},"x","x","x","x","x","x","x","x","x","x","x","x","x","x","x","x","x","x","x","x","x","x","x","x","x","x","x","x","x","x","x",{"$f":"IF(OR($V92=\"Utility\",$AA92=0),\"x\",IF($G92=\"cold\",\"x\",IF(AND(HC$10>$F92,HB$10<$E92),IF(HB$10>$F92,IF(HC$10>$E92,$U92/($E92-$F92)*($E92-HB$10),$U92/($E92-$F92)*(HC$10-HB$10)),$U92/($E92-$F92)*(HC$10-$F92)),\"x\")))","v":"x"},"x","x","x","x","x","x","x","x","x","x","x","x","x","x","x","x","x","x","x","x","x","x","x","x","x","x","x","x","x","x","x","x","x","x","x","x"]
["",{"$f":"IF(G93=\"hot\",COUNTIF($G$11:G93,\"hot\"),\"\")","v":""},{"$f":"IF(G93=\"cold\",COUNTIF($G$11:G93,\"cold\"),\"\")","v":""},null,null,null,"",null,null,"","","",null,null,null,null,null,null,null,null,"",null,"","","","","",null,null,null,null,null,null,null,null,null,null,null,0,null,{"$f":"IF(OR($V93=\"Utility\",$AA93=0),\"x\",IF($G93=\"hot\",\"x\",IF(AND(AO$10>$E93,AN$10<$F93),IF(AN$10>$E93,IF(AO$10>$F93,$U93/($F93-$E93)*($F93-AN$10),$U93/($F93-$E93)*(AO$10-AN$10)),$U93/($F93-$E93)*(AO$10-$E93)),\"x\")))","v":"x"},"x","x","x","x","x","x","x","x","x","x","x","x","x","x","x","x","x","x","x","x","x","x","x","x","x","x","x","x","x","x","x",{"$f":"IF(OR($V93=\"Utility\",$AA93=0),\"x\",IF($G93=\"hot\",\"x\",IF(AND(BU$10>$E93,BT$10<$F93),IF(BT$10>$E93,IF(BU$10>$F93,$U93/($F93-$E93)*($F93-BT$10),$U93/($F93-$E93)*(BU$10-BT$10)),$U93/($F93-$E93)*(BU$10-$E93)),\"x\")))","v":"x"},"x","x","x","x","x","x","x","x","x","x","x","x","x","x","x","x","x","x","x","x","x","x","x","x","x","x","x","x","x","x","x",{"$f":"IF(OR($V93=\"Utility\",$AA93=0),\"x\",IF($G93=\"hot\",\"x\",IF(AND(DA$10>$E93,CZ$10<$F93),IF(CZ$10>$E93,IF(DA$10>$F93,$U93/($F93-$E93)*($F93-CZ$10),$U93/($F93-$E93)*(DA$10-CZ$10)),$U93/($F93-$E93)*(DA$10-$E93)),\"x\")))","v":"x"},"x","x","x","x","x","x","x","x","x","x","x","x","x","x","x","x","x","x","x","x","x","x","x","x","x","x","x","x","x","x","x","x","x","x","x","x",null,null,null,0,null,{"$f":"IF(OR($V93=\"Utility\",$AA93=0),\"x\",IF($G93=\"cold\",\"x\",IF(AND(EQ$10>$F93,EP$10<$E93),IF(EP$10>$F93,IF(EQ$10>$E93,$U93/($E93-$F93)*($E93-EP$10),$U93/($E93-$F93)*(EQ$10-EP$10)),$U93/($E93-$F93)*(EQ$10-$F93)),\"x\")))","v":"x"},"x","x","x","x","x","x","x","x","x","x","x","x","x","x","x","x","x","x","x","x","x","x","x","x","x","x","x","x","x","x","x",{"$f":"IF(OR($V93=\"Utility\",$AA93=0),\"x\",IF($G93=\"cold\",\"x\",IF(AND(FW$10>$F93,FV$10<$E93),IF(FV$10>$F93,IF(FW$10>$E93,$U93/($E93-$F93)*($E93-FV$10),$U93/($E93-$F93)*(FW$10-FV$10)),$U93/($E93-$F93)*(FW$10-$F93)),\"x\")))","v":"x"},"x","x","x","x","x","x","x","x","x","x","x","x","x","x","x","x","x","x","x","x","x","x","x","x","x","x","x","x","x","x","x",{"$f":"IF(OR($V93=\"Utility\",$AA93=0),\"x\",IF($G93=\"cold\",\"x\",IF(AND(HC$10>$F93,HB$10<$E93),IF(HB$10>$F93,IF(HC$10>$E93,$U93/($E93-$F93)*($E93-HB$10),$U93/($E93-$F93)*(HC$10-HB$10)),$U93/($E93-$F93)*(HC$10-$F93)),\"x\")))","v":"x"},"x","x","x","x","x","x","x","x","x","x","x","x","x","x","x","x","x","x","x","x","x","x","x","x","x","x","x","x","x","x","x","x","x","x","x","x"]
["",{"$f":"IF(G94=\"hot\",COUNTIF($G$11:G94,\"hot\"),\"\")","v":""},{"$f":"IF(G94=\"cold\",COUNTIF($G$11:G94,\"cold\"),\"\")","v":""},null,null,null,"",null,null,"","","",null,null,null,null,null,null,null,null,"",null,"","","","","",null,null,null,null,null,null,null,null,null,null,null,0,null,{"$f":"IF(OR($V94=\"Utility\",$AA94=0),\"x\",IF($G94=\"hot\",\"x\",IF(AND(AO$10>$E94,AN$10<$F94),IF(AN$10>$E94,IF(AO$10>$F94,$U94/($F94-$E94)*($F94-AN$10),$U94/($F94-$E94)*(AO$10-AN$10)),$U94/($F94-$E94)*(AO$10-$E94)),\"x\")))","v":"x"},"x","x","x","x","x","x","x","x","x","x","x","x","x","x","x","x","x","x","x","x","x","x","x","x","x","x","x","x","x","x","x",{"$f":"IF(OR($V94=\"Utility\",$AA94=0),\"x\",IF($G94=\"hot\",\"x\",IF(AND(BU$10>$E94,BT$10<$F94),IF(BT$10>$E94,IF(BU$10>$F94,$U94/($F94-$E94)*($F94-BT$10),$U94/($F94-$E94)*(BU$10-BT$10)),$U94/($F94-$E94)*(BU$10-$E94)),\"x\")))","v":"x"},"x","x","x","x","x","x","x","x","x","x","x","x","x","x","x","x","x","x","x","x","x","x","x","x","x","x","x","x","x","x","x",{"$f":"IF(OR($V94=\"Utility\",$AA94=0),\"x\",IF($G94=\"hot\",\"x\",IF(AND(DA$10>$E94,CZ$10<$F94),IF(CZ$10>$E94,IF(DA$10>$F94,$U94/($F94-$E94)*($F94-CZ$10),$U94/($F94-$E94)*(DA$10-CZ$10)),$U94/($F94-$E94)*(DA$10-$E94)),\"x\")))","v":"x"},"x","x","x","x","x","x","x","x","x","x","x","x","x","x","x","x","x","x","x","x","x","x","x","x","x","x","x","x","x","x","x","x","x","x","x","x",null,null,null,0,null,{"$f":"IF(OR($V94=\"Utility\",$AA94=0),\"x\",IF($G94=\"cold\",\"x\",IF(AND(EQ$10>$F94,EP$10<$E94),IF(EP$10>$F94,IF(EQ$10>$E94,$U94/($E94-$F94)*($E94-EP$10),$U94/($E94-$F94)*(EQ$10-EP$10)),$U94/($E94-$F94)*(EQ$10-$F94)),\"x\")))","v":"x"},"x","x","x","x","x","x","x","x","x","x","x","x","x","x","x","x","x","x","x","x","x","x","x","x","x","x","x","x","x","x","x",{"$f":"IF(OR($V94=\"Utility\",$AA94=0),\"x\",IF($G94=\"cold\",\"x\",IF(AND(FW$10>$F94,FV$10<$E94),IF(FV$10>$F94,IF(FW$10>$E94,$U94/($E94-$F94)*($E94-FV$10),$U94/($E94-$F94)*(FW$10-FV$10)),$U94/($E94-$F94)*(FW$10-$F94)),\"x\")))","v":"x"},"x","x","x","x","x","x","x","x","x","x","x","x","x","x","x","x","x","x","x","x","x","x","x","x","x","x","x","x","x","x","x",{"$f":"IF(OR($V94=\"Utility\",$AA94=0),\"x\",IF($G94=\"cold\",\"x\",IF(AND(HC$10>$F94,HB$10<$E94),IF(HB$10>$F94,IF(HC$10>$E94,$U94/($E94-$F94)*($E94-HB$10),$U94/($E94-$F94)*(HC$10-HB$10)),$U94/($E94-$F94)*(HC$10-$F94)),\"x\")))","v":"x"},"x","x","x","x","x","x","x","x","x","x","x","x","x","x","x","x","x","x","x","x","x","x","x","x","x","x","x","x","x","x","x","x","x","x","x","x"]
["",{"$f":"IF(G95=\"hot\",COUNTIF($G$11:G95,\"hot\"),\"\")","v":""},{"$f":"IF(G95=\"cold\",COUNTIF($G$11:G95,\"cold\"),\"\")","v":""},null,null,null,"",null,null,"","","",null,null,null,null,null,null,null,null,"",null,"","","","","",null,null,null,null,null,null,null,null,null,null,null,0,null,{"$f":"IF(OR($V95=\"Utility\",$AA95=0),\"x\",IF($G95=\"hot\",\"x\",IF(AND(AO$10>$E95,AN$10<$F95),IF(AN$10>$E95,IF(AO$10>$F95,$U95/($F95-$E95)*($F95-AN$10),$U95/($F95-$E95)*(AO$10-AN$10)),$U95/($F95-$E95)*(AO$10-$E95)),\"x\")))","v":"x"},"x","x","x","x","x","x","x","x","x","x","x","x","x","x","x","x","x","x","x","x","x","x","x","x","x","x","x","x","x","x","x",{"$f":"IF(OR($V95=\"Utility\",$AA95=0),\"x\",IF($G95=\"hot\",\"x\",IF(AND(BU$10>$E95,BT$10<$F95),IF(BT$10>$E95,IF(BU$10>$F95,$U95/($F95-$E95)*($F95-BT$10),$U95/($F95-$E95)*(BU$10-BT$10)),$U95/($F95-$E95)*(BU$10-$E95)),\"x\")))","v":"x"},"x","x","x","x","x","x","x","x","x","x","x","x","x","x","x","x","x","x","x","x","x","x","x","x","x","x","x","x","x","x","x",{"$f":"IF(OR($V95=\"Utility\",$AA95=0),\"x\",IF($G95=\"hot\",\"x\",IF(AND(DA$10>$E95,CZ$10<$F95),IF(CZ$10>$E95,IF(DA$10>$F95,$U95/($F95-$E95)*($F95-CZ$10),$U95/($F95-$E95)*(DA$10-CZ$10)),$U95/($F95-$E95)*(DA$10-$E95)),\"x\")))","v":"x"},"x","x","x","x","x","x","x","x","x","x","x","x","x","x","x","x","x","x","x","x","x","x","x","x","x","x","x","x","x","x","x","x","x","x","x","x",null,null,null,0,null,{"$f":"IF(OR($V95=\"Utility\",$AA95=0),\"x\",IF($G95=\"cold\",\"x\",IF(AND(EQ$10>$F95,EP$10<$E95),IF(EP$10>$F95,IF(EQ$10>$E95,$U95/($E95-$F95)*($E95-EP$10),$U95/($E95-$F95)*(EQ$10-EP$10)),$U95/($E95-$F95)*(EQ$10-$F95)),\"x\")))","v":"x"},"x","x","x","x","x","x","x","x","x","x","x","x","x","x","x","x","x","x","x","x","x","x","x","x","x","x","x","x","x","x","x",{"$f":"IF(OR($V95=\"Utility\",$AA95=0),\"x\",IF($G95=\"cold\",\"x\",IF(AND(FW$10>$F95,FV$10<$E95),IF(FV$10>$F95,IF(FW$10>$E95,$U95/($E95-$F95)*($E95-FV$10),$U95/($E95-$F95)*(FW$10-FV$10)),$U95/($E95-$F95)*(FW$10-$F95)),\"x\")))","v":"x"},"x","x","x","x","x","x","x","x","x","x","x","x","x","x","x","x","x","x","x","x","x","x","x","x","x","x","x","x","x","x","x",{"$f":"IF(OR($V95=\"Utility\",$AA95=0),\"x\",IF($G95=\"cold\",\"x\",IF(AND(HC$10>$F95,HB$10<$E95),IF(HB$10>$F95,IF(HC$10>$E95,$U95/($E95-$F95)*($E95-HB$10),$U95/($E95-$F95)*(HC$10-HB$10)),$U95/($E95-$F95)*(HC$10-$F95)),\"x\")))","v":"x"},"x","x","x","x","x","x","x","x","x","x","x","x","x","x","x","x","x","x","x","x","x","x","x","x","x","x","x","x","x","x","x","x","x","x","x","x"]
["",{"$f":"IF(G96=\"hot\",COUNTIF($G$11:G96,\"hot\"),\"\")","v":""},{"$f":"IF(G96=\"cold\",COUNTIF($G$11:G96,\"cold\"),\"\")","v":""},null,null,null,"",null,null,"","","",null,null,null,null,null,null,null,null,"",null,"","","","","",null,null,null,null,null,null,null,null,null,null,null,0,null,{"$f":"IF(OR($V96=\"Utility\",$AA96=0),\"x\",IF($G96=\"hot\",\"x\",IF(AND(AO$10>$E96,AN$10<$F96),IF(AN$10>$E96,IF(AO$10>$F96,$U96/($F96-$E96)*($F96-AN$10),$U96/($F96-$E96)*(AO$10-AN$10)),$U96/($F96-$E96)*(AO$10-$E96)),\"x\")))","v":"x"},"x","x","x","x","x","x","x","x","x","x","x","x","x","x","x","x","x","x","x","x","x","x","x","x","x","x","x","x","x","x","x",{"$f":"IF(OR($V96=\"Utility\",$AA96=0),\"x\",IF($G96=\"hot\",\"x\",IF(AND(BU$10>$E96,BT$10<$F96),IF(BT$10>$E96,IF(BU$10>$F96,$U96/($F96-$E96)*($F96-BT$10),$U96/($F96-$E96)*(BU$10-BT$10)),$U96/($F96-$E96)*(BU$10-$E96)),\"x\")))","v":"x"},"x","x","x","x","x","x","x","x","x","x","x","x","x","x","x","x","x","x","x","x","x","x","x","x","x","x","x","x","x","x","x",{"$f":"IF(OR($V96=\"Utility\",$AA96=0),\"x\",IF($G96=\"hot\",\"x\",IF(AND(DA$10>$E96,CZ$10<$F96),IF(CZ$10>$E96,IF(DA$10>$F96,$U96/($F96-$E96)*($F96-CZ$10),$U96/($F96-$E96)*(DA$10-CZ$10)),$U96/($F96-$E96)*(DA$10-$E96)),\"x\")))","v":"x"},"x","x","x","x","x","x","x","x","x","x","x","x","x","x","x","x","x","x","x","x","x","x","x","x","x","x","x","x","x","x","x","x","x","x","x","x",null,null,null,0,null,{"$f":"IF(OR($V96=\"Utility\",$AA96=0),\"x\",IF($G96=\"cold\",\"x\",IF(AND(EQ$10>$F96,EP$10<$E96),IF(EP$10>$F96,IF(EQ$10>$E96,$U96/($E96-$F96)*($E96-EP$10),$U96/($E96-$F96)*(EQ$10-EP$10)),$U96/($E96-$F96)*(EQ$10-$F96)),\"x\")))","v":"x"},"x","x","x","x","x","x","x","x","x","x","x","x","x","x","x","x","x","x","x","x","x","x","x","x","x","x","x","x","x","x","x",{"$f":"IF(OR($V96=\"Utility\",$AA96=0),\"x\",IF($G96=\"cold\",\"x\",IF(AND(FW$10>$F96,FV$10<$E96),IF(FV$10>$F96,IF(FW$10>$E96,$U96/($E96-$F96)*($E96-FV$10),$U96/($E96-$F96)*(FW$10-FV$10)),$U96/($E96-$F96)*(FW$10-$F96)),\"x\")))","v":"x"},"x","x","x","x","x","x","x","x","x","x","x","x","x","x","x","x","x","x","x","x","x","x","x","x","x","x","x","x","x","x","x",{"$f":"IF(OR($V96=\"Utility\",$AA96=0),\"x\",IF($G96=\"cold\",\"x\",IF(AND(HC$10>$F96,HB$10<$E96),IF(HB$10>$F96,IF(HC$10>$E96,$U96/($E96-$F96)*($E96-HB$10),$U96/($E96-$F96)*(HC$10-HB$10)),$U96/($E96-$F96)*(HC$10-$F96)),\"x\")))","v":"x"},"x","x","x","x","x","x","x","x","x","x","x","x","x","x","x","x","x","x","x","x","x","x","x","x","x","x","x","x","x","x","x","x","x","x","x","x"]
["",{"$f":"IF(G97=\"hot\",COUNTIF($G$11:G97,\"hot\"),\"\")","v":""},{"$f":"IF(G97=\"cold\",COUNTIF($G$11:G97,\"cold\"),\"\")","v":""},null,null,null,"",null,null,"","","",null,null,null,null,null,null,null,null,"",null,"","","","","",null,null,null,null,null,null,null,null,null,null,null,0,null,{"$f":"IF(OR($V97=\"Utility\",$AA97=0),\"x\",IF($G97=\"hot\",\"x\",IF(AND(AO$10>$E97,AN$10<$F97),IF(AN$10>$E97,IF(AO$10>$F97,$U97/($F97-$E97)*($F97-AN$10),$U97/($F97-$E97)*(AO$10-AN$10)),$U97/($F97-$E97)*(AO$10-$E97)),\"x\")))","v":"x"},"x","x","x","x","x","x","x","x","x","x","x","x","x","x","x","x","x","x","x","x","x","x","x","x","x","x","x","x","x","x","x",{"$f":"IF(OR($V97=\"Utility\",$AA97=0),\"x\",IF($G97=\"hot\",\"x\",IF(AND(BU$10>$E97,BT$10<$F97),IF(BT$10>$E97,IF(BU$10>$F97,$U97/($F97-$E97)*($F97-BT$10),$U97/($F97-$E97)*(BU$10-BT$10)),$U97/($F97-$E97)*(BU$10-$E97)),\"x\")))","v":"x"},"x","x","x","x","x","x","x","x","x","x","x","x","x","x","x","x","x","x","x","x","x","x","x","x","x","x","x","x","x","x","x",{"$f":"IF(OR($V97=\"Utility\",$AA97=0),\"x\",IF($G97=\"hot\",\"x\",IF(AND(DA$10>$E97,CZ$10<$F97),IF(CZ$10>$E97,IF(DA$10>$F97,$U97/($F97-$E97)*($F97-CZ$10),$U97/($F97-$E97)*(DA$10-CZ$10)),$U97/($F97-$E97)*(DA$10-$E97)),\"x\")))","v":"x"},"x","x","x","x","x","x","x","x","x","x","x","x","x","x","x","x","x","x","x","x","x","x","x","x","x","x","x","x","x","x","x","x","x","x","x","x",null,null,null,0,null,{"$f":"IF(OR($V97=\"Utility\",$AA97=0),\"x\",IF($G97=\"cold\",\"x\",IF(AND(EQ$10>$F97,EP$10<$E97),IF(EP$10>$F97,IF(EQ$10>$E97,$U97/($E97-$F97)*($E97-EP$10),$U97/($E97-$F97)*(EQ$10-EP$10)),$U97/($E97-$F97)*(EQ$10-$F97)),\"x\")))","v":"x"},"x","x","x","x","x","x","x","x","x","x","x","x","x","x","x","x","x","x","x","x","x","x","x","x","x","x","x","x","x","x","x",{"$f":"IF(OR($V97=\"Utility\",$AA97=0),\"x\",IF($G97=\"cold\",\"x\",IF(AND(FW$10>$F97,FV$10<$E97),IF(FV$10>$F97,IF(FW$10>$E97,$U97/($E97-$F97)*($E97-FV$10),$U97/($E97-$F97)*(FW$10-FV$10)),$U97/($E97-$F97)*(FW$10-$F97)),\"x\")))","v":"x"},"x","x","x","x","x","x","x","x","x","x","x","x","x","x","x","x","x","x","x","x","x","x","x","x","x","x","x","x","x","x","x",{"$f":"IF(OR($V97=\"Utility\",$AA97=0),\"x\",IF($G97=\"cold\",\"x\",IF(AND(HC$10>$F97,HB$10<$E97),IF(HB$10>$F97,IF(HC$10>$E97,$U97/($E97-$F97)*($E97-HB$10),$U97/($E97-$F97)*(HC$10-HB$10)),$U97/($E97-$F97)*(HC$10-$F97)),\"x\")))","v":"x"},"x","x","x","x","x","x","x","x","x","x","x","x","x","x","x","x","x","x","x","x","x","x","x","x","x","x","x","x","x","x","x","x","x","x","x","x"]
["",{"$f":"IF(G98=\"hot\",COUNTIF($G$11:G98,\"hot\"),\"\")","v":""},{"$f":"IF(G98=\"cold\",COUNTIF($G$11:G98,\"cold\"),\"\")","v":""},null,null,null,"",null,null,"","","",null,null,null,null,null,null,null,null,"",null,"","","","","",null,null,null,null,null,null,null,null,null,null,null,0,null,{"$f":"IF(OR($V98=\"Utility\",$AA98=0),\"x\",IF($G98=\"hot\",\"x\",IF(AND(AO$10>$E98,AN$10<$F98),IF(AN$10>$E98,IF(AO$10>$F98,$U98/($F98-$E98)*($F98-AN$10),$U98/($F98-$E98)*(AO$10-AN$10)),$U98/($F98-$E98)*(AO$10-$E98)),\"x\")))","v":"x"},"x","x","x","x","x","x","x","x","x","x","x","x","x","x","x","x","x","x","x","x","x","x","x","x","x","x","x","x","x","x","x",{"$f":"IF(OR($V98=\"Utility\",$AA98=0),\"x\",IF($G98=\"hot\",\"x\",IF(AND(BU$10>$E98,BT$10<$F98),IF(BT$10>$E98,IF(BU$10>$F98,$U98/($F98-$E98)*($F98-BT$10),$U98/($F98-$E98)*(BU$10-BT$10)),$U98/($F98-$E98)*(BU$10-$E98)),\"x\")))","v":"x"},"x","x","x","x","x","x","x","x","x","x","x","x","x","x","x","x","x","x","x","x","x","x","x","x","x","x","x","x","x","x","x",{"$f":"IF(OR($V98=\"Utility\",$AA98=0),\"x\",IF($G98=\"hot\",\"x\",IF(AND(DA$10>$E98,CZ$10<$F98),IF(CZ$10>$E98,IF(DA$10>$F98,$U98/($F98-$E98)*($F98-CZ$10),$U98/($F98-$E98)*(DA$10-CZ$10)),$U98/($F98-$E98)*(DA$10-$E98)),\"x\")))","v":"x"},"x","x","x","x","x","x","x","x","x","x","x","x","x","x","x","x","x","x","x","x","x","x","x","x","x","x","x","x","x","x","x","x","x","x","x","x",null,null,null,0,null,{"$f":"IF(OR($V98=\"Utility\",$AA98=0),\"x\",IF($G98=\"cold\",\"x\",IF(AND(EQ$10>$F98,EP$10<$E98),IF(EP$10>$F98,IF(EQ$10>$E98,$U98/($E98-$F98)*($E98-EP$10),$U98/($E98-$F98)*(EQ$10-EP$10)),$U98/($E98-$F98)*(EQ$10-$F98)),\"x\")))","v":"x"},"x","x","x","x","x","x","x","x","x","x","x","x","x","x","x","x","x","x","x","x","x","x","x","x","x","x","x","x","x","x","x",{"$f":"IF(OR($V98=\"Utility\",$AA98=0),\"x\",IF($G98=\"cold\",\"x\",IF(AND(FW$10>$F98,FV$10<$E98),IF(FV$10>$F98,IF(FW$10>$E98,$U98/($E98-$F98)*($E98-FV$10),$U98/($E98-$F98)*(FW$10-FV$10)),$U98/($E98-$F98)*(FW$10-$F98)),\"x\")))","v":"x"},"x","x","x","x","x","x","x","x","x","x","x","x","x","x","x","x","x","x","x","x","x","x","x","x","x","x","x","x","x","x","x",{"$f":"IF(OR($V98=\"Utility\",$AA98=0),\"x\",IF($G98=\"cold\",\"x\",IF(AND(HC$10>$F98,HB$10<$E98),IF(HB$10>$F98,IF(HC$10>$E98,$U98/($E98-$F98)*($E98-HB$10),$U98/($E98-$F98)*(HC$10-HB$10)),$U98/($E98-$F98)*(HC$10-$F98)),\"x\")))","v":"x"},"x","x","x","x","x","x","x","x","x","x","x","x","x","x","x","x","x","x","x","x","x","x","x","x","x","x","x","x","x","x","x","x","x","x","x","x"]
["",{"$f":"IF(G99=\"hot\",COUNTIF($G$11:G99,\"hot\"),\"\")","v":""},{"$f":"IF(G99=\"cold\",COUNTIF($G$11:G99,\"cold\"),\"\")","v":""},null,null,null,"",null,null,"","","",null,null,null,null,null,null,null,null,"",null,"","","","","",null,null,null,null,null,null,null,null,null,null,null,0,null,{"$f":"IF(OR($V99=\"Utility\",$AA99=0),\"x\",IF($G99=\"hot\",\"x\",IF(AND(AO$10>$E99,AN$10<$F99),IF(AN$10>$E99,IF(AO$10>$F99,$U99/($F99-$E99)*($F99-AN$10),$U99/($F99-$E99)*(AO$10-AN$10)),$U99/($F99-$E99)*(AO$10-$E99)),\"x\")))","v":"x"},"x","x","x","x","x","x","x","x","x","x","x","x","x","x","x","x","x","x","x","x","x","x","x","x","x","x","x","x","x","x","x",{"$f":"IF(OR($V99=\"Utility\",$AA99=0),\"x\",IF($G99=\"hot\",\"x\",IF(AND(BU$10>$E99,BT$10<$F99),IF(BT$10>$E99,IF(BU$10>$F99,$U99/($F99-$E99)*($F99-BT$10),$U99/($F99-$E99)*(BU$10-BT$10)),$U99/($F99-$E99)*(BU$10-$E99)),\"x\")))","v":"x"},"x","x","x","x","x","x","x","x","x","x","x","x","x","x","x","x","x","x","x","x","x","x","x","x","x","x","x","x","x","x","x",{"$f":"IF(OR($V99=\"Utility\",$AA99=0),\"x\",IF($G99=\"hot\",\"x\",IF(AND(DA$10>$E99,CZ$10<$F99),IF(CZ$10>$E99,IF(DA$10>$F99,$U99/($F99-$E99)*($F99-CZ$10),$U99/($F99-$E99)*(DA$10-CZ$10)),$U99/($F99-$E99)*(DA$10-$E99)),\"x\")))","v":"x"},"x","x","x","x","x","x","x","x","x","x","x","x","x","x","x","x","x","x","x","x","x","x","x","x","x","x","x","x","x","x","x","x","x","x","x","x",null,null,null,0,null,{"$f":"IF(OR($V99=\"Utility\",$AA99=0),\"x\",IF($G99=\"cold\",\"x\",IF(AND(EQ$10>$F99,EP$10<$E99),IF(EP$10>$F99,IF(EQ$10>$E99,$U99/($E99-$F99)*($E99-EP$10),$U99/($E99-$F99)*(EQ$10-EP$10)),$U99/($E99-$F99)*(EQ$10-$F99)),\"x\")))","v":"x"},"x","x","x","x","x","x","x","x","x","x","x","x","x","x","x","x","x","x","x","x","x","x","x","x","x","x","x","x","x","x","x",{"$f":"IF(OR($V99=\"Utility\",$AA99=0),\"x\",IF($G99=\"cold\",\"x\",IF(AND(FW$10>$F99,FV$10<$E99),IF(FV$10>$F99,IF(FW$10>$E99,$U99/($E99-$F99)*($E99-FV$10),$U99/($E99-$F99)*(FW$10-FV$10)),$U99/($E99-$F99)*(FW$10-$F99)),\"x\")))","v":"x"},"x","x","x","x","x","x","x","x","x","x","x","x","x","x","x","x","x","x","x","x","x","x","x","x","x","x","x","x","x","x","x",{"$f":"IF(OR($V99=\"Utility\",$AA99=0),\"x\",IF($G99=\"cold\",\"x\",IF(AND(HC$10>$F99,HB$10<$E99),IF(HB$10>$F99,IF(HC$10>$E99,$U99/($E99-$F99)*($E99-HB$10),$U99/($E99-$F99)*(HC$10-HB$10)),$U99/($E99-$F99)*(HC$10-$F99)),\"x\")))","v":"x"},"x","x","x","x","x","x","x","x","x","x","x","x","x","x","x","x","x","x","x","x","x","x","x","x","x","x","x","x","x","x","x","x","x","x","x","x"]
["",{"$f":"IF(G100=\"hot\",COUNTIF($G$11:G100,\"hot\"),\"\")","v":""},{"$f":"IF(G100=\"cold\",COUNTIF($G$11:G100,\"cold\"),\"\")","v":""},null,null,null,"",null,null,"","","",null,null,null,null,null,null,null,null,"",null,"","","","","",null,null,null,null,null,null,null,null,null,null,null,0,null,{"$f":"IF(OR($V100=\"Utility\",$AA100=0),\"x\",IF($G100=\"hot\",\"x\",IF(AND(AO$10>$E100,AN$10<$F100),IF(AN$10>$E100,IF(AO$10>$F100,$U100/($F100-$E100)*($F100-AN$10),$U100/($F100-$E100)*(AO$10-AN$10)),$U100/($F100-$E100)*(AO$10-$E100)),\"x\")))","v":"x"},"x","x","x","x","x","x","x","x","x","x","x","x","x","x","x","x","x","x","x","x","x","x","x","x","x","x","x","x","x","x","x",{"$f":"IF(OR($V100=\"Utility\",$AA100=0),\"x\",IF($G100=\"hot\",\"x\",IF(AND(BU$10>$E100,BT$10<$F100),IF(BT$10>$E100,IF(BU$10>$F100,$U100/($F100-$E100)*($F100-BT$10),$U100/($F100-$E100)*(BU$10-BT$10)),$U100/($F100-$E100)*(BU$10-$E100)),\"x\")))","v":"x"},"x","x","x","x","x","x","x","x","x","x","x","x","x","x","x","x","x","x","x","x","x","x","x","x","x","x","x","x","x","x","x",{"$f":"IF(OR($V100=\"Utility\",$AA100=0),\"x\",IF($G100=\"hot\",\"x\",IF(AND(DA$10>$E100,CZ$10<$F100),IF(CZ$10>$E100,IF(DA$10>$F100,$U100/($F100-$E100)*($F100-CZ$10),$U100/($F100-$E100)*(DA$10-CZ$10)),$U100/($F100-$E100)*(DA$10-$E100)),\"x\")))","v":"x"},"x","x","x","x","x","x","x","x","x","x","x","x","x","x","x","x","x","x","x","x","x","x","x","x","x","x","x","x","x","x","x","x","x","x","x","x",null,null,null,0,null,{"$f":"IF(OR($V100=\"Utility\",$AA100=0),\"x\",IF($G100=\"cold\",\"x\",IF(AND(EQ$10>$F100,EP$10<$E100),IF(EP$10>$F100,IF(EQ$10>$E100,$U100/($E100-$F100)*($E100-EP$10),$U100/($E100-$F100)*(EQ$10-EP$10)),$U100/($E100-$F100)*(EQ$10-$F100)),\"x\")))","v":"x"},"x","x","x","x","x","x","x","x","x","x","x","x","x","x","x","x","x","x","x","x","x","x","x","x","x","x","x","x","x","x","x",{"$f":"IF(OR($V100=\"Utility\",$AA100=0),\"x\",IF($G100=\"cold\",\"x\",IF(AND(FW$10>$F100,FV$10<$E100),IF(FV$10>$F100,IF(FW$10>$E100,$U100/($E100-$F100)*($E100-FV$10),$U100/($E100-$F100)*(FW$10-FV$10)),$U100/($E100-$F100)*(FW$10-$F100)),\"x\")))","v":"x"},"x","x","x","x","x","x","x","x","x","x","x","x","x","x","x","x","x","x","x","x","x","x","x","x","x","x","x","x","x","x","x",{"$f":"IF(OR($V100=\"Utility\",$AA100=0),\"x\",IF($G100=\"cold\",\"x\",IF(AND(HC$10>$F100,HB$10<$E100),IF(HB$10>$F100,IF(HC$10>$E100,$U100/($E100-$F100)*($E100-HB$10),$U100/($E100-$F100)*(HC$10-HB$10)),$U100/($E100-$F100)*(HC$10-$F100)),\"x\")))","v":"x"},"x","x","x","x","x","x","x","x","x","x","x","x","x","x","x","x","x","x","x","x","x","x","x","x","x","x","x","x","x","x","x","x","x","x","x","x"]
["",{"$f":"IF(G101=\"hot\",COUNTIF($G$11:G101,\"hot\"),\"\")","v":""},{"$f":"IF(G101=\"cold\",COUNTIF($G$11:G101,\"cold\"),\"\")","v":""},null,null,null,"",null,null,"","","",null,null,null,null,null,null,null,null,"",null,"","","","","",null,null,null,null,null,null,null,null,null,null,null,0,null,{"$f":"IF(OR($V101=\"Utility\",$AA101=0),\"x\",IF($G101=\"hot\",\"x\",IF(AND(AO$10>$E101,AN$10<$F101),IF(AN$10>$E101,IF(AO$10>$F101,$U101/($F101-$E101)*($F101-AN$10),$U101/($F101-$E101)*(AO$10-AN$10)),$U101/($F101-$E101)*(AO$10-$E101)),\"x\")))","v":"x"},"x","x","x","x","x","x","x","x","x","x","x","x","x","x","x","x","x","x","x","x","x","x","x","x","x","x","x","x","x","x","x",{"$f":"IF(OR($V101=\"Utility\",$AA101=0),\"x\",IF($G101=\"hot\",\"x\",IF(AND(BU$10>$E101,BT$10<$F101),IF(BT$10>$E101,IF(BU$10>$F101,$U101/($F101-$E101)*($F101-BT$10),$U101/($F101-$E101)*(BU$10-BT$10)),$U101/($F101-$E101)*(BU$10-$E101)),\"x\")))","v":"x"},"x","x","x","x","x","x","x","x","x","x","x","x","x","x","x","x","x","x","x","x","x","x","x","x","x","x","x","x","x","x","x",{"$f":"IF(OR($V101=\"Utility\",$AA101=0),\"x\",IF($G101=\"hot\",\"x\",IF(AND(DA$10>$E101,CZ$10<$F101),IF(CZ$10>$E101,IF(DA$10>$F101,$U101/($F101-$E101)*($F101-CZ$10),$U101/($F101-$E101)*(DA$10-CZ$10)),$U101/($F101-$E101)*(DA$10-$E101)),\"x\")))","v":"x"},"x","x","x","x","x","x","x","x","x","x","x","x","x","x","x","x","x","x","x","x","x","x","x","x","x","x","x","x","x","x","x","x","x","x","x","x",null,null,null,0,null,{"$f":"IF(OR($V101=\"Utility\",$AA101=0),\"x\",IF($G101=\"cold\",\"x\",IF(AND(EQ$10>$F101,EP$10<$E101),IF(EP$10>$F101,IF(EQ$10>$E101,$U101/($E101-$F101)*($E101-EP$10),$U101/($E101-$F101)*(EQ$10-EP$10)),$U101/($E101-$F101)*(EQ$10-$F101)),\"x\")))","v":"x"},"x","x","x","x","x","x","x","x","x","x","x","x","x","x","x","x","x","x","x","x","x","x","x","x","x","x","x","x","x","x","x",{"$f":"IF(OR($V101=\"Utility\",$AA101=0),\"x\",IF($G101=\"cold\",\"x\",IF(AND(FW$10>$F101,FV$10<$E101),IF(FV$10>$F101,IF(FW$10>$E101,$U101/($E101-$F101)*($E101-FV$10),$U101/($E101-$F101)*(FW$10-FV$10)),$U101/($E101-$F101)*(FW$10-$F101)),\"x\")))","v":"x"},"x","x","x","x","x","x","x","x","x","x","x","x","x","x","x","x","x","x","x","x","x","x","x","x","x","x","x","x","x","x","x",{"$f":"IF(OR($V101=\"Utility\",$AA101=0),\"x\",IF($G101=\"cold\",\"x\",IF(AND(HC$10>$F101,HB$10<$E101),IF(HB$10>$F101,IF(HC$10>$E101,$U101/($E101-$F101)*($E101-HB$10),$U101/($E101-$F101)*(HC$10-HB$10)),$U101/($E101-$F101)*(HC$10-$F101)),\"x\")))","v":"x"},"x","x","x","x","x","x","x","x","x","x","x","x","x","x","x","x","x","x","x","x","x","x","x","x","x","x","x","x","x","x","x","x","x","x","x","x"]
["",{"$f":"IF(G102=\"hot\",COUNTIF($G$11:G102,\"hot\"),\"\")","v":""},{"$f":"IF(G102=\"cold\",COUNTIF($G$11:G102,\"cold\"),\"\")","v":""},null,null,null,"",null,null,"","","",null,null,null,null,null,null,null,null,"",null,"","","","","",null,null,null,null,null,null,null,null,null,null,null,0,null,{"$f":"IF(OR($V102=\"Utility\",$AA102=0),\"x\",IF($G102=\"hot\",\"x\",IF(AND(AO$10>$E102,AN$10<$F102),IF(AN$10>$E102,IF(AO$10>$F102,$U102/($F102-$E102)*($F102-AN$10),$U102/($F102-$E102)*(AO$10-AN$10)),$U102/($F102-$E102)*(AO$10-$E102)),\"x\")))","v":"x"},"x","x","x","x","x","x","x","x","x","x","x","x","x","x","x","x","x","x","x","x","x","x","x","x","x","x","x","x","x","x","x",{"$f":"IF(OR($V102=\"Utility\",$AA102=0),\"x\",IF($G102=\"hot\",\"x\",IF(AND(BU$10>$E102,BT$10<$F102),IF(BT$10>$E102,IF(BU$10>$F102,$U102/($F102-$E102)*($F102-BT$10),$U102/($F102-$E102)*(BU$10-BT$10)),$U102/($F102-$E102)*(BU$10-$E102)),\"x\")))","v":"x"},"x","x","x","x","x","x","x","x","x","x","x","x","x","x","x","x","x","x","x","x","x","x","x","x","x","x","x","x","x","x","x",{"$f":"IF(OR($V102=\"Utility\",$AA102=0),\"x\",IF($G102=\"hot\",\"x\",IF(AND(DA$10>$E102,CZ$10<$F102),IF(CZ$10>$E102,IF(DA$10>$F102,$U102/($F102-$E102)*($F102-CZ$10),$U102/($F102-$E102)*(DA$10-CZ$10)),$U102/($F102-$E102)*(DA$10-$E102)),\"x\")))","v":"x"},"x","x","x","x","x","x","x","x","x","x","x","x","x","x","x","x","x","x","x","x","x","x","x","x","x","x","x","x","x","x","x","x","x","x","x","x",null,null,null,0,null,{"$f":"IF(OR($V102=\"Utility\",$AA102=0),\"x\",IF($G102=\"cold\",\"x\",IF(AND(EQ$10>$F102,EP$10<$E102),IF(EP$10>$F102,IF(EQ$10>$E102,$U102/($E102-$F102)*($E102-EP$10),$U102/($E102-$F102)*(EQ$10-EP$10)),$U102/($E102-$F102)*(EQ$10-$F102)),\"x\")))","v":"x"},"x","x","x","x","x","x","x","x","x","x","x","x","x","x","x","x","x","x","x","x","x","x","x","x","x","x","x","x","x","x","x",{"$f":"IF(OR($V102=\"Utility\",$AA102=0),\"x\",IF($G102=\"cold\",\"x\",IF(AND(FW$10>$F102,FV$10<$E102),IF(FV$10>$F102,IF(FW$10>$E102,$U102/($E102-$F102)*($E102-FV$10),$U102/($E102-$F102)*(FW$10-FV$10)),$U102/($E102-$F102)*(FW$10-$F102)),\"x\")))","v":"x"},"x","x","x","x","x","x","x","x","x","x","x","x","x","x","x","x","x","x","x","x","x","x","x","x","x","x","x","x","x","x","x",{"$f":"IF(OR($V102=\"Utility\",$AA102=0),\"x\",IF($G102=\"cold\",\"x\",IF(AND(HC$10>$F102,HB$10<$E102),IF(HB$10>$F102,IF(HC$10>$E102,$U102/($E102-$F102)*($E102-HB$10),$U102/($E102-$F102)*(HC$10-HB$10)),$U102/($E102-$F102)*(HC$10-$F102)),\"x\")))","v":"x"},"x","x","x","x","x","x","x","x","x","x","x","x","x","x","x","x","x","x","x","x","x","x","x","x","x","x","x","x","x","x","x","x","x","x","x","x"]
["",{"$f":"IF(G103=\"hot\",COUNTIF($G$11:G103,\"hot\"),\"\")","v":""},{"$f":"IF(G103=\"cold\",COUNTIF($G$11:G103,\"cold\"),\"\")","v":""},null,null,null,"",null,null,"","","",null,null,null,null,null,null,null,null,"",null,"","","","","",null,null,null,null,null,null,null,null,null,null,null,0,null,{"$f":"IF(OR($V103=\"Utility\",$AA103=0),\"x\",IF($G103=\"hot\",\"x\",IF(AND(AO$10>$E103,AN$10<$F103),IF(AN$10>$E103,IF(AO$10>$F103,$U103/($F103-$E103)*($F103-AN$10),$U103/($F103-$E103)*(AO$10-AN$10)),$U103/($F103-$E103)*(AO$10-$E103)),\"x\")))","v":"x"},"x","x","x","x","x","x","x","x","x","x","x","x","x","x","x","x","x","x","x","x","x","x","x","x","x","x","x","x","x","x","x",{"$f":"IF(OR($V103=\"Utility\",$AA103=0),\"x\",IF($G103=\"hot\",\"x\",IF(AND(BU$10>$E103,BT$10<$F103),IF(BT$10>$E103,IF(BU$10>$F103,$U103/($F103-$E103)*($F103-BT$10),$U103/($F103-$E103)*(BU$10-BT$10)),$U103/($F103-$E103)*(BU$10-$E103)),\"x\")))","v":"x"},"x","x","x","x","x","x","x","x","x","x","x","x","x","x","x","x","x","x","x","x","x","x","x","x","x","x","x","x","x","x","x",{"$f":"IF(OR($V103=\"Utility\",$AA103=0),\"x\",IF($G103=\"hot\",\"x\",IF(AND(DA$10>$E103,CZ$10<$F103),IF(CZ$10>$E103,IF(DA$10>$F103,$U103/($F103-$E103)*($F103-CZ$10),$U103/($F103-$E103)*(DA$10-CZ$10)),$U103/($F103-$E103)*(DA$10-$E103)),\"x\")))","v":"x"},"x","x","x","x","x","x","x","x","x","x","x","x","x","x","x","x","x","x","x","x","x","x","x","x","x","x","x","x","x","x","x","x","x","x","x","x",null,null,null,0,null,{"$f":"IF(OR($V103=\"Utility\",$AA103=0),\"x\",IF($G103=\"cold\",\"x\",IF(AND(EQ$10>$F103,EP$10<$E103),IF(EP$10>$F103,IF(EQ$10>$E103,$U103/($E103-$F103)*($E103-EP$10),$U103/($E103-$F103)*(EQ$10-EP$10)),$U103/($E103-$F103)*(EQ$10-$F103)),\"x\")))","v":"x"},"x","x","x","x","x","x","x","x","x","x","x","x","x","x","x","x","x","x","x","x","x","x","x","x","x","x","x","x","x","x","x",{"$f":"IF(OR($V103=\"Utility\",$AA103=0),\"x\",IF($G103=\"cold\",\"x\",IF(AND(FW$10>$F103,FV$10<$E103),IF(FV$10>$F103,IF(FW$10>$E103,$U103/($E103-$F103)*($E103-FV$10),$U103/($E103-$F103)*(FW$10-FV$10)),$U103/($E103-$F103)*(FW$10-$F103)),\"x\")))","v":"x"},"x","x","x","x","x","x","x","x","x","x","x","x","x","x","x","x","x","x","x","x","x","x","x","x","x","x","x","x","x","x","x",{"$f":"IF(OR($V103=\"Utility\",$AA103=0),\"x\",IF($G103=\"cold\",\"x\",IF(AND(HC$10>$F103,HB$10<$E103),IF(HB$10>$F103,IF(HC$10>$E103,$U103/($E103-$F103)*($E103-HB$10),$U103/($E103-$F103)*(HC$10-HB$10)),$U103/($E103-$F103)*(HC$10-$F103)),\"x\")))","v":"x"},"x","x","x","x","x","x","x","x","x","x","x","x","x","x","x","x","x","x","x","x","x","x","x","x","x","x","x","x","x","x","x","x","x","x","x","x"]
["",{"$f":"IF(G104=\"hot\",COUNTIF($G$11:G104,\"hot\"),\"\")","v":""},{"$f":"IF(G104=\"cold\",COUNTIF($G$11:G104,\"cold\"),\"\")","v":""},null,null,null,"",null,null,"","","",null,null,null,null,null,null,null,null,"",null,"","","","","",null,null,null,null,null,null,null,null,null,null,null,0,null,{"$f":"IF(OR($V104=\"Utility\",$AA104=0),\"x\",IF($G104=\"hot\",\"x\",IF(AND(AO$10>$E104,AN$10<$F104),IF(AN$10>$E104,IF(AO$10>$F104,$U104/($F104-$E104)*($F104-AN$10),$U104/($F104-$E104)*(AO$10-AN$10)),$U104/($F104-$E104)*(AO$10-$E104)),\"x\")))","v":"x"},"x","x","x","x","x","x","x","x","x","x","x","x","x","x","x","x","x","x","x","x","x","x","x","x","x","x","x","x","x","x","x",{"$f":"IF(OR($V104=\"Utility\",$AA104=0),\"x\",IF($G104=\"hot\",\"x\",IF(AND(BU$10>$E104,BT$10<$F104),IF(BT$10>$E104,IF(BU$10>$F104,$U104/($F104-$E104)*($F104-BT$10),$U104/($F104-$E104)*(BU$10-BT$10)),$U104/($F104-$E104)*(BU$10-$E104)),\"x\")))","v":"x"},"x","x","x","x","x","x","x","x","x","x","x","x","x","x","x","x","x","x","x","x","x","x","x","x","x","x","x","x","x","x","x",{"$f":"IF(OR($V104=\"Utility\",$AA104=0),\"x\",IF($G104=\"hot\",\"x\",IF(AND(DA$10>$E104,CZ$10<$F104),IF(CZ$10>$E104,IF(DA$10>$F104,$U104/($F104-$E104)*($F104-CZ$10),$U104/($F104-$E104)*(DA$10-CZ$10)),$U104/($F104-$E104)*(DA$10-$E104)),\"x\")))","v":"x"},"x","x","x","x","x","x","x","x","x","x","x","x","x","x","x","x","x","x","x","x","x","x","x","x","x","x","x","x","x","x","x","x","x","x","x","x",null,null,null,0,null,{"$f":"IF(OR($V104=\"Utility\",$AA104=0),\"x\",IF($G104=\"cold\",\"x\",IF(AND(EQ$10>$F104,EP$10<$E104),IF(EP$10>$F104,IF(EQ$10>$E104,$U104/($E104-$F104)*($E104-EP$10),$U104/($E104-$F104)*(EQ$10-EP$10)),$U104/($E104-$F104)*(EQ$10-$F104)),\"x\")))","v":"x"},"x","x","x","x","x","x","x","x","x","x","x","x","x","x","x","x","x","x","x","x","x","x","x","x","x","x","x","x","x","x","x",{"$f":"IF(OR($V104=\"Utility\",$AA104=0),\"x\",IF($G104=\"cold\",\"x\",IF(AND(FW$10>$F104,FV$10<$E104),IF(FV$10>$F104,IF(FW$10>$E104,$U104/($E104-$F104)*($E104-FV$10),$U104/($E104-$F104)*(FW$10-FV$10)),$U104/($E104-$F104)*(FW$10-$F104)),\"x\")))","v":"x"},"x","x","x","x","x","x","x","x","x","x","x","x","x","x","x","x","x","x","x","x","x","x","x","x","x","x","x","x","x","x","x",{"$f":"IF(OR($V104=\"Utility\",$AA104=0),\"x\",IF($G104=\"cold\",\"x\",IF(AND(HC$10>$F104,HB$10<$E104),IF(HB$10>$F104,IF(HC$10>$E104,$U104/($E104-$F104)*($E104-HB$10),$U104/($E104-$F104)*(HC$10-HB$10)),$U104/($E104-$F104)*(HC$10-$F104)),\"x\")))","v":"x"},"x","x","x","x","x","x","x","x","x","x","x","x","x","x","x","x","x","x","x","x","x","x","x","x","x","x","x","x","x","x","x","x","x","x","x","x"]
["",{"$f":"IF(G105=\"hot\",COUNTIF($G$11:G105,\"hot\"),\"\")","v":""},{"$f":"IF(G105=\"cold\",COUNTIF($G$11:G105,\"cold\"),\"\")","v":""},null,null,null,"",null,null,"","","",null,null,null,null,null,null,null,null,"",null,"","","","","",null,null,null,null,null,null,null,null,null,null,null,0,null,{"$f":"IF(OR($V105=\"Utility\",$AA105=0),\"x\",IF($G105=\"hot\",\"x\",IF(AND(AO$10>$E105,AN$10<$F105),IF(AN$10>$E105,IF(AO$10>$F105,$U105/($F105-$E105)*($F105-AN$10),$U105/($F105-$E105)*(AO$10-AN$10)),$U105/($F105-$E105)*(AO$10-$E105)),\"x\")))","v":"x"},"x","x","x","x","x","x","x","x","x","x","x","x","x","x","x","x","x","x","x","x","x","x","x","x","x","x","x","x","x","x","x",{"$f":"IF(OR($V105=\"Utility\",$AA105=0),\"x\",IF($G105=\"hot\",\"x\",IF(AND(BU$10>$E105,BT$10<$F105),IF(BT$10>$E105,IF(BU$10>$F105,$U105/($F105-$E105)*($F105-BT$10),$U105/($F105-$E105)*(BU$10-BT$10)),$U105/($F105-$E105)*(BU$10-$E105)),\"x\")))","v":"x"},"x","x","x","x","x","x","x","x","x","x","x","x","x","x","x","x","x","x","x","x","x","x","x","x","x","x","x","x","x","x","x",{"$f":"IF(OR($V105=\"Utility\",$AA105=0),\"x\",IF($G105=\"hot\",\"x\",IF(AND(DA$10>$E105,CZ$10<$F105),IF(CZ$10>$E105,IF(DA$10>$F105,$U105/($F105-$E105)*($F105-CZ$10),$U105/($F105-$E105)*(DA$10-CZ$10)),$U105/($F105-$E105)*(DA$10-$E105)),\"x\")))","v":"x"},"x","x","x","x","x","x","x","x","x","x","x","x","x","x","x","x","x","x","x","x","x","x","x","x","x","x","x","x","x","x","x","x","x","x","x","x",null,null,null,0,null,{"$f":"IF(OR($V105=\"Utility\",$AA105=0),\"x\",IF($G105=\"cold\",\"x\",IF(AND(EQ$10>$F105,EP$10<$E105),IF(EP$10>$F105,IF(EQ$10>$E105,$U105/($E105-$F105)*($E105-EP$10),$U105/($E105-$F105)*(EQ$10-EP$10)),$U105/($E105-$F105)*(EQ$10-$F105)),\"x\")))","v":"x"},"x","x","x","x","x","x","x","x","x","x","x","x","x","x","x","x","x","x","x","x","x","x","x","x","x","x","x","x","x","x","x",{"$f":"IF(OR($V105=\"Utility\",$AA105=0),\"x\",IF($G105=\"cold\",\"x\",IF(AND(FW$10>$F105,FV$10<$E105),IF(FV$10>$F105,IF(FW$10>$E105,$U105/($E105-$F105)*($E105-FV$10),$U105/($E105-$F105)*(FW$10-FV$10)),$U105/($E105-$F105)*(FW$10-$F105)),\"x\")))","v":"x"},"x","x","x","x","x","x","x","x","x","x","x","x","x","x","x","x","x","x","x","x","x","x","x","x","x","x","x","x","x","x","x",{"$f":"IF(OR($V105=\"Utility\",$AA105=0),\"x\",IF($G105=\"cold\",\"x\",IF(AND(HC$10>$F105,HB$10<$E105),IF(HB$10>$F105,IF(HC$10>$E105,$U105/($E105-$F105)*($E105-HB$10),$U105/($E105-$F105)*(HC$10-HB$10)),$U105/($E105-$F105)*(HC$10-$F105)),\"x\")))","v":"x"},"x","x","x","x","x","x","x","x","x","x","x","x","x","x","x","x","x","x","x","x","x","x","x","x","x","x","x","x","x","x","x","x","x","x","x","x"]
["",{"$f":"IF(G106=\"hot\",COUNTIF($G$11:G106,\"hot\"),\"\")","v":""},{"$f":"IF(G106=\"cold\",COUNTIF($G$11:G106,\"cold\"),\"\")","v":""},null,null,null,"",null,null,"","","",null,null,null,null,null,null,null,null,"",null,"","","","","",null,null,null,null,null,null,null,null,null,null,null,0,null,{"$f":"IF(OR($V106=\"Utility\",$AA106=0),\"x\",IF($G106=\"hot\",\"x\",IF(AND(AO$10>$E106,AN$10<$F106),IF(AN$10>$E106,IF(AO$10>$F106,$U106/($F106-$E106)*($F106-AN$10),$U106/($F106-$E106)*(AO$10-AN$10)),$U106/($F106-$E106)*(AO$10-$E106)),\"x\")))","v":"x"},"x","x","x","x","x","x","x","x","x","x","x","x","x","x","x","x","x","x","x","x","x","x","x","x","x","x","x","x","x","x","x",{"$f":"IF(OR($V106=\"Utility\",$AA106=0),\"x\",IF($G106=\"hot\",\"x\",IF(AND(BU$10>$E106,BT$10<$F106),IF(BT$10>$E106,IF(BU$10>$F106,$U106/($F106-$E106)*($F106-BT$10),$U106/($F106-$E106)*(BU$10-BT$10)),$U106/($F106-$E106)*(BU$10-$E106)),\"x\")))","v":"x"},"x","x","x","x","x","x","x","x","x","x","x","x","x","x","x","x","x","x","x","x","x","x","x","x","x","x","x","x","x","x","x",{"$f":"IF(OR($V106=\"Utility\",$AA106=0),\"x\",IF($G106=\"hot\",\"x\",IF(AND(DA$10>$E106,CZ$10<$F106),IF(CZ$10>$E106,IF(DA$10>$F106,$U106/($F106-$E106)*($F106-CZ$10),$U106/($F106-$E106)*(DA$10-CZ$10)),$U106/($F106-$E106)*(DA$10-$E106)),\"x\")))","v":"x"},"x","x","x","x","x","x","x","x","x","x","x","x","x","x","x","x","x","x","x","x","x","x","x","x","x","x","x","x","x","x","x","x","x","x","x","x",null,null,null,0,null,{"$f":"IF(OR($V106=\"Utility\",$AA106=0),\"x\",IF($G106=\"cold\",\"x\",IF(AND(EQ$10>$F106,EP$10<$E106),IF(EP$10>$F106,IF(EQ$10>$E106,$U106/($E106-$F106)*($E106-EP$10),$U106/($E106-$F106)*(EQ$10-EP$10)),$U106/($E106-$F106)*(EQ$10-$F106)),\"x\")))","v":"x"},"x","x","x","x","x","x","x","x","x","x","x","x","x","x","x","x","x","x","x","x","x","x","x","x","x","x","x","x","x","x","x",{"$f":"IF(OR($V106=\"Utility\",$AA106=0),\"x\",IF($G106=\"cold\",\"x\",IF(AND(FW$10>$F106,FV$10<$E106),IF(FV$10>$F106,IF(FW$10>$E106,$U106/($E106-$F106)*($E106-FV$10),$U106/($E106-$F106)*(FW$10-FV$10)),$U106/($E106-$F106)*(FW$10-$F106)),\"x\")))","v":"x"},"x","x","x","x","x","x","x","x","x","x","x","x","x","x","x","x","x","x","x","x","x","x","x","x","x","x","x","x","x","x","x",{"$f":"IF(OR($V106=\"Utility\",$AA106=0),\"x\",IF($G106=\"cold\",\"x\",IF(AND(HC$10>$F106,HB$10<$E106),IF(HB$10>$F106,IF(HC$10>$E106,$U106/($E106-$F106)*($E106-HB$10),$U106/($E106-$F106)*(HC$10-HB$10)),$U106/($E106-$F106)*(HC$10-$F106)),\"x\")))","v":"x"},"x","x","x","x","x","x","x","x","x","x","x","x","x","x","x","x","x","x","x","x","x","x","x","x","x","x","x","x","x","x","x","x","x","x","x","x"]
["",{"$f":"IF(G107=\"hot\",COUNTIF($G$11:G107,\"hot\"),\"\")","v":""},{"$f":"IF(G107=\"cold\",COUNTIF($G$11:G107,\"cold\"),\"\")","v":""},null,null,null,"",null,null,"","","",null,null,null,null,null,null,null,null,"",null,"","","","","",null,null,null,null,null,null,null,null,null,null,null,0,null,{"$f":"IF(OR($V107=\"Utility\",$AA107=0),\"x\",IF($G107=\"hot\",\"x\",IF(AND(AO$10>$E107,AN$10<$F107),IF(AN$10>$E107,IF(AO$10>$F107,$U107/($F107-$E107)*($F107-AN$10),$U107/($F107-$E107)*(AO$10-AN$10)),$U107/($F107-$E107)*(AO$10-$E107)),\"x\")))","v":"x"},"x","x","x","x","x","x","x","x","x","x","x","x","x","x","x","x","x","x","x","x","x","x","x","x","x","x","x","x","x","x","x",{"$f":"IF(OR($V107=\"Utility\",$AA107=0),\"x\",IF($G107=\"hot\",\"x\",IF(AND(BU$10>$E107,BT$10<$F107),IF(BT$10>$E107,IF(BU$10>$F107,$U107/($F107-$E107)*($F107-BT$10),$U107/($F107-$E107)*(BU$10-BT$10)),$U107/($F107-$E107)*(BU$10-$E107)),\"x\")))","v":"x"},"x","x","x","x","x","x","x","x","x","x","x","x","x","x","x","x","x","x","x","x","x","x","x","x","x","x","x","x","x","x","x",{"$f":"IF(OR($V107=\"Utility\",$AA107=0),\"x\",IF($G107=\"hot\",\"x\",IF(AND(DA$10>$E107,CZ$10<$F107),IF(CZ$10>$E107,IF(DA$10>$F107,$U107/($F107-$E107)*($F107-CZ$10),$U107/($F107-$E107)*(DA$10-CZ$10)),$U107/($F107-$E107)*(DA$10-$E107)),\"x\")))","v":"x"},"x","x","x","x","x","x","x","x","x","x","x","x","x","x","x","x","x","x","x","x","x","x","x","x","x","x","x","x","x","x","x","x","x","x","x","x",null,null,null,0,null,{"$f":"IF(OR($V107=\"Utility\",$AA107=0),\"x\",IF($G107=\"cold\",\"x\",IF(AND(EQ$10>$F107,EP$10<$E107),IF(EP$10>$F107,IF(EQ$10>$E107,$U107/($E107-$F107)*($E107-EP$10),$U107/($E107-$F107)*(EQ$10-EP$10)),$U107/($E107-$F107)*(EQ$10-$F107)),\"x\")))","v":"x"},"x","x","x","x","x","x","x","x","x","x","x","x","x","x","x","x","x","x","x","x","x","x","x","x","x","x","x","x","x","x","x",{"$f":"IF(OR($V107=\"Utility\",$AA107=0),\"x\",IF($G107=\"cold\",\"x\",IF(AND(FW$10>$F107,FV$10<$E107),IF(FV$10>$F107,IF(FW$10>$E107,$U107/($E107-$F107)*($E107-FV$10),$U107/($E107-$F107)*(FW$10-FV$10)),$U107/($E107-$F107)*(FW$10-$F107)),\"x\")))","v":"x"},"x","x","x","x","x","x","x","x","x","x","x","x","x","x","x","x","x","x","x","x","x","x","x","x","x","x","x","x","x","x","x",{"$f":"IF(OR($V107=\"Utility\",$AA107=0),\"x\",IF($G107=\"cold\",\"x\",IF(AND(HC$10>$F107,HB$10<$E107),IF(HB$10>$F107,IF(HC$10>$E107,$U107/($E107-$F107)*($E107-HB$10),$U107/($E107-$F107)*(HC$10-HB$10)),$U107/($E107-$F107)*(HC$10-$F107)),\"x\")))","v":"x"},"x","x","x","x","x","x","x","x","x","x","x","x","x","x","x","x","x","x","x","x","x","x","x","x","x","x","x","x","x","x","x","x","x","x","x","x"]
["",{"$f":"IF(G108=\"hot\",COUNTIF($G$11:G108,\"hot\"),\"\")","v":""},{"$f":"IF(G108=\"cold\",COUNTIF($G$11:G108,\"cold\"),\"\")","v":""},null,null,null,"",null,null,"","","",null,null,null,null,null,null,null,null,"",null,"","","","","",null,null,null,null,null,null,null,null,null,null,null,0,null,{"$f":"IF(OR($V108=\"Utility\",$AA108=0),\"x\",IF($G108=\"hot\",\"x\",IF(AND(AO$10>$E108,AN$10<$F108),IF(AN$10>$E108,IF(AO$10>$F108,$U108/($F108-$E108)*($F108-AN$10),$U108/($F108-$E108)*(AO$10-AN$10)),$U108/($F108-$E108)*(AO$10-$E108)),\"x\")))","v":"x"},"x","x","x","x","x","x","x","x","x","x","x","x","x","x","x","x","x","x","x","x","x","x","x","x","x","x","x","x","x","x","x",{"$f":"IF(OR($V108=\"Utility\",$AA108=0),\"x\",IF($G108=\"hot\",\"x\",IF(AND(BU$10>$E108,BT$10<$F108),IF(BT$10>$E108,IF(BU$10>$F108,$U108/($F108-$E108)*($F108-BT$10),$U108/($F108-$E108)*(BU$10-BT$10)),$U108/($F108-$E108)*(BU$10-$E108)),\"x\")))","v":"x"},"x","x","x","x","x","x","x","x","x","x","x","x","x","x","x","x","x","x","x","x","x","x","x","x","x","x","x","x","x","x","x",{"$f":"IF(OR($V108=\"Utility\",$AA108=0),\"x\",IF($G108=\"hot\",\"x\",IF(AND(DA$10>$E108,CZ$10<$F108),IF(CZ$10>$E108,IF(DA$10>$F108,$U108/($F108-$E108)*($F108-CZ$10),$U108/($F108-$E108)*(DA$10-CZ$10)),$U108/($F108-$E108)*(DA$10-$E108)),\"x\")))","v":"x"},"x","x","x","x","x","x","x","x","x","x","x","x","x","x","x","x","x","x","x","x","x","x","x","x","x","x","x","x","x","x","x","x","x","x","x","x",null,null,null,0,null,{"$f":"IF(OR($V108=\"Utility\",$AA108=0),\"x\",IF($G108=\"cold\",\"x\",IF(AND(EQ$10>$F108,EP$10<$E108),IF(EP$10>$F108,IF(EQ$10>$E108,$U108/($E108-$F108)*($E108-EP$10),$U108/($E108-$F108)*(EQ$10-EP$10)),$U108/($E108-$F108)*(EQ$10-$F108)),\"x\")))","v":"x"},"x","x","x","x","x","x","x","x","x","x","x","x","x","x","x","x","x","x","x","x","x","x","x","x","x","x","x","x","x","x","x",{"$f":"IF(OR($V108=\"Utility\",$AA108=0),\"x\",IF($G108=\"cold\",\"x\",IF(AND(FW$10>$F108,FV$10<$E108),IF(FV$10>$F108,IF(FW$10>$E108,$U108/($E108-$F108)*($E108-FV$10),$U108/($E108-$F108)*(FW$10-FV$10)),$U108/($E108-$F108)*(FW$10-$F108)),\"x\")))","v":"x"},"x","x","x","x","x","x","x","x","x","x","x","x","x","x","x","x","x","x","x","x","x","x","x","x","x","x","x","x","x","x","x",{"$f":"IF(OR($V108=\"Utility\",$AA108=0),\"x\",IF($G108=\"cold\",\"x\",IF(AND(HC$10>$F108,HB$10<$E108),IF(HB$10>$F108,IF(HC$10>$E108,$U108/($E108-$F108)*($E108-HB$10),$U108/($E108-$F108)*(HC$10-HB$10)),$U108/($E108-$F108)*(HC$10-$F108)),\"x\")))","v":"x"},"x","x","x","x","x","x","x","x","x","x","x","x","x","x","x","x","x","x","x","x","x","x","x","x","x","x","x","x","x","x","x","x","x","x","x","x"]
["",{"$f":"IF(G109=\"hot\",COUNTIF($G$11:G109,\"hot\"),\"\")","v":""},{"$f":"IF(G109=\"cold\",COUNTIF($G$11:G109,\"cold\"),\"\")","v":""},null,null,null,"",null,null,"","","",null,null,null,null,null,null,null,null,"",null,"","","","",""]
["",{"$f":"IF(G110=\"hot\",COUNTIF($G$11:G110,\"hot\"),\"\")","v":""},{"$f":"IF(G110=\"cold\",COUNTIF($G$11:G110,\"cold\"),\"\")","v":""},null,null,null,"",null,null,"","","",null,null,null,null,null,null,null,null,"",null,"","","","",""]
[null,"ES KÖNNEN MAXIMAL 100 STRÖME DEFINIERT WERDEN"]

{"sheet":"02_PinchKurven","index":32,"n_rows":13,"n_cols":10,"rows_kept":13,"cut":false,"hidden":false,"merged":[[0,0,0,2],[12,1,12,4],[12,7,12,8]]}
[]
[]
[]
[]
[]
[null,"Minimaler Temperaturunterschied",null,11,"K",null,null,"Pinch Temperatur",{"$f":"(PinchT+PinchTlow)/2","v":{"$error":"#N/A"}},"°C"]
[]
[null,"Leistung-Kriterium",null,30,"%",{"$f":"IF(rng_SummeGewichtung<>100,\"Die Summe der Gewichtungen sollte 100% sein.\",\"\")","v":""},null,"Maximal mögliche Wärmerückgewinnung",{"$f":"MaxHR","v":-62.399999999999977},"MWh"]
[null,"Energie-Kriterium",null,30,"%",null,null,"Verbleibender externer Wärmebedarf",{"$f":"MinHU","v":62.399999999999977},"MWh"]
[null,"Exergie-Kriterium",null,40,"%",null,null,"Verbleibender externer Kältebedarf",{"$f":"MinCU","v":62.399999999999977},"MWh"]
[null,null,"Summe Gewichtung",{"$f":"rng_Power+rng_Energy+rng_Exergy","v":100},"%"]
[]
[null,"Hot and Cold Composite Curve",null,null,null,null,null,"Grand Composite Curve"]

{"sheet":"03_WT_Prioritätenliste","index":33,"n_rows":16,"n_cols":15,"rows_kept":16,"cut":false,"hidden":false,"merged":[]}
[]
[]
["Rang","WT ID","Heißer Strom ID","Kalter Strom ID","WT Name","Heißer Strom HS","Kalter Strom KS","Leistung ","Energie","T HS Ein","T KS Ein","T HS Aus","T KS Aus","Bewertung","WT Laufzeit"]
[null,null,null,null,null,null,null,"kW","MWh","°C","°C","°C","°C","-","h/a"]
[1,{"$f":"'(hid) 03_WtRawList'!A3","v":0},{"$f":"'(hid) 03_WtRawList'!B3","v":0},{"$f":"'(hid) 03_WtRawList'!C3","v":0},{"$f":"\"WT \"&C5&\" --> \"&D5","v":"WT 0 --> 0"},{"$f":"VLOOKUP(C5,varHS!$D$1:$M$100,9,FALSE)","v":0},{"$f":"VLOOKUP(D5,varCS!$D$1:$M$100,9,FALSE)","v":0},{"$f":"'(hid) 03_WtRawList'!Y3","v":0},{"$f":"'(hid) 03_WtRawList'!W3/1000","v":0},{"$f":"'(hid) 03_WtRawList'!D3","v":0},{"$f":"'(hid) 03_WtRawList'!E3","v":0},{"$f":"'(hid) 03_WtRawList'!F3","v":0},{"$f":"'(hid) 03_WtRawList'!G3","v":0},{"$f":"'(hid) 03_WtRawList'!Q3","v":0},{"$f":"'(hid) 03_WtRawList'!L3","v":0}]
[2,{"$f":"'(hid) 03_WtRawList'!A4","v":0},{"$f":"'(hid) 03_WtRawList'!B4","v":0},{"$f":"'(hid) 03_WtRawList'!C4","v":0},{"$f":"\"WT \"&C6&\" --> \"&D6","v":"WT 0 --> 0"},{"$f":"VLOOKUP(C6,varHS!$D$1:$M$100,9,FALSE)","v":0},{"$f":"VLOOKUP(D6,varCS!$D$1:$M$100,9,FALSE)","v":0},{"$f":"'(hid) 03_WtRawList'!Y4","v":0},{"$f":"'(hid) 03_WtRawList'!W4/1000","v":0},{"$f":"'(hid) 03_WtRawList'!D4","v":0},{"$f":"'(hid) 03_WtRawList'!E4","v":0},{"$f":"'(hid) 03_WtRawList'!F4","v":0},{"$f":"'(hid) 03_WtRawList'!G4","v":0},{"$f":"'(hid) 03_WtRawList'!Q4","v":0},{"$f":"'(hid) 03_WtRawList'!L4","v":0}]
[3,{"$f":"'(hid) 03_WtRawList'!A5","v":0},{"$f":"'(hid) 03_WtRawList'!B5","v":0},{"$f":"'(hid) 03_WtRawList'!C5","v":0},"WT 0 --> 0",{"$f":"VLOOKUP(C7,varHS!$D$1:$M$100,9,FALSE)","v":0},{"$f":"VLOOKUP(D7,varCS!$D$1:$M$100,9,FALSE)","v":0},{"$f":"'(hid) 03_WtRawList'!Y5","v":0},{"$f":"'(hid) 03_WtRawList'!W5/1000","v":0},{"$f":"'(hid) 03_WtRawList'!D5","v":0},{"$f":"'(hid) 03_WtRawList'!E5","v":0},{"$f":"'(hid) 03_WtRawList'!F5","v":0},{"$f":"'(hid) 03_WtRawList'!G5","v":0},{"$f":"'(hid) 03_WtRawList'!Q5","v":0},{"$f":"'(hid) 03_WtRawList'!L5","v":0}]
[4,{"$f":"'(hid) 03_WtRawList'!A6","v":0},{"$f":"'(hid) 03_WtRawList'!B6","v":0},{"$f":"'(hid) 03_WtRawList'!C6","v":0},"WT 0 --> 0",{"$f":"VLOOKUP(C8,varHS!$D$1:$M$100,9,FALSE)","v":0},{"$f":"VLOOKUP(D8,varCS!$D$1:$M$100,9,FALSE)","v":0},{"$f":"'(hid) 03_WtRawList'!Y6","v":0},{"$f":"'(hid) 03_WtRawList'!W6/1000","v":0},{"$f":"'(hid) 03_WtRawList'!D6","v":0},{"$f":"'(hid) 03_WtRawList'!E6","v":0},{"$f":"'(hid) 03_WtRawList'!F6","v":0},{"$f":"'(hid) 03_WtRawList'!G6","v":0},{"$f":"'(hid) 03_WtRawList'!Q6","v":0},{"$f":"'(hid) 03_WtRawList'!L6","v":0}]
[5,{"$f":"'(hid) 03_WtRawList'!A7","v":0},{"$f":"'(hid) 03_WtRawList'!B7","v":0},{"$f":"'(hid) 03_WtRawList'!C7","v":0},"WT 0 --> 0",{"$f":"VLOOKUP(C9,varHS!$D$1:$M$100,9,FALSE)","v":0},{"$f":"VLOOKUP(D9,varCS!$D$1:$M$100,9,FALSE)","v":0},{"$f":"'(hid) 03_WtRawList'!Y7","v":0},{"$f":"'(hid) 03_WtRawList'!W7/1000","v":0},{"$f":"'(hid) 03_WtRawList'!D7","v":0},{"$f":"'(hid) 03_WtRawList'!E7","v":0},{"$f":"'(hid) 03_WtRawList'!F7","v":0},{"$f":"'(hid) 03_WtRawList'!G7","v":0},{"$f":"'(hid) 03_WtRawList'!Q7","v":0},{"$f":"'(hid) 03_WtRawList'!L7","v":0}]
[6,{"$f":"'(hid) 03_WtRawList'!A8","v":0},{"$f":"'(hid) 03_WtRawList'!B8","v":0},{"$f":"'(hid) 03_WtRawList'!C8","v":0},"WT 0 --> 0",{"$f":"VLOOKUP(C10,varHS!$D$1:$M$100,9,FALSE)","v":0},{"$f":"VLOOKUP(D10,varCS!$D$1:$M$100,9,FALSE)","v":0},{"$f":"'(hid) 03_WtRawList'!Y8","v":0},{"$f":"'(hid) 03_WtRawList'!W8/1000","v":0},{"$f":"'(hid) 03_WtRawList'!D8","v":0},{"$f":"'(hid) 03_WtRawList'!E8","v":0},{"$f":"'(hid) 03_WtRawList'!F8","v":0},{"$f":"'(hid) 03_WtRawList'!G8","v":0},{"$f":"'(hid) 03_WtRawList'!Q8","v":0},{"$f":"'(hid) 03_WtRawList'!L8","v":0}]
[7,{"$f":"'(hid) 03_WtRawList'!A9","v":0},{"$f":"'(hid) 03_WtRawList'!B9","v":0},{"$f":"'(hid) 03_WtRawList'!C9","v":0},"WT 0 --> 0",{"$f":"VLOOKUP(C11,varHS!$D$1:$M$100,9,FALSE)","v":0},{"$f":"VLOOKUP(D11,varCS!$D$1:$M$100,9,FALSE)","v":0},{"$f":"'(hid) 03_WtRawList'!Y9","v":0},{"$f":"'(hid) 03_WtRawList'!W9/1000","v":0},{"$f":"'(hid) 03_WtRawList'!D9","v":0},{"$f":"'(hid) 03_WtRawList'!E9","v":0},{"$f":"'(hid) 03_WtRawList'!F9","v":0},{"$f":"'(hid) 03_WtRawList'!G9","v":0},{"$f":"'(hid) 03_WtRawList'!Q9","v":0},{"$f":"'(hid) 03_WtRawList'!L9","v":0}]
[8,{"$f":"'(hid) 03_WtRawList'!A10","v":0},{"$f":"'(hid) 03_WtRawList'!B10","v":0},{"$f":"'(hid) 03_WtRawList'!C10","v":0},"WT 0 --> 0",{"$f":"VLOOKUP(C12,varHS!$D$1:$M$100,9,FALSE)","v":0},{"$f":"VLOOKUP(D12,varCS!$D$1:$M$100,9,FALSE)","v":0},{"$f":"'(hid) 03_WtRawList'!Y10","v":0},{"$f":"'(hid) 03_WtRawList'!W10/1000","v":0},{"$f":"'(hid) 03_WtRawList'!D10","v":0},{"$f":"'(hid) 03_WtRawList'!E10","v":0},{"$f":"'(hid) 03_WtRawList'!F10","v":0},{"$f":"'(hid) 03_WtRawList'!G10","v":0},{"$f":"'(hid) 03_WtRawList'!Q10","v":0},{"$f":"'(hid) 03_WtRawList'!L10","v":0}]
[9,{"$f":"'(hid) 03_WtRawList'!A11","v":0},{"$f":"'(hid) 03_WtRawList'!B11","v":0},{"$f":"'(hid) 03_WtRawList'!C11","v":0},"WT 0 --> 0",{"$f":"VLOOKUP(C13,varHS!$D$1:$M$100,9,FALSE)","v":0},{"$f":"VLOOKUP(D13,varCS!$D$1:$M$100,9,FALSE)","v":0},{"$f":"'(hid) 03_WtRawList'!Y11","v":0},{"$f":"'(hid) 03_WtRawList'!W11/1000","v":0},{"$f":"'(hid) 03_WtRawList'!D11","v":0},{"$f":"'(hid) 03_WtRawList'!E11","v":0},{"$f":"'(hid) 03_WtRawList'!F11","v":0},{"$f":"'(hid) 03_WtRawList'!G11","v":0},{"$f":"'(hid) 03_WtRawList'!Q11","v":0},{"$f":"'(hid) 03_WtRawList'!L11","v":0}]
[10,{"$f":"'(hid) 03_WtRawList'!A12","v":0},{"$f":"'(hid) 03_WtRawList'!B12","v":0},{"$f":"'(hid) 03_WtRawList'!C12","v":0},"WT 0 --> 0",{"$f":"VLOOKUP(C14,varHS!$D$1:$M$100,9,FALSE)","v":0},{"$f":"VLOOKUP(D14,varCS!$D$1:$M$100,9,FALSE)","v":0},{"$f":"'(hid) 03_WtRawList'!Y12","v":0},{"$f":"'(hid) 03_WtRawList'!W12/1000","v":0},{"$f":"'(hid) 03_WtRawList'!D12","v":0},{"$f":"'(hid) 03_WtRawList'!E12","v":0},{"$f":"'(hid) 03_WtRawList'!F12","v":0},{"$f":"'(hid) 03_WtRawList'!G12","v":0},{"$f":"'(hid) 03_WtRawList'!Q12","v":0},{"$f":"'(hid) 03_WtRawList'!L12","v":0}]
[]
[null,null,"Wählen Sie einen Wärmetauscher aus um ihn weiter zu bearbeiten"]

{"sheet":"05_WT_Auswahl","index":34,"n_rows":18,"n_cols":23,"rows_kept":18,"cut":false,"hidden":false,"merged":[]}
[]
[]
["Chosen ID","WT ID","Heißer Strom ID","Kalter Strom ID","Wärmetauscher \nName","Heißer Strom (HS)","Kalter Strom (KS)","Leistung ","Energie","T HS Ein","T KS Ein","T HS Aus","T KS Aus","Bewertung","Wärmetauscher\nLaufzeit","Energie-Preis","Jährliche Einsparungen","Wärmetauscher\nKosten","Statische Amortisations-\nzeit","Eingesparte Primärenergie","CO2-Einsparungen"]
[null,null,null,null,null,null,null,"kW","MWh","°C","°C","°C","°C","-","h/a","€/MWh","€/a","€","Jahre","[MWh PE]","t CO2"]
[{"$f":"IF(B5=\"\",\"\",A4+1)","v":""},{"$f":"IF('(hid) 05_WtAuswahl'!$A3=0,\"\",'(hid) 05_WtAuswahl'!A3)","v":""},{"$f":"IF('(hid) 05_WtAuswahl'!$A3=0,\"\",'(hid) 05_WtAuswahl'!B3)","v":""},{"$f":"IF('(hid) 05_WtAuswahl'!$A3=0,\"\",'(hid) 05_WtAuswahl'!C3)","v":""},{"$f":"IF('(hid) 05_WtAuswahl'!$A3=0,\"\",\"WT \"&C5&\" --> \"&D5)","v":""},{"$f":"IF(C5=\"\",\"\",VLOOKUP(C5,varHS!$D$1:$M$100,9,FALSE))","v":""},{"$f":"IF(C5=\"\",\"\",VLOOKUP(D5,varCS!$D$1:$M$100,9,FALSE))","v":""},{"$f":"IF('(hid) 05_WtAuswahl'!$A3=0,\"\",'(hid) 05_WtAuswahl'!Y3)","v":""},{"$f":"IF('(hid) 05_WtAuswahl'!$A3=0,\"\",'(hid) 05_WtAuswahl'!W3/1000)","v":""},{"$f":"IF('(hid) 05_WtAuswahl'!$A3=0,\"\",'(hid) 05_WtAuswahl'!D3)","v":""},{"$f":"IF('(hid) 05_WtAuswahl'!$A3=0,\"\",'(hid) 05_WtAuswahl'!E3)","v":""},{"$f":"IF('(hid) 05_WtAuswahl'!$A3=0,\"\",'(hid) 05_WtAuswahl'!F3)","v":""},{"$f":"IF('(hid) 05_WtAuswahl'!$A3=0,\"\",'(hid) 05_WtAuswahl'!G3)","v":""},{"$f":"IF('(hid) 05_WtAuswahl'!$A3=0,\"\",'(hid) 05_WtAuswahl'!Q3)","v":""},{"$f":"IF('(hid) 05_WtAuswahl'!$A3=0,\"\",'(hid) 05_WtAuswahl'!L3)","v":""},{"$f":"IF('(hid) 05_WtAuswahl'!$A3=0,\"\",'(hid) 05_WtAuswahl'!AA3)","v":""},{"$f":"IF('(hid) 05_WtAuswahl'!$A3=0,\"\",'(hid) 05_WtAuswahl'!AB3)","v":""},{"$f":"IF('(hid) 05_WtAuswahl'!$A3=0,\"\",'(hid) 05_WtAuswahl'!AC3)","v":""},{"$f":"IF('(hid) 05_WtAuswahl'!$A3=0,\"\",IF(OR(R5=0,Q5=0),0,R5/Q5))","v":""},{"$f":"IF('(hid) 05_WtAuswahl'!$A3=0,\"\",I5*rng_PE)","v":""},{"$f":"IF('(hid) 05_WtAuswahl'!$A3=0,\"\",I5*rng_CO2)","v":""},null,"Kohle"]
[{"$f":"IF(B6=\"\",\"\",A5+1)","v":""},{"$f":"IF('(hid) 05_WtAuswahl'!$A4=0,\"\",'(hid) 05_WtAuswahl'!A4)","v":""},{"$f":"IF('(hid) 05_WtAuswahl'!$A4=0,\"\",'(hid) 05_WtAuswahl'!B4)","v":""},{"$f":"IF('(hid) 05_WtAuswahl'!$A4=0,\"\",'(hid) 05_WtAuswahl'!C4)","v":""},{"$f":"IF('(hid) 05_WtAuswahl'!$A4=0,\"\",\"WT \"&C6&\" --> \"&D6)","v":""},{"$f":"IF(C6=\"\",\"\",VLOOKUP(C6,varHS!$D$1:$M$100,9,FALSE))","v":""},{"$f":"IF(C6=\"\",\"\",VLOOKUP(D6,varCS!$D$1:$M$100,9,FALSE))","v":""},{"$f":"IF('(hid) 05_WtAuswahl'!$A4=0,\"\",'(hid) 05_WtAuswahl'!Y4)","v":""},{"$f":"IF('(hid) 05_WtAuswahl'!$A4=0,\"\",'(hid) 05_WtAuswahl'!W4/1000)","v":""},{"$f":"IF('(hid) 05_WtAuswahl'!$A4=0,\"\",'(hid) 05_WtAuswahl'!D4)","v":""},{"$f":"IF('(hid) 05_WtAuswahl'!$A4=0,\"\",'(hid) 05_WtAuswahl'!E4)","v":""},{"$f":"IF('(hid) 05_WtAuswahl'!$A4=0,\"\",'(hid) 05_WtAuswahl'!F4)","v":""},{"$f":"IF('(hid) 05_WtAuswahl'!$A4=0,\"\",'(hid) 05_WtAuswahl'!G4)","v":""},{"$f":"IF('(hid) 05_WtAuswahl'!$A4=0,\"\",'(hid) 05_WtAuswahl'!Q4)","v":""},{"$f":"IF('(hid) 05_WtAuswahl'!$A4=0,\"\",'(hid) 05_WtAuswahl'!L4)","v":""},{"$f":"IF('(hid) 05_WtAuswahl'!$A4=0,\"\",'(hid) 05_WtAuswahl'!AA4)","v":""},{"$f":"IF('(hid) 05_WtAuswahl'!$A4=0,\"\",'(hid) 05_WtAuswahl'!AB4)","v":""},{"$f":"IF('(hid) 05_WtAuswahl'!$A4=0,\"\",'(hid) 05_WtAuswahl'!AC4)","v":""},{"$f":"IF('(hid) 05_WtAuswahl'!$A4=0,\"\",IF(OR(R6=0,Q6=0),0,R6/Q6))","v":""},{"$f":"IF('(hid) 05_WtAuswahl'!$A4=0,\"\",I6*rng_PE)","v":""},{"$f":"IF('(hid) 05_WtAuswahl'!$A4=0,\"\",I6*rng_CO2)","v":""},null,"Diesel"]
["",{"$f":"IF('(hid) 05_WtAuswahl'!$A5=0,\"\",'(hid) 05_WtAuswahl'!A5)","v":""},{"$f":"IF('(hid) 05_WtAuswahl'!$A5=0,\"\",'(hid) 05_WtAuswahl'!B5)","v":""},{"$f":"IF('(hid) 05_WtAuswahl'!$A5=0,\"\",'(hid) 05_WtAuswahl'!C5)","v":""},{"$f":"IF('(hid) 05_WtAuswahl'!$A5=0,\"\",\"WT \"&C7&\" --> \"&D7)","v":""},{"$f":"IF(C7=\"\",\"\",VLOOKUP(C7,varHS!$D$1:$M$100,9,FALSE))","v":""},{"$f":"IF(C7=\"\",\"\",VLOOKUP(D7,varCS!$D$1:$M$100,9,FALSE))","v":""},{"$f":"IF('(hid) 05_WtAuswahl'!$A5=0,\"\",'(hid) 05_WtAuswahl'!Y5)","v":""},{"$f":"IF('(hid) 05_WtAuswahl'!$A5=0,\"\",'(hid) 05_WtAuswahl'!W5/1000)","v":""},{"$f":"IF('(hid) 05_WtAuswahl'!$A5=0,\"\",'(hid) 05_WtAuswahl'!D5)","v":""},{"$f":"IF('(hid) 05_WtAuswahl'!$A5=0,\"\",'(hid) 05_WtAuswahl'!E5)","v":""},{"$f":"IF('(hid) 05_WtAuswahl'!$A5=0,\"\",'(hid) 05_WtAuswahl'!F5)","v":""},{"$f":"IF('(hid) 05_WtAuswahl'!$A5=0,\"\",'(hid) 05_WtAuswahl'!G5)","v":""},{"$f":"IF('(hid) 05_WtAuswahl'!$A5=0,\"\",'(hid) 05_WtAuswahl'!Q5)","v":""},{"$f":"IF('(hid) 05_WtAuswahl'!$A5=0,\"\",'(hid) 05_WtAuswahl'!L5)","v":""},{"$f":"IF('(hid) 05_WtAuswahl'!$A5=0,\"\",'(hid) 05_WtAuswahl'!AA5)","v":""},{"$f":"IF('(hid) 05_WtAuswahl'!$A5=0,\"\",'(hid) 05_WtAuswahl'!AB5)","v":""},{"$f":"IF('(hid) 05_WtAuswahl'!$A5=0,\"\",'(hid) 05_WtAuswahl'!AC5)","v":""},{"$f":"IF('(hid) 05_WtAuswahl'!$A5=0,\"\",IF(OR(R7=0,Q7=0),0,R7/Q7))","v":""},{"$f":"IF('(hid) 05_WtAuswahl'!$A5=0,\"\",I7*rng_PE)","v":""},{"$f":"IF('(hid) 05_WtAuswahl'!$A5=0,\"\",I7*rng_CO2)","v":""},null,"Heizöl"]
["",{"$f":"IF('(hid) 05_WtAuswahl'!$A6=0,\"\",'(hid) 05_WtAuswahl'!A6)","v":""},{"$f":"IF('(hid) 05_WtAuswahl'!$A6=0,\"\",'(hid) 05_WtAuswahl'!B6)","v":""},{"$f":"IF('(hid) 05_WtAuswahl'!$A6=0,\"\",'(hid) 05_WtAuswahl'!C6)","v":""},{"$f":"IF('(hid) 05_WtAuswahl'!$A6=0,\"\",\"WT \"&C8&\" --> \"&D8)","v":""},{"$f":"IF(C8=\"\",\"\",VLOOKUP(C8,varHS!$D$1:$M$100,9,FALSE))","v":""},{"$f":"IF(C8=\"\",\"\",VLOOKUP(D8,varCS!$D$1:$M$100,9,FALSE))","v":""},{"$f":"IF('(hid) 05_WtAuswahl'!$A6=0,\"\",'(hid) 05_WtAuswahl'!Y6)","v":""},{"$f":"IF('(hid) 05_WtAuswahl'!$A6=0,\"\",'(hid) 05_WtAuswahl'!W6/1000)","v":""},{"$f":"IF('(hid) 05_WtAuswahl'!$A6=0,\"\",'(hid) 05_WtAuswahl'!D6)","v":""},{"$f":"IF('(hid) 05_WtAuswahl'!$A6=0,\"\",'(hid) 05_WtAuswahl'!E6)","v":""},{"$f":"IF('(hid) 05_WtAuswahl'!$A6=0,\"\",'(hid) 05_WtAuswahl'!F6)","v":""},{"$f":"IF('(hid) 05_WtAuswahl'!$A6=0,\"\",'(hid) 05_WtAuswahl'!G6)","v":""},{"$f":"IF('(hid) 05_WtAuswahl'!$A6=0,\"\",'(hid) 05_WtAuswahl'!Q6)","v":""},{"$f":"IF('(hid) 05_WtAuswahl'!$A6=0,\"\",'(hid) 05_WtAuswahl'!L6)","v":""},{"$f":"IF('(hid) 05_WtAuswahl'!$A6=0,\"\",'(hid) 05_WtAuswahl'!AA6)","v":""},{"$f":"IF('(hid) 05_WtAuswahl'!$A6=0,\"\",'(hid) 05_WtAuswahl'!AB6)","v":""},{"$f":"IF('(hid) 05_WtAuswahl'!$A6=0,\"\",'(hid) 05_WtAuswahl'!AC6)","v":""},{"$f":"IF('(hid) 05_WtAuswahl'!$A6=0,\"\",IF(OR(R8=0,Q8=0),0,R8/Q8))","v":""},{"$f":"IF('(hid) 05_WtAuswahl'!$A6=0,\"\",I8*rng_PE)","v":""},{"$f":"IF('(hid) 05_WtAuswahl'!$A6=0,\"\",I8*rng_CO2)","v":""},null,"Flüssiggas"]
["",{"$f":"IF('(hid) 05_WtAuswahl'!$A7=0,\"\",'(hid) 05_WtAuswahl'!A7)","v":""},{"$f":"IF('(hid) 05_WtAuswahl'!$A7=0,\"\",'(hid) 05_WtAuswahl'!B7)","v":""},{"$f":"IF('(hid) 05_WtAuswahl'!$A7=0,\"\",'(hid) 05_WtAuswahl'!C7)","v":""},{"$f":"IF('(hid) 05_WtAuswahl'!$A7=0,\"\",\"WT \"&C9&\" --> \"&D9)","v":""},{"$f":"IF(C9=\"\",\"\",VLOOKUP(C9,varHS!$D$1:$M$100,9,FALSE))","v":""},{"$f":"IF(C9=\"\",\"\",VLOOKUP(D9,varCS!$D$1:$M$100,9,FALSE))","v":""},{"$f":"IF('(hid) 05_WtAuswahl'!$A7=0,\"\",'(hid) 05_WtAuswahl'!Y7)","v":""},{"$f":"IF('(hid) 05_WtAuswahl'!$A7=0,\"\",'(hid) 05_WtAuswahl'!W7/1000)","v":""},{"$f":"IF('(hid) 05_WtAuswahl'!$A7=0,\"\",'(hid) 05_WtAuswahl'!D7)","v":""},{"$f":"IF('(hid) 05_WtAuswahl'!$A7=0,\"\",'(hid) 05_WtAuswahl'!E7)","v":""},{"$f":"IF('(hid) 05_WtAuswahl'!$A7=0,\"\",'(hid) 05_WtAuswahl'!F7)","v":""},{"$f":"IF('(hid) 05_WtAuswahl'!$A7=0,\"\",'(hid) 05_WtAuswahl'!G7)","v":""},{"$f":"IF('(hid) 05_WtAuswahl'!$A7=0,\"\",'(hid) 05_WtAuswahl'!Q7)","v":""},{"$f":"IF('(hid) 05_WtAuswahl'!$A7=0,\"\",'(hid) 05_WtAuswahl'!L7)","v":""},{"$f":"IF('(hid) 05_WtAuswahl'!$A7=0,\"\",'(hid) 05_WtAuswahl'!AA7)","v":""},{"$f":"IF('(hid) 05_WtAuswahl'!$A7=0,\"\",'(hid) 05_WtAuswahl'!AB7)","v":""},{"$f":"IF('(hid) 05_WtAuswahl'!$A7=0,\"\",'(hid) 05_WtAuswahl'!AC7)","v":""},{"$f":"IF('(hid) 05_WtAuswahl'!$A7=0,\"\",IF(OR(R9=0,Q9=0),0,R9/Q9))","v":""},{"$f":"IF('(hid) 05_WtAuswahl'!$A7=0,\"\",I9*rng_PE)","v":""},{"$f":"IF('(hid) 05_WtAuswahl'!$A7=0,\"\",I9*rng_CO2)","v":""},null,"Erdgas"]
["",{"$f":"IF('(hid) 05_WtAuswahl'!$A8=0,\"\",'(hid) 05_WtAuswahl'!A8)","v":""},{"$f":"IF('(hid) 05_WtAuswahl'!$A8=0,\"\",'(hid) 05_WtAuswahl'!B8)","v":""},{"$f":"IF('(hid) 05_WtAuswahl'!$A8=0,\"\",'(hid) 05_WtAuswahl'!C8)","v":""},{"$f":"IF('(hid) 05_WtAuswahl'!$A8=0,\"\",\"WT \"&C10&\" --> \"&D10)","v":""},{"$f":"IF(C10=\"\",\"\",VLOOKUP(C10,varHS!$D$1:$M$100,9,FALSE))","v":""},{"$f":"IF(C10=\"\",\"\",VLOOKUP(D10,varCS!$D$1:$M$100,9,FALSE))","v":""},{"$f":"IF('(hid) 05_WtAuswahl'!$A8=0,\"\",'(hid) 05_WtAuswahl'!Y8)","v":""},{"$f":"IF('(hid) 05_WtAuswahl'!$A8=0,\"\",'(hid) 05_WtAuswahl'!W8/1000)","v":""},{"$f":"IF('(hid) 05_WtAuswahl'!$A8=0,\"\",'(hid) 05_WtAuswahl'!D8)","v":""},{"$f":"IF('(hid) 05_WtAuswahl'!$A8=0,\"\",'(hid) 05_WtAuswahl'!E8)","v":""},{"$f":"IF('(hid) 05_WtAuswahl'!$A8=0,\"\",'(hid) 05_WtAuswahl'!F8)","v":""},{"$f":"IF('(hid) 05_WtAuswahl'!$A8=0,\"\",'(hid) 05_WtAuswahl'!G8)","v":""},{"$f":"IF('(hid) 05_WtAuswahl'!$A8=0,\"\",'(hid) 05_WtAuswahl'!Q8)","v":""},{"$f":"IF('(hid) 05_WtAuswahl'!$A8=0,\"\",'(hid) 05_WtAuswahl'!L8)","v":""},{"$f":"IF('(hid) 05_WtAuswahl'!$A8=0,\"\",'(hid) 05_WtAuswahl'!AA8)","v":""},{"$f":"IF('(hid) 05_WtAuswahl'!$A8=0,\"\",'(hid) 05_WtAuswahl'!AB8)","v":""},{"$f":"IF('(hid) 05_WtAuswahl'!$A8=0,\"\",'(hid) 05_WtAuswahl'!AC8)","v":""},{"$f":"IF('(hid) 05_WtAuswahl'!$A8=0,\"\",IF(OR(R10=0,Q10=0),0,R10/Q10))","v":""},{"$f":"IF('(hid) 05_WtAuswahl'!$A8=0,\"\",I10*rng_PE)","v":""},{"$f":"IF('(hid) 05_WtAuswahl'!$A8=0,\"\",I10*rng_CO2)","v":""},null,"Petrol"]
["",{"$f":"IF('(hid) 05_WtAuswahl'!$A9=0,\"\",'(hid) 05_WtAuswahl'!A9)","v":""},{"$f":"IF('(hid) 05_WtAuswahl'!$A9=0,\"\",'(hid) 05_WtAuswahl'!B9)","v":""},{"$f":"IF('(hid) 05_WtAuswahl'!$A9=0,\"\",'(hid) 05_WtAuswahl'!C9)","v":""},{"$f":"IF('(hid) 05_WtAuswahl'!$A9=0,\"\",\"WT \"&C11&\" --> \"&D11)","v":""},{"$f":"IF(C11=\"\",\"\",VLOOKUP(C11,varHS!$D$1:$M$100,9,FALSE))","v":""},{"$f":"IF(C11=\"\",\"\",VLOOKUP(D11,varCS!$D$1:$M$100,9,FALSE))","v":""},{"$f":"IF('(hid) 05_WtAuswahl'!$A9=0,\"\",'(hid) 05_WtAuswahl'!Y9)","v":""},{"$f":"IF('(hid) 05_WtAuswahl'!$A9=0,\"\",'(hid) 05_WtAuswahl'!W9/1000)","v":""},{"$f":"IF('(hid) 05_WtAuswahl'!$A9=0,\"\",'(hid) 05_WtAuswahl'!D9)","v":""},{"$f":"IF('(hid) 05_WtAuswahl'!$A9=0,\"\",'(hid) 05_WtAuswahl'!E9)","v":""},{"$f":"IF('(hid) 05_WtAuswahl'!$A9=0,\"\",'(hid) 05_WtAuswahl'!F9)","v":""},{"$f":"IF('(hid) 05_WtAuswahl'!$A9=0,\"\",'(hid) 05_WtAuswahl'!G9)","v":""},{"$f":"IF('(hid) 05_WtAuswahl'!$A9=0,\"\",'(hid) 05_WtAuswahl'!Q9)","v":""},{"$f":"IF('(hid) 05_WtAuswahl'!$A9=0,\"\",'(hid) 05_WtAuswahl'!L9)","v":""},{"$f":"IF('(hid) 05_WtAuswahl'!$A9=0,\"\",'(hid) 05_WtAuswahl'!AA9)","v":""},{"$f":"IF('(hid) 05_WtAuswahl'!$A9=0,\"\",'(hid) 05_WtAuswahl'!AB9)","v":""},{"$f":"IF('(hid) 05_WtAuswahl'!$A9=0,\"\",'(hid) 05_WtAuswahl'!AC9)","v":""},{"$f":"IF('(hid) 05_WtAuswahl'!$A9=0,\"\",IF(OR(R11=0,Q11=0),0,R11/Q11))","v":""},{"$f":"IF('(hid) 05_WtAuswahl'!$A9=0,\"\",I11*rng_PE)","v":""},{"$f":"IF('(hid) 05_WtAuswahl'!$A9=0,\"\",I11*rng_CO2)","v":""},null,"Biomass (Hackschnitzel)"]
["",{"$f":"IF('(hid) 05_WtAuswahl'!$A10=0,\"\",'(hid) 05_WtAuswahl'!A10)","v":""},{"$f":"IF('(hid) 05_WtAuswahl'!$A10=0,\"\",'(hid) 05_WtAuswahl'!B10)","v":""},{"$f":"IF('(hid) 05_WtAuswahl'!$A10=0,\"\",'(hid) 05_WtAuswahl'!C10)","v":""},{"$f":"IF('(hid) 05_WtAuswahl'!$A10=0,\"\",\"WT \"&C12&\" --> \"&D12)","v":""},{"$f":"IF(C12=\"\",\"\",VLOOKUP(C12,varHS!$D$1:$M$100,9,FALSE))","v":""},{"$f":"IF(C12=\"\",\"\",VLOOKUP(D12,varCS!$D$1:$M$100,9,FALSE))","v":""},{"$f":"IF('(hid) 05_WtAuswahl'!$A10=0,\"\",'(hid) 05_WtAuswahl'!Y10)","v":""},{"$f":"IF('(hid) 05_WtAuswahl'!$A10=0,\"\",'(hid) 05_WtAuswahl'!W10/1000)","v":""},{"$f":"IF('(hid) 05_WtAuswahl'!$A10=0,\"\",'(hid) 05_WtAuswahl'!D10)","v":""},{"$f":"IF('(hid) 05_WtAuswahl'!$A10=0,\"\",'(hid) 05_WtAuswahl'!E10)","v":""},{"$f":"IF('(hid) 05_WtAuswahl'!$A10=0,\"\",'(hid) 05_WtAuswahl'!F10)","v":""},{"$f":"IF('(hid) 05_WtAuswahl'!$A10=0,\"\",'(hid) 05_WtAuswahl'!G10)","v":""},{"$f":"IF('(hid) 05_WtAuswahl'!$A10=0,\"\",'(hid) 05_WtAuswahl'!Q10)","v":""},{"$f":"IF('(hid) 05_WtAuswahl'!$A10=0,\"\",'(hid) 05_WtAuswahl'!L10)","v":""},{"$f":"IF('(hid) 05_WtAuswahl'!$A10=0,\"\",'(hid) 05_WtAuswahl'!AA10)","v":""},{"$f":"IF('(hid) 05_WtAuswahl'!$A10=0,\"\",'(hid) 05_WtAuswahl'!AB10)","v":""},{"$f":"IF('(hid) 05_WtAuswahl'!$A10=0,\"\",'(hid) 05_WtAuswahl'!AC10)","v":""},{"$f":"IF('(hid) 05_WtAuswahl'!$A10=0,\"\",IF(OR(R12=0,Q12=0),0,R12/Q12))","v":""},{"$f":"IF('(hid) 05_WtAuswahl'!$A10=0,\"\",I12*rng_PE)","v":""},{"$f":"IF('(hid) 05_WtAuswahl'!$A10=0,\"\",I12*rng_CO2)","v":""},null,"Biogas"]
["",{"$f":"IF('(hid) 05_WtAuswahl'!$A11=0,\"\",'(hid) 05_WtAuswahl'!A11)","v":""},{"$f":"IF('(hid) 05_WtAuswahl'!$A11=0,\"\",'(hid) 05_WtAuswahl'!B11)","v":""},{"$f":"IF('(hid) 05_WtAuswahl'!$A11=0,\"\",'(hid) 05_WtAuswahl'!C11)","v":""},{"$f":"IF('(hid) 05_WtAuswahl'!$A11=0,\"\",\"WT \"&C13&\" --> \"&D13)","v":""},{"$f":"IF(C13=\"\",\"\",VLOOKUP(C13,varHS!$D$1:$M$100,9,FALSE))","v":""},{"$f":"IF(C13=\"\",\"\",VLOOKUP(D13,varCS!$D$1:$M$100,9,FALSE))","v":""},{"$f":"IF('(hid) 05_WtAuswahl'!$A11=0,\"\",'(hid) 05_WtAuswahl'!Y11)","v":""},{"$f":"IF('(hid) 05_WtAuswahl'!$A11=0,\"\",'(hid) 05_WtAuswahl'!W11/1000)","v":""},{"$f":"IF('(hid) 05_WtAuswahl'!$A11=0,\"\",'(hid) 05_WtAuswahl'!D11)","v":""},{"$f":"IF('(hid) 05_WtAuswahl'!$A11=0,\"\",'(hid) 05_WtAuswahl'!E11)","v":""},{"$f":"IF('(hid) 05_WtAuswahl'!$A11=0,\"\",'(hid) 05_WtAuswahl'!F11)","v":""},{"$f":"IF('(hid) 05_WtAuswahl'!$A11=0,\"\",'(hid) 05_WtAuswahl'!G11)","v":""},{"$f":"IF('(hid) 05_WtAuswahl'!$A11=0,\"\",'(hid) 05_WtAuswahl'!Q11)","v":""},{"$f":"IF('(hid) 05_WtAuswahl'!$A11=0,\"\",'(hid) 05_WtAuswahl'!L11)","v":""},{"$f":"IF('(hid) 05_WtAuswahl'!$A11=0,\"\",'(hid) 05_WtAuswahl'!AA11)","v":""},{"$f":"IF('(hid) 05_WtAuswahl'!$A11=0,\"\",'(hid) 05_WtAuswahl'!AB11)","v":""},{"$f":"IF('(hid) 05_WtAuswahl'!$A11=0,\"\",'(hid) 05_WtAuswahl'!AC11)","v":""},{"$f":"IF('(hid) 05_WtAuswahl'!$A11=0,\"\",IF(OR(R13=0,Q13=0),0,R13/Q13))","v":""},{"$f":"IF('(hid) 05_WtAuswahl'!$A11=0,\"\",I13*rng_PE)","v":""},{"$f":"IF('(hid) 05_WtAuswahl'!$A11=0,\"\",I13*rng_CO2)","v":""},null,"Fernwärme (bei 70 % fossil)"]
["",{"$f":"IF('(hid) 05_WtAuswahl'!$A12=0,\"\",'(hid) 05_WtAuswahl'!A12)","v":""},{"$f":"IF('(hid) 05_WtAuswahl'!$A12=0,\"\",'(hid) 05_WtAuswahl'!B12)","v":""},{"$f":"IF('(hid) 05_WtAuswahl'!$A12=0,\"\",'(hid) 05_WtAuswahl'!C12)","v":""},{"$f":"IF('(hid) 05_WtAuswahl'!$A12=0,\"\",\"WT \"&C14&\" --> \"&D14)","v":""},{"$f":"IF(C14=\"\",\"\",VLOOKUP(C14,varHS!$D$1:$M$100,9,FALSE))","v":""},{"$f":"IF(C14=\"\",\"\",VLOOKUP(D14,varCS!$D$1:$M$100,9,FALSE))","v":""},{"$f":"IF('(hid) 05_WtAuswahl'!$A12=0,\"\",'(hid) 05_WtAuswahl'!Y12)","v":""},{"$f":"IF('(hid) 05_WtAuswahl'!$A12=0,\"\",'(hid) 05_WtAuswahl'!W12/1000)","v":""},{"$f":"IF('(hid) 05_WtAuswahl'!$A12=0,\"\",'(hid) 05_WtAuswahl'!D12)","v":""},{"$f":"IF('(hid) 05_WtAuswahl'!$A12=0,\"\",'(hid) 05_WtAuswahl'!E12)","v":""},{"$f":"IF('(hid) 05_WtAuswahl'!$A12=0,\"\",'(hid) 05_WtAuswahl'!F12)","v":""},{"$f":"IF('(hid) 05_WtAuswahl'!$A12=0,\"\",'(hid) 05_WtAuswahl'!G12)","v":""},{"$f":"IF('(hid) 05_WtAuswahl'!$A12=0,\"\",'(hid) 05_WtAuswahl'!Q12)","v":""},{"$f":"IF('(hid) 05_WtAuswahl'!$A12=0,\"\",'(hid) 05_WtAuswahl'!L12)","v":""},{"$f":"IF('(hid) 05_WtAuswahl'!$A12=0,\"\",'(hid) 05_WtAuswahl'!AA12)","v":""},{"$f":"IF('(hid) 05_WtAuswahl'!$A12=0,\"\",'(hid) 05_WtAuswahl'!AB12)","v":""},{"$f":"IF('(hid) 05_WtAuswahl'!$A12=0,\"\",'(hid) 05_WtAuswahl'!AC12)","v":""},{"$f":"IF('(hid) 05_WtAuswahl'!$A12=0,\"\",IF(OR(R14=0,Q14=0),0,R14/Q14))","v":""},{"$f":"IF('(hid) 05_WtAuswahl'!$A12=0,\"\",I14*rng_PE)","v":""},{"$f":"IF('(hid) 05_WtAuswahl'!$A12=0,\"\",I14*rng_CO2)","v":""},null,"Strom"]
[null,null,null,null,null,null,null,"Summe",{"$f":"IF(SUM(I5:I14)=0,\"\",SUM(I5:I14))","v":""},null,null,null,null,null,null,"Summe",{"$f":"IF(SUM(Q5:Q14)=0,\"\",SUM(Q5:Q14))","v":""},{"$f":"IF(SUM(R5:R14)=0,\"\",SUM(R5:R14))","v":""},"Summe",{"$f":"IF(SUM(T5:T14)=0,\"\",SUM(T5:T14))","v":""},""]
[]
[null,null,"Wählen Sie einen Wärmetauscher aus um ihn weiter zu bearbeiten"]
[null,null,"Auswahl Energieträger zur Bewertung Primärenergie- und CO2-Einsparungen",null,null,null,null,null,null,null,null,"  "]

{"sheet":"Solarthermie","index":35,"n_rows":82,"n_cols":23,"rows_kept":82,"cut":false,"hidden":false,"merged":[[45,7,45,8]]}
[]
[]
[]
[null,null,null,null,null,null,null,null,null," "]
[]
[]
[]
[]
[]
[]
[]
[]
[]
[]
[null,"Standort ",null,"Kollektor \nauswählen:",null,"Fläche \nauswählen:",null,"Flachdach"]
[null,{"$f":"Allgemein!D18","v":0}]
[]
[]
[]
[]
[]
[null,{"$f":"IF(B16=0,\"Bitte Standort im Bereich Allgemein auswählen!\",\"\")","v":"Bitte Standort im Bereich Allgemein auswählen!"}]
[]
[]
[]
[]
[]
[]
["Max","Prozess(e) /\nWärmesenke(n) auswählen:",null,"Start-\nTemperatur",null,"End-\nTemperatur",null,"Volllaststunden \npro Jahr",null,"Leistung ",null,"Energiebedarf pro Jahr",null,"Betriebstage\n pro Jahr",null,"Energiebedarf\npro Tag"]
[1,null,{"$f":"MATCH(B30,varCS!$L$1:$L$100,0)","v":{"$error":"#N/A"}},{"$f":"INDEX(varCS!$A$1:$K$100,C30,1)","v":{"$error":"#N/A"}},"°C",{"$f":"INDEX(varCS!$A$1:$K$100,C30,2)","v":{"$error":"#N/A"}},"°C",{"$f":"INDEX(varCS!$A$1:$K$100,C30,7)","v":{"$error":"#N/A"}},"h/a",{"$f":"INDEX(varCS!$A$1:$K$100,C30,8)","v":{"$error":"#N/A"}},"kW",{"$f":"INDEX(varCS!$A$1:$K$100,C30,11)","v":{"$error":"#N/A"}},"kWh/a",{"$f":"INDEX(varCS!$A$1:$K$100,C30,10)","v":{"$error":"#N/A"}},"d/a",{"$f":"L30/N30","v":{"$error":"#N/A"}},"kWh/d"]
[2,null,{"$f":"MATCH(B31,varCS!$L$1:$L$100,0)","v":{"$error":"#N/A"}},{"$f":"INDEX(varCS!$A$1:$K$100,C31,1)","v":{"$error":"#N/A"}},"°C",{"$f":"INDEX(varCS!$A$1:$K$100,C31,2)","v":{"$error":"#N/A"}},"°C",{"$f":"INDEX(varCS!$A$1:$K$100,C31,7)","v":{"$error":"#N/A"}},"h/a",{"$f":"INDEX(varCS!$A$1:$K$100,C31,8)","v":{"$error":"#N/A"}},"kW",{"$f":"INDEX(varCS!$A$1:$K$100,C31,11)","v":{"$error":"#N/A"}},"kWh/a",{"$f":"INDEX(varCS!$A$1:$K$100,C31,10)","v":{"$error":"#N/A"}},"d/a",{"$f":"L31/N31","v":{"$error":"#N/A"}},"kWh/d"]
[3,null,{"$f":"MATCH(B32,varCS!$L$1:$L$100,0)","v":{"$error":"#N/A"}},{"$f":"INDEX(varCS!$A$1:$K$100,C32,1)","v":{"$error":"#N/A"}},"°C",{"$f":"INDEX(varCS!$A$1:$K$100,C32,2)","v":{"$error":"#N/A"}},"°C",{"$f":"INDEX(varCS!$A$1:$K$100,C32,7)","v":{"$error":"#N/A"}},"h/a",{"$f":"INDEX(varCS!$A$1:$K$100,C32,8)","v":{"$error":"#N/A"}},"kW",{"$f":"INDEX(varCS!$A$1:$K$100,C32,11)","v":{"$error":"#N/A"}},"kWh/a",{"$f":"INDEX(varCS!$A$1:$K$100,C32,10)","v":{"$error":"#N/A"}},"d/a",{"$error":"#N/A"},"kWh/d"]
[4,null,{"$f":"MATCH(B33,varCS!$L$1:$L$100,0)","v":{"$error":"#N/A"}},{"$f":"INDEX(varCS!$A$1:$K$100,C33,1)","v":{"$error":"#N/A"}},"°C",{"$f":"INDEX(varCS!$A$1:$K$100,C33,2)","v":{"$error":"#N/A"}},"°C",{"$f":"INDEX(varCS!$A$1:$K$100,C33,7)","v":{"$error":"#N/A"}},"h/a",{"$f":"INDEX(varCS!$A$1:$K$100,C33,8)","v":{"$error":"#N/A"}},"kW",{"$f":"INDEX(varCS!$A$1:$K$100,C33,11)","v":{"$error":"#N/A"}},"kWh/a",{"$f":"INDEX(varCS!$A$1:$K$100,C33,10)","v":{"$error":"#N/A"}},"d/a",{"$error":"#N/A"},"kWh/d"]
[5,null,{"$f":"MATCH(B34,varCS!$L$1:$L$100,0)","v":{"$error":"#N/A"}},{"$f":"INDEX(varCS!$A$1:$K$100,C34,1)","v":{"$error":"#N/A"}},"°C",{"$f":"INDEX(varCS!$A$1:$K$100,C34,2)","v":{"$error":"#N/A"}},"°C",{"$f":"INDEX(varCS!$A$1:$K$100,C34,7)","v":{"$error":"#N/A"}},"h/a",{"$f":"INDEX(varCS!$A$1:$K$100,C34,8)","v":{"$error":"#N/A"}},"kW",{"$f":"INDEX(varCS!$A$1:$K$100,C34,11)","v":{"$error":"#N/A"}},"kWh/a",{"$f":"INDEX(varCS!$A$1:$K$100,C34,10)","v":{"$error":"#N/A"}},"d/a",{"$error":"#N/A"},"kWh/d"]
[]
[]
[null,null,null,"Maximale End-Temperatur",null,{"$f":"MAX(IFERROR(F30:F34,0))","v":0},"°C",null,null,null,"Summe",{"$f":"SUM(IFERROR(L30:L34,0))","v":0},"kWh/a",null,"Summe",{"$f":"SUM(IFERROR(P30:P34,0))","v":0},"kWh/d"]
[]
[null,null,"Vorlauftemperatur Prozess(e) ",null,null,null,"°C",{"$f":"IF(F39<F37, \"Vorlauftemperatur muss größer als Prozesstemperatur sein\",\"\")","v":""}]
[null,null,"Rücklauftemperatur Prozess(e) ",null,null,null,"°C"]
[]
[]
[]
[]
[]
[]
[null,"Jährliche Einstrahlung\nStandort",null,"Kollektor-\nwirkungsgrad",null,"Aperturfläche",null,"Benötigte Fläche",null,"Jährlicher \nsolarer Ertrag",null,"Jährlicher \nDeckungsgrad",null,null,null,null,null,"Solarer \nDeckungsgrad",null,"Mittlerer spez.\n solarer Ertrag",null,"Solarer Ertrag"]
[null,{"$f":"VLOOKUP(B16,ST_Daten!$A$111:$B$119,2,FALSE)","v":{"$error":"#N/A"}},"kWh/m².a",{"$f":"ST_Daten!B95","v":{"$error":"#N/A"}},"-",{"$f":"IF(H54=\"\",P37/T48,IF(F16=\"Boden\",H54/2.5,(IF(AND(F16=\"Dach\",H16=\"NEIN\"),H54/1.1,(IF(AND(F16=\"Dach\",H16=\"JA\"),H54/2.5,\"\"))))))","v":{"$error":"#N/A"}},"m²",{"$f":"IF(F16=\"Boden\",F48*2.5,(IF(AND(F16=\"Dach\",H16=\"NEIN\"),F48*1.1,(IF(AND(F16=\"Dach\",H16=\"JA\"),F48*2.5,\"\")))))","v":""},"m²",{"$f":"B48*D48*F48","v":{"$error":"#N/A"}},"kWh/a",{"$f":"J48/L37*100","v":{"$error":"#N/A"}},"%",null,null,null,null,{"$f":"V48/P37*100","v":{"$error":"#N/A"}},"%",{"$f":"VLOOKUP(B16,ST_Daten!$A$111:$E$119,5,FALSE)*D48","v":{"$error":"#N/A"}},"kWh/m².d",{"$f":"T48*F48","v":{"$error":"#N/A"}},"kWh/d"]
[]
[null,null,null,null,null,null,null,"Vorhandene \nFläche"]
[null,null,null,null,null,null,null,{"$f":"VLOOKUP(F16,Allgemein!$F$22:$G$23,2,FALSE)","v":{"$error":"#N/A"}},"m²"]
[]
[null,null,null,null,null,null,null,"Optionale \nFlächeneingabe"]
[null,null,null,null,null,null,null,null,"m²"]
[]
[]
[]
[]
[]
[]
[]
[]
[]
[null,"Ökologische Bewertung nach",null,null,null,{"$f":"\"CO2 Faktor\"&\" \n\"&B82","v":"CO2 Faktor \n"},null,{"$f":"\"PE Faktor\"&\" \n\"&B82","v":"PE Faktor \n"}]
[null,null,{"$f":"IF(B65=\"GEMIS\",2,IF(B65=\"OIB RL\",3,0))","v":0},null,null,{"$f":"VLOOKUP(B82,Listen!$A$115:$E$122,Solarthermie!C65,FALSE)","v":{"$error":"#N/A"}},{"$f":"IF(B65=\"GEMIS\", \"kg CO2e / kWh\",IF(B65=\"OIB RL\",\"kg CO2 / kWh\",\"\"))","v":""},{"$f":"VLOOKUP(B82,Listen!$A$127:$C$135,Solarthermie!C65,FALSE)","v":{"$error":"#N/A"}},"kWh PE / kWh"]
[null,null,null,null,null,null,"kg CO2(e) / kWh",null,"kWh PE / kWh"]
[null,null,null,null,null,{"$f":"IF(F66=\"\",F65,F66)","v":{"$error":"#N/A"}},null,{"$f":"IF(H66=\"\",H65,H66)","v":{"$error":"#N/A"}}]
[]
[]
[]
[]
[]
[]
[]
[]
[]
[]
[]
[]
[]
[null,"Energieträger auswählen:",null,"Jährliche Energieeinsparung",null,"Jährliche Einsparung an CO2 / CO2e",null,"Energiepreis\nkonv. Energieträger",null,"Jährliche Energiekosten-einsparung",null,"Investitionskosten \nWärmepumpe",null,"Investitionskosten \nSolarthermie",null,"Energiekosten \npro Jahr",null,"Statische \nAmortisationszeit",null,"Wärmegestehungs-\nkosten"]
[null,null,null,{"$f":"J48","v":{"$error":"#N/A"}},"kWh/a",{"$f":"F67*D82/1000","v":{"$error":"#N/A"}},"t CO2/a",{"$f":"VLOOKUP(B82,Energieversorgung!C15:O19,13,FALSE)","v":{"$error":"#N/A"}},"€/MWh",{"$f":"D82/1000*H82","v":{"$error":"#N/A"}},"€/a","Keine","€",null,"€",0,"€/a",{"$f":"N82/J82","v":{"$error":"#N/A"}},"Jahre",{"$f":"N82/(J48/1000*20)","v":{"$error":"#N/A"}},"€/MWh"]

{"sheet":"Wärmepumpe","index":36,"n_rows":92,"n_cols":26,"rows_kept":92,"cut":false,"hidden":false,"merged":[[52,17,54,17],[56,17,59,17]]}
[]
[]
[]
[]
[]
[]
[]
[]
[]
[]
[]
[]
[]
[]
[null,"Prozess / \nWärmesenke auswählen:",null,"Start-\nTemperatur",null,"End-\nTemperatur",null,"Volllaststunden\npro Jahr",null,"Leistung",null,"Energiemenge\npro Jahr"]
[null,null,{"$f":"MATCH(B16,varCS!L1:L100,0)","v":{"$error":"#N/A"}},{"$f":"INDEX(varCS!$A$1:$K$100,C16,1)","v":{"$error":"#N/A"}},"°C",{"$f":"INDEX(varCS!$A$1:$K$100,C16,2)","v":{"$error":"#N/A"}},"°C",{"$f":"INDEX(varCS!$A$1:$K$100,C16,7)","v":{"$error":"#N/A"}},"h/a",{"$f":"INDEX(varCS!$A$1:$K$100,C16,8)","v":{"$error":"#N/A"}},"kW",{"$f":"INDEX(varCS!$A$1:$K$100,C16,11)","v":{"$error":"#N/A"}},"kWh/a"]
[]
[]
[null,"Prozess / \nWärmequelle auswählen:",null,"Start-\nTemperatur",null,"End-\nTemperatur",null,"Volllaststunden\npro Jahr",null,"Leistung",null,"Energiemenge\npro Jahr",null,"Auswählen:",null,"Auswählen:",null,null,null,"EER",null,"Strombedarf"]
[null,null,{"$f":"MATCH(B20,varHS!L1:L100,0)","v":{"$error":"#N/A"}},{"$f":"INDEX(varHS!$A$1:$K$100,C20,1)","v":{"$error":"#N/A"}},"°C",{"$f":"INDEX(varHS!$A$1:$K$100,C20,2)","v":{"$error":"#N/A"}},"°C",{"$f":"INDEX(varHS!$A$1:$K$100,C20,7)","v":{"$error":"#N/A"}},"h/a",{"$f":"INDEX(varHS!$A$1:$K$100,C20,8)","v":{"$error":"#N/A"}},"kW",{"$f":"INDEX(varHS!$A$1:$K$100,C20,11)","v":{"$error":"#N/A"}},"kWh/a",null,null,null,null,null,null,{"$f":"VLOOKUP(P20,Listen!$B$91:$C$100,2,FALSE)","v":{"$error":"#N/A"}},null,{"$f":"(J20*F54)/T20","v":{"$error":"#N/A"}},"kWh/a"]
[]
[null,null,null,"Optionale End-Temperatur",null,null,"°C",null,null,{"$f":"IF(F22=\"\",J20,L22/H20)","v":{"$error":"#N/A"}},"kW",{"$f":"IF(F22=\"\",L20,L20/(D20-F20)*(D20-F22))","v":{"$error":"#N/A"}},"kWh/a"]
[]
[]
[]
[]
[]
[]
[]
[null,null,null,null,null,null,null,null,null,"   "]
[]
[]
[]
[]
[]
[]
[]
[]
[]
[]
[]
[]
[]
[]
[]
[]
[]
[]
[]
[]
[]
[]
[null,"max. Volllaststunden\npro Jahr",null,"Gleichzeitigkeit \n der Prozesse",null,"Volllaststunden\npro Jahr",null,"Gütegrad ",null,"Strombedarf\npro Jahr ",null,null,null,null,null,null,null,"Kondensator","Tk,ein",{"$f":"$D$16","v":{"$error":"#N/A"}},"°C"]
[null,{"$f":"MIN(H20,H16)","v":{"$error":"#N/A"}},"h/a",null,"%",{"$f":"D54*B54/100","v":{"$error":"#N/A"}},"h/a",null,"-",{"$f":"J58*F54","v":{"$error":"#N/A"}},"kWh/a",null,null,null,null,null,null,null,"Tk,aus",{"$f":"$F$16","v":{"$error":"#N/A"}},"°C"]
[null,null,null,null,null,null,null,null,null,null,null,null,null,null,null,null,null,null,"Tmax",{"$f":"T54+273.15+5","v":{"$error":"#N/A"}},"K"]
[]
[null,"Ideale (Carnot) \nLeistungszahl",null,"Reale \nLeistungszahl",null,"Leistung \nKondensator (Heizleistung)",null,"Leistung \nVerdampfer",null,"Leistung \nKompressor",null,"Bereitgestellte\nEnergiemenge",null,null,null,null,null,"Verdampfer","Tv,ein",{"$f":"$D$20","v":{"$error":"#N/A"}},"°C"]
[null,{"$f":"T55/(T55-T59)","v":{"$error":"#N/A"}},null,{"$f":"B58*H54","v":{"$error":"#N/A"}},null,{"$f":"H58+J58","v":{"$error":"#N/A"}},"kW",{"$f":"J22","v":{"$error":"#N/A"}},"kW",{"$f":"H58/(D58-1)","v":{"$error":"#N/A"}},"kW",{"$f":"F58*F54","v":{"$error":"#N/A"}},"kWh/a",null,null,null,null,null,"Tv,aus",{"$f":"IF(F22=\"\",F20,F22)","v":{"$error":"#N/A"}},"°C"]
[null,null,null,null,null,null,null,null,null,null,null,null,null,null,null,null,null,null,"Tmin",{"$f":"T58+273.15-5","v":{"$error":"#N/A"}},"K"]
[null,null,null,null,null,{"$f":"IF(F58>J16,\"Info: Die erzielbare Heizleistung liegt über der benötigte Heizleistung.\", \"Info: Die erzielbarer Heizleistung liegt unter der benötigten Heizleistung\")","v":{"$error":"#N/A"}}]
[]
[]
[]
[]
[]
[]
[]
[]
[]
[]
[null,"Ökologische Bewertung nach",null,null,null,{"$f":"\"CO2 Faktor\"&\" \"&B82","v":"CO2 Faktor "},null,{"$f":"\"PE Faktor\"&\" \n\"&B82","v":"PE Faktor \n"},null,"CO2 Faktor\nStrom",null,"PE Faktor\nStrom"]
[null,null,{"$f":"IF(B72=\"GEMIS\",2,IF(B72=\"OIB RL\",3,0))","v":0},null,null,{"$f":"VLOOKUP(B82,Listen!$A$115:$E$122,C72,FALSE)","v":{"$error":"#N/A"}},{"$f":"IF(B72=\"GEMIS\", \"kg CO2e / kWh\",IF(B72=\"OIB RL\",\"kg CO2 / kWh\",\"\"))","v":""},{"$f":"VLOOKUP(B82,Listen!$A$127:$C$135,C72,FALSE)","v":{"$error":"#N/A"}},"kWh PE / kWh",{"$f":"VLOOKUP(\"Strom\",Listen!A115:C122,C72,FALSE)","v":{"$error":"#VALUE!"}},{"$f":"IF(B72=\"GEMIS\", \"kg CO2e / kWh\",IF(B72=\"OIB RL\",\"kg CO2 / kWh\",\"\"))","v":""},{"$f":"VLOOKUP(\"Strom\",Listen!$A$127:$C$135,C72,FALSE)","v":{"$error":"#VALUE!"}},"kWh PE / kWh"]
[null,null,null,null,null,null,"kg CO2(e) / kWh",null,"kWh PE / kWh",null,"kg CO2(e) / kWh",null,"kWh PE / kWh"]
[null,null,null,null,null,{"$f":"IF(F73=\"\",F72,F73)","v":{"$error":"#N/A"}},null,{"$f":"IF(H73=\"\",H72,H73)","v":{"$error":"#N/A"}},null,{"$f":"IF(J73=\"\",J72,J73)","v":{"$error":"#VALUE!"}},null,{"$f":"IF(L73=\"\",L72,L73)","v":{"$error":"#VALUE!"}}]
[]
[]
[]
[]
[]
[]
[null,"Energieträger auswählen:",null,"Jährliche Energieeinsparung",null,"Jährliche Einsparung an CO2 / CO2e",null,"Strompreis",null,"Jährliche Energiekosten-einsparung",null,"Investitionskosten\nWärmepumpe",null,"Investitionskosten\nSolarthermie",null,"Energiekosten\nWärmepumpe",null,"Statische \nAmortisationszeit",null,"Wärmegestehungs-\nkosten ",null,null,null,null,"Energiepreis"]
[null,null,null,{"$f":"(IFERROR(D86,0)+D89-D92)","v":{"$error":"#N/A"}},"kWh/a",{"$f":"(IFERROR(F86,0)+F89-F92)","v":{"$error":"#N/A"}},"t CO2/a",null,"€/MWh",{"$f":"(IFERROR(H86,0)+H89-H92)","v":{"$error":"#N/A"}},"€/a",null,"€","Keine","€",{"$f":"H92","v":{"$error":"#N/A"}},"€/a",{"$f":"L82/J82","v":{"$error":"#N/A"}},"a",{"$f":"(L82+H92*20)/(20*(L58/1000))","v":{"$error":"#N/A"}},"€/MWh",null,null,null,{"$f":"VLOOKUP(B82,Energieversorgung!C15:O19,13,FALSE)","v":{"$error":"#N/A"}},"€/MWh"]
[]
[]
[null,null,null,"Einsparung\n Strom Kühlung",null,"CO2(e) Einsparung \nKühlung ",null,"Kosteneinsparung\nKühlung"]
[null,null,null,{"$f":"IF(N20=\"Derzeit nicht gekühlt\",0,V20)","v":{"$error":"#N/A"}},"kWh/a",{"$f":"IF(N20=\"Derzeit nicht gekühlt\",0,D86*J74)","v":{"$error":"#N/A"}},"kg CO2/a",{"$f":"(D86/1000)*H82","v":{"$error":"#N/A"}},"€/a"]
[]
[null,null,null,"Einsparung\n konv Energieträger",null,"CO2(e)  Einsparung konv \nEnergieträger",null,"Kosteneinsparung\nkonv Energieträger"]
[null,null,null,{"$f":"F58*F54","v":{"$error":"#N/A"}},"kWh/a",{"$f":"D89*F74","v":{"$error":"#N/A"}},"kg CO2/a",{"$f":"(D89/1000)*Y82","v":{"$error":"#N/A"}},"€/a"]
[]
[null,null,null,"Energiebedarf WP",null,"CO2(e)  Freisetzung",null,"Energiekosten WP"]
[null,null,null,{"$f":"J58*F54","v":{"$error":"#N/A"}},"kWh/a",{"$f":"D92*J74","v":{"$error":"#N/A"}},"kg CO2/a",{"$f":"(D92/1000)*H82","v":{"$error":"#N/A"}},"€/a"]

{"sheet":"Parallel","index":37,"n_rows":91,"n_cols":28,"rows_kept":91,"cut":false,"hidden":false,"merged":[[60,22,62,22],[66,22,68,22],[26,7,26,9]]}
[]
[]
[]
[]
[]
[]
[]
[]
[]
[]
[]
[]
[]
[]
[null,"Prozess/ \nWärmesenke auswählen:",null,"Start-\nTemperatur",null,"End-\nTemperatur",null,"Volllaststunden\npro Jahr",null,"Leistung",null,"Energiebedarf\npro Jahr",null,"Betriebstage \npro Jahr",null,"Energiebedarf \npro Tag"]
[null,null,{"$f":"MATCH(B16,varCS!$L$1:$L$100,0)","v":{"$error":"#N/A"}},{"$f":"INDEX(varCS!$A$1:$K$100,C16,1)","v":{"$error":"#N/A"}},"°C",{"$f":"INDEX(varCS!$A$1:$K$100,C16,2)","v":{"$error":"#N/A"}},"°C",{"$f":"INDEX(varCS!$A$1:$K$100,C16,7)","v":{"$error":"#N/A"}},"h/a",{"$f":"INDEX(varCS!$A$1:$K$100,C16,8)","v":{"$error":"#N/A"}},"kW",{"$f":"INDEX(varCS!$A$1:$K$100,C16,11)","v":{"$error":"#N/A"}},"kWh/a",{"$f":"INDEX(varCS!$A$1:$K$100,C16,10)","v":{"$error":"#N/A"}},"d/a",{"$f":"L16/N16","v":{"$error":"#N/A"}},"kWh/d"]
[]
[]
[null,null,null,"Vorlauftemperatur Prozess",null,null,"°C",{"$f":"IF(F19<F16, \"Vorlauftemperatur muss größer als Prozesstemperatur sein\",\"\")","v":{"$error":"#N/A"}}]
[null,null,null,"Rücklauftemperatur Prozess",null,null,"°C"]
[]
[]
[]
[]
[]
[null,"Auslegungswert\nSolarthermie",null,"Auslegungswert\nWärmepumpe",null,"Summe"]
[null,null,"%",null,"%",{"$f":"B27+D27","v":0},"%",{"$f":"IF(F27=0,\"Bitte Aufteilung angeben!\",IF(F27<100,\"Restlicher Bedarf  konventionell gedeckt!\",IF(F27>100,\"Summe darf maximal 100% betragen\",IF(F27=100,\"\",\"\"))))","v":"Bitte Aufteilung angeben!"}]
[null,{"$f":"L16*B27/100","v":{"$error":"#N/A"}},"kWh/a",{"$f":"L16*D27/100","v":{"$error":"#N/A"}},"kWh/a",{"$f":"D28+B28","v":{"$error":"#N/A"}},"kWh/a"]
[null,{"$f":"P16*B27/100","v":{"$error":"#N/A"}},"kWh/d",{"$f":"D27*P16/100","v":{"$error":"#N/A"}},"kWh/d",{"$f":"100-F27","v":100}]
[]
[]
[]
[]
[]
[]
[]
[]
[null,"Standort ",null,"Kollektor \nauswählen",null,"Fläche \nauswählen",null,"Flachdach"]
[null,{"$f":"Allgemein!D18","v":0}]
[null,{"$f":"IF(B39=0,\"Bitte Standort im Bereich Allgemein auswählen!\",\"\")","v":"Bitte Standort im Bereich Allgemein auswählen!"}]
[null,"Jährliche Einstrahlung",null,"Kollektor-\nwirkungsgrad",null,"Aperturfläche",null,"Benötigte Fläche",null,"Jährlicher \nsolarer Ertrag",null,"Jährlicher \nDeckungsgrad",null,null,null,"mittlerer spez.\n solarer Ertrag",null,"Solarer\n Ertrag",null,"Solarer \nDeckungsgrad"]
[null,{"$f":"VLOOKUP(B39,ST_Daten!$A$111:$B$119,2,FALSE)","v":{"$error":"#N/A"}},"kWh/m².a",{"$f":"ST_Daten!E95","v":{"$error":"#N/A"}},"-",{"$f":"IF(H48=\"\",B29/P42,IF(F39=\"Boden\",H48/2.5,(IF(AND(F39=\"Dach\",H39=\"NEIN\"),H48/1.1,(IF(AND(F39=\"Dach\",H39=\"JA\"),H48/2.5,\"\"))))))","v":{"$error":"#N/A"}},"m²",{"$f":"IF(F39=\"Boden\",F42*2.5,(IF(AND(F39=\"Dach\",H39=\"NEIN\"),F42*1.1,(IF(AND(F39=\"Dach\",H39=\"JA\"),F42*2.5,\"\")))))","v":""},"m²",{"$f":"B42*D42*F42","v":{"$error":"#N/A"}},"kWh/a",{"$f":"J42/B28*100","v":{"$error":"#N/A"}},"%",null,null,{"$f":"VLOOKUP(B39,ST_Daten!$A$111:$E$119,5,FALSE)*D42","v":{"$error":"#N/A"}},"kWh/m².d",{"$f":"P42*F42","v":{"$error":"#N/A"}},"kWh/d",{"$f":"R42/B29*100","v":{"$error":"#N/A"}},"%"]
[]
[null,null,null,null,null,null,null,"Vorhandene \nFläche"]
[null,null,null,null,null,null,null,{"$f":"VLOOKUP(F39,Allgemein!$F$22:$G$23,2,FALSE)","v":{"$error":"#N/A"}},"m²"]
[]
[null,null,null,null,null,null,null,"Optionale \nFlächeneingabe"]
[null,null,null,null,null,null,null,null,"m²"]
[]
[]
[]
[]
[]
[]
[]
[]
[null,"max. Volllaststunden\npro Jahr",null,"Gleichzeitigkeit \n der Prozesse",null,"Volllaststunden\npro Jahr",null,"Gütegrad "]
[null,{"$f":"MIN(G19,H62)","v":{"$error":"#N/A"}},"h/a",null,"%",{"$f":"D58*B58/100","v":{"$error":"#N/A"}},"h/a",null,"-"]
[]
[]
[null,"Prozess / \nWärmequelle auswählen:",null,"Start-\nTemperatur",null,"End-\nTemperatur",null,"Volllaststunden\npro Jahr",null,"Leistung",null,"Energiemenge\npro Jahr",null,"Auswählen:",null,"Auswählen:",null,null,"EER","Strombedarf",null,null,"Kondensator","Tk,ein",{"$f":"D16","v":{"$error":"#N/A"}},"°C"]
[null,null,{"$f":"MATCH(B62,varHS!L1:L100,0)","v":{"$error":"#N/A"}},{"$f":"INDEX(varHS!$A$1:$K$100,C62,1)","v":{"$error":"#N/A"}},"°C",{"$f":"INDEX(varHS!$A$1:$K$100,C62,2)","v":{"$error":"#N/A"}},"°C",{"$f":"INDEX(varHS!$A$1:$K$100,C62,7)","v":{"$error":"#N/A"}},"h/a",{"$f":"INDEX(varHS!$A$1:$K$100,C62,8)","v":{"$error":"#N/A"}},"kW",{"$f":"INDEX(varHS!$A$1:$K$100,C62,11)","v":{"$error":"#N/A"}},"kWh/a",null,null,null,null,null,{"$f":"VLOOKUP(P62,Listen!B91:C100,2,FALSE)","v":{"$error":"#N/A"}},{"$f":"(J62*F58)/S62","v":{"$error":"#N/A"}},"kWh/a",null,null,"Tk,aus",{"$f":"F19","v":0},"°C"]
[null,null,null,null,null,null,null,null,null,null,null,null,null,null,null,null,null,null,null,null,null,null,null,"Tmax",{"$f":"Y62+273.15+5","v":278.14999999999998},"K"]
[null,null,null,"Optionale End-Temperatur",null,null,"°C",null,null,{"$f":"IF(F64=\"\",J62,L64/H62)","v":{"$error":"#N/A"}},"kW",{"$f":"IF(F64=\"\",L62,L62/(D62-F62)*(D62-F64))","v":{"$error":"#N/A"}},"kWh/a"]
[]
[]
[null,null,null,null,null,null,null,null,null,null,null,null,null,null,null,null,null,null,null,null,null,null,"Verdampfer","Tv,ein",{"$f":"D62","v":{"$error":"#N/A"}},"°C"]
[null,"Ideale (Carnot) \nLeistungszahl",null,"Reale \nLeistungszahl",null,"Leistung \nKondensator",null,"Leistung \nVerdampfer",null,"Leistung \nKompressor",null,"Bereitgestellte\nEnergiemenge",null,"Strombedarf \npro Jahr",null,null,null,null,null,null,null,null,null,"Tv,aus",{"$f":"IF(F64=\"\",F62,F64)","v":{"$error":"#N/A"}},"°C"]
[null,{"$f":"Y63/(Y63-Y69)","v":{"$error":"#N/A"}},null,{"$f":"B69*H58","v":{"$error":"#N/A"}},null,{"$f":"H69+J69","v":{"$error":"#N/A"}},"kW",{"$f":"J64","v":{"$error":"#N/A"}},"kW",{"$f":"H69/(B69-1)","v":{"$error":"#N/A"}},"kW",{"$f":"F69*F58","v":{"$error":"#N/A"}},"kWh/a",{"$f":"J69*F58","v":{"$error":"#N/A"}},"kWh/a",null,null,null,null,null,null,null,null,"Tmin",{"$f":"Y68+273.15-5","v":{"$error":"#N/A"}},"K"]
[null,null,null,null,null,{"$f":"IF(F69>D28/H16,\"Info: Die erzielbare Heizleistung liegt über der benötigte Heizleistung.\", \"Info: Die erzielbarer Heizleistung liegt unter der benötigten Heizleistung\")","v":{"$error":"#N/A"}}]
[]
[]
[]
[]
[null,"Ökologische Bewertung nach",null,null,null,{"$f":"\"CO2 Faktor\"&\"\n \"&B82","v":"CO2 Faktor\n "},null,{"$f":"\"PE Faktor\"&\" \n\"&B82","v":"PE Faktor \n"},null,"CO2 Faktor\nStrom",null,"PE Faktor\nStrom"]
[null,null,{"$f":"IF(B76=\"GEMIS\",2,IF(B76=\"OIB RL\",3,0))","v":0},null,null,{"$f":"VLOOKUP(B82,Listen!$A$115:$E$122,C76,FALSE)","v":{"$error":"#N/A"}},{"$f":"IF(B76=\"GEMIS\", \"kg CO2e / kWh\",IF(B76=\"OIB RL\",\"kg CO2 / kWh\",\"\"))","v":""},{"$f":"VLOOKUP(B82,Listen!$A$127:$C$135,C76,FALSE)","v":{"$error":"#N/A"}},"kWh PE / kWh",{"$f":"VLOOKUP(\"Strom\",Listen!A119:C126,C76,FALSE)","v":{"$error":"#VALUE!"}},{"$f":"IF(B76=\"GEMIS\", \"kg CO2e / kWh\",IF(B76=\"OIB RL\",\"kg CO2 / kWh\",\"\"))","v":""},{"$f":"VLOOKUP(\"Strom\",Listen!$A$127:$C$135,C76,FALSE)","v":{"$error":"#VALUE!"}},"kWh PE / kWh"]
[null,null,null,null,null,null,"kg CO2(e) / kWh",null,"kWh PE / kWh",null,"kg CO2(e) / kWh",null,"kWh PE / kWh"]
[null,null,null,null,null,{"$f":"IF(F77=\"\",F76,F77)","v":{"$error":"#N/A"}},null,{"$f":"IF(H77=\"\",H76,H77)","v":{"$error":"#N/A"}},null,{"$f":"IF(J77=\"\",J76,J77)","v":{"$error":"#VALUE!"}},null,{"$f":"IF(L77=\"\",L76,L77)","v":{"$error":"#VALUE!"}}]
[]
[]
[null,"Energieträger auswählen:",null,"Jährliche \nEnergieeinsparung",null,"Jährliche Einsparung an CO2 / CO2e",null,"Strompreis",null,"Jährliche Energiekosten-einsparung",null,"Investitionskosten\nWärmepumpe",null,"Investionskosten\nSolarthermie",null,"Energiekosten\npro Jahr",null,"Statische \nAmortisationszeit",null,"Wärmegestehungs-\nkosten",null,null,null,null,null,null,"Energiepreis"]
[null,null,null,{"$f":"(IFERROR(D85,0)+D88-D91)","v":{"$error":"#N/A"}},"kWh/a",{"$f":"(IFERROR(F85,0)+F88-F91)","v":{"$error":"#N/A"}},"t CO2/a",null,"€/MWh",{"$f":"(IFERROR(H85,0)+H88-H91)","v":{"$error":"#N/A"}},"€/a",null,"€",null,"€",{"$f":"H91","v":{"$error":"#N/A"}},"€/a",{"$f":"(L82+N82)/(J82)","v":{"$error":"#N/A"}},"Jahre",{"$f":"(L82+N82+(P82*20))/((L69/1000+J42/1000)*20)","v":{"$error":"#N/A"}},"€/MWh",null,null,null,null,null,{"$f":"VLOOKUP(B82,Energieversorgung!$C$15:$O$19,13,FALSE)","v":{"$error":"#N/A"}},"€/MWh"]
[]
[null,null,null,"Einsparung\n Strom Kühlung",null,"CO2(e) Einsparung \nKühlung ",null,"Kosteneinsparung\nKühlung"]
[null,null," ",{"$f":"IF(N62=\"Derzeit nicht gekühlt\",0,T62)","v":{"$error":"#N/A"}},"kWh/a",{"$f":"IF(N19=\"Derzeit nicht gekühlt\",0,D85*J78)","v":{"$error":"#N/A"}},"kg CO2/a",{"$f":"(D85/1000)*H82","v":{"$error":"#N/A"}},"€/a"]
[]
[null,null,null,"Einsparung\n konv Energieträger",null,"CO2(e)  Einsparung konv \nEnergieträger",null,"Kosteneinsparung\nkonv Energieträger"]
[null,null,null,{"$f":"J42+L69","v":{"$error":"#N/A"}},"kWh/a",{"$f":"D88*F78","v":{"$error":"#N/A"}},"kg CO2/a",{"$f":"(D88/1000)*AA82","v":{"$error":"#N/A"}},"€/a"]
[]
[null,null,null,"Energiebedarf WP",null,"CO2(e)  Freisetzung",null,"Energiekosten WP"]
[null,null,null,{"$f":"J69*F58","v":{"$error":"#N/A"}},"kWh/a",{"$f":"D91*J78","v":{"$error":"#N/A"}},"kg CO2/a",{"$f":"(D91/1000)*H82","v":{"$error":"#N/A"}},"€/a"]

{"sheet":"Seriell_STWP","index":38,"n_rows":93,"n_cols":27,"rows_kept":93,"cut":false,"hidden":false,"merged":[[65,23,67,23],[61,23,63,23]]}
[]
[]
[]
[]
[]
[]
[]
[]
[]
[]
[]
[]
[]
[]
[null,"Prozess / \nWärmesenke auswählen:",null,"Start-\nTemperatur",null,"End-\nTemperatur",null,"Volllaststunden\npro Jahr",null,"Leistung",null,"Energiebedarf\npro Jahr",null,"Betriebstage \npro Jahr",null,"Energiebedarf\n pro Tag"]
[null,null,{"$f":"MATCH(B16,varCS!$L$1:$L$100,0)","v":{"$error":"#N/A"}},{"$f":"INDEX(varCS!$A$1:$K$100,C16,1)","v":{"$error":"#N/A"}},"°C",{"$f":"INDEX(varCS!$A$1:$K$100,C16,2)","v":{"$error":"#N/A"}},"°C",{"$f":"INDEX(varCS!$A$1:$K$100,C16,7)","v":{"$error":"#N/A"}},"h/a",{"$f":"INDEX(varCS!$A$1:$K$100,C16,8)","v":{"$error":"#N/A"}},"kW",{"$f":"INDEX(varCS!$A$1:$K$100,C16,11)","v":{"$error":"#N/A"}},"kWh/a",{"$f":"INDEX(varCS!$A$1:$K$100,C16,10)","v":{"$error":"#N/A"}},"d/a",{"$f":"L16/N16","v":{"$error":"#N/A"}},"kWh/d"]
[]
[]
[null,null,null,"Vorlauftemperatur Prozess",null,null,"°C",{"$f":"IF(F19<F16, \"Vorlauftemperatur muss größer als Prozesstemperatur sein\",\"\")","v":{"$error":"#N/A"}},null,null,null,null,null,null,"Summe",{"$f":"SUM(IFERROR(P16:P16,0))","v":0},"kWh/d"]
[null,null,null,"Rücklauftemperatur Prozess",null,null,"°C",null,null,null,null,null,null,null,"Summe",{"$f":"IF(F20=\"\",P19,P19/F19*F20)","v":0},"kWh/d"]
[]
[]
[]
[]
[]
[]
[]
[null,"End-Temperatur nach \nSolarthermie",null,"Standort ",null,"Kollektor \nauswählen",null,"Fläche \nauswählen",null,"Flachdach"]
[null,null,"°C",{"$f":"Allgemein!D18","v":0}]
[null,{"$f":"P20/F16*B29","v":{"$error":"#N/A"}},"kWh/d",null,"kWh/a"]
[null,{"$f":"B30*N16","v":{"$error":"#N/A"}},"kWh/a",{"$f":"IF(D29=0,\"Bitte Standort im Bereich Allgemein auswählen!\",\"\")","v":"Bitte Standort im Bereich Allgemein auswählen!"}]
[]
[]
[]
[null,"Jährliche Einstrahlung",null,"Kollektor- \nwirkungsgrad",null,"Aperturfläche",null,"Benötigte Fläche",null,"Jährlicher \nsolarer Ertrag",null,"Jährlicher \nDeckungsgrad",null,null,null,null,null,"spez.\n solarer Ertrag",null,"Solarer Ertrag",null,"Solarer \nDeckungsgrad"]
[null,{"$f":"VLOOKUP(D29,ST_Daten!$A$111:$B$119,2,FALSE)","v":{"$error":"#N/A"}},"kWh/m².a",{"$f":"ST_Daten!H95","v":{"$error":"#N/A"}},null,{"$f":"IF(H42=\"\",B30/R36,IF(H29=\"Boden\",H42/2.5,(IF(AND(H29=\"Dach\",J29=\"NEIN\"),H42/1.1,(IF(AND(H29=\"Dach\",J29=\"JA\"),H42/2.5,\"\"))))))","v":{"$error":"#N/A"}},"m²",{"$f":"IF(H29=\"Boden\",F36*2.5,(IF(AND(H29=\"Dach\",J29=\"NEIN\"),F36*1.1,(IF(AND(H29=\"Dach\",J29=\"JA\"),F36*2.5,\"\")))))","v":""},"m²",{"$f":"B36*D36*F36","v":{"$error":"#N/A"}},"kWh/a",{"$f":"J36/B31*100","v":{"$error":"#N/A"}},"%",null,null,null,null,{"$f":"VLOOKUP(D29,ST_Daten!$A$111:$E$119,5,FALSE)*D36","v":{"$error":"#N/A"}},"kWh/m².d",{"$f":"R36*F36","v":{"$error":"#N/A"}},"kWh/d",{"$f":"T36/B30*100","v":{"$error":"#N/A"}},"%"]
[]
[null,null,null,null,null,null,null,"Vorhandene \nFläche"]
[null,null,null,null,null,null,null,{"$f":"VLOOKUP(H29,Allgemein!$F$22:$G$23,2,FALSE)","v":{"$error":"#N/A"}},"m²"]
[]
[null,null,null,null,null,null,null,"Optionale \nFlächeneingabe"]
[null,null,null,null,null,null,null,null,"m²"]
[]
[]
[]
[]
[]
[]
[]
[]
[]
[]
[]
[]
[]
[null,"max. Volllaststunden\npro Jahr",null,"Gleichzeitigkeit \n der Prozesse",null,"Volllaststunden\npro Jahr",null,"Gütegrad "]
[null,{"$f":"MIN(H16,H63)","v":{"$error":"#N/A"}},"h/a",null,"%",{"$f":"D57*B57/100","v":{"$error":"#N/A"}},"h/a",null,"-"]
[]
[]
[]
[]
[null,"Prozess / Wärmequelle auswählen",null,"Start-\nTemperatur",null,"End-\nTemperatur",null,"Volllaststunden\npro Jahr",null,"Leistung",null,"Energiebedarf\npro Jahr",null,"Auswählen:",null,"Auswählen:",null,"EER",null,"Strombedarf",null,null,null,"Kondensator","Tk,ein",{"$f":"B29","v":0},"°C"]
[null,null,{"$f":"MATCH(B63,varHS!$L$1:$L$100,0)","v":{"$error":"#N/A"}},{"$f":"INDEX(varHS!$A$1:$K$100,C63,1)","v":{"$error":"#N/A"}},"°C",{"$f":"INDEX(varHS!$A$1:$K$100,C63,2)","v":{"$error":"#N/A"}},"°C",{"$f":"INDEX(varHS!$A$1:$K$100,C63,7)","v":{"$error":"#N/A"}},"h/a",{"$f":"INDEX(varHS!$A$1:$K$100,C63,8)","v":{"$error":"#N/A"}},"kW",{"$f":"INDEX(varHS!$A$1:$K$100,C63,11)","v":{"$error":"#N/A"}},"kWh/a",null,null,null,null,{"$f":"VLOOKUP(P63,Listen!$B$91:$C$100,2,FALSE)","v":{"$error":"#N/A"}},null,{"$f":"(J63*F57)/R63","v":{"$error":"#N/A"}},"kWh/a",null,null,null,"Tk,aus",{"$f":"IF(F20=\"\",F19,F20)","v":0},"°C"]
[null,null,null,null,null,null,null,null,null,null,null,null,null,null,null,null,null,null,null,null,null,null,null,null,"Tmax",{"$f":"Z63+273.15+5","v":278.14999999999998},"K"]
[null,null,null,"Optionale End-Temperatur",null,null,"°C",null,null,{"$f":"IF(F65=\"\",J63,J63/(D63-F63)*(D63-F65))","v":{"$error":"#N/A"}},"kW",{"$f":"IF(F65=\"\",L63,L63/(D63-F63)*(D63-F65))","v":{"$error":"#N/A"}},"kWh/a"]
[null,null,null,null,null,null,null,null,null,null,null,null,null,null,null,null,null,null,null,null,null,null,null,"Verdampfer","Tv,ein",{"$f":"D63","v":{"$error":"#N/A"}},"°C"]
[null,null,null,null,null,null,null,null,null,null,null,null,null,null,null,null,null,null,null,null,null,null,null,null,"Tv,aus",{"$f":"IF(F65=\"\",F63,F65)","v":{"$error":"#N/A"}},"°C"]
[null,"Ideale (Carnot) \nLeistungszahl",null,"Reale \nLeistungszahl",null,"Leistung \nKondensator",null,"Leistung \nVerdampfer",null,"Leistung \nKompressor",null,"Strombedarf pro Jahr",null,"Bereitgestellte\nEnergiemenge",null,null,null,null,null,null,null,null,null,null,"Tmin",{"$f":"Z67+273.15-5","v":{"$error":"#N/A"}},"K"]
[null,{"$f":"Z64/(Z64-Z68)","v":{"$error":"#N/A"}},null,{"$f":"B69*H57","v":{"$error":"#N/A"}},null,{"$f":"H69+J69","v":{"$error":"#N/A"}},"kW",{"$f":"J65","v":{"$error":"#N/A"}},"kW",{"$f":"H69/(D69-1)","v":{"$error":"#N/A"}},"kW",{"$f":"J69*F57","v":{"$error":"#N/A"}},"kWh/a",{"$f":"F69*F57","v":{"$error":"#N/A"}},"kWh/a"]
[]
[]
[]
[null,"Ökologische Bewertung nach",null,null,null,{"$f":"\"CO2 Faktor\"&\" \"&B82","v":"CO2 Faktor "},null,{"$f":"\"PE Faktor\"&\" \"&B82","v":"PE Faktor "},null,"CO2 Faktor\nStrom",null,"PE Faktor\nStrom"]
[null,null,{"$f":"IF(B74=\"GEMIS\",2,IF(B74=\"OIB RL\",3,0))","v":0},null,null,{"$f":"VLOOKUP(B82,Listen!$A$115:$E$122,C74,FALSE)","v":{"$error":"#N/A"}},{"$f":"IF(B74=\"GEMIS\", \"kg CO2e / kWh\",IF(B74=\"OIB RL\",\"kg CO2 / kWh\",\"\"))","v":""},{"$f":"VLOOKUP(B82,Listen!$A$127:$C$135,C74,FALSE)","v":{"$error":"#N/A"}},"kWh PE / kWh",{"$f":"VLOOKUP(\"Strom\",Listen!A117:C124,C74,FALSE)","v":{"$error":"#VALUE!"}},{"$f":"IF(B74=\"GEMIS\", \"kg CO2e / kWh\",IF(B74=\"OIB RL\",\"kg CO2 / kWh\",\"\"))","v":""},{"$f":"VLOOKUP(\"Strom\",Listen!$A$127:$C$135,C74,FALSE)","v":{"$error":"#VALUE!"}},"kWh PE / kWh"]
[null,null,null,null,null,null,"kg CO2(e) / kWh",null,"kWh PE / kWh",null,"kg CO2(e) / kWh",null,"kWh PE / kWh"]
[null,null,null,null,null,{"$f":"IF(F75=\"\",F74,F75)","v":{"$error":"#N/A"}},null,{"$f":"IF(H75=\"\",H74,H75)","v":{"$error":"#N/A"}},null,{"$f":"IF(J75=\"\",J74,J75)","v":{"$error":"#VALUE!"}},null,{"$f":"IF(L75=\"\",L74,L75)","v":{"$error":"#VALUE!"}}]
[]
[]
[]
[]
[null,"Energieträger auswählen:",null,"Jährliche Energieeinsparung",null,"Jährliche Einsparung an CO2 / CO2e",null,"Strompreis",null,"Jährliche\nEnergiekosten-\neinsparung",null,"Investitionskosten \nWärmepumpe",null,"Investitionskosten \nSolarthermie",null,"Energiekosten\npro Jahr",null,"Statische \nAmortisationszeit",null,"Wärmegestehungs-\nkosten",null,null,null,null,"Energiepreis"]
[null,null,null,{"$f":"(IFERROR(D87,0)+D90-D93)","v":{"$error":"#N/A"}},"kWh/a",{"$f":"(IFERROR(F87,0)+F90-F93)","v":{"$error":"#N/A"}},"t CO2/a",null,"€/MWh",{"$f":"(IFERROR(H87,0)+H90-H93)","v":{"$error":"#N/A"}},"€/a",null,"€",null,"€",{"$f":"H93","v":{"$error":"#N/A"}},"€/a",{"$f":"(L82+N82)/J82","v":{"$error":"#N/A"}},"Jahre",{"$f":"(L82+N82+P82*20)/((N69/1000+J36/1000)*20)","v":{"$error":"#N/A"}},"€/MWh",null,null,null,{"$f":"VLOOKUP(B82,Energieversorgung!C15:O19,13,FALSE)","v":{"$error":"#N/A"}},"€/MWh"]
[]
[]
[]
[null,null,null,"Einsparung\n Strom Kühlung",null,"CO2(e) Einsparung \nKühlung ",null,"Kosteneinsparung\nKühlung"]
[null,null,null,{"$f":"IF(N63=\"Derzeit nicht gekühlt\",0,T63)","v":{"$error":"#N/A"}},"kWh/a",{"$f":"IF(N63=\"Derzeit nicht gekühlt\",0,D87*J76)","v":{"$error":"#N/A"}},"kg CO2/a",{"$f":"(D87/1000)*H82","v":{"$error":"#N/A"}},"€/a"]
[]
[null,null,null,"Einsparung\n konv Energieträger",null,"CO2(e)  Einsparung konv \nEnergieträger",null,"Kosteneinsparung\nkonv Energieträger"]
[null,null,null,{"$f":"N69+J36","v":{"$error":"#N/A"}},"kWh/a",{"$f":"D90*F76","v":{"$error":"#N/A"}},"kg CO2/a",{"$f":"(D90/1000)*Y82","v":{"$error":"#N/A"}},"€/a"]
[]
[null,null,null,"Energiebedarf WP",null,"CO2(e)  Freisetzung",null,"Energiekosten WP"]
[null,null,null,{"$f":"J69*F57","v":{"$error":"#N/A"}},"kWh/a",{"$f":"D93*J76","v":{"$error":"#N/A"}},"kg CO2/a",{"$f":"(D93/1000)*H82","v":{"$error":"#N/A"}},"€/a"]

{"sheet":"Seriell_WPST","index":39,"n_rows":92,"n_cols":29,"rows_kept":92,"cut":false,"hidden":false,"merged":[[39,16,41,16],[42,16,44,16]]}
[]
[]
[]
[]
[]
[]
[]
[]
[]
[]
[]
[]
[]
[]
[null,"Prozess / \nWärmesenke auswählen:",null,"Start-\nTemperatur",null,"End-\nTemperatur",null,"Volllaststunden\npro Jahr",null,"Leistung",null,"Energiebedarf\npro Jahr",null,"Betriebstage \npro Jahr",null,"Energiebedarf \npro Tag"]
[null,null,{"$f":"MATCH(B16,varCS!$L$1:$L$100,0)","v":{"$error":"#N/A"}},{"$f":"INDEX(varCS!$A$1:$K$100,C16,1)","v":{"$error":"#N/A"}},"°C",{"$f":"INDEX(varCS!$A$1:$K$100,C16,2)","v":{"$error":"#N/A"}},"°C",{"$f":"INDEX(varCS!$A$1:$K$100,C16,7)","v":{"$error":"#N/A"}},"h/a",{"$f":"INDEX(varCS!$A$1:$K$100,C16,8)","v":{"$error":"#N/A"}},"kW",{"$f":"INDEX(varCS!$A$1:$K$100,C16,11)","v":{"$error":"#N/A"}},"kWh/a",{"$f":"INDEX(varCS!$A$1:$K$100,C16,10)","v":{"$error":"#N/A"}},"d/a",{"$f":"L16/N16","v":{"$error":"#N/A"}},"kWh/d"]
[]
[]
[null,null,null,"Vorlauftemperatur Prozess",null,null,"°C",{"$f":"IF(F19<F16, \"Vorlauftemperatur muss größer als Prozesstemperatur sein\",\"\")","v":{"$error":"#N/A"}}]
[null,null,null,"Rücklauftemperatur Prozess",null,null,"°C",null,null,null,null,null,null,null,"Summe",{"$f":"IF(F20=\"\",P19,P19/F19*F20)","v":0},"kWh/d"]
[]
[]
[]
[]
[]
[]
[]
[null,"Temperatur nach Wärmepumpe",null,"max. Volllaststunden\npro Jahr",null,"Gleichzeitigkeit \n der Prozesse",null,"Volllaststunden\npro Jahr",null,"Gütegrad "]
[null,null,"°C",{"$f":"MIN(H16,H35)","v":{"$error":"#N/A"}},"h/a",null,"%",{"$f":"F29*D29/100","v":{"$error":"#N/A"}},"h/a",null,"-"]
[null,{"$f":"L16/F16*B29","v":{"$error":"#N/A"}},"kWh/a"]
[null,{"$f":"P16/F19*B29","v":{"$error":"#N/A"}},"kWh/d"]
[]
[]
[null,"Prozess / \nWärmequelle auswählen:",null,"Start-\nTemperatur",null,"End-\nTemperatur",null,"Volllaststunden\npro Jahr",null,"Leistung",null,"Energiemenge\npro Jahr",null,"Auswählen:",null,"Auswählen:",null,"EER",null,"Strombedarf"]
[null,null,{"$f":"MATCH(B35,varHS!$L:$L,0)","v":{"$error":"#N/A"}},{"$f":"INDEX(varHS!$A$1:$K$100,C35,1)","v":{"$error":"#N/A"}},"°C",{"$f":"INDEX(varHS!$A$1:$K$100,C35,2)","v":{"$error":"#N/A"}},"°C",{"$f":"INDEX(varHS!$A$1:$K$100,C35,7)","v":{"$error":"#N/A"}},"h/a",{"$f":"INDEX(varHS!$A$1:$K$100,C35,8)","v":{"$error":"#N/A"}},"kW",{"$f":"INDEX(varHS!$A$1:$K$100,C35,11)","v":{"$error":"#N/A"}},"kWh/a",null,null,null,null,{"$f":"VLOOKUP(P35,Listen!B91:C100,2,FALSE)","v":{"$error":"#N/A"}},null,{"$f":"(J35*H29)/R35","v":{"$error":"#N/A"}},"kWh/a"]
[]
[null,null,null,"Optionale End-Temperatur",null,null,"°C",null,null,{"$f":"IF(F37=\"\",J35,L37/H35)","v":{"$error":"#N/A"}},"kW",{"$f":"IF(F37=\"\",L35,L35/(D35-F35)*(D35-F37))","v":{"$error":"#N/A"}},"kWh/a"]
[null,null,null,null,null,null,null,null,null,null,null,null,null," "]
[]
[null,"Ideale (Carnot) \nLeistungszahl",null,"Reale \nLeistungszahl",null,"Leistung \nKondensator",null,"Leistung \nVerdampfer",null,"Leistung \nKompressor",null,"Strombedarf \npro Jahr",null,"Bereitgestellte\nEnergiemenge",null,null,"Kondensator","Tk,ein",{"$f":"D16","v":{"$error":"#N/A"}},"°C"]
[null,{"$f":"S42/(S42-S45)","v":{"$error":"#N/A"}},null,{"$f":"B41*J29","v":{"$error":"#N/A"}},null,{"$f":"H41+J41","v":{"$error":"#N/A"}},"kW",{"$f":"J37","v":{"$error":"#N/A"}},"kW",{"$f":"H41/(D41-1)","v":{"$error":"#N/A"}},"kW",{"$f":"J41*H29","v":{"$error":"#N/A"}},"kWh/a",{"$f":"F41*H29","v":{"$error":"#N/A"}},"kWh/a",null,null,"Tk,aus",{"$f":"B29","v":0},"°C"]
[null,null,null,null,null,null,null,null,null,null,null,null,null,null,null,null,null,"Tmax",{"$f":"S41+273.15+5","v":278.14999999999998},"K"]
[null,null,null,null,null,null,null,null,null,null,null,null,null,null,null,null,"Verdampfer","Tv,ein",{"$f":"D35","v":{"$error":"#N/A"}},"°C"]
[null,null,null,null,null,null,null,null,null,null,null,null,null,null,null,null,null,"Tv,aus",{"$f":"IF(F37=\"\",F35,F37)","v":{"$error":"#N/A"}},"°C"]
[null,null,null,null,null,null,null,null,null,null,null,null,null,null,null,null,null,"Tmin",{"$f":"S44+273.15-5","v":{"$error":"#N/A"}},"K"]
[]
[]
[]
[null,"Standort ",null,"Kollektor \nauswählen",null,"Fläche \nauswählen",null,"Flachdach"]
[null,{"$f":"Allgemein!D18","v":0},null,null,null,null,null,"NEIN"]
[null,{"$f":"IF(B50=0,\"Bitte Standort im Bereich Allgemein auswählen!\",\"\")","v":"Bitte Standort im Bereich Allgemein auswählen!"}]
[null,"Jährliche Einstrahlung",null,"Kollektor-\nwirkungsgrad",null,"Aperturfläche",null,"Benötigte Fläche",null,"Jährlicher \nsolarer Ertrag",null,"Jährlicher \nDeckungsgrad",null,null,null,null,null,null,null,null,null,null,null,"spez.\n solarer Ertrag",null,"Solarer Ertrag",null,"Solarer \nDeckungsgrad"]
[null,{"$f":"VLOOKUP(B50,ST_Daten!$A$111:$B$119,2,FALSE)","v":{"$error":"#N/A"}},"kWh/m².a",{"$f":"ST_Daten!K95","v":{"$error":"#N/A"}},null,{"$f":"IF(H59=\"\",(P16-B31)/X53,IF(F50=\"Boden\",H59/2.5,(IF(AND(F50=\"Dach\",H50=\"NEIN\"),H59/1.1,(IF(AND(F50=\"Dach\",H50=\"JA\"),H59/2.5,\"\"))))))","v":{"$error":"#N/A"}},"m²",{"$f":"IF(F50=\"Boden\",F53*2.5,(IF(AND(F50=\"Dach\",H50=\"NEIN\"),F53*1.1,(IF(AND(F50=\"Dach\",H50=\"JA\"),F53*2.5,\"\")))))","v":""},"m²",{"$f":"B53*D53*F53","v":{"$error":"#N/A"}},"kWh/a",{"$f":"J53/(L16-B30)*100","v":{"$error":"#N/A"}},"%",null,null,null,null,null,null,null,null,null,null,{"$f":"VLOOKUP(B50,ST_Daten!$A$111:$E$119,5,FALSE)*D53","v":{"$error":"#N/A"}},"kWh/m².d",{"$f":"X53*F53","v":{"$error":"#N/A"}},"kWh/d",{"$f":"Z53/(P20-B31)*100","v":{"$error":"#N/A"}},"%"]
[]
[null,null,null,null,null,null,null,"Vorhandene \nFläche"]
[null,null,null,null,null,null,null,{"$f":"VLOOKUP(F50,Allgemein!$F$22:$G$23,2,FALSE)","v":{"$error":"#N/A"}},"m²"]
[]
[null,null,null,null,null,null,null,"Optionale \nFlächeneingabe"]
[null,null,null,null,null,null,null,null,"m²"]
[]
[]
[]
[]
[]
[]
[]
[]
[]
[]
[]
[]
[]
[]
[]
[]
[null,"Ökologische Bewertung nach",null,null,null,{"$f":"\"CO2 Faktor\"&\" \"&B82","v":"CO2 Faktor "},null,{"$f":"\"PE Faktor\"&\" \"&B82","v":"PE Faktor "},null,"CO2 Faktor\nStrom",null,"PE Faktor\nStrom"]
[null,null,{"$f":"IF(B77=\"GEMIS\",2,IF(B77=\"OIB RL\",3,0))","v":0},null,null,{"$f":"VLOOKUP(B82,Listen!$A$115:$E$122,C77,FALSE)","v":{"$error":"#N/A"}},{"$f":"IF(B77=\"GEMIS\", \"kg CO2e / kWh\",IF(B77=\"OIB RL\",\"kg CO2 / kWh\",\"\"))","v":""},{"$f":"VLOOKUP(B82,Listen!$A$127:$C$135,C77,FALSE)","v":{"$error":"#N/A"}},"kWh PE / kWh",{"$f":"VLOOKUP(\"Strom\",Listen!A120:C127,C77,FALSE)","v":{"$error":"#VALUE!"}},{"$f":"IF(B77=\"GEMIS\", \"kg CO2e / kWh\",IF(B77=\"OIB RL\",\"kg CO2 / kWh\",\"\"))","v":""},{"$f":"VLOOKUP(\"Strom\",Listen!$A$127:$C$135,C77,FALSE)","v":{"$error":"#VALUE!"}},"kWh PE / kWh"]
[null,null,null,null,null,null,"kg CO2(e) / kWh",null,"kWh PE / kWh",null,"kg CO2(e) / kWh",null,"kWh PE / kWh"]
[null,null,null,null,null,{"$f":"IF(F78=\"\",F77,F78)","v":{"$error":"#N/A"}},null,{"$f":"IF(H78=\"\",H77,H78)","v":{"$error":"#N/A"}},null,{"$f":"IF(J78=\"\",J77,J78)","v":{"$error":"#VALUE!"}},null,{"$f":"IF(L78=\"\",L77,L78)","v":{"$error":"#VALUE!"}}]
[]
[null,"Energieträger auswählen:",null,"Jährlich \nEnergieeinsparung",null,"Jährliche Einsparung an CO2 / CO2e",null,"Strompreis",null,"Jährliche\nEnergiekosten-\neinsparung",null,"Investitionskosten \nWärmepumpe",null,"Investitionskosten \nSolarthermie",null,"Energiekosten\npro Jahr",null,"Statische \nAmortisationszeit",null,"Wärmegestehungs-\nkosten",null,null,null,null,null,null,"Energiepreis"]
[null,null,null,{"$f":"(IFERROR(D86,0)+D89-D92)","v":{"$error":"#N/A"}},"kWh/a",{"$f":"(IFERROR(F86,0)+F89-F92)","v":{"$error":"#N/A"}},"t CO2/a",null,"€/MWh",{"$f":"(IFERROR(H86,0)+H89-H92)","v":{"$error":"#N/A"}},"€/a",null,"€",null,"€",{"$f":"H92","v":{"$error":"#N/A"}},"€/a",{"$f":"(L82+N82)/J82","v":{"$error":"#N/A"}},"Jahre",{"$f":"(L82+N82+H92*20)/((J53/1000+N41/1000)*20)","v":{"$error":"#N/A"}},"€/MWh",null,null,null,null,null,{"$f":"VLOOKUP(B82,Energieversorgung!$C$15:$O$19,13,FALSE)","v":{"$error":"#N/A"}},"€/MWh"]
[]
[]
[null,null,null,"Einsparung\n Strom Kühlung",null,"CO2(e) Einsparung \nKühlung ",null,"Kosteneinsparung\nKühlung"]
[null,null,null,{"$f":"IF(N34=\"Derzeit nicht gekühlt\",0,T35)","v":{"$error":"#N/A"}},"kWh/a",{"$f":"D86*J79","v":{"$error":"#N/A"}},"kg CO2/a",{"$f":"(D86/1000)*H82","v":{"$error":"#N/A"}},"€/a"]
[]
[null,null,null,"Einsparung\n konv Energieträger",null,"CO2(e)  Einsparung konv \nEnergieträger",null,"Kosteneinsparung\nkonv Energieträger"]
[null,null,null,{"$f":"J53+N41","v":{"$error":"#N/A"}},"kWh/a",{"$f":"D89*F79","v":{"$error":"#N/A"}},"kg CO2/a",{"$f":"(D89/1000)*AA82","v":{"$error":"#N/A"}},"€/a"]
[]
[null,null,null,"Energiebedarf WP",null,"CO2(e)  Freisetzung",null,"Energiekosten WP"]
[null,null,null,{"$f":"L41","v":{"$error":"#N/A"}},"kWh/a",{"$f":"D92*J79","v":{"$error":"#N/A"}},"kg CO2/a",{"$f":"(D92/1000)*H82","v":{"$error":"#N/A"}},"€/a"]

{"sheet":"Seriell_STWP2","index":40,"n_rows":92,"n_cols":28,"rows_kept":92,"cut":false,"hidden":false,"merged":[[65,19,67,19],[58,19,60,19]]}
[]
[]
[]
[]
[]
[]
[]
[]
[]
[]
[]
[]
[]
[]
[null,"Prozess / \nWärmesenke auswählen:",null,"Start-\nTemperatur",null,"End-\nTemperatur",null,"Volllaststunden\npro Jahr",null,"Leistung",null,"Energiebedarf\npro Jahr",null,"Betriebstage \npro Jahr",null,"Energiebedarf \npro Tag"]
[null,null,{"$f":"MATCH(B16,varCS!$L$1:$L$100,0)","v":{"$error":"#N/A"}},{"$f":"INDEX(varCS!$A$1:$K$100,C16,1)","v":{"$error":"#N/A"}},"°C",{"$f":"INDEX(varCS!$A$1:$K$100,C16,2)","v":{"$error":"#N/A"}},"°C",{"$f":"INDEX(varCS!$A$1:$K$100,C16,7)","v":{"$error":"#N/A"}},"h/a",{"$f":"INDEX(varCS!$A$1:$K$100,C16,8)","v":{"$error":"#N/A"}},"kW",{"$f":"INDEX(varCS!$A$1:$K$100,C16,11)","v":{"$error":"#N/A"}},"kWh/a",{"$f":"INDEX(varCS!$A$1:$K$100,C16,10)","v":{"$error":"#N/A"}},"d/a",{"$f":"L16/N16","v":{"$error":"#N/A"}},"kWh/d"]
[]
[]
[]
[]
[]
[]
[]
[]
[]
[]
[null,"Temperatur \nSolarthermie",null,"Standort ",null,"Kollektor \nauswählen",null,"Fläche \nauswählen",null,"Flachdach"]
[null,null,"°C",{"$f":"Allgemein!D18","v":0}]
[null,{"$f":"P16/F16*B28","v":{"$error":"#N/A"}},"kWh/d",{"$f":"IF(D28=0,\"Bitte Standort im Bereich Allgemein auswählen!\",\"\")","v":"Bitte Standort im Bereich Allgemein auswählen!"}]
[null,{"$f":"L16/F16*B28","v":{"$error":"#N/A"}},"kWh/a"]
[]
[]
[]
[null,"Jährliche Einstrahlung",null,"Kollektor-\nwirkungsgrad",null,"Aperturfläche",null,"Benötigte Fläche",null,"Jährlicher \nsolarer Ertrag",null,"Jährlicher \nDeckungsgrad",null,null,null,null,null,null,null,"spez.\n solarer Ertrag",null,"Solarer\n Ertrag",null,"Solarer \nDeckungsgrad"]
[null,{"$f":"VLOOKUP(D28,ST_Daten!$A$111:$B$119,2,FALSE)","v":{"$error":"#N/A"}},"kWh/m².a",{"$f":"ST_Daten!N95","v":{"$error":"#N/A"}},null,{"$f":"IF(H41=\"\",B29/T35,IF(H28=\"Boden\",H41/2.5,(IF(AND(H28=\"Dach\",J28=\"NEIN\"),H41/1.1,(IF(AND(H28=\"Dach\",J28=\"JA\"),H41/2.5,\"\"))))))","v":{"$error":"#N/A"}},"m²",{"$f":"IF(H28=\"Boden\",F35*2.5,(IF(AND(H28=\"Dach\",J28=\"NEIN\"),F35*1.1,(IF(AND(H28=\"Dach\",J28=\"JA\"),F35*2.5,\"\")))))","v":""},"m²",{"$f":"B35*D35*F35","v":{"$error":"#N/A"}},"kWh/a",{"$f":"J35/B30*100","v":{"$error":"#N/A"}},"%",null,null,null,null,null,null,{"$f":"VLOOKUP(D28,ST_Daten!$A$111:$E$119,5,FALSE)*D35","v":{"$error":"#N/A"}},"kWh/m².d",{"$f":"T35*F35","v":{"$error":"#N/A"}},"kWh/d",{"$f":"V35/B29*100","v":{"$error":"#N/A"}},"%"]
[]
[null,null,null,null,null,null,null,"Vorhandene \nFläche"]
[null,null,null,null,null,null,null,{"$f":"VLOOKUP(H28,Allgemein!$F$22:$G$23,2,FALSE)","v":{"$error":"#N/A"}},"m²"]
[]
[null,null,null,null,null,null,null,"Optionale \nFlächeneingabe"]
[null,null,null,null,null,null,null,null,"m²"]
[]
[]
[]
[]
[]
[]
[]
[]
[]
[]
[]
[]
[]
[null,"Gütegrad "]
[]
[]
[]
[null,"Wärmequelle",null,"Volllaststunden\npro Jahr",null,"Leistung",null,"Energiemenge\npro Jahr",null,null,null,null,null,null,null,null,null,null,null,"Kondensator","Tk,ein",{"$f":"D16","v":{"$error":"#N/A"}},"°C"]
[null,"Solarthermie",null,{"$f":"L35*H16/100","v":{"$error":"#N/A"}},"h/a",{"$f":"J35/D60","v":{"$error":"#N/A"}},"kW",{"$f":"J35","v":{"$error":"#N/A"}},"kWh/a",null,null,null,null,null,null,null,null,null,null,null,"Tk,aus",{"$f":"F16","v":{"$error":"#N/A"}},"°C"]
[null,null,null,null,null,null,null,null,null,null,null,null,null,null,null,null,null,null,null,null,"T,max",{"$f":"V60+273.15+5","v":{"$error":"#N/A"}},"K"]
[]
[]
[]
[null,"Ideale (Carnot) \nLeistungszahl",null,"Reale \nLeistungszahl",null,"Leistung \nKondensator",null,"Leistung \nVerdampfer",null,"Leistung \nKompressor",null,"Strombedarf \npro Jahr",null,"Bereitgestellte\nEnergiemenge"]
[null,{"$f":"V61/(V61-V68)","v":{"$error":"#N/A"}},null,{"$f":"B66*B56","v":{"$error":"#N/A"}},null,{"$f":"H66+J66","v":{"$error":"#N/A"}},"kW",{"$f":"F60","v":{"$error":"#N/A"}},"kW",{"$f":"H66/(D66-1)","v":{"$error":"#N/A"}},"kW",{"$f":"J66*D60","v":{"$error":"#N/A"}},"kWh/a",{"$f":"F66*D60","v":{"$error":"#N/A"}},"kWh/a",null,null,null,null,"Verdampfer","Tv,ein",{"$f":"B28","v":0},"°C"]
[null,null,null,null,null,null,null,null,null,null,null,null,null,null,null,null,null,null,null,null,"Tv,aus",{"$f":"V66-5","v":-5},"°C"]
[null,null,null,null,null,null,null,null,null,null,null,null,null,null,null,null,null,null,null,null,"Tmin",{"$f":"V67+273.15-5","v":263.14999999999998},"K"]
[]
[]
[]
[]
[null,"Ökologische Bewertung nach",null,null,null,{"$f":"\"CO2 Faktor\"&\" \"&B82","v":"CO2 Faktor "},null,{"$f":"\"PE Faktor\"&\" \"&B82","v":"PE Faktor "},null,"CO2 Faktor\nStrom",null,"PE Faktor\nStrom"]
[null,null,{"$f":"IF(B74=\"GEMIS\",2,IF(B74=\"OIB RL\",3,0))","v":0},null,null,{"$f":"VLOOKUP(B82,Listen!$A$115:$E$122,C74,FALSE)","v":{"$error":"#N/A"}},{"$f":"IF(B74=\"GEMIS\", \"kg CO2e / kWh\",IF(B74=\"OIB RL\",\"kg CO2 / kWh\",\"\"))","v":""},{"$f":"VLOOKUP(B82,Listen!$A$127:$C$135,C74,FALSE)","v":{"$error":"#N/A"}},"kWh PE / kWh",{"$f":"VLOOKUP(\"Strom\",Listen!A117:C124,C74,FALSE)","v":{"$error":"#VALUE!"}},{"$f":"IF(B74=\"GEMIS\", \"kg CO2e / kWh\",IF(B74=\"OIB RL\",\"kg CO2 / kWh\",\"\"))","v":""},{"$f":"VLOOKUP(\"Strom\",Listen!$A$127:$C$135,C74,FALSE)","v":{"$error":"#VALUE!"}},"kWh PE / kWh"]
[null,null,null,null,null,null,"kg CO2(e) / kWh",null,"kWh PE / kWh",null,"kg CO2(e) / kWh",null,"kWh PE / kWh"]
[null,null,null,null,null,{"$f":"IF(F75=\"\",F74,F75)","v":{"$error":"#N/A"}},null,{"$f":"IF(H75=\"\",H74,H75)","v":{"$error":"#N/A"}},null,{"$f":"IF(J75=\"\",J74,J75)","v":{"$error":"#VALUE!"}},null,{"$f":"IF(L75=\"\",L74,L75)","v":{"$error":"#VALUE!"}}]
[]
[]
[]
[]
[null,"Energieträger auswählen:",null,"Jährlich \nEnergieeinsparung",null,"Jährliche Einsparung an CO2 / CO2e",null,"Strompreis",null,"Jährliche Energiekosten-einsparung",null,"Investitionskosten \nWärmepumpe",null,"Investitionskosten \nSolarthermie",null,"Energiekosten\npro Jahr",null,"Statische \nAmortisationszeit",null,"Wärmegestehungs-\nkosten",null,null,null,null,null,null,"Energiepreis"]
[null,null,null,{"$f":"D89-D92","v":{"$error":"#N/A"}},"kWh/a",{"$f":"F89-F92","v":{"$error":"#N/A"}},"t CO2/a",null,"€/MWh",{"$f":"H89-H92","v":{"$error":"#N/A"}},"€/a",null,"€",null,"€",{"$f":"H92","v":{"$error":"#N/A"}},"€/a",{"$f":"(L82+N82)/J82","v":{"$error":"#N/A"}},"Jahre",{"$f":"(L82+N82+P82*20)/(N66/1000*20)","v":{"$error":"#N/A"}},"€/MWh",null,null,null,null,null,{"$f":"VLOOKUP(B82,Energieversorgung!$C$15:$O$19,13,FALSE)","v":{"$error":"#N/A"}},"€/MWh"]
[]
[]
[]
[]
[]
[null,null,null,"Einsparung\n konv Energieträger",null,"CO2(e)  Einsparung konv \nEnergieträger",null,"Kosteneinsparung\nkonv Energieträger"]
[null,null,null,{"$f":"N66","v":{"$error":"#N/A"}},"kWh/a",{"$f":"D89*F76","v":{"$error":"#N/A"}},"kg CO2/a",{"$f":"(D89/1000)*AA82","v":{"$error":"#N/A"}},"€/a"]
[]
[null,null,null,"Energiebedarf WP",null,"CO2(e)  Freisetzung",null,"Energiekosten WP"]
[null,null,null,{"$f":"L66","v":{"$error":"#N/A"}},"kWh/a",{"$f":"D92*J76","v":{"$error":"#N/A"}},"kg CO2/a",{"$f":"(D92/1000)*H82","v":{"$error":"#N/A"}},"€/a"]

{"sheet":"Gegenüberstellung","index":41,"n_rows":21,"n_cols":14,"rows_kept":21,"cut":false,"hidden":false,"merged":[]}
[]
[]
[]
[]
[]
[]
[]
[]
[]
[]
[null,null,null,"Variante\nSolarthermie","Variante\nWärmepumpe",null,"Variante\nSolarthermie und Wärmepumpe\nPARALLEL",null,"Variante\nSolarthermie und Wärmepumpe\nSERIELL I",null,"Variante\nSolarthermie und Wärmepumpe\nSERIELL II",null,null,"Variante\nSolarthermie und Wärmepumpe\nSERIELL III"]
[]
[null,"Vergleichs-\nEnergieträger"]
[null,"Jährliche Energie-\neinsparung","kWh/a"]
[null,"Jährliche CO2(e)-Einsparung","t CO2(e)/a",null,null,null,{"$error":"#N/A"}]
[null,"Strompreis","€/MWh"]
[null,"Jährliche \nEnergiekosten-einsparung","€/a",null,null,null,{"$error":"#N/A"}]
[null,"Investitionskosten \nWärmepumpe","€",null,null,null,null,null,{"$error":"#N/A"}]
[null,"Investitionskosten \nSolarthermie","€",null,null,null,null,null,{"$error":"#N/A"}]
[null,"Statische \nAmortisationszeit","Jahre",null,null,null,{"$error":"#N/A"},null,{"$error":"#N/A"}]
[null,"Wärmegestehungs-\nkosten","€/MWh",null,null,null,{"$error":"#N/A"}]

{"sheet":"BerechnungFeuchteLuft","index":42,"n_rows":35,"n_cols":18,"rows_kept":35,"cut":false,"hidden":true,"merged":[[12,7,18,7]]}
[]
[]
[]
[]
[null,"Feuchte Luft"]
[]
[]
[]
[null,null,null,"Umgebungsdruck",1.01325,"bar",null,null,"T","H","x","x"]
[null,null,null,null,null,null,null,null,"°C","kJ/kg","kg/kg","kg/kg",null,null,null,"Auswahl",2,{"$f":"INDEX(R11:R13,Q10)","v":"nur latent"}]
[null,null,null,null,null,null,null,"Start",{"$f":"E13","v":60},{"$f":"E16","v":386.64517849492432},null,{"$f":"Wassergehalt_th(I11,J11)","v":0.12502686155359577},null,null,null,1,{"$f":"IF($Q$10=P11,\"x\",\"\")","v":""},"nur sensibel"]
[null,null,null,"Start",null,null,null,"Tau",{"$f":"E22","v":56.519886246531911},{"$f":"Enthalpie_t_rF_p(I12,100,$E$9*10^5)","v":382.13777569423752},{"$f":"Wassergehalt(I12,100,$E$9*10^5)","v":0.12472634373910108},{"$f":"Wassergehalt_th(I12,J12)","v":0.12494321684811571},null,null,null,2,{"$f":"IF($Q$10=P12,\"x\",\"\")","v":"x"},"nur latent"]
[null,null,null,"T",60,"°C",null,"Zwischenwerte",{"$f":"I12-($I$12-$I$20)/8","v":50.704900465715426},{"$f":"Enthalpie_t_rF_p(I13,100,$E$9*10^5)","v":284.10464678942429},8.97359457157242E-2,{"$f":"Wassergehalt_th(I13,J13)","v":8.9931316899453481E-2},null,null,null,3,"","sensibel und latent"]
[null,null,null,"rel Feuchte",85,"%",null,null,44.88991468489894,212.23861982068621,6.4577331511776873E-2,6.4751020803083439E-2]
[null,null,null,"x",{"$f":"Wassergehalt(E13,E14,$E$9*10^5)","v":0.12479720527249648},"kg/kg",null,null,39.074928904082455,158.65659995809159,4.6311488236637756E-2,4.6463313399451513E-2,null,null,null,null,"T","H"]
[null,null,null,"h",{"$f":"Enthalpie_tx(E13,E15)","v":386.64517849492432},"kJ/kg",null,null,33.25994312326597,118.1657178903512,3.2999484961623408E-2,3.3129261452639863E-2,null,null,null,null,"°C","kJ/kg"]
[null,null,null,null,null,null,null,null,27.444957342449481,87.196891289969102,2.3305789395412713E-2,2.341333032497963E-2,null,null,null,"Start",{"$f":"IF(Q10=2,I12,IF(Q10=1,I11,I20+(I12-I20)/(J12-J20)*(J11-J20)))","v":56.519886246531911},{"$f":"IF(Q10=2,J12,J11)","v":382.13777569423752}]
[null,null,null,null,null,null,null,null,21.629971561632992,63.215428966805774,1.6279175536308553E-2,1.6364291628480302E-2,null,null,null,"End",{"$f":"IF(Q10=1,I12,I20)","v":10},{"$f":"IF(Q10=1,J12,J20)","v":29.317983115194146}]
[null,null,null,null,null,null,null,null,15.814985780816503,44.377147768234749,1.1225037127883319E-2,1.1287536679621488E-2]
[null,null,null,null,null,null,null,"End",{"$f":"E32","v":10},{"$f":"E35","v":29.317983115194146},7.6273944734061537E-3,{"$f":"Wassergehalt_th(I20,J20)","v":7.6670833129044878E-3},null,null,null,"cp_def",{"$f":"(R17-R18)/(Q17-Q18)","v":7.5842789191116378},"kJ/kg.K"]
[null,null,null,"Taupunkt",null,null,null,null,null,null,null,null,null,null,null,"H",{"$f":"R17-R18","v":352.81979257904339},"kJ/kg"]
[null,null,null,"T",{"$f":"Taupunkttemp(E13,E14/100)","v":56.519886246531911},"°C"]
[null,null,null,"rel Feuchte",100,"%"]
[null,null,null,"x",{"$f":"Wassergehalt(E22,E23,$E$9*10^5)","v":0.12472634373910108},"kg/kg"]
[null,null,null,"h",{"$f":"Enthalpie_tx(E22,E24)","v":382.13777569423752},"kJ/kg"]
[]
[]
[]
[]
[]
[null,null,null,"End"]
[null,null,null,"T",10,"°C"]
[null,null,null,"rel Feuchte",100,"%"]
[null,null,null,"x",{"$f":"Wassergehalt(E32,E33,$E$9*10^5)","v":7.6273944734061537E-3},"kg/kg"]
[null,null,null,"h",{"$f":"Enthalpie_t_rF_p(I20,E33,$E$9*10^5)","v":29.317983115194146},"kJ/kg"]

{"sheet":"Listen","index":43,"n_rows":136,"n_cols":8,"rows_kept":136,"cut":false,"hidden":true,"merged":[[27,1,27,3],[27,0,28,0],[0,3,1,4]]}
["Energieträger",null,null,"Umrechnungsfaktor",null,null,"Faktor","Faktor"]
[null,null,null,null,null,null,"A","B"]
["Biogas",null,null,8.02,"kWh/m³","m³",0.64400000000000002,1.11E-2]
["Biomasse (Hackschnitzel)",null,null,3.89,"kWh/kg","kg",0.68240000000000001,1.2500000000000001E-2]
["(zugekaufter) Dampf",null,null,"-","-","t"]
["Erdgas",null,null,10,"kWh/Nm³","Nm³",0.64400000000000002,1.11E-2]
["Fernwärme",null,null,1,"kWh","kWh",0,0]
["Kohle",null,null,7.09,"kWh/kg","kg",0.69669999999999999,6.1000000000000004E-3]
["Öl",null,null,11.14,"kWh/l","liter",0.66869999999999996,7.9000000000000008E-3]
["Strom",null,null,1,"kWh","kWh",0,0]
[]
[]
[]
["Quelle: GF Tool!"]
[]
[null,"Einstrahlung"]
[]
["Bregenz"]
["Eisenstadt"]
["Graz"]
["Innsbruck"]
["Klagenfurt"]
["Linz"]
["Salzburg"]
["St.Pölten"]
["Wien"]
[]
["Temperatur","Verluste"]
[null,"Bad ohne Sprudel, ohne Absaugung","Bad ohne Sprudel, mit Absaugung","Bad mit Sprudel, mit Absaugung"]
["[°C]","[W/m²]","[W/m²]","[W/m²]"]
[30,352,559,839]
[35,530,837,1209]
[40,757,1196,1677]
[45,1048,1635,2268]
[50,1426,2198,3012]
[55,1922,2910,3949]
[60,2587,3815,5129]
[65,3505,4973,6621]
[70,4824,6469,8521]
[75,6844,8436,10974]
[80,10279,11096,14212]
[85,17386,17386,21188]
[90,41412,41412,46023]
[]
["Quelle: ","http://wiki.zero-emissions.at/index.php?title=Plating_zinc_and_zinc_alloy_in_metal_industry"]
[]
[]
[]
[]
[]
[]
[]
[]
[]
["Energieträger 1",{"$f":"IF(Energieversorgung!C15<>0,Energieversorgung!C15,\"\")","v":""}]
["Energieträger 2",{"$f":"IF(Energieversorgung!C16<>0,Energieversorgung!C16,\"\")","v":""}]
["Energieträger 3",{"$f":"IF(Energieversorgung!C17<>0,Energieversorgung!C17,\"\")","v":""}]
["Energieträger 4",{"$f":"IF(Energieversorgung!C18<>0,Energieversorgung!C18,\"\")","v":""}]
["Energieträger 5",{"$f":"IF(Energieversorgung!C19<>0,Energieversorgung!C19,\"\")","v":""}]
[]
[]
["JA"]
["NEIN"]
[]
[]
["EER bekannt"]
["EER unbekannt"]
[]
["Kesselwirkungsgrad bekannt"]
["Kesselwirkungsgrad unbekannt"]
[]
["Wärmerückgewinnung vorhanden"]
["Wärmerückgewinnung  nicht vorhanden"]
[]
[]
[]
[]
[]
[]
[]
["Nasse Rückkühlung"]
["Trockene Rückkühlung"]
[]
["Abwasser",4.1900000000000004]
["Trockene Abluft",1.01]
["Feuchte Abluft"]
[]
["Wasser ",4.1900000000000004]
["Luft",1.01]
[]
[1,{"$f":"IF(Energieversorgung!C77=\"\",\"\",Energieversorgung!B77)","v":""},{"$f":"IF(Energieversorgung!E77=\"\",Energieversorgung!G77,Energieversorgung!E77)","v":0}]
[2,{"$f":"IF(Energieversorgung!C78=\"\",\"\",Energieversorgung!B78)","v":""},{"$f":"IF(Energieversorgung!E78=\"\",Energieversorgung!G78,Energieversorgung!E78)","v":0}]
[3,{"$f":"IF(Energieversorgung!C79=\"\",\"\",Energieversorgung!B79)","v":""},{"$f":"IF(Energieversorgung!E79=\"\",Energieversorgung!G79,Energieversorgung!E79)","v":0}]
[4,{"$f":"IF(Energieversorgung!C80=\"\",\"\",Energieversorgung!B80)","v":""},{"$f":"IF(Energieversorgung!E80=\"\",Energieversorgung!G80,Energieversorgung!E80)","v":0}]
[5,{"$f":"IF(Energieversorgung!C81=\"\",\"\",Energieversorgung!B81)","v":""},{"$f":"IF(Energieversorgung!E81=\"\",Energieversorgung!G81,Energieversorgung!E81)","v":0}]
[6,{"$f":"IF(Energieversorgung!C82=\"\",\"\",Energieversorgung!B82)","v":""},{"$f":"IF(Energieversorgung!E82=\"\",Energieversorgung!G82,Energieversorgung!E82)","v":0}]
[7,{"$f":"IF(Energieversorgung!C83=\"\",\"\",Energieversorgung!B83)","v":""},{"$f":"IF(Energieversorgung!E83=\"\",Energieversorgung!G83,Energieversorgung!E83)","v":0}]
[8,{"$f":"IF(Energieversorgung!C84=\"\",\"\",Energieversorgung!B84)","v":""},{"$f":"IF(Energieversorgung!E84=\"\",Energieversorgung!G84,Energieversorgung!E84)","v":0}]
[9,{"$f":"IF(Energieversorgung!C85=\"\",\"\",Energieversorgung!B85)","v":""},{"$f":"IF(Energieversorgung!E85=\"\",Energieversorgung!G85,Energieversorgung!E85)","v":0}]
[10,{"$f":"IF(Energieversorgung!C86=\"\",\"\",Energieversorgung!B86)","v":""},{"$f":"IF(Energieversorgung!E86=\"\",Energieversorgung!G86,Energieversorgung!E86)","v":0}]
[]
[]
["Warmwasser"]
[{"$f":"'Ist-Stand'!P17","v":"Dampf"}]
[{"$f":"'Ist-Stand'!P18","v":"Kaltwasser"}]
[{"$f":"'Ist-Stand'!C16","v":""}]
[{"$f":"'Ist-Stand'!C17","v":""}]
[{"$f":"'Ist-Stand'!C18","v":""}]
[{"$f":"'Ist-Stand'!C19","v":""}]
[{"$f":"'Ist-Stand'!C20","v":""}]
[]
[{"$f":"IFERROR('Ist-Stand'!P23,\"\")","v":""}]
["Energieträger","CO2 \näquivalent","CO2 nicht äquivalent"]
[null,"[kgCO2e/kWh]","[kgCO2/kWh]"]
["Biogas","-","-"]
["Biomasse (Hackschnitzel)",3.5999999999999997E-2,0.04]
["(zugekaufter) Dampf","-","-"]
["Erdgas",0.248,0.23599999999999999]
["Fernwärme",0.186,0.29099999999999998]
["Kohle",0.55800000000000005,0.33700000000000002]
["Öl",0.437,0.311]
["Strom",3,0.27600000000000002]
[null,"GEMIS","OIB"]
[]
["Energieträger"]
[null,"PE","PE "]
[null,"[kWhPE/kWh]","[kWhPE/kWh]"]
["Biogas","-","-"]
["Biomasse (Hackschnitzel)",1.4,1.08]
["(zugekaufter) Dampf","-","-"]
["Erdgas",1.18,1.17]
["Fernwärme",1.33,1.52]
["Kohle",1.36,1.46]
["Öl",1.65,1.23]
["Strom",1.79,1.91]
[null,"GEMIS","OIB"]

{"sheet":"ST_Daten","index":44,"n_rows":123,"n_cols":14,"rows_kept":123,"cut":false,"hidden":true,"merged":[[0,1,0,7],[90,0,90,1],[90,3,90,4],[90,6,90,7],[90,9,90,10]]}
["Graz","Mittlere Absorbertemperatur [°C]"]
[null,30,45,60,75,90,105,120]
["Sunmark GJ 140V",0.73544374612600716,0.6171881145345709,0.4932985246480564,0.37112953616620953,0.25719672154293005,0.16089292902789268,8.6618946867327754E-2]
["ökoTech HT",0.69552342335215867,0.59077588031799888,0.491335805507921,0.39855180131821671,0.31251781033610898,0.23507593286586487,0.16846422231984728]
["ökoTech GS",0.65318790339668253,0.52511162441413328,0.40735730613086751,0.30074900275593719,0.20835939780428983,0.133459538037874,7.5865785124434024E-2]
["Gigasol OR 10",0.59310359783367084,0.46867440890714579,0.35879529851990188,0.2623359920387156,0.18119803086763261,0.11651485211731166,6.7208050276441403E-2]
[]
["Wien"]
[null,30,45,60,75,90,105,120]
["Sunmark GJ 140V",0.74741593785015181,0.63346389925403701,0.51358007085881918,0.39532559604244466,0.28295931278329722,0.18331628675304501,0.10259526636314632]
["ökoTech HT",0.70684077421331892,0.60472630439436315,0.50799298721791852,0.4174833417697586,0.3340072290743818,0.2567043615009727,0.18833171377819952]
["ökoTech GS",0.66754656678033908,0.5429931488822769,0.42768193082226125,0.32388334194874979,0.2307069666024929,0.15255249670478219,8.9474412677979356E-2]
["Gigasol OR 10",0.60746496888068513,0.48599459147532009,0.37818740321080607,0.28371444819688418,0.20126347538269954,0.13348524866455067,7.9195211785317216E-2]
[]
["Innsbruck"]
[null,30,45,60,75,90,105,120]
["Sunmark GJ 140V",0.73177551998817325,0.61639537293631808,0.49470850098963348,0.37380596806137539,0.26238097158336754,0.16606854271655211,9.2209203663377162E-2]
["ökoTech HT",0.69251656523961158,0.59248723977532358,0.4963882846856183,0.40513510197351532,0.32115027957983749,0.24577707173681887,0.17885899150362877]
["ökoTech GS",0.64740540810569946,0.52435399558155804,0.40963600028681357,0.30577426172412731,0.21551943653180791,0.14038274571343584,8.2716165943631695E-2]
["Gigasol OR 10",0.60746496888068513,0.48599459147532009,0.37818740321080607,0.28371444819688418,0.20126347538269954,0.13348524866455067,7.9195211785317216E-2]
[]
["Zwettl"]
[null,30,45,60,75,90,105,120]
["Sunmark GJ 140V",0.70432077582990749,0.58081000855980813,0.45569388304799213,0.33764242122801924,0.2313453945941987,0.14311085593506745,7.6326153029844079E-2]
["ökoTech HT",0.66561142253793149,0.5590228254691697,0.45965298963896933,0.36966657753378318,0.2884171270933199,0.21661287068662366,0.15549338834904797]
["ökoTech GS",0.61712913336898712,0.48846361680896155,0.37387216212216101,0.27359957506120397,0.18880095763810326,0.12028443896253897,6.8613191069113968E-2]
["Gigasol OR 10",0.55741483791674651,0.43397305765969357,0.32852412912341256,0.23861499217639617,0.16454224585875396,0.10553984422979656,6.1335315160397245E-2]
[]
["Bregenz"]
[null,30,45,60,75,90,105,120]
["Sunmark GJ 140V",0.71751296955445865,0.59210158989195805,0.46521087824857549,0.34390327424808287,0.23544629451181065,0.14346813022730426,7.3972652926982907E-2]
["ökoTech HT",0.67745507868812183,0.56781167242995623,0.46685534041833859,0.37405237870195429,0.29094090691133795,0.21811682849985423,0.15443272549833251]
["ökoTech GS",0.63121895680606188,0.49860741962131333,0.38078635041572456,0.27772777809796118,0.19076457393917026,0.11918701004349377,6.5985105583475423E-2]
["Gigasol OR 10",0.57098491539489959,0.44343949836322621,0.33438502712588608,0.24209316581369975,0.16566080347949017,0.10410235956783005,5.8739175465289631E-2]
[]
["St Pölten"]
[null,30,45,60,75,90,105,120]
["Sunmark GJ 140V",0.7311373918981624,0.61195177373299325,0.4893033892765789,0.37015993196785241,0.25925632328026377,0.16517265548241591,9.2120134363492479E-2]
["ökoTech HT",0.69107266485883068,0.5856944209239916,0.48726226385770238,0.39634233344403258,0.31275359291116811,0.23694562229988303,0.17233753710427924]
["ökoTech GS",0.64813313664125061,0.52039067200807021,0.4045763774127405,0.30101207497318661,0.21068034724986648,0.13796169174252479,8.1269640873831983E-2]
["Gigasol OR 10",0.58814607205982794,0.46446600657888432,0.35671799824201422,0.26299913889481474,0.18355420116842305,0.1208704613649976,7.2259258493571815E-2]
[]
["Salzburg"]
[null,30,45,60,75,90,105,120]
["Sunmark GJ 140V",0.70959342630674582,0.57981965831440574,0.44987188603521511,0.3279286905046071,0.22156114046507988,0.13438827013778923,7.0403501977954031E-2]
["ökoTech HT",0.66999127256603364,0.55670176118419823,0.45266123023967836,0.3590595173614114,0.27647028222155506,0.20476635997388068,0.14432238814182377]
["ökoTech GS",0.62228280223777022,0.48577180669049302,0.36614092884139315,0.26365305961858532,0.17888810391520829,0.1114409478562927,6.2445709065575492E-2]
["Gigasol OR 10",0.56232705415524042,0.43118654570493831,0.32075366044893011,0.22934726966282065,0.15531318169423558,9.7249172528245234E-2,5.557827398122623E-2]
[]
["Linz"]
[null,30,45,60,75,90,105,120]
["Sunmark GJ 140V",0.70959342630674582,0.57981965831440574,0.44987188603521511,0.3279286905046071,0.22156114046507988,0.13438827013778923,7.0403501977954031E-2]
["ökoTech HT",0.66999127256603364,0.55670176118419823,0.45266123023967836,0.3590595173614114,0.27647028222155506,0.20476635997388068,0.14432238814182377]
["ökoTech GS",0.62228280223777022,0.48577180669049302,0.36614092884139315,0.26365305961858532,0.17888810391520829,0.1114409478562927,6.2445709065575492E-2]
["Gigasol OR 10",0.56232705415524042,0.43118654570493831,0.32075366044893011,0.22934726966282065,0.15531318169423558,9.7249172528245234E-2,5.557827398122623E-2]
[]
["Klagenfurt"]
[null,30,45,60,75,90,105,120]
["Sunmark GJ 140V",0.73199996374522491,0.61827567861997434,0.49867666734416383,0.38181506149912564,0.27236029825878721,0.17742674872159994,0.1008610104666969]
["ökoTech HT",0.69294858961745009,0.59361729943685848,0.49829931607223799,0.41001749938507248,0.32773821380024559,0.25286240242086894,0.18716687203055249]
["ökoTech GS",0.64897256702699124,0.52719140789047725,0.4152973280147586,0.31361026587481389,0.22444746491682277,0.14987490009062077,8.9934297171338079E-2]
["Gigasol OR 10",0.58881238229011545,0.47092078179817559,0.36700136034694869,0.27515168412195007,0.19652628131270627,0.1319145221049908,8.0342144345912372E-2]
[]
["Eisenstadt"]
[null,30,45,60,75,90,105,120]
["Sunmark GJ 140V",0.73782118197361291,0.62128329795125292,0.49873508464444355,0.3785440736455834,0.26652720139477226,0.17098108040730478,9.5645713837153798E-2]
["ökoTech HT",0.69763948505270545,0.59462921301037919,0.49635758168364552,0.40500188873013721,0.32083285763858188,0.24456507900382293,0.17879820757486997]
["ökoTech GS",0.65561493254434966,0.52933386968408369,0.41299686892825321,0.308730131806502,0.21758960021831941,0.14319650126931543,8.4426029887566909E-2]
["Gigasol OR 10",0.59533842366054446,0.47269442779653326,0.36435591267784095,0.27002641946274286,0.18986544371249825,0.12557853725971166,7.5090202036805234E-2]
[]
[]
[]
[]
[]
[]
[]
[]
[]
[]
[]
[]
[]
[]
[]
[]
[]
[]
[]
[]
[]
["Solarthermi",null,null,"Parallel",null,null,"Seriell ST-WP I",null,null,"Seriell WP - ST",null,null,"Seriell ST-WP II"]
[{"$f":"Solarthermie!B16","v":0},{"$f":"(Solarthermie!F39+Solarthermie!F40)/2","v":0},null,{"$f":"Parallel!B39","v":0},{"$f":"(Parallel!F19+Parallel!F20)/2","v":0},null,{"$f":"Seriell_STWP!D29","v":0},{"$f":"(Seriell_STWP!B29+Seriell_STWP!B29-5)/2","v":-2.5},null,{"$f":"Seriell_WPST!B50","v":0},{"$f":"(Seriell_WPST!F19+Seriell_WPST!F20)/2","v":0},null,{"$f":"Seriell_STWP2!D28","v":0},{"$f":"((Seriell_STWP2!B28)+(Seriell_STWP2!B28-5)/2)","v":-2.5}]
[{"$f":"VLOOKUP(Solarthermie!D16,$A$105:$C$108,3)","v":{"$error":"#N/A"}},{"$f":"MAX(IF(B2:H2<=B92,B2:H2))","v":0},null,{"$f":"VLOOKUP(Parallel!D39,A105:C108,3)","v":{"$error":"#N/A"}},{"$f":"MAX(IF(B2:H2<=E92,B2:H2))","v":0},null,{"$f":"VLOOKUP(Seriell_STWP!F29,A105:C108,3)","v":{"$error":"#N/A"}},{"$f":"MAX(IF(B2:H2<=H92,B2:H2))","v":0},null,{"$f":"VLOOKUP(Seriell_WPST!D50,A105:C108,3)","v":{"$error":"#N/A"}},{"$f":"MAX(IF(B2:H2<=K92,B2:H2))","v":0},null,{"$f":"VLOOKUP(Seriell_STWP2!F28,A105:C108,3)","v":{"$error":"#N/A"}},{"$f":"MAX(IF(B2:H2<=N92,B2:H2))","v":0}]
[null,{"$f":"MIN(IF(B2:H2>=B92,B2:H2))","v":30},null,null,{"$f":"MIN(IF(B2:H2>=E92,B2:H2))","v":30},null,null,{"$f":"MIN(IF(B2:H2>=H92,B2:H2))","v":30},null,null,{"$f":"MIN(IF(B2:H2>=K92,B2:H2))","v":30},null,null,{"$f":"MIN(IF(B2:H2>=N92,B2:H2))","v":30}]
[null,{"$f":"IF(AND(A92=\"Graz\",A93=\"Sunmark GJ 140V\"),IFERROR(INDEX(3:3,MATCH(B92,2:2,0)),((B92-B93)*INDEX(3:3,MATCH(B94,2:2,0))+ABS(B92-B94)*INDEX(3:3,MATCH(B93,2:2,0)))/(B94-B93)),(IF(AND(A92=\"Graz\",A93=\"ökoTech HT\"),IFERROR(INDEX(4:4,MATCH(B92,2:2,0)),((B92-B93)*INDEX(4:4,MATCH(B94,2:2,0))+ABS(B92-B94)*INDEX(4:4,MATCH(B93,2:2,0)))/(B94-B93)),(IF(AND(A92=\"Graz\",A93=\"ökoTech GS\"),IFERROR(INDEX(5:5,MATCH(B92,2:2,0)),((B92-B93)*INDEX(5:5,MATCH(B94,2:2,0))+ABS(B92-B94)*INDEX(5:5,MATCH(B93,2:2,0)))/(B94-B93)),IF(AND(A92=\"Graz\",A93=\"Gigasol OR 10\"),IFERROR(INDEX(6:6,MATCH(B92,2:2,0)),((B92-B93)*INDEX(6:6,MATCH(B94,2:2,0))+ABS(B92-B94)*INDEX(6:6,MATCH(B93,2:2,0)))/(B94-B93)),IF(AND(A92=\"Wien\",A93=\"Sunmark GJ 140V\"),IFERROR(INDEX(10:10,MATCH(B92,9:9,0)),((B92-B93)*INDEX(10:10,MATCH(B94,9:9,0))+ABS(B92-B94)*INDEX(10:10,MATCH(B93,9:9,0)))/(B94-B93)),IF(AND(A92=\"Wien\",A93=\"ökoTech HT\"),IFERROR(INDEX(11:11,MATCH(B92,9:9,0)),((B92-B93)*INDEX(11:11,MATCH(B94,9:9,0))+ABS(B92-B94)*INDEX(11:11,MATCH(B93,9:9,0)))/(B94-B93)),IF(AND(A92=\"Wien\",A93=\"ökoTech GS\"),IFERROR(INDEX(12:12,MATCH(B92,9:9,0)),((B92-B93)*INDEX(12:12,MATCH(B94,9:9,0))+ABS(B92-B94)*INDEX(12:12,MATCH(B93,9:9,0)))/(B94-B93)),IF(AND(A92=\"Wien\",A93=\"Gigasol OR 10\"),IFERROR(INDEX(13:13,MATCH(B92,9:9,0)),((B92-B93)*INDEX(13:13,MATCH(B94,9:9,0))+ABS(B92-B94)*INDEX(13:13,MATCH(B93,9:9,0)))/(B94-B93)),IF(AND(A92=\"Innsbruck\",A93=\"Sunmark GJ 140V\"),IFERROR(INDEX(17:17,MATCH(B92,16:16,0)),((B92-B93)*INDEX(17:17,MATCH(B94,16:16,0))+ABS(B92-B94)*INDEX(17:17,MATCH(B93,16:16,0)))/(B94-B93)),IF(AND(A92=\"Innsbruck\",A93=\"ökoTech HT\"),IFERROR(INDEX(18:18,MATCH(B92,16:16,0)),((B92-B93)*INDEX(18:18,MATCH(B94,16:16,0))+ABS(B92-B94)*INDEX(18:18,MATCH(B93,16:16,0)))/(B94-B93)),IF(AND(A92=\"Innsbruck\",A93=\"ökoTech GS\"),IFERROR(INDEX(19:19,MATCH(B92,16:16,0)),((B92-B93)*INDEX(19:19,MATCH(B94,16:16,0))+ABS(B92-B94)*INDEX(19:19,MATCH(B93,16:16,0)))/(B94-B93)),IF(AND(A92=\"Innsbruck\",A93=\"Gigasol OR 10\"),IFERROR(INDEX(20:20,MATCH(B92,16:16,0)),((B92-B93)*INDEX(20:20,MATCH(B94,16:16,0))+ABS(B92-B94)*INDEX(20:20,MATCH(B93,16:16,0)))/(B94-B93)),IF(AND(A92=\"Zwettl\",A93=\"Sunmark GJ 140V\"),IFERROR(INDEX(24:24,MATCH(B92,23:23,0)),((B92-B93)*INDEX(24:24,MATCH(B94,23:23,0))+ABS(B92-B94)*INDEX(24:24,MATCH(B93,23:23,0)))/(B94-B93)),IF(AND(A92=\"Zwettl\",A93=\"ökoTech HT\"),IFERROR(INDEX(25:25,MATCH(B92,23:23,0)),((B92-B93)*INDEX(25:25,MATCH(B94,23:23,0))+ABS(B92-B94)*INDEX(25:25,MATCH(B93,23:23,0)))/(B94-B93)),IF(AND(A92=\"Zwettl\",A93=\"ökoTech GS\"),IFERROR(INDEX(26:26,MATCH(B92,23:23,0)),((B92-B93)*INDEX(26:26,MATCH(B94,23:23,0))+ABS(B92-B94)*INDEX(19:19,MATCH(B93,23:23,0)))/(B94-B93)),IF(AND(A92=\"Zwettl\",A93=\"Gigasol OR 10\"),IFERROR(INDEX(27:27,MATCH(B92,23:23,0)),((B92-B93)*INDEX(27:27,MATCH(B94,23:23,0))+ABS(B92-B94)*INDEX(27:27,MATCH(B93,23:23,0)))/(B94-B93)),IF(AND(A92=\"Bregenz\",A93=\"Sunmark GJ 140V\"),IFERROR(INDEX(31:31,MATCH(B92,30:30,0)),((B92-B93)*INDEX(31:31,MATCH(B94,30:30,0))+ABS(B92-B94)*INDEX(31:31,MATCH(B93,30:30,0)))/(B94-B93)),IF(AND(A92=\"Bregenz\",A93=\"ökoTech HT\"),IFERROR(INDEX(32:32,MATCH(B92,30:30,0)),((B92-B93)*INDEX(32:32,MATCH(B94,30:30,0))+ABS(B92-B94)*INDEX(32:32,MATCH(B93,30:30,0)))/(B94-B93)),IF(AND(A92=\"Bregenz\",A93=\"ökoTech GS\"),IFERROR(INDEX(33:33,MATCH(B92,30:30,0)),((B92-B93)*INDEX(33:33,MATCH(B94,30:30,0))+ABS(B92-B94)*INDEX(33:33,MATCH(B93,30:30,0)))/(B94-B93)),IF(AND(A92=\"Bregenz\",A93=\"Gigasol OR 10\"),IFERROR(INDEX(34:34,MATCH(B92,30:30,0)),((B92-B93)*INDEX(34:34,MATCH(B94,30:30,0))+ABS(B92-B94)*INDEX(34:34,MATCH(B93,30:30,0)))/(B94-B93)),IF(AND(A92=\"St Pölten\",A93=\"Sunmark GJ 140V\"),IFERROR(INDEX(38:38,MATCH(B92,37:37,0)),((B92-B93)*INDEX(38:38,MATCH(B94,37:37,0))+ABS(B92-B94)*INDEX(38:38,MATCH(B93,37:37,0)))/(B94-B93)),IF(AND(A92=\"St Pölten\",A93=\"ökoTech HT\"),IFERROR(INDEX(39:39,MATCH(B92,37:37,0)),((B92-B93)*INDEX(39:39,MATCH(B94,37:37,0))+ABS(B92-B94)*INDEX(39:39,MATCH(B93,37:37,0)))/(B94-B93)),IF(AND(A92=\"St Pölten\",A93=\"ökoTech GS\"),IFERROR(INDEX(40:40,MATCH(B92,37:37,0)),((B92-B93)*INDEX(40:40,MATCH(B94,37:37,0))+ABS(B92-B94)*INDEX(40:40,MATCH(B93,37:37,0)))/(B94-B93)),IF(AND(A92=\"St Pölten\",A93=\"Gigasol OR 10\"),IFERROR(INDEX(41:41,MATCH(B92,37:37,0)),((B92-B93)*INDEX(41:41,MATCH(B94,37:37,0))+ABS(B92-B94)*INDEX(41:41,MATCH(B93,37:37,0)))/(B94-B93)),IF(AND(A92=\"Salzburg\",A93=\"Sunmark GJ 140V\"),IFERROR(INDEX(45:45,MATCH(B92,44:44,0)),((B92-B93)*INDEX(45:45,MATCH(B94,44:44,0))+ABS(B92-B94)*INDEX(45:45,MATCH(B93,44:44,0)))/(B94-B93)),IF(AND(A92=\"Salzburg\",A93=\"ökoTech HT\"),IFERROR(INDEX(46:46,MATCH(B92,44:44,0)),((B92-B93)*INDEX(46:46,MATCH(B94,44:44,0))+ABS(B92-B94)*INDEX(46:46,MATCH(B93,44:44,0)))/(B94-B93)),IF(AND(A92=\"Salzburg\",A93=\"ökoTech GS\"),IFERROR(INDEX(47:47,MATCH(B92,44:44,0)),((B92-B93)*INDEX(47:47,MATCH(B94,44:44,0))+ABS(B92-B94)*INDEX(47:47,MATCH(B93,44:44,0)))/(B94-B93)),IF(AND(A92=\"Salzburg\",A93=\"Gigasol OR 10\"),IFERROR(INDEX(48:48,MATCH(B92,44:44,0)),((B92-B93)*INDEX(48:48,MATCH(B94,44:44,0))+ABS(B92-B94)*INDEX(48:48,MATCH(B93,44:44,0)))/(B94-B93)),IF(AND(A92=\"Linz\",A93=\"Sunmark GJ 140V\"),IFERROR(INDEX(52:52,MATCH(B92,44:44,0)),((B92-B93)*INDEX(52:52,MATCH(B94,44:44,0))+ABS(B92-B94)*INDEX(52:52,MATCH(B93,44:44,0)))/(B94-B93)),IF(AND(A92=\"Linz\",A93=\"ökoTech HT\"),IFERROR(INDEX(53:53,MATCH(B92,44:44,0)),((B92-B93)*INDEX(53:53,MATCH(B94,44:44,0))+ABS(B92-B94)*INDEX(53:53,MATCH(B93,44:44,0)))/(B94-B93)),IF(AND(A92=\"Linz\",A93=\"ökoTech GS\"),IFERROR(INDEX(54:54,MATCH(B92,44:44,0)),((B92-B93)*INDEX(54:54,MATCH(B94,44:44,0))+ABS(B92-B94)*INDEX(54:54,MATCH(B93,44:44,0)))/(B94-B93)),IF(AND(A92=\"Linz\",A93=\"Gigasol OR 10\"),IFERROR(INDEX(55:55,MATCH(B92,44:44,0)),((B92-B93)*INDEX(55:55,MATCH(B94,44:44,0))+ABS(B92-B94)*INDEX(55:55,MATCH(B93,44:44,0)))/(B94-B93)),IF(AND(A92=\"Klagenfurt\",A93=\"Sunmark GJ 140V\"),IFERROR(INDEX(59:59,MATCH(B92,44:44,0)),((B92-B93)*INDEX(59:59,MATCH(B94,44:44,0))+ABS(B92-B94)*INDEX(59:59,MATCH(B93,44:44,0)))/(B94-B93)),IF(AND(A92=\"Klagenfurt\",A93=\"ökoTech HT\"),IFERROR(INDEX(60:60,MATCH(B92,44:44,0)),((B92-B93)*INDEX(60:60,MATCH(B94,44:44,0))+ABS(B92-B94)*INDEX(60:60,MATCH(B93,44:44,0)))/(B94-B93)),IF(AND(A92=\"Klagenfurt\",A93=\"ökoTech GS\"),IFERROR(INDEX(61:61,MATCH(B92,44:44,0)),((B92-B93)*INDEX(61:61,MATCH(B94,44:44,0))+ABS(B92-B94)*INDEX(61:61,MATCH(B93,44:44,0)))/(B94-B93)),IF(AND(A92=\"Klagenfurt\",A93=\"Gigasol OR 10\"),IFERROR(INDEX(62:62,MATCH(B92,44:44,0)),((B92-B93)*INDEX(61:62,MATCH(B94,44:44,0))+ABS(B92-B94)*INDEX(62:62,MATCH(B93,44:44,0)))/(B94-B93)),IF(AND(A92=\"Eisenstadt\",A93=\"Sunmark GJ 140V\"),IFERROR(INDEX(66:66,MATCH(B92,44:44,0)),((B92-B93)*INDEX(66:66,MATCH(B94,44:44,0))+ABS(B92-B94)*INDEX(66:66,MATCH(B93,44:44,0)))/(B94-B93)),IF(AND(A92=\"Eisenstadt\",A93=\"ökoTech HT\"),IFERROR(INDEX(67:67,MATCH(B92,44:44,0)),((B92-B93)*INDEX(67:67,MATCH(B94,44:44,0))+ABS(B92-B94)*INDEX(67:67,MATCH(B93,44:44,0)))/(B94-B93)),IF(AND(A92=\"Eisenstadt\",A93=\"ökoTech GS\"),IFERROR(INDEX(68:68,MATCH(B92,44:44,0)),((B92-B93)*INDEX(68:68,MATCH(B94,44:44,0))+ABS(B92-B94)*INDEX(68:68,MATCH(B93,44:44,0)))/(B94-B93)),IF(AND(A92=\"Eisenstadt\",A93=\"Gigasol OR 10\"),IFERROR(INDEX(69:69,MATCH(B92,44:44,0)),((B92-B93)*INDEX(69:69,MATCH(B94,44:44,0))+ABS(B92-B94)*INDEX(69:69,MATCH(B93,44:44,0)))/(B94-B93)),0))))))))))))))))))))))))))))))))))))))))))","v":{"$error":"#N/A"}},null,null,{"$f":"IF(AND(D92=\"Graz\",D93=\"Sunmark GJ 140V\"),IFERROR(INDEX(3:3,MATCH(E92,2:2,0)),((E92-E93)*INDEX(3:3,MATCH(E94,2:2,0))+ABS(E92-E94)*INDEX(3:3,MATCH(E93,2:2,0)))/(E94-E93)),(IF(AND(D92=\"Graz\",D93=\"ökoTech HT\"),IFERROR(INDEX(4:4,MATCH(E92,2:2,0)),((E92-E93)*INDEX(4:4,MATCH(E94,2:2,0))+ABS(E92-E94)*INDEX(4:4,MATCH(E93,2:2,0)))/(E94-E93)),(IF(AND(D92=\"Graz\",D93=\"ökoTech GS\"),IFERROR(INDEX(5:5,MATCH(E92,2:2,0)),((E92-E93)*INDEX(5:5,MATCH(E94,2:2,0))+ABS(E92-E94)*INDEX(5:5,MATCH(E93,2:2,0)))/(E94-E93)),IF(AND(D92=\"Graz\",D93=\"Gigasol OR 10\"),IFERROR(INDEX(6:6,MATCH(E92,2:2,0)),((E92-E93)*INDEX(6:6,MATCH(E94,2:2,0))+ABS(E92-E94)*INDEX(6:6,MATCH(E93,2:2,0)))/(E94-E93)),IF(AND(D92=\"Wien\",D93=\"Sunmark GJ 140V\"),IFERROR(INDEX(10:10,MATCH(E92,9:9,0)),((E92-E93)*INDEX(10:10,MATCH(E94,9:9,0))+ABS(E92-E94)*INDEX(10:10,MATCH(E93,9:9,0)))/(E94-E93)),IF(AND(D92=\"Wien\",D93=\"ökoTech HT\"),IFERROR(INDEX(11:11,MATCH(E92,9:9,0)),((E92-E93)*INDEX(11:11,MATCH(E94,9:9,0))+ABS(E92-E94)*INDEX(11:11,MATCH(E93,9:9,0)))/(E94-E93)),IF(AND(D92=\"Wien\",D93=\"ökoTech GS\"),IFERROR(INDEX(12:12,MATCH(E92,9:9,0)),((E92-E93)*INDEX(12:12,MATCH(E94,9:9,0))+ABS(E92-E94)*INDEX(12:12,MATCH(E93,9:9,0)))/(E94-E93)),IF(AND(D92=\"Wien\",D93=\"Gigasol OR 10\"),IFERROR(INDEX(13:13,MATCH(E92,9:9,0)),((E92-E93)*INDEX(13:13,MATCH(E94,9:9,0))+ABS(E92-E94)*INDEX(13:13,MATCH(E93,9:9,0)))/(E94-E93)),IF(AND(D92=\"Innsbruck\",D93=\"Sunmark GJ 140V\"),IFERROR(INDEX(17:17,MATCH(E92,16:16,0)),((E92-E93)*INDEX(17:17,MATCH(E94,16:16,0))+ABS(E92-E94)*INDEX(17:17,MATCH(E93,16:16,0)))/(E94-E93)),IF(AND(D92=\"Innsbruck\",D93=\"ökoTech HT\"),IFERROR(INDEX(18:18,MATCH(E92,16:16,0)),((E92-E93)*INDEX(18:18,MATCH(E94,16:16,0))+ABS(E92-E94)*INDEX(18:18,MATCH(E93,16:16,0)))/(E94-E93)),IF(AND(D92=\"Innsbruck\",D93=\"ökoTech GS\"),IFERROR(INDEX(19:19,MATCH(E92,16:16,0)),((E92-E93)*INDEX(19:19,MATCH(E94,16:16,0))+ABS(E92-E94)*INDEX(19:19,MATCH(E93,16:16,0)))/(E94-E93)),IF(AND(D92=\"Innsbruck\",D93=\"Gigasol OR 10\"),IFERROR(INDEX(20:20,MATCH(E92,16:16,0)),((E92-E93)*INDEX(20:20,MATCH(E94,16:16,0))+ABS(E92-E94)*INDEX(20:20,MATCH(E93,16:16,0)))/(E94-E93)),IF(AND(D92=\"Zwettl\",D93=\"Sunmark GJ 140V\"),IFERROR(INDEX(24:24,MATCH(E92,23:23,0)),((E92-E93)*INDEX(24:24,MATCH(E94,23:23,0))+ABS(E92-E94)*INDEX(24:24,MATCH(E93,23:23,0)))/(E94-E93)),IF(AND(D92=\"Zwettl\",D93=\"ökoTech HT\"),IFERROR(INDEX(25:25,MATCH(E92,23:23,0)),((E92-E93)*INDEX(25:25,MATCH(E94,23:23,0))+ABS(E92-E94)*INDEX(25:25,MATCH(E93,23:23,0)))/(E94-E93)),IF(AND(D92=\"Zwettl\",D93=\"ökoTech GS\"),IFERROR(INDEX(26:26,MATCH(E92,23:23,0)),((E92-E93)*INDEX(26:26,MATCH(E94,23:23,0))+ABS(E92-E94)*INDEX(19:19,MATCH(E93,23:23,0)))/(E94-E93)),IF(AND(D92=\"Zwettl\",D93=\"Gigasol OR 10\"),IFERROR(INDEX(27:27,MATCH(E92,23:23,0)),((E92-E93)*INDEX(27:27,MATCH(E94,23:23,0))+ABS(E92-E94)*INDEX(27:27,MATCH(E93,23:23,0)))/(E94-E93)),IF(AND(D92=\"Bregenz\",D93=\"Sunmark GJ 140V\"),IFERROR(INDEX(31:31,MATCH(E92,30:30,0)),((E92-E93)*INDEX(31:31,MATCH(E94,30:30,0))+ABS(E92-E94)*INDEX(31:31,MATCH(E93,30:30,0)))/(E94-E93)),IF(AND(D92=\"Bregenz\",D93=\"ökoTech HT\"),IFERROR(INDEX(32:32,MATCH(E92,30:30,0)),((E92-E93)*INDEX(32:32,MATCH(E94,30:30,0))+ABS(E92-E94)*INDEX(32:32,MATCH(E93,30:30,0)))/(E94-E93)),IF(AND(D92=\"Bregenz\",D93=\"ökoTech GS\"),IFERROR(INDEX(33:33,MATCH(E92,30:30,0)),((E92-E93)*INDEX(33:33,MATCH(E94,30:30,0))+ABS(E92-E94)*INDEX(33:33,MATCH(E93,30:30,0)))/(E94-E93)),IF(AND(D92=\"Bregenz\",D93=\"Gigasol OR 10\"),IFERROR(INDEX(34:34,MATCH(E92,30:30,0)),((E92-E93)*INDEX(34:34,MATCH(E94,30:30,0))+ABS(E92-E94)*INDEX(34:34,MATCH(E93,30:30,0)))/(E94-E93)),IF(AND(D92=\"St Pölten\",D93=\"Sunmark GJ 140V\"),IFERROR(INDEX(38:38,MATCH(E92,37:37,0)),((E92-E93)*INDEX(38:38,MATCH(E94,37:37,0))+ABS(E92-E94)*INDEX(38:38,MATCH(E93,37:37,0)))/(E94-E93)),IF(AND(D92=\"St Pölten\",D93=\"ökoTech HT\"),IFERROR(INDEX(39:39,MATCH(E92,37:37,0)),((E92-E93)*INDEX(39:39,MATCH(E94,37:37,0))+ABS(E92-E94)*INDEX(39:39,MATCH(E93,37:37,0)))/(E94-E93)),IF(AND(D92=\"St Pölten\",D93=\"ökoTech GS\"),IFERROR(INDEX(40:40,MATCH(E92,37:37,0)),((E92-E93)*INDEX(40:40,MATCH(E94,37:37,0))+ABS(E92-E94)*INDEX(40:40,MATCH(E93,37:37,0)))/(E94-E93)),IF(AND(D92=\"St Pölten\",D93=\"Gigasol OR 10\"),IFERROR(INDEX(41:41,MATCH(E92,37:37,0)),((E92-E93)*INDEX(41:41,MATCH(E94,37:37,0))+ABS(E92-E94)*INDEX(41:41,MATCH(E93,37:37,0)))/(E94-E93)),IF(AND(D92=\"Salzburg\",D93=\"Sunmark GJ 140V\"),IFERROR(INDEX(45:45,MATCH(E92,44:44,0)),((E92-E93)*INDEX(45:45,MATCH(E94,44:44,0))+ABS(E92-E94)*INDEX(45:45,MATCH(E93,44:44,0)))/(E94-E93)),IF(AND(D92=\"Salzburg\",D93=\"ökoTech HT\"),IFERROR(INDEX(46:46,MATCH(E92,44:44,0)),((E92-E93)*INDEX(46:46,MATCH(E94,44:44,0))+ABS(E92-E94)*INDEX(46:46,MATCH(E93,44:44,0)))/(E94-E93)),IF(AND(D92=\"Salzburg\",D93=\"ökoTech GS\"),IFERROR(INDEX(47:47,MATCH(E92,44:44,0)),((E92-E93)*INDEX(47:47,MATCH(E94,44:44,0))+ABS(E92-E94)*INDEX(47:47,MATCH(E93,44:44,0)))/(E94-E93)),IF(AND(D92=\"Salzburg\",D93=\"Gigasol OR 10\"),IFERROR(INDEX(48:48,MATCH(E92,44:44,0)),((E92-E93)*INDEX(48:48,MATCH(E94,44:44,0))+ABS(E92-E94)*INDEX(48:48,MATCH(E93,44:44,0)))/(E94-E93)),IF(AND(D92=\"Linz\",D93=\"Sunmark GJ 140V\"),IFERROR(INDEX(52:52,MATCH(E92,44:44,0)),((E92-E93)*INDEX(52:52,MATCH(E94,44:44,0))+ABS(E92-E94)*INDEX(52:52,MATCH(E93,44:44,0)))/(E94-E93)),IF(AND(D92=\"Linz\",D93=\"ökoTech HT\"),IFERROR(INDEX(53:53,MATCH(E92,44:44,0)),((E92-E93)*INDEX(53:53,MATCH(E94,44:44,0))+ABS(E92-E94)*INDEX(53:53,MATCH(E93,44:44,0)))/(E94-E93)),IF(AND(D92=\"Linz\",D93=\"ökoTech GS\"),IFERROR(INDEX(54:54,MATCH(E92,44:44,0)),((E92-E93)*INDEX(54:54,MATCH(E94,44:44,0))+ABS(E92-E94)*INDEX(54:54,MATCH(E93,44:44,0)))/(E94-E93)),IF(AND(D92=\"Linz\",D93=\"Gigasol OR 10\"),IFERROR(INDEX(55:55,MATCH(E92,44:44,0)),((E92-E93)*INDEX(55:55,MATCH(E94,44:44,0))+ABS(E92-E94)*INDEX(55:55,MATCH(E93,44:44,0)))/(E94-E93)),IF(AND(D92=\"Klagenfurt\",D93=\"Sunmark GJ 140V\"),IFERROR(INDEX(59:59,MATCH(E92,44:44,0)),((E92-E93)*INDEX(59:59,MATCH(E94,44:44,0))+ABS(E92-E94)*INDEX(59:59,MATCH(E93,44:44,0)))/(E94-E93)),IF(AND(D92=\"Klagenfurt\",D93=\"ökoTech HT\"),IFERROR(INDEX(60:60,MATCH(E92,44:44,0)),((E92-E93)*INDEX(60:60,MATCH(E94,44:44,0))+ABS(E92-E94)*INDEX(60:60,MATCH(E93,44:44,0)))/(E94-E93)),IF(AND(D92=\"Klagenfurt\",D93=\"ökoTech GS\"),IFERROR(INDEX(61:61,MATCH(E92,44:44,0)),((E92-E93)*INDEX(61:61,MATCH(E94,44:44,0))+ABS(E92-E94)*INDEX(61:61,MATCH(E93,44:44,0)))/(E94-E93)),IF(AND(D92=\"Klagenfurt\",D93=\"Gigasol OR 10\"),IFERROR(INDEX(62:62,MATCH(E92,44:44,0)),((E92-E93)*INDEX(61:62,MATCH(E94,44:44,0))+ABS(E92-E94)*INDEX(62:62,MATCH(E93,44:44,0)))/(E94-E93)),IF(AND(D92=\"Eisenstadt\",D93=\"Sunmark GJ 140V\"),IFERROR(INDEX(66:66,MATCH(E92,44:44,0)),((E92-E93)*INDEX(66:66,MATCH(E94,44:44,0))+ABS(E92-E94)*INDEX(66:66,MATCH(E93,44:44,0)))/(E94-E93)),IF(AND(D92=\"Eisenstadt\",D93=\"ökoTech HT\"),IFERROR(INDEX(67:67,MATCH(E92,44:44,0)),((E92-E93)*INDEX(67:67,MATCH(E94,44:44,0))+ABS(E92-E94)*INDEX(67:67,MATCH(E93,44:44,0)))/(E94-E93)),IF(AND(D92=\"Eisenstadt\",D93=\"ökoTech GS\"),IFERROR(INDEX(68:68,MATCH(E92,44:44,0)),((E92-E93)*INDEX(68:68,MATCH(E94,44:44,0))+ABS(E92-E94)*INDEX(68:68,MATCH(E93,44:44,0)))/(E94-E93)),IF(AND(D92=\"Eisenstadt\",D93=\"Gigasol OR 10\"),IFERROR(INDEX(69:69,MATCH(E92,44:44,0)),((E92-E93)*INDEX(69:69,MATCH(E94,44:44,0))+ABS(E92-E94)*INDEX(69:69,MATCH(E93,44:44,0)))/(E94-E93)),0))))))))))))))))))))))))))))))))))))))))))","v":{"$error":"#N/A"}},null,null,{"$error":"#N/A"},null,null,{"$error":"#N/A"},null,null,{"$error":"#N/A"}]
[]
[]
[]
[]
[]
[]
[]
[]
["Kollektortypen","€/m²"]
["Flachkollektor A",370,"Sunmark GJ 140V"]
["Flachkollektor B",400,"ökoTech HT"]
["Flachkollektor C",375,"ökoTech GS"]
["Flachkollektor D",385,"Gigasol OR 10"]
[]
["Ort","Jährliche Einstrahlung",null,null,"Höchste tägliche Einstrahlung"]
["Bregenz",1301,"kWh/m²a",null,8.6950000000000003,"kWh/m².d"]
["Eisenstadt",1424,"kWh/m²a",null,8.5670000000000002,"kWh/m².d"]
["Graz",1416,"kWh/m²a",null,8.6050000000000004,"kWh/m².d"]
["Innsbruck",1583,"kWh/m²a",null,9.048,"kWh/m².d"]
["Klagenfurt",1545,"kWh/m²a",null,8.5190000000000001,"kWh/m².d"]
["Linz",1312,"kWh/m²a",null,8.5709999999999997,"kWh/m².d"]
["Salzburg",1236,"kWh/m²a",null,8.6460000000000008,"kWh/m².d"]
["St Pölten",1364,"kWh/m²a",null,8.7249999999999996,"kWh/m².d"]
["Wien",1397,"kWh/m²a",null,8.5969999999999995,"kWh/m².d"]
[]
["Zwettl",1311,"kWh/m²a",null,8.7710000000000008,"kWh/m².d"]
["Lienz",1566,"kWh/m²a",null,8.7959999999999994,"kWh/m².d"]
["Villach",1564,"kWh/m²a",null,8.7260000000000009,"kWh/m².d"]

{"sheet":"Annex CP-Werte","index":45,"n_rows":165,"n_cols":2,"rows_kept":165,"cut":false,"hidden":true,"merged":[]}
["Bezeichnung","cp [kJ/kg*K]"]
["Wasser_fluessig",4.1859999999999999]
["Eis",1.93]
["Aepfel",3.8490000000000002]
["Aepfel_gefroren",2.0920000000000001]
["Ammoniak_fluessig(20°C_1bar)",2.1640000000000001]
["Ammoniak_gasfoermig",2.06]
["Apfelmus",3.73]
["Apfelsaft",3.85]
["Bananen",3.347]
["Bananen_gefroren",1.7569999999999999]
["Beeren_frisch",3.7240000000000002]
["Beeren_frisch_gefroren",1.925]
["Bier",3.766]
["Bier_gefroren",1.883]
["Birnen",3.766]
["Birnen_gefroren",2.008]
["Bohnen",3.8490000000000002]
["Bohnen_gefroren",1.966]
["Bohnen_getrocknet",1.2549999999999999]
["Butter fest",1.4237855946398661]
["Butter flüssig",2.5125628140703515]
["Eidotter",2.81]
["Eier",3.18]
["Eier_gefroren",1.6739999999999999]
["Eiklar",3.85]
["Einmachgemüse",3.85]
["Eiscreme",3.2639999999999998]
["Eiscreme_gefroren",1.883]
["Erbsen_getrocknet",1.1719999999999999]
["Erbsen_getrocknet_gefroren",0.92]
["Erbsen_gruen",3.347]
["Erbsen_gruen_gefroren",1.7569999999999999]
["Erdbeeren",3.8490000000000002]
["Erdbeeren_gefroren",1.966]
["Fisch_fett",2.8450000000000002]
["Fisch_fett_gefroren",1.59]
["Fisch_frisch",3.431]
["Fisch_frisch_gefroren",1.7989999999999999]
["Fisch_geraeuchert",3.18]
["Fisch_getrocknet",2.343]
["Fisch_getrocknet_gefroren",1.423]
["Fleisch_gesalzen",2.5939999999999999]
["Fleisch_gesalzen_gefroren",1.506]
["Früchte",3.7]
["Fruchtzubereitung (Früchte & Zucker)",2.2000000000000002]
["Gefluegel",3.347]
["Gefluegel_gefroren",1.7989999999999999]
["Glyzerin(20°C)",2.4279999999999999]
["Grapefruit",3.8490000000000002]
["Grapefruit_gefroren",2.008]
["Gurke",4.1029999999999998]
["Honig",1.47]
["Honig",1.464]
["Honig_gefroren",1.0880000000000001]
["Kalb",2.9710000000000001]
["Kalb_gefroren",1.6319999999999999]
["Karotten",3.64]
["Karotten_gefroren",1.883]
["Kartoffeln",3.222]
["Kartoffeln_gefroren",1.6739999999999999]
["Käse fest",1.4656616415410384]
["Käse flüssig",2.6800670016750416]
["Kirschen",3.64]
["Kirschen_gefroren",1.925]
["Kohl",3.891]
["Kohl_gefroren",1.966]
["Kuerbis",3.8490000000000002]
["Lactose_alpha(0°C)",0.95799999999999996]
["Lactose_beta(0°C)",1.2090000000000001]
["Leinoel",1.845]
["Leinoel_fluessig",1.88]
["Luft",1.012]
["Magermilchkonzentrat (20%TS)",3.7549999999999999]
["Magermilchkonzentrat (40%TS)",2.964]
["Mais_getrocknet",1.1719999999999999]
["Mais_getrocknet__gefroren",0.96199999999999997]
["Margarine",3.347]
["Mehl",1.339]
["Mehl_gefroren",1.004]
["Melonen",3.8490000000000002]
["Melonen_gefroren",1.966]
["Milch",3.8944723618090453]
["Milch entrahmt",3.7970000000000002]
["Molke",4.0940000000000003]
["Molkekonzentrat (35%TS)",3.8]
["Molkekonzentrat (58%TS)",3]
["Molkepulver",1.256]
["Oel",1.6739999999999999]
["Oel_gefroren",1.464]
["Olivenoel(60°C)",1.97]
["Orangen",3.8490000000000002]
["Orangen_gefroren",2.0920000000000001]
["Orangensaft_frisch",3.89]
["Palmfett",2.09]
["Pfirsiche",3.8490000000000002]
["Pfirsiche_gefroren",2.008]
["Pflanzenfett",1.464]
["Pflaumen_frisch",3.4729999999999999]
["Pflaumen_gefroren",1.841]
["Pilze",3.89]
["Pilze_gefroren",1.97]
["Preiselbeeren",3.8069999999999999]
["Preiselbeeren_gefroren",1.966]
["Rahm (25-30%Fett)",2.8170000000000002]
["Rahm (45%Fett)",2.7879999999999998]
["Rind_fett",2.5099999999999998]
["Rind_fett_gefroren",1.464]
["Rind_getrocknet",1.423]
["Rind_getrocknet_gefroren",1.004]
["Rind_mager",3.222]
["Rind_mager_gefroren",1.7150000000000001]
["Rohmilch",3.7549999999999999]
["Runkelrueben",3.891]
["Salzhering",2.9710000000000001]
["Sauerkraut",3.8069999999999999]
["Sauerkraut_gefroren",1.966]
["Schinken",2.3010000000000002]
["Schinken_gefroren",1.883]
["Schmalz",2.2589999999999999]
["Schmalz_gefroren",1.2969999999999999]
["Schokolade",3.18]
["Schokolade_gefroren",3.1379999999999999]
["Schwein_fett",2.1339999999999999]
["Schwein_fett_gefroren",1.339]
["Schwein_mager",2.5099999999999998]
["Schwein_mager_gefroren",1.548]
["Schweinefleisch",2.14]
["Sellerie",3.8069999999999999]
["Sellerie_gefroren",1.883]
["Sirup",1.47]
["Sonnenblumenoel",1.883]
["Spargel",3.891]
["Spargel_gefroren",1.925]
["Speck",2.2999999999999998]
["Speck_gefroren",1.3]
["Speiseeis",3.2639999999999998]
["Speiseeis_gefroren",1.883]
["Speisezwiebeln",3.8069999999999999]
["Speisezwiebeln_gefroren",2.0499999999999998]
["Spinat",3.8]
["Stachelbeeren",3.8490000000000002]
["Stachelbeeren_gefroren",1.966]
["Teig",1.88]
["Tomaten",3.891]
["Tomaten_gefroren",1.925]
["Topfen",3.91]
["Trauben",3.8490000000000002]
["Trauben_gefroren",2.1760000000000002]
["Trockenfruechte",1.7569999999999999]
["Trockenfruechte_gefroren",1.1299999999999999]
["Vollkornbrot",2.85]
["Walnuesse",1.05]
["Walnuesse_gefroren",0.92]
["Wasser",4.1859999999999999]
["Wein",3.766]
["Weintrauben",3.86]
["Weintrauben_gefroren",1.88]
["Weissbrot",2.72]
["Weizenmehl",1.8]
["Wild",3.2639999999999998]
["Wild_gefroren",1.7150000000000001]
["Zitronen",3.8490000000000002]
["Zitronen_gefroren",2.0499999999999998]
["Zucker_fein(0°C)",1.25]

{"sheet":"(hid) 03_WtRawList","index":46,"n_rows":502,"n_cols":31,"rows_kept":502,"cut":false,"hidden":true,"merged":[]}
["WT ID","HS ID","CS ID","T HS ein","T CS ein","T HS aus","T CS aus","mcp HS","mcp CS","Q hx HS","Q hx CS","Duration HX","Duration ST","crit PO","crit EN","crit EX","crit TOT","dT",null,"WT ID (2x)",null,null,"E HX","E ST","Q HX","Q ST",null,"checks"]
[1,2,3,4,5,6,7,8,9,10,11,12,13,14,15,16,17,18,19,20,21,22,23,24,25,26,null,"qhx hs","qhx cs",null,"share hx/st"]
[0,0,0,0,0,0,0,0,0,0,0,0,0,0,0,0,0,0,0,0,0,0,0,0,0,0,0,0,0,{"$f":"AC3-Y3","v":0},{"$f":"W3/(W3+X3)","v":{"$error":"#DIV/0!"}}]
[0,0,0,0,0,0,0,0,0,0,0,0,0,0,0,0,0,0,0,0,0,0,0,0,0,0,0,0,0,{"$f":"AC4-Y4","v":0},{"$f":"W4/(W4+X4)","v":{"$error":"#DIV/0!"}}]
[0,0,0,0,0,0,0,0,0,0,0,0,0,0,0,0,0,0,0,0,0,0,0,0,0,0,0,0,0,0,{"$error":"#DIV/0!"}]
[0,0,0,0,0,0,0,0,0,0,0,0,0,0,0,0,0,0,0,0,0,0,0,0,0,0,0,0,0,0,{"$error":"#DIV/0!"}]
[0,0,0,0,0,0,0,0,0,0,0,0,0,0,0,0,0,0,0,0,0,0,0,0,0,0,0,0,0,0,{"$error":"#DIV/0!"}]
[0,0,0,0,0,0,0,0,0,0,0,0,0,0,0,0,0,0,0,0,0,0,0,0,0,0,0,0,0,0,{"$error":"#DIV/0!"}]
[0,0,0,0,0,0,0,0,0,0,0,0,0,0,0,0,0,0,0,0,0,0,0,0,0,0,0,0,0,0,{"$error":"#DIV/0!"}]
[0,0,0,0,0,0,0,0,0,0,0,0,0,0,0,0,0,0,0,0,0,0,0,0,0,0,0,0,0,0,{"$error":"#DIV/0!"}]
[0,0,0,0,0,0,0,0,0,0,0,0,0,0,0,0,0,0,0,0,0,0,0,0,0,0,0,0,0,0,{"$error":"#DIV/0!"}]
[0,0,0,0,0,0,0,0,0,0,0,0,0,0,0,0,0,0,0,0,0,0,0,0,0,0,0,0,0,0,{"$error":"#DIV/0!"}]
[0,0,0,0,0,0,0,0,0,0,0,0,0,0,0,0,0,0,0,0,0,0,0,0,0,0,0,0,0,0,{"$error":"#DIV/0!"}]
[0,0,0,0,0,0,0,0,0,0,0,0,0,0,0,0,0,0,0,0,0,0,0,0,0,0,0,0,0,0,{"$error":"#DIV/0!"}]
[0,0,0,0,0,0,0,0,0,0,0,0,0,0,0,0,0,0,0,0,0,0,0,0,0,0,0,0,0,0,{"$error":"#DIV/0!"}]
[0,0,0,0,0,0,0,0,0,0,0,0,0,0,0,0,0,0,0,0,0,0,0,0,0,0,0,0,0,0,{"$error":"#DIV/0!"}]
[0,0,0,0,0,0,0,0,0,0,0,0,0,0,0,0,0,0,0,0,0,0,0,0,0,0,0,0,0,0,{"$error":"#DIV/0!"}]
[0,0,0,0,0,0,0,0,0,0,0,0,0,0,0,0,0,0,0,0,0,0,0,0,0,0,0,0,0,0,{"$error":"#DIV/0!"}]
[0,0,0,0,0,0,0,0,0,0,0,0,0,0,0,0,0,0,0,0,0,0,0,0,0,0,0,0,0,0,{"$error":"#DIV/0!"}]
[0,0,0,0,0,0,0,0,0,0,0,0,0,0,0,0,0,0,0,0,0,0,0,0,0,0,0,0,0,0,{"$error":"#DIV/0!"}]
[0,0,0,0,0,0,0,0,0,0,0,0,0,0,0,0,0,0,0,0,0,0,0,0,0,0,0,0,0,0,{"$error":"#DIV/0!"}]
[0,0,0,0,0,0,0,0,0,0,0,0,0,0,0,0,0,0,0,0,0,0,0,0,0,0,0,0,0,0,{"$error":"#DIV/0!"}]
[0,0,0,0,0,0,0,0,0,0,0,0,0,0,0,0,0,0,0,0,0,0,0,0,0,0,0,0,0,0,{"$error":"#DIV/0!"}]
[0,0,0,0,0,0,0,0,0,0,0,0,0,0,0,0,0,0,0,0,0,0,0,0,0,0,0,0,0,0,{"$error":"#DIV/0!"}]
[0,0,0,0,0,0,0,0,0,0,0,0,0,0,0,0,0,0,0,0,0,0,0,0,0,0,0,0,0,0,{"$error":"#DIV/0!"}]
[0,0,0,0,0,0,0,0,0,0,0,0,0,0,0,0,0,0,0,0,0,0,0,0,0,0,0,0,0,0,{"$error":"#DIV/0!"}]
[0,0,0,0,0,0,0,0,0,0,0,0,0,0,0,0,0,0,0,0,0,0,0,0,0,0,0,0,0,0,{"$error":"#DIV/0!"}]
[0,0,0,0,0,0,0,0,0,0,0,0,0,0,0,0,0,0,0,0,0,0,0,0,0,0,0,0,0,0,{"$error":"#DIV/0!"}]
[0,0,0,0,0,0,0,0,0,0,0,0,0,0,0,0,0,0,0,0,0,0,0,0,0,0,0,0,0,0,{"$error":"#DIV/0!"}]
[0,0,0,0,0,0,0,0,0,0,0,0,0,0,0,0,0,0,0,0,0,0,0,0,0,0,0,0,0,0,{"$error":"#DIV/0!"}]
[0,0,0,0,0,0,0,0,0,0,0,0,0,0,0,0,0,0,0,0,0,0,0,0,0,0,0,0,0,0,{"$error":"#DIV/0!"}]
[0,0,0,0,0,0,0,0,0,0,0,0,0,0,0,0,0,0,0,0,0,0,0,0,0,0,0,0,0,0,{"$error":"#DIV/0!"}]
[0,0,0,0,0,0,0,0,0,0,0,0,0,0,0,0,0,0,0,0,0,0,0,0,0,0,0,0,0]
[0,0,0,0,0,0,0,0,0,0,0,0,0,0,0,0,0,0,0,0,0,0,0,0,0,0,0,0,0]
[0,0,0,0,0,0,0,0,0,0,0,0,0,0,0,0,0,0,0,0,0,0,0,0,0,0,0,0,0]
[0,0,0,0,0,0,0,0,0,0,0,0,0,0,0,0,0,0,0,0,0,0,0,0,0,0,0,0,0]
[0,0,0,0,0,0,0,0,0,0,0,0,0,0,0,0,0,0,0,0,0,0,0,0,0,0,0,0,0]
[0,0,0,0,0,0,0,0,0,0,0,0,0,0,0,0,0,0,0,0,0,0,0,0,0,0,0,0,0]
[0,0,0,0,0,0,0,0,0,0,0,0,0,0,0,0,0,0,0,0,0,0,0,0,0,0,0,0,0]
[0,0,0,0,0,0,0,0,0,0,0,0,0,0,0,0,0,0,0,0,0,0,0,0,0,0,0,0,0]
[0,0,0,0,0,0,0,0,0,0,0,0,0,0,0,0,0,0,0,0,0,0,0,0,0,0,0,0,0]
[0,0,0,0,0,0,0,0,0,0,0,0,0,0,0,0,0,0,0,0,0,0,0,0,0,0,0,0,0]
[0,0,0,0,0,0,0,0,0,0,0,0,0,0,0,0,0,0,0,0,0,0,0,0,0,0,0,0,0]
[0,0,0,0,0,0,0,0,0,0,0,0,0,0,0,0,0,0,0,0,0,0,0,0,0,0,0,0,0]
[0,0,0,0,0,0,0,0,0,0,0,0,0,0,0,0,0,0,0,0,0,0,0,0,0,0,0,0,0]
[0,0,0,0,0,0,0,0,0,0,0,0,0,0,0,0,0,0,0,0,0,0,0,0,0,0,0,0,0]
[0,0,0,0,0,0,0,0,0,0,0,0,0,0,0,0,0,0,0,0,0,0,0,0,0,0,0,0,0]
[0,0,0,0,0,0,0,0,0,0,0,0,0,0,0,0,0,0,0,0,0,0,0,0,0,0,0,0,0]
[0,0,0,0,0,0,0,0,0,0,0,0,0,0,0,0,0,0,0,0,0,0,0,0,0,0,0,0,0]
[0,0,0,0,0,0,0,0,0,0,0,0,0,0,0,0,0,0,0,0,0,0,0,0,0,0,0,0,0]
[0,0,0,0,0,0,0,0,0,0,0,0,0,0,0,0,0,0,0,0,0,0,0,0,0,0,0,0,0]
[0,0,0,0,0,0,0,0,0,0,0,0,0,0,0,0,0,0,0,0,0,0,0,0,0,0,0,0,0]
[0,0,0,0,0,0,0,0,0,0,0,0,0,0,0,0,0,0,0,0,0,0,0,0,0,0,0,0,0]
[0,0,0,0,0,0,0,0,0,0,0,0,0,0,0,0,0,0,0,0,0,0,0,0,0,0,0,0,0]
[0,0,0,0,0,0,0,0,0,0,0,0,0,0,0,0,0,0,0,0,0,0,0,0,0,0,0,0,0]
[0,0,0,0,0,0,0,0,0,0,0,0,0,0,0,0,0,0,0,0,0,0,0,0,0,0,0,0,0]
[0,0,0,0,0,0,0,0,0,0,0,0,0,0,0,0,0,0,0,0,0,0,0,0,0,0,0,0,0]
[0,0,0,0,0,0,0,0,0,0,0,0,0,0,0,0,0,0,0,0,0,0,0,0,0,0,0,0,0]
[0,0,0,0,0,0,0,0,0,0,0,0,0,0,0,0,0,0,0,0,0,0,0,0,0,0,0,0,0]
[0,0,0,0,0,0,0,0,0,0,0,0,0,0,0,0,0,0,0,0,0,0,0,0,0,0,0,0,0]
[0,0,0,0,0,0,0,0,0,0,0,0,0,0,0,0,0,0,0,0,0,0,0,0,0,0,0,0,0]
[0,0,0,0,0,0,0,0,0,0,0,0,0,0,0,0,0,0,0,0,0,0,0,0,0,0,0,0,0]
[0,0,0,0,0,0,0,0,0,0,0,0,0,0,0,0,0,0,0,0,0,0,0,0,0,0,0,0,0]
[0,0,0,0,0,0,0,0,0,0,0,0,0,0,0,0,0,0,0,0,0,0,0,0,0,0,0,0,0]
[0,0,0,0,0,0,0,0,0,0,0,0,0,0,0,0,0,0,0,0,0,0,0,0,0,0,0,0,0]
[0,0,0,0,0,0,0,0,0,0,0,0,0,0,0,0,0,0,0,0,0,0,0,0,0,0,0,0,0]
[0,0,0,0,0,0,0,0,0,0,0,0,0,0,0,0,0,0,0,0,0,0,0,0,0,0,0,0,0]
[0,0,0,0,0,0,0,0,0,0,0,0,0,0,0,0,0,0,0,0,0,0,0,0,0,0,0,0,0]
[0,0,0,0,0,0,0,0,0,0,0,0,0,0,0,0,0,0,0,0,0,0,0,0,0,0,0,0,0]
[0,0,0,0,0,0,0,0,0,0,0,0,0,0,0,0,0,0,0,0,0,0,0,0,0,0,0,0,0]
[0,0,0,0,0,0,0,0,0,0,0,0,0,0,0,0,0,0,0,0,0,0,0,0,0,0,0,0,0]
[0,0,0,0,0,0,0,0,0,0,0,0,0,0,0,0,0,0,0,0,0,0,0,0,0,0,0,0,0]
[0,0,0,0,0,0,0,0,0,0,0,0,0,0,0,0,0,0,0,0,0,0,0,0,0,0,0,0,0]
[0,0,0,0,0,0,0,0,0,0,0,0,0,0,0,0,0,0,0,0,0,0,0,0,0,0,0,0,0]
[0,0,0,0,0,0,0,0,0,0,0,0,0,0,0,0,0,0,0,0,0,0,0,0,0,0,0,0,0]
[0,0,0,0,0,0,0,0,0,0,0,0,0,0,0,0,0,0,0,0,0,0,0,0,0,0,0,0,0]
[0,0,0,0,0,0,0,0,0,0,0,0,0,0,0,0,0,0,0,0,0,0,0,0,0,0,0,0,0]
[0,0,0,0,0,0,0,0,0,0,0,0,0,0,0,0,0,0,0,0,0,0,0,0,0,0,0,0,0]
[0,0,0,0,0,0,0,0,0,0,0,0,0,0,0,0,0,0,0,0,0,0,0,0,0,0,0,0,0]
[0,0,0,0,0,0,0,0,0,0,0,0,0,0,0,0,0,0,0,0,0,0,0,0,0,0,0,0,0]
[0,0,0,0,0,0,0,0,0,0,0,0,0,0,0,0,0,0,0,0,0,0,0,0,0,0,0,0,0]
[0,0,0,0,0,0,0,0,0,0,0,0,0,0,0,0,0,0,0,0,0,0,0,0,0,0,0,0,0]
[0,0,0,0,0,0,0,0,0,0,0,0,0,0,0,0,0,0,0,0,0,0,0,0,0,0,0,0,0]
[0,0,0,0,0,0,0,0,0,0,0,0,0,0,0,0,0,0,0,0,0,0,0,0,0,0,0,0,0]
[0,0,0,0,0,0,0,0,0,0,0,0,0,0,0,0,0,0,0,0,0,0,0,0,0,0,0,0,0]
[0,0,0,0,0,0,0,0,0,0,0,0,0,0,0,0,0,0,0,0,0,0,0,0,0,0,0,0,0]
[0,0,0,0,0,0,0,0,0,0,0,0,0,0,0,0,0,0,0,0,0,0,0,0,0,0,0,0,0]
[0,0,0,0,0,0,0,0,0,0,0,0,0,0,0,0,0,0,0,0,0,0,0,0,0,0,0,0,0]
[0,0,0,0,0,0,0,0,0,0,0,0,0,0,0,0,0,0,0,0,0,0,0,0,0,0,0,0,0]
[0,0,0,0,0,0,0,0,0,0,0,0,0,0,0,0,0,0,0,0,0,0,0,0,0,0,0,0,0]
[0,0,0,0,0,0,0,0,0,0,0,0,0,0,0,0,0,0,0,0,0,0,0,0,0,0,0,0,0]
[0,0,0,0,0,0,0,0,0,0,0,0,0,0,0,0,0,0,0,0,0,0,0,0,0,0,0,0,0]
[0,0,0,0,0,0,0,0,0,0,0,0,0,0,0,0,0,0,0,0,0,0,0,0,0,0,0,0,0]
[0,0,0,0,0,0,0,0,0,0,0,0,0,0,0,0,0,0,0,0,0,0,0,0,0,0,0,0,0]
[0,0,0,0,0,0,0,0,0,0,0,0,0,0,0,0,0,0,0,0,0,0,0,0,0,0,0,0,0]
[0,0,0,0,0,0,0,0,0,0,0,0,0,0,0,0,0,0,0,0,0,0,0,0,0,0,0,0,0]
[0,0,0,0,0,0,0,0,0,0,0,0,0,0,0,0,0,0,0,0,0,0,0,0,0,0,0,0,0]
[0,0,0,0,0,0,0,0,0,0,0,0,0,0,0,0,0,0,0,0,0,0,0,0,0,0,0,0,0]
[0,0,0,0,0,0,0,0,0,0,0,0,0,0,0,0,0,0,0,0,0,0,0,0,0,0,0,0,0]
[0,0,0,0,0,0,0,0,0,0,0,0,0,0,0,0,0,0,0,0,0,0,0,0,0,0,0,0,0]
[0,0,0,0,0,0,0,0,0,0,0,0,0,0,0,0,0,0,0,0,0,0,0,0,0,0,0,0,0]
[0,0,0,0,0,0,0,0,0,0,0,0,0,0,0,0,0,0,0,0,0,0,0,0,0,0,0,0,0]
[0,0,0,0,0,0,0,0,0,0,0,0,0,0,0,0,0,0,0,0,0,0,0,0,0,0,0,0,0]
[0,0,0,0,0,0,0,0,0,0,0,0,0,0,0,0,0,0,0,0,0,0,0,0,0,0,0,0,0]
[0,0,0,0,0,0,0,0,0,0,0,0,0,0,0,0,0,0,0,0,0,0,0,0,0,0,0,0,0]
[0,0,0,0,0,0,0,0,0,0,0,0,0,0,0,0,0,0,0,0,0,0,0,0,0,0,0,0,0]
[0,0,0,0,0,0,0,0,0,0,0,0,0,0,0,0,0,0,0,0,0,0,0,0,0,0,0,0,0]
[0,0,0,0,0,0,0,0,0,0,0,0,0,0,0,0,0,0,0,0,0,0,0,0,0,0,0,0,0]
[0,0,0,0,0,0,0,0,0,0,0,0,0,0,0,0,0,0,0,0,0,0,0,0,0,0,0,0,0]
[0,0,0,0,0,0,0,0,0,0,0,0,0,0,0,0,0,0,0,0,0,0,0,0,0,0,0,0,0]
[0,0,0,0,0,0,0,0,0,0,0,0,0,0,0,0,0,0,0,0,0,0,0,0,0,0,0,0,0]
[0,0,0,0,0,0,0,0,0,0,0,0,0,0,0,0,0,0,0,0,0,0,0,0,0,0,0,0,0]
[0,0,0,0,0,0,0,0,0,0,0,0,0,0,0,0,0,0,0,0,0,0,0,0,0,0,0,0,0]
[0,0,0,0,0,0,0,0,0,0,0,0,0,0,0,0,0,0,0,0,0,0,0,0,0,0,0,0,0]
[0,0,0,0,0,0,0,0,0,0,0,0,0,0,0,0,0,0,0,0,0,0,0,0,0,0,0,0,0]
[0,0,0,0,0,0,0,0,0,0,0,0,0,0,0,0,0,0,0,0,0,0,0,0,0,0,0,0,0]
[0,0,0,0,0,0,0,0,0,0,0,0,0,0,0,0,0,0,0,0,0,0,0,0,0,0,0,0,0]
[0,0,0,0,0,0,0,0,0,0,0,0,0,0,0,0,0,0,0,0,0,0,0,0,0,0,0,0,0]
[0,0,0,0,0,0,0,0,0,0,0,0,0,0,0,0,0,0,0,0,0,0,0,0,0,0,0,0,0]
[0,0,0,0,0,0,0,0,0,0,0,0,0,0,0,0,0,0,0,0,0,0,0,0,0,0,0,0,0]
[0,0,0,0,0,0,0,0,0,0,0,0,0,0,0,0,0,0,0,0,0,0,0,0,0,0,0,0,0]
[0,0,0,0,0,0,0,0,0,0,0,0,0,0,0,0,0,0,0,0,0,0,0,0,0,0,0,0,0]
[0,0,0,0,0,0,0,0,0,0,0,0,0,0,0,0,0,0,0,0,0,0,0,0,0,0,0,0,0]
[0,0,0,0,0,0,0,0,0,0,0,0,0,0,0,0,0,0,0,0,0,0,0,0,0,0,0,0,0]
[0,0,0,0,0,0,0,0,0,0,0,0,0,0,0,0,0,0,0,0,0,0,0,0,0,0,0,0,0]
[0,0,0,0,0,0,0,0,0,0,0,0,0,0,0,0,0,0,0,0,0,0,0,0,0,0,0,0,0]
[0,0,0,0,0,0,0,0,0,0,0,0,0,0,0,0,0,0,0,0,0,0,0,0,0,0,0,0,0]
[0,0,0,0,0,0,0,0,0,0,0,0,0,0,0,0,0,0,0,0,0,0,0,0,0,0,0,0,0]
[0,0,0,0,0,0,0,0,0,0,0,0,0,0,0,0,0,0,0,0,0,0,0,0,0,0,0,0,0]
[0,0,0,0,0,0,0,0,0,0,0,0,0,0,0,0,0,0,0,0,0,0,0,0,0,0,0,0,0]
[0,0,0,0,0,0,0,0,0,0,0,0,0,0,0,0,0,0,0,0,0,0,0,0,0,0,0,0,0]
[0,0,0,0,0,0,0,0,0,0,0,0,0,0,0,0,0,0,0,0,0,0,0,0,0,0,0,0,0]
[0,0,0,0,0,0,0,0,0,0,0,0,0,0,0,0,0,0,0,0,0,0,0,0,0,0,0,0,0]
[0,0,0,0,0,0,0,0,0,0,0,0,0,0,0,0,0,0,0,0,0,0,0,0,0,0,0,0,0]
[0,0,0,0,0,0,0,0,0,0,0,0,0,0,0,0,0,0,0,0,0,0,0,0,0,0,0,0,0]
[0,0,0,0,0,0,0,0,0,0,0,0,0,0,0,0,0,0,0,0,0,0,0,0,0,0,0,0,0]
[0,0,0,0,0,0,0,0,0,0,0,0,0,0,0,0,0,0,0,0,0,0,0,0,0,0,0,0,0]
[0,0,0,0,0,0,0,0,0,0,0,0,0,0,0,0,0,0,0,0,0,0,0,0,0,0,0,0,0]
[0,0,0,0,0,0,0,0,0,0,0,0,0,0,0,0,0,0,0,0,0,0,0,0,0,0,0,0,0]
[0,0,0,0,0,0,0,0,0,0,0,0,0,0,0,0,0,0,0,0,0,0,0,0,0,0,0,0,0]
[0,0,0,0,0,0,0,0,0,0,0,0,0,0,0,0,0,0,0,0,0,0,0,0,0,0,0,0,0]
[0,0,0,0,0,0,0,0,0,0,0,0,0,0,0,0,0,0,0,0,0,0,0,0,0,0,0,0,0]
[0,0,0,0,0,0,0,0,0,0,0,0,0,0,0,0,0,0,0,0,0,0,0,0,0,0,0,0,0]
[0,0,0,0,0,0,0,0,0,0,0,0,0,0,0,0,0,0,0,0,0,0,0,0,0,0,0,0,0]
[0,0,0,0,0,0,0,0,0,0,0,0,0,0,0,0,0,0,0,0,0,0,0,0,0,0,0,0,0]
[0,0,0,0,0,0,0,0,0,0,0,0,0,0,0,0,0,0,0,0,0,0,0,0,0,0,0,0,0]
[0,0,0,0,0,0,0,0,0,0,0,0,0,0,0,0,0,0,0,0,0,0,0,0,0,0,0,0,0]
[0,0,0,0,0,0,0,0,0,0,0,0,0,0,0,0,0,0,0,0,0,0,0,0,0,0,0,0,0]
[0,0,0,0,0,0,0,0,0,0,0,0,0,0,0,0,0,0,0,0,0,0,0,0,0,0,0,0,0]
[0,0,0,0,0,0,0,0,0,0,0,0,0,0,0,0,0,0,0,0,0,0,0,0,0,0,0,0,0]
[0,0,0,0,0,0,0,0,0,0,0,0,0,0,0,0,0,0,0,0,0,0,0,0,0,0,0,0,0]
[0,0,0,0,0,0,0,0,0,0,0,0,0,0,0,0,0,0,0,0,0,0,0,0,0,0,0,0,0]
[0,0,0,0,0,0,0,0,0,0,0,0,0,0,0,0,0,0,0,0,0,0,0,0,0,0,0,0,0]
[0,0,0,0,0,0,0,0,0,0,0,0,0,0,0,0,0,0,0,0,0,0,0,0,0,0,0,0,0]
[0,0,0,0,0,0,0,0,0,0,0,0,0,0,0,0,0,0,0,0,0,0,0,0,0,0,0,0,0]
[0,0,0,0,0,0,0,0,0,0,0,0,0,0,0,0,0,0,0,0,0,0,0,0,0,0,0,0,0]
[0,0,0,0,0,0,0,0,0,0,0,0,0,0,0,0,0,0,0,0,0,0,0,0,0,0,0,0,0]
[0,0,0,0,0,0,0,0,0,0,0,0,0,0,0,0,0,0,0,0,0,0,0,0,0,0,0,0,0]
[0,0,0,0,0,0,0,0,0,0,0,0,0,0,0,0,0,0,0,0,0,0,0,0,0,0,0,0,0]
[0,0,0,0,0,0,0,0,0,0,0,0,0,0,0,0,0,0,0,0,0,0,0,0,0,0,0,0,0]
[0,0,0,0,0,0,0,0,0,0,0,0,0,0,0,0,0,0,0,0,0,0,0,0,0,0,0,0,0]
[0,0,0,0,0,0,0,0,0,0,0,0,0,0,0,0,0,0,0,0,0,0,0,0,0,0,0,0,0]
[0,0,0,0,0,0,0,0,0,0,0,0,0,0,0,0,0,0,0,0,0,0,0,0,0,0,0,0,0]
[0,0,0,0,0,0,0,0,0,0,0,0,0,0,0,0,0,0,0,0,0,0,0,0,0,0,0,0,0]
[0,0,0,0,0,0,0,0,0,0,0,0,0,0,0,0,0,0,0,0,0,0,0,0,0,0,0,0,0]
[0,0,0,0,0,0,0,0,0,0,0,0,0,0,0,0,0,0,0,0,0,0,0,0,0,0,0,0,0]
[0,0,0,0,0,0,0,0,0,0,0,0,0,0,0,0,0,0,0,0,0,0,0,0,0,0,0,0,0]
[0,0,0,0,0,0,0,0,0,0,0,0,0,0,0,0,0,0,0,0,0,0,0,0,0,0,0,0,0]
[0,0,0,0,0,0,0,0,0,0,0,0,0,0,0,0,0,0,0,0,0,0,0,0,0,0,0,0,0]
[0,0,0,0,0,0,0,0,0,0,0,0,0,0,0,0,0,0,0,0,0,0,0,0,0,0,0,0,0]
[0,0,0,0,0,0,0,0,0,0,0,0,0,0,0,0,0,0,0,0,0,0,0,0,0,0,0,0,0]
[0,0,0,0,0,0,0,0,0,0,0,0,0,0,0,0,0,0,0,0,0,0,0,0,0,0,0,0,0]
[0,0,0,0,0,0,0,0,0,0,0,0,0,0,0,0,0,0,0,0,0,0,0,0,0,0,0,0,0]
[0,0,0,0,0,0,0,0,0,0,0,0,0,0,0,0,0,0,0,0,0,0,0,0,0,0,0,0,0]
[0,0,0,0,0,0,0,0,0,0,0,0,0,0,0,0,0,0,0,0,0,0,0,0,0,0,0,0,0]
[0,0,0,0,0,0,0,0,0,0,0,0,0,0,0,0,0,0,0,0,0,0,0,0,0,0,0,0,0]
[0,0,0,0,0,0,0,0,0,0,0,0,0,0,0,0,0,0,0,0,0,0,0,0,0,0,0,0,0]
[0,0,0,0,0,0,0,0,0,0,0,0,0,0,0,0,0,0,0,0,0,0,0,0,0,0,0,0,0]
[0,0,0,0,0,0,0,0,0,0,0,0,0,0,0,0,0,0,0,0,0,0,0,0,0,0,0,0,0]
[0,0,0,0,0,0,0,0,0,0,0,0,0,0,0,0,0,0,0,0,0,0,0,0,0,0,0,0,0]
[0,0,0,0,0,0,0,0,0,0,0,0,0,0,0,0,0,0,0,0,0,0,0,0,0,0,0,0,0]
[0,0,0,0,0,0,0,0,0,0,0,0,0,0,0,0,0,0,0,0,0,0,0,0,0,0,0,0,0]
[0,0,0,0,0,0,0,0,0,0,0,0,0,0,0,0,0,0,0,0,0,0,0,0,0,0,0,0,0]
[0,0,0,0,0,0,0,0,0,0,0,0,0,0,0,0,0,0,0,0,0,0,0,0,0,0,0,0,0]
[0,0,0,0,0,0,0,0,0,0,0,0,0,0,0,0,0,0,0,0,0,0,0,0,0,0,0,0,0]
[0,0,0,0,0,0,0,0,0,0,0,0,0,0,0,0,0,0,0,0,0,0,0,0,0,0,0,0,0]
[0,0,0,0,0,0,0,0,0,0,0,0,0,0,0,0,0,0,0,0,0,0,0,0,0,0,0,0,0]
[0,0,0,0,0,0,0,0,0,0,0,0,0,0,0,0,0,0,0,0,0,0,0,0,0,0,0,0,0]
[0,0,0,0,0,0,0,0,0,0,0,0,0,0,0,0,0,0,0,0,0,0,0,0,0,0,0,0,0]
[0,0,0,0,0,0,0,0,0,0,0,0,0,0,0,0,0,0,0,0,0,0,0,0,0,0,0,0,0]
[0,0,0,0,0,0,0,0,0,0,0,0,0,0,0,0,0,0,0,0,0,0,0,0,0,0,0,0,0]
[0,0,0,0,0,0,0,0,0,0,0,0,0,0,0,0,0,0,0,0,0,0,0,0,0,0,0,0,0]
[0,0,0,0,0,0,0,0,0,0,0,0,0,0,0,0,0,0,0,0,0,0,0,0,0,0,0,0,0]
[0,0,0,0,0,0,0,0,0,0,0,0,0,0,0,0,0,0,0,0,0,0,0,0,0,0,0,0,0]
[0,0,0,0,0,0,0,0,0,0,0,0,0,0,0,0,0,0,0,0,0,0,0,0,0,0,0,0,0]
[0,0,0,0,0,0,0,0,0,0,0,0,0,0,0,0,0,0,0,0,0,0,0,0,0,0,0,0,0]
[0,0,0,0,0,0,0,0,0,0,0,0,0,0,0,0,0,0,0,0,0,0,0,0,0,0,0,0,0]
[0,0,0,0,0,0,0,0,0,0,0,0,0,0,0,0,0,0,0,0,0,0,0,0,0,0,0,0,0]
[0,0,0,0,0,0,0,0,0,0,0,0,0,0,0,0,0,0,0,0,0,0,0,0,0,0,0,0,0]
[0,0,0,0,0,0,0,0,0,0,0,0,0,0,0,0,0,0,0,0,0,0,0,0,0,0,0,0,0]
[0,0,0,0,0,0,0,0,0,0,0,0,0,0,0,0,0,0,0,0,0,0,0,0,0,0,0,0,0]
[0,0,0,0,0,0,0,0,0,0,0,0,0,0,0,0,0,0,0,0,0,0,0,0,0,0,0,0,0]
[0,0,0,0,0,0,0,0,0,0,0,0,0,0,0,0,0,0,0,0,0,0,0,0,0,0,0,0,0]
[0,0,0,0,0,0,0,0,0,0,0,0,0,0,0,0,0,0,0,0,0,0,0,0,0,0,0,0,0]
[0,0,0,0,0,0,0,0,0,0,0,0,0,0,0,0,0,0,0,0,0,0,0,0,0,0,0,0,0]
[0,0,0,0,0,0,0,0,0,0,0,0,0,0,0,0,0,0,0,0,0,0,0,0,0,0,0,0,0]
[0,0,0,0,0,0,0,0,0,0,0,0,0,0,0,0,0,0,0,0,0,0,0,0,0,0,0,0,0]
[0,0,0,0,0,0,0,0,0,0,0,0,0,0,0,0,0,0,0,0,0,0,0,0,0,0,0,0,0]
[0,0,0,0,0,0,0,0,0,0,0,0,0,0,0,0,0,0,0,0,0,0,0,0,0,0,0,0,0]
[0,0,0,0,0,0,0,0,0,0,0,0,0,0,0,0,0,0,0,0,0,0,0,0,0,0,0,0,0]
[0,0,0,0,0,0,0,0,0,0,0,0,0,0,0,0,0,0,0,0,0,0,0,0,0,0,0,0,0]
[0,0,0,0,0,0,0,0,0,0,0,0,0,0,0,0,0,0,0,0,0,0,0,0,0,0,0,0,0]
[0,0,0,0,0,0,0,0,0,0,0,0,0,0,0,0,0,0,0,0,0,0,0,0,0,0,0,0,0]
[0,0,0,0,0,0,0,0,0,0,0,0,0,0,0,0,0,0,0,0,0,0,0,0,0,0,0,0,0]
[0,0,0,0,0,0,0,0,0,0,0,0,0,0,0,0,0,0,0,0,0,0,0,0,0,0,0,0,0]
[0,0,0,0,0,0,0,0,0,0,0,0,0,0,0,0,0,0,0,0,0,0,0,0,0,0,0,0,0]
[0,0,0,0,0,0,0,0,0,0,0,0,0,0,0,0,0,0,0,0,0,0,0,0,0,0,0,0,0]
[0,0,0,0,0,0,0,0,0,0,0,0,0,0,0,0,0,0,0,0,0,0,0,0,0,0,0,0,0]
[0,0,0,0,0,0,0,0,0,0,0,0,0,0,0,0,0,0,0,0,0,0,0,0,0,0,0,0,0]
[0,0,0,0,0,0,0,0,0,0,0,0,0,0,0,0,0,0,0,0,0,0,0,0,0,0,0,0,0]
[0,0,0,0,0,0,0,0,0,0,0,0,0,0,0,0,0,0,0,0,0,0,0,0,0,0,0,0,0]
[0,0,0,0,0,0,0,0,0,0,0,0,0,0,0,0,0,0,0,0,0,0,0,0,0,0,0,0,0]
[0,0,0,0,0,0,0,0,0,0,0,0,0,0,0,0,0,0,0,0,0,0,0,0,0,0,0,0,0]
[0,0,0,0,0,0,0,0,0,0,0,0,0,0,0,0,0,0,0,0,0,0,0,0,0,0,0,0,0]
[0,0,0,0,0,0,0,0,0,0,0,0,0,0,0,0,0,0,0,0,0,0,0,0,0,0,0,0,0]
[0,0,0,0,0,0,0,0,0,0,0,0,0,0,0,0,0,0,0,0,0,0,0,0,0,0,0,0,0]
[0,0,0,0,0,0,0,0,0,0,0,0,0,0,0,0,0,0,0,0,0,0,0,0,0,0,0,0,0]
[0,0,0,0,0,0,0,0,0,0,0,0,0,0,0,0,0,0,0,0,0,0,0,0,0,0,0,0,0]
[0,0,0,0,0,0,0,0,0,0,0,0,0,0,0,0,0,0,0,0,0,0,0,0,0,0,0,0,0]
[0,0,0,0,0,0,0,0,0,0,0,0,0,0,0,0,0,0,0,0,0,0,0,0,0,0,0,0,0]
[0,0,0,0,0,0,0,0,0,0,0,0,0,0,0,0,0,0,0,0,0,0,0,0,0,0,0,0,0]
[0,0,0,0,0,0,0,0,0,0,0,0,0,0,0,0,0,0,0,0,0,0,0,0,0,0,0,0,0]
[0,0,0,0,0,0,0,0,0,0,0,0,0,0,0,0,0,0,0,0,0,0,0,0,0,0,0,0,0]
[0,0,0,0,0,0,0,0,0,0,0,0,0,0,0,0,0,0,0,0,0,0,0,0,0,0,0,0,0]
[0,0,0,0,0,0,0,0,0,0,0,0,0,0,0,0,0,0,0,0,0,0,0,0,0,0,0,0,0]
[0,0,0,0,0,0,0,0,0,0,0,0,0,0,0,0,0,0,0,0,0,0,0,0,0,0,0,0,0]
[0,0,0,0,0,0,0,0,0,0,0,0,0,0,0,0,0,0,0,0,0,0,0,0,0,0,0,0,0]
[0,0,0,0,0,0,0,0,0,0,0,0,0,0,0,0,0,0,0,0,0,0,0,0,0,0,0,0,0]
[0,0,0,0,0,0,0,0,0,0,0,0,0,0,0,0,0,0,0,0,0,0,0,0,0,0,0,0,0]
[0,0,0,0,0,0,0,0,0,0,0,0,0,0,0,0,0,0,0,0,0,0,0,0,0,0,0,0,0]
[0,0,0,0,0,0,0,0,0,0,0,0,0,0,0,0,0,0,0,0,0,0,0,0,0,0,0,0,0]
[0,0,0,0,0,0,0,0,0,0,0,0,0,0,0,0,0,0,0,0,0,0,0,0,0,0,0,0,0]
[0,0,0,0,0,0,0,0,0,0,0,0,0,0,0,0,0,0,0,0,0,0,0,0,0,0,0,0,0]
[0,0,0,0,0,0,0,0,0,0,0,0,0,0,0,0,0,0,0,0,0,0,0,0,0,0,0,0,0]
[0,0,0,0,0,0,0,0,0,0,0,0,0,0,0,0,0,0,0,0,0,0,0,0,0,0,0,0,0]
[0,0,0,0,0,0,0,0,0,0,0,0,0,0,0,0,0,0,0,0,0,0,0,0,0,0,0,0,0]
[0,0,0,0,0,0,0,0,0,0,0,0,0,0,0,0,0,0,0,0,0,0,0,0,0,0,0,0,0]
[0,0,0,0,0,0,0,0,0,0,0,0,0,0,0,0,0,0,0,0,0,0,0,0,0,0,0,0,0]
[0,0,0,0,0,0,0,0,0,0,0,0,0,0,0,0,0,0,0,0,0,0,0,0,0,0,0,0,0]
[0,0,0,0,0,0,0,0,0,0,0,0,0,0,0,0,0,0,0,0,0,0,0,0,0,0,0,0,0]
[0,0,0,0,0,0,0,0,0,0,0,0,0,0,0,0,0,0,0,0,0,0,0,0,0,0,0,0,0]
[0,0,0,0,0,0,0,0,0,0,0,0,0,0,0,0,0,0,0,0,0,0,0,0,0,0,0,0,0]
[0,0,0,0,0,0,0,0,0,0,0,0,0,0,0,0,0,0,0,0,0,0,0,0,0,0,0,0,0]
[0,0,0,0,0,0,0,0,0,0,0,0,0,0,0,0,0,0,0,0,0,0,0,0,0,0,0,0,0]
[0,0,0,0,0,0,0,0,0,0,0,0,0,0,0,0,0,0,0,0,0,0,0,0,0,0,0,0,0]
[0,0,0,0,0,0,0,0,0,0,0,0,0,0,0,0,0,0,0,0,0,0,0,0,0,0,0,0,0]
[0,0,0,0,0,0,0,0,0,0,0,0,0,0,0,0,0,0,0,0,0,0,0,0,0,0,0,0,0]
[0,0,0,0,0,0,0,0,0,0,0,0,0,0,0,0,0,0,0,0,0,0,0,0,0,0,0,0,0]
[0,0,0,0,0,0,0,0,0,0,0,0,0,0,0,0,0,0,0,0,0,0,0,0,0,0,0,0,0]
[0,0,0,0,0,0,0,0,0,0,0,0,0,0,0,0,0,0,0,0,0,0,0,0,0,0,0,0,0]
[0,0,0,0,0,0,0,0,0,0,0,0,0,0,0,0,0,0,0,0,0,0,0,0,0,0,0,0,0]
[0,0,0,0,0,0,0,0,0,0,0,0,0,0,0,0,0,0,0,0,0,0,0,0,0,0,0,0,0]
[0,0,0,0,0,0,0,0,0,0,0,0,0,0,0,0,0,0,0,0,0,0,0,0,0,0,0,0,0]
[0,0,0,0,0,0,0,0,0,0,0,0,0,0,0,0,0,0,0,0,0,0,0,0,0,0,0,0,0]
[0,0,0,0,0,0,0,0,0,0,0,0,0,0,0,0,0,0,0,0,0,0,0,0,0,0,0,0,0]
[0,0,0,0,0,0,0,0,0,0,0,0,0,0,0,0,0,0,0,0,0,0,0,0,0,0,0,0,0]
[0,0,0,0,0,0,0,0,0,0,0,0,0,0,0,0,0,0,0,0,0,0,0,0,0,0,0,0,0]
[0,0,0,0,0,0,0,0,0,0,0,0,0,0,0,0,0,0,0,0,0,0,0,0,0,0,0,0,0]
[0,0,0,0,0,0,0,0,0,0,0,0,0,0,0,0,0,0,0,0,0,0,0,0,0,0,0,0,0]
[0,0,0,0,0,0,0,0,0,0,0,0,0,0,0,0,0,0,0,0,0,0,0,0,0,0,0,0,0]
[0,0,0,0,0,0,0,0,0,0,0,0,0,0,0,0,0,0,0,0,0,0,0,0,0,0,0,0,0]
[0,0,0,0,0,0,0,0,0,0,0,0,0,0,0,0,0,0,0,0,0,0,0,0,0,0,0,0,0]
[0,0,0,0,0,0,0,0,0,0,0,0,0,0,0,0,0,0,0,0,0,0,0,0,0,0,0,0,0]
[0,0,0,0,0,0,0,0,0,0,0,0,0,0,0,0,0,0,0,0,0,0,0,0,0,0,0,0,0]
[0,0,0,0,0,0,0,0,0,0,0,0,0,0,0,0,0,0,0,0,0,0,0,0,0,0,0,0,0]
[0,0,0,0,0,0,0,0,0,0,0,0,0,0,0,0,0,0,0,0,0,0,0,0,0,0,0,0,0]
[0,0,0,0,0,0,0,0,0,0,0,0,0,0,0,0,0,0,0,0,0,0,0,0,0,0,0,0,0]
[0,0,0,0,0,0,0,0,0,0,0,0,0,0,0,0,0,0,0,0,0,0,0,0,0,0,0,0,0]
[0,0,0,0,0,0,0,0,0,0,0,0,0,0,0,0,0,0,0,0,0,0,0,0,0,0,0,0,0]
[0,0,0,0,0,0,0,0,0,0,0,0,0,0,0,0,0,0,0,0,0,0,0,0,0,0,0,0,0]
[0,0,0,0,0,0,0,0,0,0,0,0,0,0,0,0,0,0,0,0,0,0,0,0,0,0,0,0,0]
[0,0,0,0,0,0,0,0,0,0,0,0,0,0,0,0,0,0,0,0,0,0,0,0,0,0,0,0,0]
[0,0,0,0,0,0,0,0,0,0,0,0,0,0,0,0,0,0,0,0,0,0,0,0,0,0,0,0,0]
[0,0,0,0,0,0,0,0,0,0,0,0,0,0,0,0,0,0,0,0,0,0,0,0,0,0,0,0,0]
[0,0,0,0,0,0,0,0,0,0,0,0,0,0,0,0,0,0,0,0,0,0,0,0,0,0,0,0,0]
[0,0,0,0,0,0,0,0,0,0,0,0,0,0,0,0,0,0,0,0,0,0,0,0,0,0,0,0,0]
[0,0,0,0,0,0,0,0,0,0,0,0,0,0,0,0,0,0,0,0,0,0,0,0,0,0,0,0,0]
[0,0,0,0,0,0,0,0,0,0,0,0,0,0,0,0,0,0,0,0,0,0,0,0,0,0,0,0,0]
[0,0,0,0,0,0,0,0,0,0,0,0,0,0,0,0,0,0,0,0,0,0,0,0,0,0,0,0,0]
[0,0,0,0,0,0,0,0,0,0,0,0,0,0,0,0,0,0,0,0,0,0,0,0,0,0,0,0,0]
[0,0,0,0,0,0,0,0,0,0,0,0,0,0,0,0,0,0,0,0,0,0,0,0,0,0,0,0,0]
[0,0,0,0,0,0,0,0,0,0,0,0,0,0,0,0,0,0,0,0,0,0,0,0,0,0,0,0,0]
[0,0,0,0,0,0,0,0,0,0,0,0,0,0,0,0,0,0,0,0,0,0,0,0,0,0,0,0,0]
[0,0,0,0,0,0,0,0,0,0,0,0,0,0,0,0,0,0,0,0,0,0,0,0,0,0,0,0,0]
[0,0,0,0,0,0,0,0,0,0,0,0,0,0,0,0,0,0,0,0,0,0,0,0,0,0,0,0,0]
[0,0,0,0,0,0,0,0,0,0,0,0,0,0,0,0,0,0,0,0,0,0,0,0,0,0,0,0,0]
[0,0,0,0,0,0,0,0,0,0,0,0,0,0,0,0,0,0,0,0,0,0,0,0,0,0,0,0,0]
[0,0,0,0,0,0,0,0,0,0,0,0,0,0,0,0,0,0,0,0,0,0,0,0,0,0,0,0,0]
[0,0,0,0,0,0,0,0,0,0,0,0,0,0,0,0,0,0,0,0,0,0,0,0,0,0,0,0,0]
[0,0,0,0,0,0,0,0,0,0,0,0,0,0,0,0,0,0,0,0,0,0,0,0,0,0,0,0,0]
[0,0,0,0,0,0,0,0,0,0,0,0,0,0,0,0,0,0,0,0,0,0,0,0,0,0,0,0,0]
[0,0,0,0,0,0,0,0,0,0,0,0,0,0,0,0,0,0,0,0,0,0,0,0,0,0,0,0,0]
[0,0,0,0,0,0,0,0,0,0,0,0,0,0,0,0,0,0,0,0,0,0,0,0,0,0,0,0,0]
[0,0,0,0,0,0,0,0,0,0,0,0,0,0,0,0,0,0,0,0,0,0,0,0,0,0,0,0,0]
[0,0,0,0,0,0,0,0,0,0,0,0,0,0,0,0,0,0,0,0,0,0,0,0,0,0,0,0,0]
[0,0,0,0,0,0,0,0,0,0,0,0,0,0,0,0,0,0,0,0,0,0,0,0,0,0,0,0,0]
[0,0,0,0,0,0,0,0,0,0,0,0,0,0,0,0,0,0,0,0,0,0,0,0,0,0,0,0,0]
[0,0,0,0,0,0,0,0,0,0,0,0,0,0,0,0,0,0,0,0,0,0,0,0,0,0,0,0,0]
[0,0,0,0,0,0,0,0,0,0,0,0,0,0,0,0,0,0,0,0,0,0,0,0,0,0,0,0,0]
[0,0,0,0,0,0,0,0,0,0,0,0,0,0,0,0,0,0,0,0,0,0,0,0,0,0,0,0,0]
[0,0,0,0,0,0,0,0,0,0,0,0,0,0,0,0,0,0,0,0,0,0,0,0,0,0,0,0,0]
[0,0,0,0,0,0,0,0,0,0,0,0,0,0,0,0,0,0,0,0,0,0,0,0,0,0,0,0,0]
[0,0,0,0,0,0,0,0,0,0,0,0,0,0,0,0,0,0,0,0,0,0,0,0,0,0,0,0,0]
[0,0,0,0,0,0,0,0,0,0,0,0,0,0,0,0,0,0,0,0,0,0,0,0,0,0,0,0,0]
[0,0,0,0,0,0,0,0,0,0,0,0,0,0,0,0,0,0,0,0,0,0,0,0,0,0,0,0,0]
[0,0,0,0,0,0,0,0,0,0,0,0,0,0,0,0,0,0,0,0,0,0,0,0,0,0,0,0,0]
[0,0,0,0,0,0,0,0,0,0,0,0,0,0,0,0,0,0,0,0,0,0,0,0,0,0,0,0,0]
[0,0,0,0,0,0,0,0,0,0,0,0,0,0,0,0,0,0,0,0,0,0,0,0,0,0,0,0,0]
[0,0,0,0,0,0,0,0,0,0,0,0,0,0,0,0,0,0,0,0,0,0,0,0,0,0,0,0,0]
[0,0,0,0,0,0,0,0,0,0,0,0,0,0,0,0,0,0,0,0,0,0,0,0,0,0,0,0,0]
[0,0,0,0,0,0,0,0,0,0,0,0,0,0,0,0,0,0,0,0,0,0,0,0,0,0,0,0,0]
[0,0,0,0,0,0,0,0,0,0,0,0,0,0,0,0,0,0,0,0,0,0,0,0,0,0,0,0,0]
[0,0,0,0,0,0,0,0,0,0,0,0,0,0,0,0,0,0,0,0,0,0,0,0,0,0,0,0,0]
[0,0,0,0,0,0,0,0,0,0,0,0,0,0,0,0,0,0,0,0,0,0,0,0,0,0,0,0,0]
[0,0,0,0,0,0,0,0,0,0,0,0,0,0,0,0,0,0,0,0,0,0,0,0,0,0,0,0,0]
[0,0,0,0,0,0,0,0,0,0,0,0,0,0,0,0,0,0,0,0,0,0,0,0,0,0,0,0,0]
[0,0,0,0,0,0,0,0,0,0,0,0,0,0,0,0,0,0,0,0,0,0,0,0,0,0,0,0,0]
[0,0,0,0,0,0,0,0,0,0,0,0,0,0,0,0,0,0,0,0,0,0,0,0,0,0,0,0,0]
[0,0,0,0,0,0,0,0,0,0,0,0,0,0,0,0,0,0,0,0,0,0,0,0,0,0,0,0,0]
[0,0,0,0,0,0,0,0,0,0,0,0,0,0,0,0,0,0,0,0,0,0,0,0,0,0,0,0,0]
[0,0,0,0,0,0,0,0,0,0,0,0,0,0,0,0,0,0,0,0,0,0,0,0,0,0,0,0,0]
[0,0,0,0,0,0,0,0,0,0,0,0,0,0,0,0,0,0,0,0,0,0,0,0,0,0,0,0,0]
[0,0,0,0,0,0,0,0,0,0,0,0,0,0,0,0,0,0,0,0,0,0,0,0,0,0,0,0,0]
[0,0,0,0,0,0,0,0,0,0,0,0,0,0,0,0,0,0,0,0,0,0,0,0,0,0,0,0,0]
[0,0,0,0,0,0,0,0,0,0,0,0,0,0,0,0,0,0,0,0,0,0,0,0,0,0,0,0,0]
[0,0,0,0,0,0,0,0,0,0,0,0,0,0,0,0,0,0,0,0,0,0,0,0,0,0,0,0,0]
[0,0,0,0,0,0,0,0,0,0,0,0,0,0,0,0,0,0,0,0,0,0,0,0,0,0,0,0,0]
[0,0,0,0,0,0,0,0,0,0,0,0,0,0,0,0,0,0,0,0,0,0,0,0,0,0,0,0,0]
[0,0,0,0,0,0,0,0,0,0,0,0,0,0,0,0,0,0,0,0,0,0,0,0,0,0,0,0,0]
[0,0,0,0,0,0,0,0,0,0,0,0,0,0,0,0,0,0,0,0,0,0,0,0,0,0,0,0,0]
[0,0,0,0,0,0,0,0,0,0,0,0,0,0,0,0,0,0,0,0,0,0,0,0,0,0,0,0,0]
[0,0,0,0,0,0,0,0,0,0,0,0,0,0,0,0,0,0,0,0,0,0,0,0,0,0,0,0,0]
[0,0,0,0,0,0,0,0,0,0,0,0,0,0,0,0,0,0,0,0,0,0,0,0,0,0,0,0,0]
[0,0,0,0,0,0,0,0,0,0,0,0,0,0,0,0,0,0,0,0,0,0,0,0,0,0,0,0,0]
[0,0,0,0,0,0,0,0,0,0,0,0,0,0,0,0,0,0,0,0,0,0,0,0,0,0,0,0,0]
[0,0,0,0,0,0,0,0,0,0,0,0,0,0,0,0,0,0,0,0,0,0,0,0,0,0,0,0,0]
[0,0,0,0,0,0,0,0,0,0,0,0,0,0,0,0,0,0,0,0,0,0,0,0,0,0,0,0,0]
[0,0,0,0,0,0,0,0,0,0,0,0,0,0,0,0,0,0,0,0,0,0,0,0,0,0,0,0,0]
[0,0,0,0,0,0,0,0,0,0,0,0,0,0,0,0,0,0,0,0,0,0,0,0,0,0,0,0,0]
[0,0,0,0,0,0,0,0,0,0,0,0,0,0,0,0,0,0,0,0,0,0,0,0,0,0,0,0,0]
[0,0,0,0,0,0,0,0,0,0,0,0,0,0,0,0,0,0,0,0,0,0,0,0,0,0,0,0,0]
[0,0,0,0,0,0,0,0,0,0,0,0,0,0,0,0,0,0,0,0,0,0,0,0,0,0,0,0,0]
[0,0,0,0,0,0,0,0,0,0,0,0,0,0,0,0,0,0,0,0,0,0,0,0,0,0,0,0,0]
[0,0,0,0,0,0,0,0,0,0,0,0,0,0,0,0,0,0,0,0,0,0,0,0,0,0,0,0,0]
[0,0,0,0,0,0,0,0,0,0,0,0,0,0,0,0,0,0,0,0,0,0,0,0,0,0,0,0,0]
[0,0,0,0,0,0,0,0,0,0,0,0,0,0,0,0,0,0,0,0,0,0,0,0,0,0,0,0,0]
[0,0,0,0,0,0,0,0,0,0,0,0,0,0,0,0,0,0,0,0,0,0,0,0,0,0,0,0,0]
[0,0,0,0,0,0,0,0,0,0,0,0,0,0,0,0,0,0,0,0,0,0,0,0,0,0,0,0,0]
[0,0,0,0,0,0,0,0,0,0,0,0,0,0,0,0,0,0,0,0,0,0,0,0,0,0,0,0,0]
[0,0,0,0,0,0,0,0,0,0,0,0,0,0,0,0,0,0,0,0,0,0,0,0,0,0,0,0,0]
[0,0,0,0,0,0,0,0,0,0,0,0,0,0,0,0,0,0,0,0,0,0,0,0,0,0,0,0,0]
[0,0,0,0,0,0,0,0,0,0,0,0,0,0,0,0,0,0,0,0,0,0,0,0,0,0,0,0,0]
[0,0,0,0,0,0,0,0,0,0,0,0,0,0,0,0,0,0,0,0,0,0,0,0,0,0,0,0,0]
[0,0,0,0,0,0,0,0,0,0,0,0,0,0,0,0,0,0,0,0,0,0,0,0,0,0,0,0,0]
[0,0,0,0,0,0,0,0,0,0,0,0,0,0,0,0,0,0,0,0,0,0,0,0,0,0,0,0,0]
[0,0,0,0,0,0,0,0,0,0,0,0,0,0,0,0,0,0,0,0,0,0,0,0,0,0,0,0,0]
[0,0,0,0,0,0,0,0,0,0,0,0,0,0,0,0,0,0,0,0,0,0,0,0,0,0,0,0,0]
[0,0,0,0,0,0,0,0,0,0,0,0,0,0,0,0,0,0,0,0,0,0,0,0,0,0,0,0,0]
[0,0,0,0,0,0,0,0,0,0,0,0,0,0,0,0,0,0,0,0,0,0,0,0,0,0,0,0,0]
[0,0,0,0,0,0,0,0,0,0,0,0,0,0,0,0,0,0,0,0,0,0,0,0,0,0,0,0,0]
[0,0,0,0,0,0,0,0,0,0,0,0,0,0,0,0,0,0,0,0,0,0,0,0,0,0,0,0,0]
[0,0,0,0,0,0,0,0,0,0,0,0,0,0,0,0,0,0,0,0,0,0,0,0,0,0,0,0,0]
[0,0,0,0,0,0,0,0,0,0,0,0,0,0,0,0,0,0,0,0,0,0,0,0,0,0,0,0,0]
[0,0,0,0,0,0,0,0,0,0,0,0,0,0,0,0,0,0,0,0,0,0,0,0,0,0,0,0,0]
[0,0,0,0,0,0,0,0,0,0,0,0,0,0,0,0,0,0,0,0,0,0,0,0,0,0,0,0,0]
[0,0,0,0,0,0,0,0,0,0,0,0,0,0,0,0,0,0,0,0,0,0,0,0,0,0,0,0,0]
[0,0,0,0,0,0,0,0,0,0,0,0,0,0,0,0,0,0,0,0,0,0,0,0,0,0,0,0,0]
[0,0,0,0,0,0,0,0,0,0,0,0,0,0,0,0,0,0,0,0,0,0,0,0,0,0,0,0,0]
[0,0,0,0,0,0,0,0,0,0,0,0,0,0,0,0,0,0,0,0,0,0,0,0,0,0,0,0,0]
[0,0,0,0,0,0,0,0,0,0,0,0,0,0,0,0,0,0,0,0,0,0,0,0,0,0,0,0,0]
[0,0,0,0,0,0,0,0,0,0,0,0,0,0,0,0,0,0,0,0,0,0,0,0,0,0,0,0,0]
[0,0,0,0,0,0,0,0,0,0,0,0,0,0,0,0,0,0,0,0,0,0,0,0,0,0,0,0,0]
[0,0,0,0,0,0,0,0,0,0,0,0,0,0,0,0,0,0,0,0,0,0,0,0,0,0,0,0,0]
[0,0,0,0,0,0,0,0,0,0,0,0,0,0,0,0,0,0,0,0,0,0,0,0,0,0,0,0,0]
[0,0,0,0,0,0,0,0,0,0,0,0,0,0,0,0,0,0,0,0,0,0,0,0,0,0,0,0,0]
[0,0,0,0,0,0,0,0,0,0,0,0,0,0,0,0,0,0,0,0,0,0,0,0,0,0,0,0,0]
[0,0,0,0,0,0,0,0,0,0,0,0,0,0,0,0,0,0,0,0,0,0,0,0,0,0,0,0,0]
[0,0,0,0,0,0,0,0,0,0,0,0,0,0,0,0,0,0,0,0,0,0,0,0,0,0,0,0,0]
[0,0,0,0,0,0,0,0,0,0,0,0,0,0,0,0,0,0,0,0,0,0,0,0,0,0,0,0,0]
[0,0,0,0,0,0,0,0,0,0,0,0,0,0,0,0,0,0,0,0,0,0,0,0,0,0,0,0,0]
[0,0,0,0,0,0,0,0,0,0,0,0,0,0,0,0,0,0,0,0,0,0,0,0,0,0,0,0,0]
[0,0,0,0,0,0,0,0,0,0,0,0,0,0,0,0,0,0,0,0,0,0,0,0,0,0,0,0,0]
[0,0,0,0,0,0,0,0,0,0,0,0,0,0,0,0,0,0,0,0,0,0,0,0,0,0,0,0,0]
[0,0,0,0,0,0,0,0,0,0,0,0,0,0,0,0,0,0,0,0,0,0,0,0,0,0,0,0,0]
[0,0,0,0,0,0,0,0,0,0,0,0,0,0,0,0,0,0,0,0,0,0,0,0,0,0,0,0,0]
[0,0,0,0,0,0,0,0,0,0,0,0,0,0,0,0,0,0,0,0,0,0,0,0,0,0,0,0,0]
[0,0,0,0,0,0,0,0,0,0,0,0,0,0,0,0,0,0,0,0,0,0,0,0,0,0,0,0,0]
[0,0,0,0,0,0,0,0,0,0,0,0,0,0,0,0,0,0,0,0,0,0,0,0,0,0,0,0,0]
[0,0,0,0,0,0,0,0,0,0,0,0,0,0,0,0,0,0,0,0,0,0,0,0,0,0,0,0,0]
[0,0,0,0,0,0,0,0,0,0,0,0,0,0,0,0,0,0,0,0,0,0,0,0,0,0,0,0,0]
[0,0,0,0,0,0,0,0,0,0,0,0,0,0,0,0,0,0,0,0,0,0,0,0,0,0,0,0,0]
[0,0,0,0,0,0,0,0,0,0,0,0,0,0,0,0,0,0,0,0,0,0,0,0,0,0,0,0,0]
[0,0,0,0,0,0,0,0,0,0,0,0,0,0,0,0,0,0,0,0,0,0,0,0,0,0,0,0,0]
[0,0,0,0,0,0,0,0,0,0,0,0,0,0,0,0,0,0,0,0,0,0,0,0,0,0,0,0,0]
[0,0,0,0,0,0,0,0,0,0,0,0,0,0,0,0,0,0,0,0,0,0,0,0,0,0,0,0,0]
[0,0,0,0,0,0,0,0,0,0,0,0,0,0,0,0,0,0,0,0,0,0,0,0,0,0,0,0,0]
[0,0,0,0,0,0,0,0,0,0,0,0,0,0,0,0,0,0,0,0,0,0,0,0,0,0,0,0,0]
[0,0,0,0,0,0,0,0,0,0,0,0,0,0,0,0,0,0,0,0,0,0,0,0,0,0,0,0,0]
[0,0,0,0,0,0,0,0,0,0,0,0,0,0,0,0,0,0,0,0,0,0,0,0,0,0,0,0,0]
[0,0,0,0,0,0,0,0,0,0,0,0,0,0,0,0,0,0,0,0,0,0,0,0,0,0,0,0,0]
[0,0,0,0,0,0,0,0,0,0,0,0,0,0,0,0,0,0,0,0,0,0,0,0,0,0,0,0,0]
[0,0,0,0,0,0,0,0,0,0,0,0,0,0,0,0,0,0,0,0,0,0,0,0,0,0,0,0,0]
[0,0,0,0,0,0,0,0,0,0,0,0,0,0,0,0,0,0,0,0,0,0,0,0,0,0,0,0,0]
[0,0,0,0,0,0,0,0,0,0,0,0,0,0,0,0,0,0,0,0,0,0,0,0,0,0,0,0,0]
[0,0,0,0,0,0,0,0,0,0,0,0,0,0,0,0,0,0,0,0,0,0,0,0,0,0,0,0,0]
[0,0,0,0,0,0,0,0,0,0,0,0,0,0,0,0,0,0,0,0,0,0,0,0,0,0,0,0,0]
[0,0,0,0,0,0,0,0,0,0,0,0,0,0,0,0,0,0,0,0,0,0,0,0,0,0,0,0,0]
[0,0,0,0,0,0,0,0,0,0,0,0,0,0,0,0,0,0,0,0,0,0,0,0,0,0,0,0,0]
[0,0,0,0,0,0,0,0,0,0,0,0,0,0,0,0,0,0,0,0,0,0,0,0,0,0,0,0,0]
[0,0,0,0,0,0,0,0,0,0,0,0,0,0,0,0,0,0,0,0,0,0,0,0,0,0,0,0,0]
[0,0,0,0,0,0,0,0,0,0,0,0,0,0,0,0,0,0,0,0,0,0,0,0,0,0,0,0,0]
[0,0,0,0,0,0,0,0,0,0,0,0,0,0,0,0,0,0,0,0,0,0,0,0,0,0,0,0,0]
[0,0,0,0,0,0,0,0,0,0,0,0,0,0,0,0,0,0,0,0,0,0,0,0,0,0,0,0,0]
[0,0,0,0,0,0,0,0,0,0,0,0,0,0,0,0,0,0,0,0,0,0,0,0,0,0,0,0,0]
[0,0,0,0,0,0,0,0,0,0,0,0,0,0,0,0,0,0,0,0,0,0,0,0,0,0,0,0,0]
[0,0,0,0,0,0,0,0,0,0,0,0,0,0,0,0,0,0,0,0,0,0,0,0,0,0,0,0,0]
[0,0,0,0,0,0,0,0,0,0,0,0,0,0,0,0,0,0,0,0,0,0,0,0,0,0,0,0,0]
[0,0,0,0,0,0,0,0,0,0,0,0,0,0,0,0,0,0,0,0,0,0,0,0,0,0,0,0,0]
[0,0,0,0,0,0,0,0,0,0,0,0,0,0,0,0,0,0,0,0,0,0,0,0,0,0,0,0,0]
[0,0,0,0,0,0,0,0,0,0,0,0,0,0,0,0,0,0,0,0,0,0,0,0,0,0,0,0,0]
[0,0,0,0,0,0,0,0,0,0,0,0,0,0,0,0,0,0,0,0,0,0,0,0,0,0,0,0,0]
[0,0,0,0,0,0,0,0,0,0,0,0,0,0,0,0,0,0,0,0,0,0,0,0,0,0,0,0,0]
[0,0,0,0,0,0,0,0,0,0,0,0,0,0,0,0,0,0,0,0,0,0,0,0,0,0,0,0,0]
[0,0,0,0,0,0,0,0,0,0,0,0,0,0,0,0,0,0,0,0,0,0,0,0,0,0,0,0,0]
[0,0,0,0,0,0,0,0,0,0,0,0,0,0,0,0,0,0,0,0,0,0,0,0,0,0,0,0,0]
[0,0,0,0,0,0,0,0,0,0,0,0,0,0,0,0,0,0,0,0,0,0,0,0,0,0,0,0,0]
[0,0,0,0,0,0,0,0,0,0,0,0,0,0,0,0,0,0,0,0,0,0,0,0,0,0,0,0,0]
[0,0,0,0,0,0,0,0,0,0,0,0,0,0,0,0,0,0,0,0,0,0,0,0,0,0,0,0,0]
[0,0,0,0,0,0,0,0,0,0,0,0,0,0,0,0,0,0,0,0,0,0,0,0,0,0,0,0,0]
[0,0,0,0,0,0,0,0,0,0,0,0,0,0,0,0,0,0,0,0,0,0,0,0,0,0,0,0,0]
[0,0,0,0,0,0,0,0,0,0,0,0,0,0,0,0,0,0,0,0,0,0,0,0,0,0,0,0,0]
[0,0,0,0,0,0,0,0,0,0,0,0,0,0,0,0,0,0,0,0,0,0,0,0,0,0,0,0,0]
[0,0,0,0,0,0,0,0,0,0,0,0,0,0,0,0,0,0,0,0,0,0,0,0,0,0,0,0,0]
[0,0,0,0,0,0,0,0,0,0,0,0,0,0,0,0,0,0,0,0,0,0,0,0,0,0,0,0,0]
[0,0,0,0,0,0,0,0,0,0,0,0,0,0,0,0,0,0,0,0,0,0,0,0,0,0,0,0,0]
[0,0,0,0,0,0,0,0,0,0,0,0,0,0,0,0,0,0,0,0,0,0,0,0,0,0,0,0,0]
[0,0,0,0,0,0,0,0,0,0,0,0,0,0,0,0,0,0,0,0,0,0,0,0,0,0,0,0,0]
[0,0,0,0,0,0,0,0,0,0,0,0,0,0,0,0,0,0,0,0,0,0,0,0,0,0,0,0,0]
[0,0,0,0,0,0,0,0,0,0,0,0,0,0,0,0,0,0,0,0,0,0,0,0,0,0,0,0,0]
[0,0,0,0,0,0,0,0,0,0,0,0,0,0,0,0,0,0,0,0,0,0,0,0,0,0,0,0,0]
[0,0,0,0,0,0,0,0,0,0,0,0,0,0,0,0,0,0,0,0,0,0,0,0,0,0,0,0,0]
[0,0,0,0,0,0,0,0,0,0,0,0,0,0,0,0,0,0,0,0,0,0,0,0,0,0,0,0,0]
[0,0,0,0,0,0,0,0,0,0,0,0,0,0,0,0,0,0,0,0,0,0,0,0,0,0,0,0,0]
[0,0,0,0,0,0,0,0,0,0,0,0,0,0,0,0,0,0,0,0,0,0,0,0,0,0,0,0,0]
[0,0,0,0,0,0,0,0,0,0,0,0,0,0,0,0,0,0,0,0,0,0,0,0,0,0,0,0,0]
[0,0,0,0,0,0,0,0,0,0,0,0,0,0,0,0,0,0,0,0,0,0,0,0,0,0,0,0,0]
[0,0,0,0,0,0,0,0,0,0,0,0,0,0,0,0,0,0,0,0,0,0,0,0,0,0,0,0,0]
[0,0,0,0,0,0,0,0,0,0,0,0,0,0,0,0,0,0,0,0,0,0,0,0,0,0,0,0,0]
[0,0,0,0,0,0,0,0,0,0,0,0,0,0,0,0,0,0,0,0,0,0,0,0,0,0,0,0,0]
[0,0,0,0,0,0,0,0,0,0,0,0,0,0,0,0,0,0,0,0,0,0,0,0,0,0,0,0,0]
[0,0,0,0,0,0,0,0,0,0,0,0,0,0,0,0,0,0,0,0,0,0,0,0,0,0,0,0,0]
[0,0,0,0,0,0,0,0,0,0,0,0,0,0,0,0,0,0,0,0,0,0,0,0,0,0,0,0,0]
[0,0,0,0,0,0,0,0,0,0,0,0,0,0,0,0,0,0,0,0,0,0,0,0,0,0,0,0,0]
[0,0,0,0,0,0,0,0,0,0,0,0,0,0,0,0,0,0,0,0,0,0,0,0,0,0,0,0,0]
[0,0,0,0,0,0,0,0,0,0,0,0,0,0,0,0,0,0,0,0,0,0,0,0,0,0,0,0,0]
[0,0,0,0,0,0,0,0,0,0,0,0,0,0,0,0,0,0,0,0,0,0,0,0,0,0,0,0,0]
[0,0,0,0,0,0,0,0,0,0,0,0,0,0,0,0,0,0,0,0,0,0,0,0,0,0,0,0,0]
[0,0,0,0,0,0,0,0,0,0,0,0,0,0,0,0,0,0,0,0,0,0,0,0,0,0,0,0,0]
[0,0,0,0,0,0,0,0,0,0,0,0,0,0,0,0,0,0,0,0,0,0,0,0,0,0,0,0,0]
[0,0,0,0,0,0,0,0,0,0,0,0,0,0,0,0,0,0,0,0,0,0,0,0,0,0,0,0,0]
[0,0,0,0,0,0,0,0,0,0,0,0,0,0,0,0,0,0,0,0,0,0,0,0,0,0,0,0,0]
[0,0,0,0,0,0,0,0,0,0,0,0,0,0,0,0,0,0,0,0,0,0,0,0,0,0,0,0,0]
[0,0,0,0,0,0,0,0,0,0,0,0,0,0,0,0,0,0,0,0,0,0,0,0,0,0,0,0,0]
[0,0,0,0,0,0,0,0,0,0,0,0,0,0,0,0,0,0,0,0,0,0,0,0,0,0,0,0,0]
[0,0,0,0,0,0,0,0,0,0,0,0,0,0,0,0,0,0,0,0,0,0,0,0,0,0,0,0,0]
[0,0,0,0,0,0,0,0,0,0,0,0,0,0,0,0,0,0,0,0,0,0,0,0,0,0,0,0,0]
[0,0,0,0,0,0,0,0,0,0,0,0,0,0,0,0,0,0,0,0,0,0,0,0,0,0,0,0,0]
[0,0,0,0,0,0,0,0,0,0,0,0,0,0,0,0,0,0,0,0,0,0,0,0,0,0,0,0,0]
[0,0,0,0,0,0,0,0,0,0,0,0,0,0,0,0,0,0,0,0,0,0,0,0,0,0,0,0,0]
[0,0,0,0,0,0,0,0,0,0,0,0,0,0,0,0,0,0,0,0,0,0,0,0,0,0,0,0,0]
[0,0,0,0,0,0,0,0,0,0,0,0,0,0,0,0,0,0,0,0,0,0,0,0,0,0,0,0,0]
[0,0,0,0,0,0,0,0,0,0,0,0,0,0,0,0,0,0,0,0,0,0,0,0,0,0,0,0,0]
[0,0,0,0,0,0,0,0,0,0,0,0,0,0,0,0,0,0,0,0,0,0,0,0,0,0,0,0,0]
[0,0,0,0,0,0,0,0,0,0,0,0,0,0,0,0,0,0,0,0,0,0,0,0,0,0,0,0,0]
[0,0,0,0,0,0,0,0,0,0,0,0,0,0,0,0,0,0,0,0,0,0,0,0,0,0,0,0,0]
[0,0,0,0,0,0,0,0,0,0,0,0,0,0,0,0,0,0,0,0,0,0,0,0,0,0,0,0,0]
[0,0,0,0,0,0,0,0,0,0,0,0,0,0,0,0,0,0,0,0,0,0,0,0,0,0,0,0,0]
[0,0,0,0,0,0,0,0,0,0,0,0,0,0,0,0,0,0,0,0,0,0,0,0,0,0,0,0,0]
[0,0,0,0,0,0,0,0,0,0,0,0,0,0,0,0,0,0,0,0,0,0,0,0,0,0,0,0,0]
[0,0,0,0,0,0,0,0,0,0,0,0,0,0,0,0,0,0,0,0,0,0,0,0,0,0,0,0,0]
[0,0,0,0,0,0,0,0,0,0,0,0,0,0,0,0,0,0,0,0,0,0,0,0,0,0,0,0,0]
[0,0,0,0,0,0,0,0,0,0,0,0,0,0,0,0,0,0,0,0,0,0,0,0,0,0,0,0,0]
[0,0,0,0,0,0,0,0,0,0,0,0,0,0,0,0,0,0,0,0,0,0,0,0,0,0,0,0,0]
[0,0,0,0,0,0,0,0,0,0,0,0,0,0,0,0,0,0,0,0,0,0,0,0,0,0,0,0,0]
[0,0,0,0,0,0,0,0,0,0,0,0,0,0,0,0,0,0,0,0,0,0,0,0,0,0,0,0,0]
[0,0,0,0,0,0,0,0,0,0,0,0,0,0,0,0,0,0,0,0,0,0,0,0,0,0,0,0,0]
[0,0,0,0,0,0,0,0,0,0,0,0,0,0,0,0,0,0,0,0,0,0,0,0,0,0,0,0,0]
[0,0,0,0,0,0,0,0,0,0,0,0,0,0,0,0,0,0,0,0,0,0,0,0,0,0,0,0,0]
[0,0,0,0,0,0,0,0,0,0,0,0,0,0,0,0,0,0,0,0,0,0,0,0,0,0,0,0,0]
[0,0,0,0,0,0,0,0,0,0,0,0,0,0,0,0,0,0,0,0,0,0,0,0,0,0,0,0,0]
[0,0,0,0,0,0,0,0,0,0,0,0,0,0,0,0,0,0,0,0,0,0,0,0,0,0,0,0,0]
[0,0,0,0,0,0,0,0,0,0,0,0,0,0,0,0,0,0,0,0,0,0,0,0,0,0,0,0,0]

{"sheet":"(hid) 05_WtAuswahl","index":47,"n_rows":2,"n_cols":29,"rows_kept":2,"cut":false,"hidden":true,"merged":[]}
["WT ID","HS ID","CS ID","T HS ein","T CS ein","T HS aus","T CS aus","mcp HS","mcp CS","Q hx HS","Q hx CS","Duration HX","Duration ST","crit PO","crit EN","crit EX","crit TOT","dT",null,"WT ID (2x)",null,null,"E HX","E ST","Q HX","Q ST","E-Preis","Einsparung","WT-Kosten"]
[1,2,3,4,5,6,7,8,9,10,11,12,13,14,15,16,17,18,19,20,21,22,23,24,25,26,27,28,29]

{"sheet":"varHXfinder","index":48,"n_rows":500,"n_cols":29,"rows_kept":500,"cut":false,"hidden":true,"merged":[]}
[0,0,0,0,0,0,0,0,0,0,0,0,0,0,0,0,0,0,0,0,0,0,0,0,0,0,0,0,0]
[0,0,0,0,0,0,0,0,0,0,0,0,0,0,0,0,0,0,0,0,0,0,0,0,0,0,0,0,0]
[0,0,0,0,0,0,0,0,0,0,0,0,0,0,0,0,0,0,0,0,0,0,0,0,0,0,0,0,0]
[0,0,0,0,0,0,0,0,0,0,0,0,0,0,0,0,0,0,0,0,0,0,0,0,0,0,0,0,0]
[0,0,0,0,0,0,0,0,0,0,0,0,0,0,0,0,0,0,0,0,0,0,0,0,0,0,0,0,0]
[0,0,0,0,0,0,0,0,0,0,0,0,0,0,0,0,0,0,0,0,0,0,0,0,0,0,0,0,0]
[0,0,0,0,0,0,0,0,0,0,0,0,0,0,0,0,0,0,0,0,0,0,0,0,0,0,0,0,0]
[0,0,0,0,0,0,0,0,0,0,0,0,0,0,0,0,0,0,0,0,0,0,0,0,0,0,0,0,0]
[0,0,0,0,0,0,0,0,0,0,0,0,0,0,0,0,0,0,0,0,0,0,0,0,0,0,0,0,0]
[0,0,0,0,0,0,0,0,0,0,0,0,0,0,0,0,0,0,0,0,0,0,0,0,0,0,0,0,0]
[0,0,0,0,0,0,0,0,0,0,0,0,0,0,0,0,0,0,0,0,0,0,0,0,0,0,0,0,0]
[0,0,0,0,0,0,0,0,0,0,0,0,0,0,0,0,0,0,0,0,0,0,0,0,0,0,0,0,0]
[0,0,0,0,0,0,0,0,0,0,0,0,0,0,0,0,0,0,0,0,0,0,0,0,0,0,0,0,0]
[0,0,0,0,0,0,0,0,0,0,0,0,0,0,0,0,0,0,0,0,0,0,0,0,0,0,0,0,0]
[0,0,0,0,0,0,0,0,0,0,0,0,0,0,0,0,0,0,0,0,0,0,0,0,0,0,0,0,0]
[0,0,0,0,0,0,0,0,0,0,0,0,0,0,0,0,0,0,0,0,0,0,0,0,0,0,0,0,0]
[0,0,0,0,0,0,0,0,0,0,0,0,0,0,0,0,0,0,0,0,0,0,0,0,0,0,0,0,0]
[0,0,0,0,0,0,0,0,0,0,0,0,0,0,0,0,0,0,0,0,0,0,0,0,0,0,0,0,0]
[0,0,0,0,0,0,0,0,0,0,0,0,0,0,0,0,0,0,0,0,0,0,0,0,0,0,0,0,0]
[0,0,0,0,0,0,0,0,0,0,0,0,0,0,0,0,0,0,0,0,0,0,0,0,0,0,0,0,0]
[0,0,0,0,0,0,0,0,0,0,0,0,0,0,0,0,0,0,0,0,0,0,0,0,0,0,0,0,0]
[0,0,0,0,0,0,0,0,0,0,0,0,0,0,0,0,0,0,0,0,0,0,0,0,0,0,0,0,0]
[0,0,0,0,0,0,0,0,0,0,0,0,0,0,0,0,0,0,0,0,0,0,0,0,0,0,0,0,0]
[0,0,0,0,0,0,0,0,0,0,0,0,0,0,0,0,0,0,0,0,0,0,0,0,0,0,0,0,0]
[0,0,0,0,0,0,0,0,0,0,0,0,0,0,0,0,0,0,0,0,0,0,0,0,0,0,0,0,0]
[0,0,0,0,0,0,0,0,0,0,0,0,0,0,0,0,0,0,0,0,0,0,0,0,0,0,0,0,0]
[0,0,0,0,0,0,0,0,0,0,0,0,0,0,0,0,0,0,0,0,0,0,0,0,0,0,0,0,0]
[0,0,0,0,0,0,0,0,0,0,0,0,0,0,0,0,0,0,0,0,0,0,0,0,0,0,0,0,0]
[0,0,0,0,0,0,0,0,0,0,0,0,0,0,0,0,0,0,0,0,0,0,0,0,0,0,0,0,0]
[0,0,0,0,0,0,0,0,0,0,0,0,0,0,0,0,0,0,0,0,0,0,0,0,0,0,0,0,0]
[0,0,0,0,0,0,0,0,0,0,0,0,0,0,0,0,0,0,0,0,0,0,0,0,0,0,0,0,0]
[0,0,0,0,0,0,0,0,0,0,0,0,0,0,0,0,0,0,0,0,0,0,0,0,0,0,0,0,0]
[0,0,0,0,0,0,0,0,0,0,0,0,0,0,0,0,0,0,0,0,0,0,0,0,0,0,0,0,0]
[0,0,0,0,0,0,0,0,0,0,0,0,0,0,0,0,0,0,0,0,0,0,0,0,0,0,0,0,0]
[0,0,0,0,0,0,0,0,0,0,0,0,0,0,0,0,0,0,0,0,0,0,0,0,0,0,0,0,0]
[0,0,0,0,0,0,0,0,0,0,0,0,0,0,0,0,0,0,0,0,0,0,0,0,0,0,0,0,0]
[0,0,0,0,0,0,0,0,0,0,0,0,0,0,0,0,0,0,0,0,0,0,0,0,0,0,0,0,0]
[0,0,0,0,0,0,0,0,0,0,0,0,0,0,0,0,0,0,0,0,0,0,0,0,0,0,0,0,0]
[0,0,0,0,0,0,0,0,0,0,0,0,0,0,0,0,0,0,0,0,0,0,0,0,0,0,0,0,0]
[0,0,0,0,0,0,0,0,0,0,0,0,0,0,0,0,0,0,0,0,0,0,0,0,0,0,0,0,0]
[0,0,0,0,0,0,0,0,0,0,0,0,0,0,0,0,0,0,0,0,0,0,0,0,0,0,0,0,0]
[0,0,0,0,0,0,0,0,0,0,0,0,0,0,0,0,0,0,0,0,0,0,0,0,0,0,0,0,0]
[0,0,0,0,0,0,0,0,0,0,0,0,0,0,0,0,0,0,0,0,0,0,0,0,0,0,0,0,0]
[0,0,0,0,0,0,0,0,0,0,0,0,0,0,0,0,0,0,0,0,0,0,0,0,0,0,0,0,0]
[0,0,0,0,0,0,0,0,0,0,0,0,0,0,0,0,0,0,0,0,0,0,0,0,0,0,0,0,0]
[0,0,0,0,0,0,0,0,0,0,0,0,0,0,0,0,0,0,0,0,0,0,0,0,0,0,0,0,0]
[0,0,0,0,0,0,0,0,0,0,0,0,0,0,0,0,0,0,0,0,0,0,0,0,0,0,0,0,0]
[0,0,0,0,0,0,0,0,0,0,0,0,0,0,0,0,0,0,0,0,0,0,0,0,0,0,0,0,0]
[0,0,0,0,0,0,0,0,0,0,0,0,0,0,0,0,0,0,0,0,0,0,0,0,0,0,0,0,0]
[0,0,0,0,0,0,0,0,0,0,0,0,0,0,0,0,0,0,0,0,0,0,0,0,0,0,0,0,0]
[0,0,0,0,0,0,0,0,0,0,0,0,0,0,0,0,0,0,0,0,0,0,0,0,0,0,0,0,0]
[0,0,0,0,0,0,0,0,0,0,0,0,0,0,0,0,0,0,0,0,0,0,0,0,0,0,0,0,0]
[0,0,0,0,0,0,0,0,0,0,0,0,0,0,0,0,0,0,0,0,0,0,0,0,0,0,0,0,0]
[0,0,0,0,0,0,0,0,0,0,0,0,0,0,0,0,0,0,0,0,0,0,0,0,0,0,0,0,0]
[0,0,0,0,0,0,0,0,0,0,0,0,0,0,0,0,0,0,0,0,0,0,0,0,0,0,0,0,0]
[0,0,0,0,0,0,0,0,0,0,0,0,0,0,0,0,0,0,0,0,0,0,0,0,0,0,0,0,0]
[0,0,0,0,0,0,0,0,0,0,0,0,0,0,0,0,0,0,0,0,0,0,0,0,0,0,0,0,0]
[0,0,0,0,0,0,0,0,0,0,0,0,0,0,0,0,0,0,0,0,0,0,0,0,0,0,0,0,0]
[0,0,0,0,0,0,0,0,0,0,0,0,0,0,0,0,0,0,0,0,0,0,0,0,0,0,0,0,0]
[0,0,0,0,0,0,0,0,0,0,0,0,0,0,0,0,0,0,0,0,0,0,0,0,0,0,0,0,0]
[0,0,0,0,0,0,0,0,0,0,0,0,0,0,0,0,0,0,0,0,0,0,0,0,0,0,0,0,0]
[0,0,0,0,0,0,0,0,0,0,0,0,0,0,0,0,0,0,0,0,0,0,0,0,0,0,0,0,0]
[0,0,0,0,0,0,0,0,0,0,0,0,0,0,0,0,0,0,0,0,0,0,0,0,0,0,0,0,0]
[0,0,0,0,0,0,0,0,0,0,0,0,0,0,0,0,0,0,0,0,0,0,0,0,0,0,0,0,0]
[0,0,0,0,0,0,0,0,0,0,0,0,0,0,0,0,0,0,0,0,0,0,0,0,0,0,0,0,0]
[0,0,0,0,0,0,0,0,0,0,0,0,0,0,0,0,0,0,0,0,0,0,0,0,0,0,0,0,0]
[0,0,0,0,0,0,0,0,0,0,0,0,0,0,0,0,0,0,0,0,0,0,0,0,0,0,0,0,0]
[0,0,0,0,0,0,0,0,0,0,0,0,0,0,0,0,0,0,0,0,0,0,0,0,0,0,0,0,0]
[0,0,0,0,0,0,0,0,0,0,0,0,0,0,0,0,0,0,0,0,0,0,0,0,0,0,0,0,0]
[0,0,0,0,0,0,0,0,0,0,0,0,0,0,0,0,0,0,0,0,0,0,0,0,0,0,0,0,0]
[0,0,0,0,0,0,0,0,0,0,0,0,0,0,0,0,0,0,0,0,0,0,0,0,0,0,0,0,0]
[0,0,0,0,0,0,0,0,0,0,0,0,0,0,0,0,0,0,0,0,0,0,0,0,0,0,0,0,0]
[0,0,0,0,0,0,0,0,0,0,0,0,0,0,0,0,0,0,0,0,0,0,0,0,0,0,0,0,0]
[0,0,0,0,0,0,0,0,0,0,0,0,0,0,0,0,0,0,0,0,0,0,0,0,0,0,0,0,0]
[0,0,0,0,0,0,0,0,0,0,0,0,0,0,0,0,0,0,0,0,0,0,0,0,0,0,0,0,0]
[0,0,0,0,0,0,0,0,0,0,0,0,0,0,0,0,0,0,0,0,0,0,0,0,0,0,0,0,0]
[0,0,0,0,0,0,0,0,0,0,0,0,0,0,0,0,0,0,0,0,0,0,0,0,0,0,0,0,0]
[0,0,0,0,0,0,0,0,0,0,0,0,0,0,0,0,0,0,0,0,0,0,0,0,0,0,0,0,0]
[0,0,0,0,0,0,0,0,0,0,0,0,0,0,0,0,0,0,0,0,0,0,0,0,0,0,0,0,0]
[0,0,0,0,0,0,0,0,0,0,0,0,0,0,0,0,0,0,0,0,0,0,0,0,0,0,0,0,0]
[0,0,0,0,0,0,0,0,0,0,0,0,0,0,0,0,0,0,0,0,0,0,0,0,0,0,0,0,0]
[0,0,0,0,0,0,0,0,0,0,0,0,0,0,0,0,0,0,0,0,0,0,0,0,0,0,0,0,0]
[0,0,0,0,0,0,0,0,0,0,0,0,0,0,0,0,0,0,0,0,0,0,0,0,0,0,0,0,0]
[0,0,0,0,0,0,0,0,0,0,0,0,0,0,0,0,0,0,0,0,0,0,0,0,0,0,0,0,0]
[0,0,0,0,0,0,0,0,0,0,0,0,0,0,0,0,0,0,0,0,0,0,0,0,0,0,0,0,0]
[0,0,0,0,0,0,0,0,0,0,0,0,0,0,0,0,0,0,0,0,0,0,0,0,0,0,0,0,0]
[0,0,0,0,0,0,0,0,0,0,0,0,0,0,0,0,0,0,0,0,0,0,0,0,0,0,0,0,0]
[0,0,0,0,0,0,0,0,0,0,0,0,0,0,0,0,0,0,0,0,0,0,0,0,0,0,0,0,0]
[0,0,0,0,0,0,0,0,0,0,0,0,0,0,0,0,0,0,0,0,0,0,0,0,0,0,0,0,0]
[0,0,0,0,0,0,0,0,0,0,0,0,0,0,0,0,0,0,0,0,0,0,0,0,0,0,0,0,0]
[0,0,0,0,0,0,0,0,0,0,0,0,0,0,0,0,0,0,0,0,0,0,0,0,0,0,0,0,0]
[0,0,0,0,0,0,0,0,0,0,0,0,0,0,0,0,0,0,0,0,0,0,0,0,0,0,0,0,0]
[0,0,0,0,0,0,0,0,0,0,0,0,0,0,0,0,0,0,0,0,0,0,0,0,0,0,0,0,0]
[0,0,0,0,0,0,0,0,0,0,0,0,0,0,0,0,0,0,0,0,0,0,0,0,0,0,0,0,0]
[0,0,0,0,0,0,0,0,0,0,0,0,0,0,0,0,0,0,0,0,0,0,0,0,0,0,0,0,0]
[0,0,0,0,0,0,0,0,0,0,0,0,0,0,0,0,0,0,0,0,0,0,0,0,0,0,0,0,0]
[0,0,0,0,0,0,0,0,0,0,0,0,0,0,0,0,0,0,0,0,0,0,0,0,0,0,0,0,0]
[0,0,0,0,0,0,0,0,0,0,0,0,0,0,0,0,0,0,0,0,0,0,0,0,0,0,0,0,0]
[0,0,0,0,0,0,0,0,0,0,0,0,0,0,0,0,0,0,0,0,0,0,0,0,0,0,0,0,0]
[0,0,0,0,0,0,0,0,0,0,0,0,0,0,0,0,0,0,0,0,0,0,0,0,0,0,0,0,0]
[0,0,0,0,0,0,0,0,0,0,0,0,0,0,0,0,0,0,0,0,0,0,0,0,0,0,0,0,0]
[0,0,0,0,0,0,0,0,0,0,0,0,0,0,0,0,0,0,0,0,0,0,0,0,0,0,0,0,0]
[0,0,0,0,0,0,0,0,0,0,0,0,0,0,0,0,0,0,0,0,0,0,0,0,0,0,0,0,0]
[0,0,0,0,0,0,0,0,0,0,0,0,0,0,0,0,0,0,0,0,0,0,0,0,0,0,0,0,0]
[0,0,0,0,0,0,0,0,0,0,0,0,0,0,0,0,0,0,0,0,0,0,0,0,0,0,0,0,0]
[0,0,0,0,0,0,0,0,0,0,0,0,0,0,0,0,0,0,0,0,0,0,0,0,0,0,0,0,0]
[0,0,0,0,0,0,0,0,0,0,0,0,0,0,0,0,0,0,0,0,0,0,0,0,0,0,0,0,0]
[0,0,0,0,0,0,0,0,0,0,0,0,0,0,0,0,0,0,0,0,0,0,0,0,0,0,0,0,0]
[0,0,0,0,0,0,0,0,0,0,0,0,0,0,0,0,0,0,0,0,0,0,0,0,0,0,0,0,0]
[0,0,0,0,0,0,0,0,0,0,0,0,0,0,0,0,0,0,0,0,0,0,0,0,0,0,0,0,0]
[0,0,0,0,0,0,0,0,0,0,0,0,0,0,0,0,0,0,0,0,0,0,0,0,0,0,0,0,0]
[0,0,0,0,0,0,0,0,0,0,0,0,0,0,0,0,0,0,0,0,0,0,0,0,0,0,0,0,0]
[0,0,0,0,0,0,0,0,0,0,0,0,0,0,0,0,0,0,0,0,0,0,0,0,0,0,0,0,0]
[0,0,0,0,0,0,0,0,0,0,0,0,0,0,0,0,0,0,0,0,0,0,0,0,0,0,0,0,0]
[0,0,0,0,0,0,0,0,0,0,0,0,0,0,0,0,0,0,0,0,0,0,0,0,0,0,0,0,0]
[0,0,0,0,0,0,0,0,0,0,0,0,0,0,0,0,0,0,0,0,0,0,0,0,0,0,0,0,0]
[0,0,0,0,0,0,0,0,0,0,0,0,0,0,0,0,0,0,0,0,0,0,0,0,0,0,0,0,0]
[0,0,0,0,0,0,0,0,0,0,0,0,0,0,0,0,0,0,0,0,0,0,0,0,0,0,0,0,0]
[0,0,0,0,0,0,0,0,0,0,0,0,0,0,0,0,0,0,0,0,0,0,0,0,0,0,0,0,0]
[0,0,0,0,0,0,0,0,0,0,0,0,0,0,0,0,0,0,0,0,0,0,0,0,0,0,0,0,0]
[0,0,0,0,0,0,0,0,0,0,0,0,0,0,0,0,0,0,0,0,0,0,0,0,0,0,0,0,0]
[0,0,0,0,0,0,0,0,0,0,0,0,0,0,0,0,0,0,0,0,0,0,0,0,0,0,0,0,0]
[0,0,0,0,0,0,0,0,0,0,0,0,0,0,0,0,0,0,0,0,0,0,0,0,0,0,0,0,0]
[0,0,0,0,0,0,0,0,0,0,0,0,0,0,0,0,0,0,0,0,0,0,0,0,0,0,0,0,0]
[0,0,0,0,0,0,0,0,0,0,0,0,0,0,0,0,0,0,0,0,0,0,0,0,0,0,0,0,0]
[0,0,0,0,0,0,0,0,0,0,0,0,0,0,0,0,0,0,0,0,0,0,0,0,0,0,0,0,0]
[0,0,0,0,0,0,0,0,0,0,0,0,0,0,0,0,0,0,0,0,0,0,0,0,0,0,0,0,0]
[0,0,0,0,0,0,0,0,0,0,0,0,0,0,0,0,0,0,0,0,0,0,0,0,0,0,0,0,0]
[0,0,0,0,0,0,0,0,0,0,0,0,0,0,0,0,0,0,0,0,0,0,0,0,0,0,0,0,0]
[0,0,0,0,0,0,0,0,0,0,0,0,0,0,0,0,0,0,0,0,0,0,0,0,0,0,0,0,0]
[0,0,0,0,0,0,0,0,0,0,0,0,0,0,0,0,0,0,0,0,0,0,0,0,0,0,0,0,0]
[0,0,0,0,0,0,0,0,0,0,0,0,0,0,0,0,0,0,0,0,0,0,0,0,0,0,0,0,0]
[0,0,0,0,0,0,0,0,0,0,0,0,0,0,0,0,0,0,0,0,0,0,0,0,0,0,0,0,0]
[0,0,0,0,0,0,0,0,0,0,0,0,0,0,0,0,0,0,0,0,0,0,0,0,0,0,0,0,0]
[0,0,0,0,0,0,0,0,0,0,0,0,0,0,0,0,0,0,0,0,0,0,0,0,0,0,0,0,0]
[0,0,0,0,0,0,0,0,0,0,0,0,0,0,0,0,0,0,0,0,0,0,0,0,0,0,0,0,0]
[0,0,0,0,0,0,0,0,0,0,0,0,0,0,0,0,0,0,0,0,0,0,0,0,0,0,0,0,0]
[0,0,0,0,0,0,0,0,0,0,0,0,0,0,0,0,0,0,0,0,0,0,0,0,0,0,0,0,0]
[0,0,0,0,0,0,0,0,0,0,0,0,0,0,0,0,0,0,0,0,0,0,0,0,0,0,0,0,0]
[0,0,0,0,0,0,0,0,0,0,0,0,0,0,0,0,0,0,0,0,0,0,0,0,0,0,0,0,0]
[0,0,0,0,0,0,0,0,0,0,0,0,0,0,0,0,0,0,0,0,0,0,0,0,0,0,0,0,0]
[0,0,0,0,0,0,0,0,0,0,0,0,0,0,0,0,0,0,0,0,0,0,0,0,0,0,0,0,0]
[0,0,0,0,0,0,0,0,0,0,0,0,0,0,0,0,0,0,0,0,0,0,0,0,0,0,0,0,0]
[0,0,0,0,0,0,0,0,0,0,0,0,0,0,0,0,0,0,0,0,0,0,0,0,0,0,0,0,0]
[0,0,0,0,0,0,0,0,0,0,0,0,0,0,0,0,0,0,0,0,0,0,0,0,0,0,0,0,0]
[0,0,0,0,0,0,0,0,0,0,0,0,0,0,0,0,0,0,0,0,0,0,0,0,0,0,0,0,0]
[0,0,0,0,0,0,0,0,0,0,0,0,0,0,0,0,0,0,0,0,0,0,0,0,0,0,0,0,0]
[0,0,0,0,0,0,0,0,0,0,0,0,0,0,0,0,0,0,0,0,0,0,0,0,0,0,0,0,0]
[0,0,0,0,0,0,0,0,0,0,0,0,0,0,0,0,0,0,0,0,0,0,0,0,0,0,0,0,0]
[0,0,0,0,0,0,0,0,0,0,0,0,0,0,0,0,0,0,0,0,0,0,0,0,0,0,0,0,0]
[0,0,0,0,0,0,0,0,0,0,0,0,0,0,0,0,0,0,0,0,0,0,0,0,0,0,0,0,0]
[0,0,0,0,0,0,0,0,0,0,0,0,0,0,0,0,0,0,0,0,0,0,0,0,0,0,0,0,0]
[0,0,0,0,0,0,0,0,0,0,0,0,0,0,0,0,0,0,0,0,0,0,0,0,0,0,0,0,0]
[0,0,0,0,0,0,0,0,0,0,0,0,0,0,0,0,0,0,0,0,0,0,0,0,0,0,0,0,0]
[0,0,0,0,0,0,0,0,0,0,0,0,0,0,0,0,0,0,0,0,0,0,0,0,0,0,0,0,0]
[0,0,0,0,0,0,0,0,0,0,0,0,0,0,0,0,0,0,0,0,0,0,0,0,0,0,0,0,0]
[0,0,0,0,0,0,0,0,0,0,0,0,0,0,0,0,0,0,0,0,0,0,0,0,0,0,0,0,0]
[0,0,0,0,0,0,0,0,0,0,0,0,0,0,0,0,0,0,0,0,0,0,0,0,0,0,0,0,0]
[0,0,0,0,0,0,0,0,0,0,0,0,0,0,0,0,0,0,0,0,0,0,0,0,0,0,0,0,0]
[0,0,0,0,0,0,0,0,0,0,0,0,0,0,0,0,0,0,0,0,0,0,0,0,0,0,0,0,0]
[0,0,0,0,0,0,0,0,0,0,0,0,0,0,0,0,0,0,0,0,0,0,0,0,0,0,0,0,0]
[0,0,0,0,0,0,0,0,0,0,0,0,0,0,0,0,0,0,0,0,0,0,0,0,0,0,0,0,0]
[0,0,0,0,0,0,0,0,0,0,0,0,0,0,0,0,0,0,0,0,0,0,0,0,0,0,0,0,0]
[0,0,0,0,0,0,0,0,0,0,0,0,0,0,0,0,0,0,0,0,0,0,0,0,0,0,0,0,0]
[0,0,0,0,0,0,0,0,0,0,0,0,0,0,0,0,0,0,0,0,0,0,0,0,0,0,0,0,0]
[0,0,0,0,0,0,0,0,0,0,0,0,0,0,0,0,0,0,0,0,0,0,0,0,0,0,0,0,0]
[0,0,0,0,0,0,0,0,0,0,0,0,0,0,0,0,0,0,0,0,0,0,0,0,0,0,0,0,0]
[0,0,0,0,0,0,0,0,0,0,0,0,0,0,0,0,0,0,0,0,0,0,0,0,0,0,0,0,0]
[0,0,0,0,0,0,0,0,0,0,0,0,0,0,0,0,0,0,0,0,0,0,0,0,0,0,0,0,0]
[0,0,0,0,0,0,0,0,0,0,0,0,0,0,0,0,0,0,0,0,0,0,0,0,0,0,0,0,0]
[0,0,0,0,0,0,0,0,0,0,0,0,0,0,0,0,0,0,0,0,0,0,0,0,0,0,0,0,0]
[0,0,0,0,0,0,0,0,0,0,0,0,0,0,0,0,0,0,0,0,0,0,0,0,0,0,0,0,0]
[0,0,0,0,0,0,0,0,0,0,0,0,0,0,0,0,0,0,0,0,0,0,0,0,0,0,0,0,0]
[0,0,0,0,0,0,0,0,0,0,0,0,0,0,0,0,0,0,0,0,0,0,0,0,0,0,0,0,0]
[0,0,0,0,0,0,0,0,0,0,0,0,0,0,0,0,0,0,0,0,0,0,0,0,0,0,0,0,0]
[0,0,0,0,0,0,0,0,0,0,0,0,0,0,0,0,0,0,0,0,0,0,0,0,0,0,0,0,0]
[0,0,0,0,0,0,0,0,0,0,0,0,0,0,0,0,0,0,0,0,0,0,0,0,0,0,0,0,0]
[0,0,0,0,0,0,0,0,0,0,0,0,0,0,0,0,0,0,0,0,0,0,0,0,0,0,0,0,0]
[0,0,0,0,0,0,0,0,0,0,0,0,0,0,0,0,0,0,0,0,0,0,0,0,0,0,0,0,0]
[0,0,0,0,0,0,0,0,0,0,0,0,0,0,0,0,0,0,0,0,0,0,0,0,0,0,0,0,0]
[0,0,0,0,0,0,0,0,0,0,0,0,0,0,0,0,0,0,0,0,0,0,0,0,0,0,0,0,0]
[0,0,0,0,0,0,0,0,0,0,0,0,0,0,0,0,0,0,0,0,0,0,0,0,0,0,0,0,0]
[0,0,0,0,0,0,0,0,0,0,0,0,0,0,0,0,0,0,0,0,0,0,0,0,0,0,0,0,0]
[0,0,0,0,0,0,0,0,0,0,0,0,0,0,0,0,0,0,0,0,0,0,0,0,0,0,0,0,0]
[0,0,0,0,0,0,0,0,0,0,0,0,0,0,0,0,0,0,0,0,0,0,0,0,0,0,0,0,0]
[0,0,0,0,0,0,0,0,0,0,0,0,0,0,0,0,0,0,0,0,0,0,0,0,0,0,0,0,0]
[0,0,0,0,0,0,0,0,0,0,0,0,0,0,0,0,0,0,0,0,0,0,0,0,0,0,0,0,0]
[0,0,0,0,0,0,0,0,0,0,0,0,0,0,0,0,0,0,0,0,0,0,0,0,0,0,0,0,0]
[0,0,0,0,0,0,0,0,0,0,0,0,0,0,0,0,0,0,0,0,0,0,0,0,0,0,0,0,0]
[0,0,0,0,0,0,0,0,0,0,0,0,0,0,0,0,0,0,0,0,0,0,0,0,0,0,0,0,0]
[0,0,0,0,0,0,0,0,0,0,0,0,0,0,0,0,0,0,0,0,0,0,0,0,0,0,0,0,0]
[0,0,0,0,0,0,0,0,0,0,0,0,0,0,0,0,0,0,0,0,0,0,0,0,0,0,0,0,0]
[0,0,0,0,0,0,0,0,0,0,0,0,0,0,0,0,0,0,0,0,0,0,0,0,0,0,0,0,0]
[0,0,0,0,0,0,0,0,0,0,0,0,0,0,0,0,0,0,0,0,0,0,0,0,0,0,0,0,0]
[0,0,0,0,0,0,0,0,0,0,0,0,0,0,0,0,0,0,0,0,0,0,0,0,0,0,0,0,0]
[0,0,0,0,0,0,0,0,0,0,0,0,0,0,0,0,0,0,0,0,0,0,0,0,0,0,0,0,0]
[0,0,0,0,0,0,0,0,0,0,0,0,0,0,0,0,0,0,0,0,0,0,0,0,0,0,0,0,0]
[0,0,0,0,0,0,0,0,0,0,0,0,0,0,0,0,0,0,0,0,0,0,0,0,0,0,0,0,0]
[0,0,0,0,0,0,0,0,0,0,0,0,0,0,0,0,0,0,0,0,0,0,0,0,0,0,0,0,0]
[0,0,0,0,0,0,0,0,0,0,0,0,0,0,0,0,0,0,0,0,0,0,0,0,0,0,0,0,0]
[0,0,0,0,0,0,0,0,0,0,0,0,0,0,0,0,0,0,0,0,0,0,0,0,0,0,0,0,0]
[0,0,0,0,0,0,0,0,0,0,0,0,0,0,0,0,0,0,0,0,0,0,0,0,0,0,0,0,0]
[0,0,0,0,0,0,0,0,0,0,0,0,0,0,0,0,0,0,0,0,0,0,0,0,0,0,0,0,0]
[0,0,0,0,0,0,0,0,0,0,0,0,0,0,0,0,0,0,0,0,0,0,0,0,0,0,0,0,0]
[0,0,0,0,0,0,0,0,0,0,0,0,0,0,0,0,0,0,0,0,0,0,0,0,0,0,0,0,0]
[0,0,0,0,0,0,0,0,0,0,0,0,0,0,0,0,0,0,0,0,0,0,0,0,0,0,0,0,0]
[0,0,0,0,0,0,0,0,0,0,0,0,0,0,0,0,0,0,0,0,0,0,0,0,0,0,0,0,0]
[0,0,0,0,0,0,0,0,0,0,0,0,0,0,0,0,0,0,0,0,0,0,0,0,0,0,0,0,0]
[0,0,0,0,0,0,0,0,0,0,0,0,0,0,0,0,0,0,0,0,0,0,0,0,0,0,0,0,0]
[0,0,0,0,0,0,0,0,0,0,0,0,0,0,0,0,0,0,0,0,0,0,0,0,0,0,0,0,0]
[0,0,0,0,0,0,0,0,0,0,0,0,0,0,0,0,0,0,0,0,0,0,0,0,0,0,0,0,0]
[0,0,0,0,0,0,0,0,0,0,0,0,0,0,0,0,0,0,0,0,0,0,0,0,0,0,0,0,0]
[0,0,0,0,0,0,0,0,0,0,0,0,0,0,0,0,0,0,0,0,0,0,0,0,0,0,0,0,0]
[0,0,0,0,0,0,0,0,0,0,0,0,0,0,0,0,0,0,0,0,0,0,0,0,0,0,0,0,0]
[0,0,0,0,0,0,0,0,0,0,0,0,0,0,0,0,0,0,0,0,0,0,0,0,0,0,0,0,0]
[0,0,0,0,0,0,0,0,0,0,0,0,0,0,0,0,0,0,0,0,0,0,0,0,0,0,0,0,0]
[0,0,0,0,0,0,0,0,0,0,0,0,0,0,0,0,0,0,0,0,0,0,0,0,0,0,0,0,0]
[0,0,0,0,0,0,0,0,0,0,0,0,0,0,0,0,0,0,0,0,0,0,0,0,0,0,0,0,0]
[0,0,0,0,0,0,0,0,0,0,0,0,0,0,0,0,0,0,0,0,0,0,0,0,0,0,0,0,0]
[0,0,0,0,0,0,0,0,0,0,0,0,0,0,0,0,0,0,0,0,0,0,0,0,0,0,0,0,0]
[0,0,0,0,0,0,0,0,0,0,0,0,0,0,0,0,0,0,0,0,0,0,0,0,0,0,0,0,0]
[0,0,0,0,0,0,0,0,0,0,0,0,0,0,0,0,0,0,0,0,0,0,0,0,0,0,0,0,0]
[0,0,0,0,0,0,0,0,0,0,0,0,0,0,0,0,0,0,0,0,0,0,0,0,0,0,0,0,0]
[0,0,0,0,0,0,0,0,0,0,0,0,0,0,0,0,0,0,0,0,0,0,0,0,0,0,0,0,0]
[0,0,0,0,0,0,0,0,0,0,0,0,0,0,0,0,0,0,0,0,0,0,0,0,0,0,0,0,0]
[0,0,0,0,0,0,0,0,0,0,0,0,0,0,0,0,0,0,0,0,0,0,0,0,0,0,0,0,0]
[0,0,0,0,0,0,0,0,0,0,0,0,0,0,0,0,0,0,0,0,0,0,0,0,0,0,0,0,0]
[0,0,0,0,0,0,0,0,0,0,0,0,0,0,0,0,0,0,0,0,0,0,0,0,0,0,0,0,0]
[0,0,0,0,0,0,0,0,0,0,0,0,0,0,0,0,0,0,0,0,0,0,0,0,0,0,0,0,0]
[0,0,0,0,0,0,0,0,0,0,0,0,0,0,0,0,0,0,0,0,0,0,0,0,0,0,0,0,0]
[0,0,0,0,0,0,0,0,0,0,0,0,0,0,0,0,0,0,0,0,0,0,0,0,0,0,0,0,0]
[0,0,0,0,0,0,0,0,0,0,0,0,0,0,0,0,0,0,0,0,0,0,0,0,0,0,0,0,0]
[0,0,0,0,0,0,0,0,0,0,0,0,0,0,0,0,0,0,0,0,0,0,0,0,0,0,0,0,0]
[0,0,0,0,0,0,0,0,0,0,0,0,0,0,0,0,0,0,0,0,0,0,0,0,0,0,0,0,0]
[0,0,0,0,0,0,0,0,0,0,0,0,0,0,0,0,0,0,0,0,0,0,0,0,0,0,0,0,0]
[0,0,0,0,0,0,0,0,0,0,0,0,0,0,0,0,0,0,0,0,0,0,0,0,0,0,0,0,0]
[0,0,0,0,0,0,0,0,0,0,0,0,0,0,0,0,0,0,0,0,0,0,0,0,0,0,0,0,0]
[0,0,0,0,0,0,0,0,0,0,0,0,0,0,0,0,0,0,0,0,0,0,0,0,0,0,0,0,0]
[0,0,0,0,0,0,0,0,0,0,0,0,0,0,0,0,0,0,0,0,0,0,0,0,0,0,0,0,0]
[0,0,0,0,0,0,0,0,0,0,0,0,0,0,0,0,0,0,0,0,0,0,0,0,0,0,0,0,0]
[0,0,0,0,0,0,0,0,0,0,0,0,0,0,0,0,0,0,0,0,0,0,0,0,0,0,0,0,0]
[0,0,0,0,0,0,0,0,0,0,0,0,0,0,0,0,0,0,0,0,0,0,0,0,0,0,0,0,0]
[0,0,0,0,0,0,0,0,0,0,0,0,0,0,0,0,0,0,0,0,0,0,0,0,0,0,0,0,0]
[0,0,0,0,0,0,0,0,0,0,0,0,0,0,0,0,0,0,0,0,0,0,0,0,0,0,0,0,0]
[0,0,0,0,0,0,0,0,0,0,0,0,0,0,0,0,0,0,0,0,0,0,0,0,0,0,0,0,0]
[0,0,0,0,0,0,0,0,0,0,0,0,0,0,0,0,0,0,0,0,0,0,0,0,0,0,0,0,0]
[0,0,0,0,0,0,0,0,0,0,0,0,0,0,0,0,0,0,0,0,0,0,0,0,0,0,0,0,0]
[0,0,0,0,0,0,0,0,0,0,0,0,0,0,0,0,0,0,0,0,0,0,0,0,0,0,0,0,0]
[0,0,0,0,0,0,0,0,0,0,0,0,0,0,0,0,0,0,0,0,0,0,0,0,0,0,0,0,0]
[0,0,0,0,0,0,0,0,0,0,0,0,0,0,0,0,0,0,0,0,0,0,0,0,0,0,0,0,0]
[0,0,0,0,0,0,0,0,0,0,0,0,0,0,0,0,0,0,0,0,0,0,0,0,0,0,0,0,0]
[0,0,0,0,0,0,0,0,0,0,0,0,0,0,0,0,0,0,0,0,0,0,0,0,0,0,0,0,0]
[0,0,0,0,0,0,0,0,0,0,0,0,0,0,0,0,0,0,0,0,0,0,0,0,0,0,0,0,0]
[0,0,0,0,0,0,0,0,0,0,0,0,0,0,0,0,0,0,0,0,0,0,0,0,0,0,0,0,0]
[0,0,0,0,0,0,0,0,0,0,0,0,0,0,0,0,0,0,0,0,0,0,0,0,0,0,0,0,0]
[0,0,0,0,0,0,0,0,0,0,0,0,0,0,0,0,0,0,0,0,0,0,0,0,0,0,0,0,0]
[0,0,0,0,0,0,0,0,0,0,0,0,0,0,0,0,0,0,0,0,0,0,0,0,0,0,0,0,0]
[0,0,0,0,0,0,0,0,0,0,0,0,0,0,0,0,0,0,0,0,0,0,0,0,0,0,0,0,0]
[0,0,0,0,0,0,0,0,0,0,0,0,0,0,0,0,0,0,0,0,0,0,0,0,0,0,0,0,0]
[0,0,0,0,0,0,0,0,0,0,0,0,0,0,0,0,0,0,0,0,0,0,0,0,0,0,0,0,0]
[0,0,0,0,0,0,0,0,0,0,0,0,0,0,0,0,0,0,0,0,0,0,0,0,0,0,0,0,0]
[0,0,0,0,0,0,0,0,0,0,0,0,0,0,0,0,0,0,0,0,0,0,0,0,0,0,0,0,0]
[0,0,0,0,0,0,0,0,0,0,0,0,0,0,0,0,0,0,0,0,0,0,0,0,0,0,0,0,0]
[0,0,0,0,0,0,0,0,0,0,0,0,0,0,0,0,0,0,0,0,0,0,0,0,0,0,0,0,0]
[0,0,0,0,0,0,0,0,0,0,0,0,0,0,0,0,0,0,0,0,0,0,0,0,0,0,0,0,0]
[0,0,0,0,0,0,0,0,0,0,0,0,0,0,0,0,0,0,0,0,0,0,0,0,0,0,0,0,0]
[0,0,0,0,0,0,0,0,0,0,0,0,0,0,0,0,0,0,0,0,0,0,0,0,0,0,0,0,0]
[0,0,0,0,0,0,0,0,0,0,0,0,0,0,0,0,0,0,0,0,0,0,0,0,0,0,0,0,0]
[0,0,0,0,0,0,0,0,0,0,0,0,0,0,0,0,0,0,0,0,0,0,0,0,0,0,0,0,0]
[0,0,0,0,0,0,0,0,0,0,0,0,0,0,0,0,0,0,0,0,0,0,0,0,0,0,0,0,0]
[0,0,0,0,0,0,0,0,0,0,0,0,0,0,0,0,0,0,0,0,0,0,0,0,0,0,0,0,0]
[0,0,0,0,0,0,0,0,0,0,0,0,0,0,0,0,0,0,0,0,0,0,0,0,0,0,0,0,0]
[0,0,0,0,0,0,0,0,0,0,0,0,0,0,0,0,0,0,0,0,0,0,0,0,0,0,0,0,0]
[0,0,0,0,0,0,0,0,0,0,0,0,0,0,0,0,0,0,0,0,0,0,0,0,0,0,0,0,0]
[0,0,0,0,0,0,0,0,0,0,0,0,0,0,0,0,0,0,0,0,0,0,0,0,0,0,0,0,0]
[0,0,0,0,0,0,0,0,0,0,0,0,0,0,0,0,0,0,0,0,0,0,0,0,0,0,0,0,0]
[0,0,0,0,0,0,0,0,0,0,0,0,0,0,0,0,0,0,0,0,0,0,0,0,0,0,0,0,0]
[0,0,0,0,0,0,0,0,0,0,0,0,0,0,0,0,0,0,0,0,0,0,0,0,0,0,0,0,0]
[0,0,0,0,0,0,0,0,0,0,0,0,0,0,0,0,0,0,0,0,0,0,0,0,0,0,0,0,0]
[0,0,0,0,0,0,0,0,0,0,0,0,0,0,0,0,0,0,0,0,0,0,0,0,0,0,0,0,0]
[0,0,0,0,0,0,0,0,0,0,0,0,0,0,0,0,0,0,0,0,0,0,0,0,0,0,0,0,0]
[0,0,0,0,0,0,0,0,0,0,0,0,0,0,0,0,0,0,0,0,0,0,0,0,0,0,0,0,0]
[0,0,0,0,0,0,0,0,0,0,0,0,0,0,0,0,0,0,0,0,0,0,0,0,0,0,0,0,0]
[0,0,0,0,0,0,0,0,0,0,0,0,0,0,0,0,0,0,0,0,0,0,0,0,0,0,0,0,0]
[0,0,0,0,0,0,0,0,0,0,0,0,0,0,0,0,0,0,0,0,0,0,0,0,0,0,0,0,0]
[0,0,0,0,0,0,0,0,0,0,0,0,0,0,0,0,0,0,0,0,0,0,0,0,0,0,0,0,0]
[0,0,0,0,0,0,0,0,0,0,0,0,0,0,0,0,0,0,0,0,0,0,0,0,0,0,0,0,0]
[0,0,0,0,0,0,0,0,0,0,0,0,0,0,0,0,0,0,0,0,0,0,0,0,0,0,0,0,0]
[0,0,0,0,0,0,0,0,0,0,0,0,0,0,0,0,0,0,0,0,0,0,0,0,0,0,0,0,0]
[0,0,0,0,0,0,0,0,0,0,0,0,0,0,0,0,0,0,0,0,0,0,0,0,0,0,0,0,0]
[0,0,0,0,0,0,0,0,0,0,0,0,0,0,0,0,0,0,0,0,0,0,0,0,0,0,0,0,0]
[0,0,0,0,0,0,0,0,0,0,0,0,0,0,0,0,0,0,0,0,0,0,0,0,0,0,0,0,0]
[0,0,0,0,0,0,0,0,0,0,0,0,0,0,0,0,0,0,0,0,0,0,0,0,0,0,0,0,0]
[0,0,0,0,0,0,0,0,0,0,0,0,0,0,0,0,0,0,0,0,0,0,0,0,0,0,0,0,0]
[0,0,0,0,0,0,0,0,0,0,0,0,0,0,0,0,0,0,0,0,0,0,0,0,0,0,0,0,0]
[0,0,0,0,0,0,0,0,0,0,0,0,0,0,0,0,0,0,0,0,0,0,0,0,0,0,0,0,0]
[0,0,0,0,0,0,0,0,0,0,0,0,0,0,0,0,0,0,0,0,0,0,0,0,0,0,0,0,0]
[0,0,0,0,0,0,0,0,0,0,0,0,0,0,0,0,0,0,0,0,0,0,0,0,0,0,0,0,0]
[0,0,0,0,0,0,0,0,0,0,0,0,0,0,0,0,0,0,0,0,0,0,0,0,0,0,0,0,0]
[0,0,0,0,0,0,0,0,0,0,0,0,0,0,0,0,0,0,0,0,0,0,0,0,0,0,0,0,0]
[0,0,0,0,0,0,0,0,0,0,0,0,0,0,0,0,0,0,0,0,0,0,0,0,0,0,0,0,0]
[0,0,0,0,0,0,0,0,0,0,0,0,0,0,0,0,0,0,0,0,0,0,0,0,0,0,0,0,0]
[0,0,0,0,0,0,0,0,0,0,0,0,0,0,0,0,0,0,0,0,0,0,0,0,0,0,0,0,0]
[0,0,0,0,0,0,0,0,0,0,0,0,0,0,0,0,0,0,0,0,0,0,0,0,0,0,0,0,0]
[0,0,0,0,0,0,0,0,0,0,0,0,0,0,0,0,0,0,0,0,0,0,0,0,0,0,0,0,0]
[0,0,0,0,0,0,0,0,0,0,0,0,0,0,0,0,0,0,0,0,0,0,0,0,0,0,0,0,0]
[0,0,0,0,0,0,0,0,0,0,0,0,0,0,0,0,0,0,0,0,0,0,0,0,0,0,0,0,0]
[0,0,0,0,0,0,0,0,0,0,0,0,0,0,0,0,0,0,0,0,0,0,0,0,0,0,0,0,0]
[0,0,0,0,0,0,0,0,0,0,0,0,0,0,0,0,0,0,0,0,0,0,0,0,0,0,0,0,0]
[0,0,0,0,0,0,0,0,0,0,0,0,0,0,0,0,0,0,0,0,0,0,0,0,0,0,0,0,0]
[0,0,0,0,0,0,0,0,0,0,0,0,0,0,0,0,0,0,0,0,0,0,0,0,0,0,0,0,0]
[0,0,0,0,0,0,0,0,0,0,0,0,0,0,0,0,0,0,0,0,0,0,0,0,0,0,0,0,0]
[0,0,0,0,0,0,0,0,0,0,0,0,0,0,0,0,0,0,0,0,0,0,0,0,0,0,0,0,0]
[0,0,0,0,0,0,0,0,0,0,0,0,0,0,0,0,0,0,0,0,0,0,0,0,0,0,0,0,0]
[0,0,0,0,0,0,0,0,0,0,0,0,0,0,0,0,0,0,0,0,0,0,0,0,0,0,0,0,0]
[0,0,0,0,0,0,0,0,0,0,0,0,0,0,0,0,0,0,0,0,0,0,0,0,0,0,0,0,0]
[0,0,0,0,0,0,0,0,0,0,0,0,0,0,0,0,0,0,0,0,0,0,0,0,0,0,0,0,0]
[0,0,0,0,0,0,0,0,0,0,0,0,0,0,0,0,0,0,0,0,0,0,0,0,0,0,0,0,0]
[0,0,0,0,0,0,0,0,0,0,0,0,0,0,0,0,0,0,0,0,0,0,0,0,0,0,0,0,0]
[0,0,0,0,0,0,0,0,0,0,0,0,0,0,0,0,0,0,0,0,0,0,0,0,0,0,0,0,0]
[0,0,0,0,0,0,0,0,0,0,0,0,0,0,0,0,0,0,0,0,0,0,0,0,0,0,0,0,0]
[0,0,0,0,0,0,0,0,0,0,0,0,0,0,0,0,0,0,0,0,0,0,0,0,0,0,0,0,0]
[0,0,0,0,0,0,0,0,0,0,0,0,0,0,0,0,0,0,0,0,0,0,0,0,0,0,0,0,0]
[0,0,0,0,0,0,0,0,0,0,0,0,0,0,0,0,0,0,0,0,0,0,0,0,0,0,0,0,0]
[0,0,0,0,0,0,0,0,0,0,0,0,0,0,0,0,0,0,0,0,0,0,0,0,0,0,0,0,0]
[0,0,0,0,0,0,0,0,0,0,0,0,0,0,0,0,0,0,0,0,0,0,0,0,0,0,0,0,0]
[0,0,0,0,0,0,0,0,0,0,0,0,0,0,0,0,0,0,0,0,0,0,0,0,0,0,0,0,0]
[0,0,0,0,0,0,0,0,0,0,0,0,0,0,0,0,0,0,0,0,0,0,0,0,0,0,0,0,0]
[0,0,0,0,0,0,0,0,0,0,0,0,0,0,0,0,0,0,0,0,0,0,0,0,0,0,0,0,0]
[0,0,0,0,0,0,0,0,0,0,0,0,0,0,0,0,0,0,0,0,0,0,0,0,0,0,0,0,0]
[0,0,0,0,0,0,0,0,0,0,0,0,0,0,0,0,0,0,0,0,0,0,0,0,0,0,0,0,0]
[0,0,0,0,0,0,0,0,0,0,0,0,0,0,0,0,0,0,0,0,0,0,0,0,0,0,0,0,0]
[0,0,0,0,0,0,0,0,0,0,0,0,0,0,0,0,0,0,0,0,0,0,0,0,0,0,0,0,0]
[0,0,0,0,0,0,0,0,0,0,0,0,0,0,0,0,0,0,0,0,0,0,0,0,0,0,0,0,0]
[0,0,0,0,0,0,0,0,0,0,0,0,0,0,0,0,0,0,0,0,0,0,0,0,0,0,0,0,0]
[0,0,0,0,0,0,0,0,0,0,0,0,0,0,0,0,0,0,0,0,0,0,0,0,0,0,0,0,0]
[0,0,0,0,0,0,0,0,0,0,0,0,0,0,0,0,0,0,0,0,0,0,0,0,0,0,0,0,0]
[0,0,0,0,0,0,0,0,0,0,0,0,0,0,0,0,0,0,0,0,0,0,0,0,0,0,0,0,0]
[0,0,0,0,0,0,0,0,0,0,0,0,0,0,0,0,0,0,0,0,0,0,0,0,0,0,0,0,0]
[0,0,0,0,0,0,0,0,0,0,0,0,0,0,0,0,0,0,0,0,0,0,0,0,0,0,0,0,0]
[0,0,0,0,0,0,0,0,0,0,0,0,0,0,0,0,0,0,0,0,0,0,0,0,0,0,0,0,0]
[0,0,0,0,0,0,0,0,0,0,0,0,0,0,0,0,0,0,0,0,0,0,0,0,0,0,0,0,0]
[0,0,0,0,0,0,0,0,0,0,0,0,0,0,0,0,0,0,0,0,0,0,0,0,0,0,0,0,0]
[0,0,0,0,0,0,0,0,0,0,0,0,0,0,0,0,0,0,0,0,0,0,0,0,0,0,0,0,0]
[0,0,0,0,0,0,0,0,0,0,0,0,0,0,0,0,0,0,0,0,0,0,0,0,0,0,0,0,0]
[0,0,0,0,0,0,0,0,0,0,0,0,0,0,0,0,0,0,0,0,0,0,0,0,0,0,0,0,0]
[0,0,0,0,0,0,0,0,0,0,0,0,0,0,0,0,0,0,0,0,0,0,0,0,0,0,0,0,0]
[0,0,0,0,0,0,0,0,0,0,0,0,0,0,0,0,0,0,0,0,0,0,0,0,0,0,0,0,0]
[0,0,0,0,0,0,0,0,0,0,0,0,0,0,0,0,0,0,0,0,0,0,0,0,0,0,0,0,0]
[0,0,0,0,0,0,0,0,0,0,0,0,0,0,0,0,0,0,0,0,0,0,0,0,0,0,0,0,0]
[0,0,0,0,0,0,0,0,0,0,0,0,0,0,0,0,0,0,0,0,0,0,0,0,0,0,0,0,0]
[0,0,0,0,0,0,0,0,0,0,0,0,0,0,0,0,0,0,0,0,0,0,0,0,0,0,0,0,0]
[0,0,0,0,0,0,0,0,0,0,0,0,0,0,0,0,0,0,0,0,0,0,0,0,0,0,0,0,0]
[0,0,0,0,0,0,0,0,0,0,0,0,0,0,0,0,0,0,0,0,0,0,0,0,0,0,0,0,0]
[0,0,0,0,0,0,0,0,0,0,0,0,0,0,0,0,0,0,0,0,0,0,0,0,0,0,0,0,0]
[0,0,0,0,0,0,0,0,0,0,0,0,0,0,0,0,0,0,0,0,0,0,0,0,0,0,0,0,0]
[0,0,0,0,0,0,0,0,0,0,0,0,0,0,0,0,0,0,0,0,0,0,0,0,0,0,0,0,0]
[0,0,0,0,0,0,0,0,0,0,0,0,0,0,0,0,0,0,0,0,0,0,0,0,0,0,0,0,0]
[0,0,0,0,0,0,0,0,0,0,0,0,0,0,0,0,0,0,0,0,0,0,0,0,0,0,0,0,0]
[0,0,0,0,0,0,0,0,0,0,0,0,0,0,0,0,0,0,0,0,0,0,0,0,0,0,0,0,0]
[0,0,0,0,0,0,0,0,0,0,0,0,0,0,0,0,0,0,0,0,0,0,0,0,0,0,0,0,0]
[0,0,0,0,0,0,0,0,0,0,0,0,0,0,0,0,0,0,0,0,0,0,0,0,0,0,0,0,0]
[0,0,0,0,0,0,0,0,0,0,0,0,0,0,0,0,0,0,0,0,0,0,0,0,0,0,0,0,0]
[0,0,0,0,0,0,0,0,0,0,0,0,0,0,0,0,0,0,0,0,0,0,0,0,0,0,0,0,0]
[0,0,0,0,0,0,0,0,0,0,0,0,0,0,0,0,0,0,0,0,0,0,0,0,0,0,0,0,0]
[0,0,0,0,0,0,0,0,0,0,0,0,0,0,0,0,0,0,0,0,0,0,0,0,0,0,0,0,0]
[0,0,0,0,0,0,0,0,0,0,0,0,0,0,0,0,0,0,0,0,0,0,0,0,0,0,0,0,0]
[0,0,0,0,0,0,0,0,0,0,0,0,0,0,0,0,0,0,0,0,0,0,0,0,0,0,0,0,0]
[0,0,0,0,0,0,0,0,0,0,0,0,0,0,0,0,0,0,0,0,0,0,0,0,0,0,0,0,0]
[0,0,0,0,0,0,0,0,0,0,0,0,0,0,0,0,0,0,0,0,0,0,0,0,0,0,0,0,0]
[0,0,0,0,0,0,0,0,0,0,0,0,0,0,0,0,0,0,0,0,0,0,0,0,0,0,0,0,0]
[0,0,0,0,0,0,0,0,0,0,0,0,0,0,0,0,0,0,0,0,0,0,0,0,0,0,0,0,0]
[0,0,0,0,0,0,0,0,0,0,0,0,0,0,0,0,0,0,0,0,0,0,0,0,0,0,0,0,0]
[0,0,0,0,0,0,0,0,0,0,0,0,0,0,0,0,0,0,0,0,0,0,0,0,0,0,0,0,0]
[0,0,0,0,0,0,0,0,0,0,0,0,0,0,0,0,0,0,0,0,0,0,0,0,0,0,0,0,0]
[0,0,0,0,0,0,0,0,0,0,0,0,0,0,0,0,0,0,0,0,0,0,0,0,0,0,0,0,0]
[0,0,0,0,0,0,0,0,0,0,0,0,0,0,0,0,0,0,0,0,0,0,0,0,0,0,0,0,0]
[0,0,0,0,0,0,0,0,0,0,0,0,0,0,0,0,0,0,0,0,0,0,0,0,0,0,0,0,0]
[0,0,0,0,0,0,0,0,0,0,0,0,0,0,0,0,0,0,0,0,0,0,0,0,0,0,0,0,0]
[0,0,0,0,0,0,0,0,0,0,0,0,0,0,0,0,0,0,0,0,0,0,0,0,0,0,0,0,0]
[0,0,0,0,0,0,0,0,0,0,0,0,0,0,0,0,0,0,0,0,0,0,0,0,0,0,0,0,0]
[0,0,0,0,0,0,0,0,0,0,0,0,0,0,0,0,0,0,0,0,0,0,0,0,0,0,0,0,0]
[0,0,0,0,0,0,0,0,0,0,0,0,0,0,0,0,0,0,0,0,0,0,0,0,0,0,0,0,0]
[0,0,0,0,0,0,0,0,0,0,0,0,0,0,0,0,0,0,0,0,0,0,0,0,0,0,0,0,0]
[0,0,0,0,0,0,0,0,0,0,0,0,0,0,0,0,0,0,0,0,0,0,0,0,0,0,0,0,0]
[0,0,0,0,0,0,0,0,0,0,0,0,0,0,0,0,0,0,0,0,0,0,0,0,0,0,0,0,0]
[0,0,0,0,0,0,0,0,0,0,0,0,0,0,0,0,0,0,0,0,0,0,0,0,0,0,0,0,0]
[0,0,0,0,0,0,0,0,0,0,0,0,0,0,0,0,0,0,0,0,0,0,0,0,0,0,0,0,0]
[0,0,0,0,0,0,0,0,0,0,0,0,0,0,0,0,0,0,0,0,0,0,0,0,0,0,0,0,0]
[0,0,0,0,0,0,0,0,0,0,0,0,0,0,0,0,0,0,0,0,0,0,0,0,0,0,0,0,0]
[0,0,0,0,0,0,0,0,0,0,0,0,0,0,0,0,0,0,0,0,0,0,0,0,0,0,0,0,0]
[0,0,0,0,0,0,0,0,0,0,0,0,0,0,0,0,0,0,0,0,0,0,0,0,0,0,0,0,0]
[0,0,0,0,0,0,0,0,0,0,0,0,0,0,0,0,0,0,0,0,0,0,0,0,0,0,0,0,0]
[0,0,0,0,0,0,0,0,0,0,0,0,0,0,0,0,0,0,0,0,0,0,0,0,0,0,0,0,0]
[0,0,0,0,0,0,0,0,0,0,0,0,0,0,0,0,0,0,0,0,0,0,0,0,0,0,0,0,0]
[0,0,0,0,0,0,0,0,0,0,0,0,0,0,0,0,0,0,0,0,0,0,0,0,0,0,0,0,0]
[0,0,0,0,0,0,0,0,0,0,0,0,0,0,0,0,0,0,0,0,0,0,0,0,0,0,0,0,0]
[0,0,0,0,0,0,0,0,0,0,0,0,0,0,0,0,0,0,0,0,0,0,0,0,0,0,0,0,0]
[0,0,0,0,0,0,0,0,0,0,0,0,0,0,0,0,0,0,0,0,0,0,0,0,0,0,0,0,0]
[0,0,0,0,0,0,0,0,0,0,0,0,0,0,0,0,0,0,0,0,0,0,0,0,0,0,0,0,0]
[0,0,0,0,0,0,0,0,0,0,0,0,0,0,0,0,0,0,0,0,0,0,0,0,0,0,0,0,0]
[0,0,0,0,0,0,0,0,0,0,0,0,0,0,0,0,0,0,0,0,0,0,0,0,0,0,0,0,0]
[0,0,0,0,0,0,0,0,0,0,0,0,0,0,0,0,0,0,0,0,0,0,0,0,0,0,0,0,0]
[0,0,0,0,0,0,0,0,0,0,0,0,0,0,0,0,0,0,0,0,0,0,0,0,0,0,0,0,0]
[0,0,0,0,0,0,0,0,0,0,0,0,0,0,0,0,0,0,0,0,0,0,0,0,0,0,0,0,0]
[0,0,0,0,0,0,0,0,0,0,0,0,0,0,0,0,0,0,0,0,0,0,0,0,0,0,0,0,0]
[0,0,0,0,0,0,0,0,0,0,0,0,0,0,0,0,0,0,0,0,0,0,0,0,0,0,0,0,0]
[0,0,0,0,0,0,0,0,0,0,0,0,0,0,0,0,0,0,0,0,0,0,0,0,0,0,0,0,0]
[0,0,0,0,0,0,0,0,0,0,0,0,0,0,0,0,0,0,0,0,0,0,0,0,0,0,0,0,0]
[0,0,0,0,0,0,0,0,0,0,0,0,0,0,0,0,0,0,0,0,0,0,0,0,0,0,0,0,0]
[0,0,0,0,0,0,0,0,0,0,0,0,0,0,0,0,0,0,0,0,0,0,0,0,0,0,0,0,0]
[0,0,0,0,0,0,0,0,0,0,0,0,0,0,0,0,0,0,0,0,0,0,0,0,0,0,0,0,0]
[0,0,0,0,0,0,0,0,0,0,0,0,0,0,0,0,0,0,0,0,0,0,0,0,0,0,0,0,0]
[0,0,0,0,0,0,0,0,0,0,0,0,0,0,0,0,0,0,0,0,0,0,0,0,0,0,0,0,0]
[0,0,0,0,0,0,0,0,0,0,0,0,0,0,0,0,0,0,0,0,0,0,0,0,0,0,0,0,0]
[0,0,0,0,0,0,0,0,0,0,0,0,0,0,0,0,0,0,0,0,0,0,0,0,0,0,0,0,0]
[0,0,0,0,0,0,0,0,0,0,0,0,0,0,0,0,0,0,0,0,0,0,0,0,0,0,0,0,0]
[0,0,0,0,0,0,0,0,0,0,0,0,0,0,0,0,0,0,0,0,0,0,0,0,0,0,0,0,0]
[0,0,0,0,0,0,0,0,0,0,0,0,0,0,0,0,0,0,0,0,0,0,0,0,0,0,0,0,0]
[0,0,0,0,0,0,0,0,0,0,0,0,0,0,0,0,0,0,0,0,0,0,0,0,0,0,0,0,0]
[0,0,0,0,0,0,0,0,0,0,0,0,0,0,0,0,0,0,0,0,0,0,0,0,0,0,0,0,0]
[0,0,0,0,0,0,0,0,0,0,0,0,0,0,0,0,0,0,0,0,0,0,0,0,0,0,0,0,0]
[0,0,0,0,0,0,0,0,0,0,0,0,0,0,0,0,0,0,0,0,0,0,0,0,0,0,0,0,0]
[0,0,0,0,0,0,0,0,0,0,0,0,0,0,0,0,0,0,0,0,0,0,0,0,0,0,0,0,0]
[0,0,0,0,0,0,0,0,0,0,0,0,0,0,0,0,0,0,0,0,0,0,0,0,0,0,0,0,0]
[0,0,0,0,0,0,0,0,0,0,0,0,0,0,0,0,0,0,0,0,0,0,0,0,0,0,0,0,0]
[0,0,0,0,0,0,0,0,0,0,0,0,0,0,0,0,0,0,0,0,0,0,0,0,0,0,0,0,0]
[0,0,0,0,0,0,0,0,0,0,0,0,0,0,0,0,0,0,0,0,0,0,0,0,0,0,0,0,0]
[0,0,0,0,0,0,0,0,0,0,0,0,0,0,0,0,0,0,0,0,0,0,0,0,0,0,0,0,0]
[0,0,0,0,0,0,0,0,0,0,0,0,0,0,0,0,0,0,0,0,0,0,0,0,0,0,0,0,0]
[0,0,0,0,0,0,0,0,0,0,0,0,0,0,0,0,0,0,0,0,0,0,0,0,0,0,0,0,0]
[0,0,0,0,0,0,0,0,0,0,0,0,0,0,0,0,0,0,0,0,0,0,0,0,0,0,0,0,0]
[0,0,0,0,0,0,0,0,0,0,0,0,0,0,0,0,0,0,0,0,0,0,0,0,0,0,0,0,0]
[0,0,0,0,0,0,0,0,0,0,0,0,0,0,0,0,0,0,0,0,0,0,0,0,0,0,0,0,0]
[0,0,0,0,0,0,0,0,0,0,0,0,0,0,0,0,0,0,0,0,0,0,0,0,0,0,0,0,0]
[0,0,0,0,0,0,0,0,0,0,0,0,0,0,0,0,0,0,0,0,0,0,0,0,0,0,0,0,0]
[0,0,0,0,0,0,0,0,0,0,0,0,0,0,0,0,0,0,0,0,0,0,0,0,0,0,0,0,0]
[0,0,0,0,0,0,0,0,0,0,0,0,0,0,0,0,0,0,0,0,0,0,0,0,0,0,0,0,0]
[0,0,0,0,0,0,0,0,0,0,0,0,0,0,0,0,0,0,0,0,0,0,0,0,0,0,0,0,0]
[0,0,0,0,0,0,0,0,0,0,0,0,0,0,0,0,0,0,0,0,0,0,0,0,0,0,0,0,0]
[0,0,0,0,0,0,0,0,0,0,0,0,0,0,0,0,0,0,0,0,0,0,0,0,0,0,0,0,0]
[0,0,0,0,0,0,0,0,0,0,0,0,0,0,0,0,0,0,0,0,0,0,0,0,0,0,0,0,0]
[0,0,0,0,0,0,0,0,0,0,0,0,0,0,0,0,0,0,0,0,0,0,0,0,0,0,0,0,0]
[0,0,0,0,0,0,0,0,0,0,0,0,0,0,0,0,0,0,0,0,0,0,0,0,0,0,0,0,0]
[0,0,0,0,0,0,0,0,0,0,0,0,0,0,0,0,0,0,0,0,0,0,0,0,0,0,0,0,0]
[0,0,0,0,0,0,0,0,0,0,0,0,0,0,0,0,0,0,0,0,0,0,0,0,0,0,0,0,0]
[0,0,0,0,0,0,0,0,0,0,0,0,0,0,0,0,0,0,0,0,0,0,0,0,0,0,0,0,0]
[0,0,0,0,0,0,0,0,0,0,0,0,0,0,0,0,0,0,0,0,0,0,0,0,0,0,0,0,0]
[0,0,0,0,0,0,0,0,0,0,0,0,0,0,0,0,0,0,0,0,0,0,0,0,0,0,0,0,0]
[0,0,0,0,0,0,0,0,0,0,0,0,0,0,0,0,0,0,0,0,0,0,0,0,0,0,0,0,0]
[0,0,0,0,0,0,0,0,0,0,0,0,0,0,0,0,0,0,0,0,0,0,0,0,0,0,0,0,0]
[0,0,0,0,0,0,0,0,0,0,0,0,0,0,0,0,0,0,0,0,0,0,0,0,0,0,0,0,0]
[0,0,0,0,0,0,0,0,0,0,0,0,0,0,0,0,0,0,0,0,0,0,0,0,0,0,0,0,0]
[0,0,0,0,0,0,0,0,0,0,0,0,0,0,0,0,0,0,0,0,0,0,0,0,0,0,0,0,0]
[0,0,0,0,0,0,0,0,0,0,0,0,0,0,0,0,0,0,0,0,0,0,0,0,0,0,0,0,0]
[0,0,0,0,0,0,0,0,0,0,0,0,0,0,0,0,0,0,0,0,0,0,0,0,0,0,0,0,0]
[0,0,0,0,0,0,0,0,0,0,0,0,0,0,0,0,0,0,0,0,0,0,0,0,0,0,0,0,0]
[0,0,0,0,0,0,0,0,0,0,0,0,0,0,0,0,0,0,0,0,0,0,0,0,0,0,0,0,0]
[0,0,0,0,0,0,0,0,0,0,0,0,0,0,0,0,0,0,0,0,0,0,0,0,0,0,0,0,0]
[0,0,0,0,0,0,0,0,0,0,0,0,0,0,0,0,0,0,0,0,0,0,0,0,0,0,0,0,0]
[0,0,0,0,0,0,0,0,0,0,0,0,0,0,0,0,0,0,0,0,0,0,0,0,0,0,0,0,0]
[0,0,0,0,0,0,0,0,0,0,0,0,0,0,0,0,0,0,0,0,0,0,0,0,0,0,0,0,0]
[0,0,0,0,0,0,0,0,0,0,0,0,0,0,0,0,0,0,0,0,0,0,0,0,0,0,0,0,0]
[0,0,0,0,0,0,0,0,0,0,0,0,0,0,0,0,0,0,0,0,0,0,0,0,0,0,0,0,0]
[0,0,0,0,0,0,0,0,0,0,0,0,0,0,0,0,0,0,0,0,0,0,0,0,0,0,0,0,0]
[0,0,0,0,0,0,0,0,0,0,0,0,0,0,0,0,0,0,0,0,0,0,0,0,0,0,0,0,0]
[0,0,0,0,0,0,0,0,0,0,0,0,0,0,0,0,0,0,0,0,0,0,0,0,0,0,0,0,0]
[0,0,0,0,0,0,0,0,0,0,0,0,0,0,0,0,0,0,0,0,0,0,0,0,0,0,0,0,0]
[0,0,0,0,0,0,0,0,0,0,0,0,0,0,0,0,0,0,0,0,0,0,0,0,0,0,0,0,0]
[0,0,0,0,0,0,0,0,0,0,0,0,0,0,0,0,0,0,0,0,0,0,0,0,0,0,0,0,0]
[0,0,0,0,0,0,0,0,0,0,0,0,0,0,0,0,0,0,0,0,0,0,0,0,0,0,0,0,0]
[0,0,0,0,0,0,0,0,0,0,0,0,0,0,0,0,0,0,0,0,0,0,0,0,0,0,0,0,0]
[0,0,0,0,0,0,0,0,0,0,0,0,0,0,0,0,0,0,0,0,0,0,0,0,0,0,0,0,0]
[0,0,0,0,0,0,0,0,0,0,0,0,0,0,0,0,0,0,0,0,0,0,0,0,0,0,0,0,0]
[0,0,0,0,0,0,0,0,0,0,0,0,0,0,0,0,0,0,0,0,0,0,0,0,0,0,0,0,0]
[0,0,0,0,0,0,0,0,0,0,0,0,0,0,0,0,0,0,0,0,0,0,0,0,0,0,0,0,0]
[0,0,0,0,0,0,0,0,0,0,0,0,0,0,0,0,0,0,0,0,0,0,0,0,0,0,0,0,0]
[0,0,0,0,0,0,0,0,0,0,0,0,0,0,0,0,0,0,0,0,0,0,0,0,0,0,0,0,0]
[0,0,0,0,0,0,0,0,0,0,0,0,0,0,0,0,0,0,0,0,0,0,0,0,0,0,0,0,0]
[0,0,0,0,0,0,0,0,0,0,0,0,0,0,0,0,0,0,0,0,0,0,0,0,0,0,0,0,0]
[0,0,0,0,0,0,0,0,0,0,0,0,0,0,0,0,0,0,0,0,0,0,0,0,0,0,0,0,0]
[0,0,0,0,0,0,0,0,0,0,0,0,0,0,0,0,0,0,0,0,0,0,0,0,0,0,0,0,0]
[0,0,0,0,0,0,0,0,0,0,0,0,0,0,0,0,0,0,0,0,0,0,0,0,0,0,0,0,0]
[0,0,0,0,0,0,0,0,0,0,0,0,0,0,0,0,0,0,0,0,0,0,0,0,0,0,0,0,0]
[0,0,0,0,0,0,0,0,0,0,0,0,0,0,0,0,0,0,0,0,0,0,0,0,0,0,0,0,0]
[0,0,0,0,0,0,0,0,0,0,0,0,0,0,0,0,0,0,0,0,0,0,0,0,0,0,0,0,0]
[0,0,0,0,0,0,0,0,0,0,0,0,0,0,0,0,0,0,0,0,0,0,0,0,0,0,0,0,0]
[0,0,0,0,0,0,0,0,0,0,0,0,0,0,0,0,0,0,0,0,0,0,0,0,0,0,0,0,0]
[0,0,0,0,0,0,0,0,0,0,0,0,0,0,0,0,0,0,0,0,0,0,0,0,0,0,0,0,0]
[0,0,0,0,0,0,0,0,0,0,0,0,0,0,0,0,0,0,0,0,0,0,0,0,0,0,0,0,0]
[0,0,0,0,0,0,0,0,0,0,0,0,0,0,0,0,0,0,0,0,0,0,0,0,0,0,0,0,0]
[0,0,0,0,0,0,0,0,0,0,0,0,0,0,0,0,0,0,0,0,0,0,0,0,0,0,0,0,0]
[0,0,0,0,0,0,0,0,0,0,0,0,0,0,0,0,0,0,0,0,0,0,0,0,0,0,0,0,0]
[0,0,0,0,0,0,0,0,0,0,0,0,0,0,0,0,0,0,0,0,0,0,0,0,0,0,0,0,0]
[0,0,0,0,0,0,0,0,0,0,0,0,0,0,0,0,0,0,0,0,0,0,0,0,0,0,0,0,0]
[0,0,0,0,0,0,0,0,0,0,0,0,0,0,0,0,0,0,0,0,0,0,0,0,0,0,0,0,0]
[0,0,0,0,0,0,0,0,0,0,0,0,0,0,0,0,0,0,0,0,0,0,0,0,0,0,0,0,0]
[0,0,0,0,0,0,0,0,0,0,0,0,0,0,0,0,0,0,0,0,0,0,0,0,0,0,0,0,0]
[0,0,0,0,0,0,0,0,0,0,0,0,0,0,0,0,0,0,0,0,0,0,0,0,0,0,0,0,0]
[0,0,0,0,0,0,0,0,0,0,0,0,0,0,0,0,0,0,0,0,0,0,0,0,0,0,0,0,0]

{"sheet":"99_Annex","index":49,"n_rows":28,"n_cols":48,"rows_kept":28,"cut":false,"hidden":true,"merged":[]}
["Fixed Data",2,null,4,null,6,null,8,null,10,null,12,null,14,null,16,null,null,null,null,null,null,null,null,null,null,null,null,null,30,null,32,null,null,35,null,null,38,null,null,null,42,null,null,null,null,47]
[null,null,null,null,null,null,null,null,null,null,null,null,null,null,null,null,0,1,2,3,4,5,6,7,8,9,10,11,12]
["array_BoilerTypes",null,"array_EnergyAssigning",null,"uf_Now",null,"array_BakingOvenTypes",null,"array_SteamingMethods",null,"array_BakingOvenEnergySource",null,"array_BoilerEfficiencyCalcTypes",null,"array_EERCalcTypes",null,"array_HX_Headers",null,null,null,null,null,null,null,null,null,null,null,null,null,"Liste Ströme",null,"iHS","iCS",null,"iChosen","iDiaChosen",null,"PE Factor","CO2 Factor","iEnergieTraeger",null,null,null,"CO2","PE Factor",null,"strLastSheet"]
["Steam",null,"default: assumed part load factor",null,"uf_Boiler",null,"autoclave oven",null,"direct infusion of steam",null,"Diesel",null,"Calculate Boiler Efficiency",null,"Estimate EER",null,"iEntry (hidden)","hs id (hidden)","cs id (hidden)","HX Name","HS ","CS","Q [kW]","active [h]","E [MWh]","T HS in [°C]","T CS in [°C]","T HS out [°C]","T CS out [°C]",null,"Prozess",null,2,1,null,{"$f":"MAX('05_WT_Auswahl'!A5:A14)+1","v":1},{"$f":"IF(rng_iChosen=1,1,rng_iChosen-1)","v":1},null,{"$f":"VLOOKUP($AO$4,$AR$5:$AT$14,3,FALSE)","v":1.05},{"$f":"VLOOKUP($AO$4,$AR$5:$AT$14,2,FALSE)","v":0.31303999999999998},1,null,null,null,"kg CO2e/kWh","kWhPE/kWhFE"]
["Hot Water",null,"define percentage of each energy source",null,null,null,"rack oven",null,"hot water from storages (variable)",null,"Natural Gas",null,"Enter Boiler Efficiency",null,"Enter EER manually",null,null,null,null,null,null,null,null,null,null,null,null,null,null,null,"Utility",null,null,null,null,null,null,null,null,null,null,null,"Kohle",1,0.31303999999999998,1.05,null,"Freie Branche"]
["Thermal Oil",null,"define energy of each energy source",null,null,null,"deck oven",null,"electric instantaneous water heater",null,"Biogas",null,null,null,null,null,null,null,null,null,null,null,null,null,null,null,null,null,null,null,null,null,null,null,null,null,null,null,null,null,null,null,"Diesel",2,0.25117,1.1000000000000001]
[null,null,null,null,null,null,"others",null,null,null,"Electricity",null,null,null,null,null,null,null,null,null,null,null,null,null,null,null,null,null,null,null,null,null,null,null,null,null,null,null,null,null,null,null,"Heizöl",3,0.26876,1.17]
[null,null,null,null,null,null,null,null,null,null,"Solar Thermal",null,null,null,null,null,null,null,null,null,null,null,null,null,null,null,null,null,null,null,null,null,null,null,null,null,null,null,null,null,null,null,"Flüssiggas",4,0.21451999999999999,1.1100000000000001]
[null,null,null,null,null,null,null,null,null,null,"Steam 2 bar",null,null,null,null,null,null,null,null,null,null,null,null,null,null,null,null,null,null,null,null,null,null,null,null,null,null,null,null,null,null,null,"Erdgas",5,0.18404000000000001,1.17]
[null,null,null,null,null,null,null,null,null,null,"Steam 5 bar",null,null,null,null,null,null,null,null,null,null,null,null,null,null,null,null,null,null,null,null,null,null,null,null,null,null,null,null,null,null,null,"Petrol",6,0.24051,1.1000000000000001]
[null,null,null,null,null,null,null,null,null,null,"Thermal Oil 5 bar",null,null,null,null,null,null,null,null,null,null,null,null,null,null,null,null,null,null,null,null,null,null,null,null,null,null,null,null,null,null,null,"Biomass (Hackschnitzel)",7,0,1.06]
[null,null,null,null,null,null,null,null,null,null,"Hot Water 1 bar",null,null,null,null,null,null,null,null,null,null,null,null,null,null,null,null,null,null,null,null,null,null,null,null,null,null,null,null,null,null,null,"Biogas",8,0,1.5]
[null,null,null,null,null,null,null,null,null,null,"Steam 6 bar",null,null,null,null,null,null,null,null,null,null,null,null,null,null,null,null,null,null,null,null,null,null,null,null,null,null,null,null,null,null,null,"Fernwärme (bei 70 % fossil)",9,0.21643999999999999,0.7]
[null,null,null,null,null,null,null,null,null,null,"  bar",null,null,null,null,null,null,null,null,null,null,null,null,null,null,null,null,null,null,null,null,null,null,null,null,null,null,null,null,null,null,null,"Strom",10,0.18787999999999999,2.97]
[null,null,null,null,null,null,null,null,null,null,"Thermal Oil 2 bar"]
[]
[]
[]
[]
[null,null,null,null,null,null,null,null,null,null,null,null,null,null,null,null,null,null,null,null,null,146,{"$f":"DEC2HEX(V20)","v":"92"}]
[null,null,null,null,null,null,null,null,null,null,null,null,null,null,null,null,null,null,null,null,null,205,{"$f":"DEC2HEX(V21)","v":"CD"}]
[null,null,null,null,null,null,null,null,null,null,null,null,null,null,null,null,null,null,null,null,null,220,{"$f":"DEC2HEX(V22)","v":"DC"}]
[null,null,null,null,null,null,null,null,null,null,null,null,null,null,null,null,null,null,null,null,null,null,{"$f":"\"H&\"&W20&W21&W22","v":"H&92CDDC"}]
[]
[null,null,null,null,null,null,null,null,null,null,null,null,null,null,null,null,null,null,null,null,null,49,{"$f":"DEC2HEX(V25)","v":"31"}]
[null,null,null,null,null,null,null,null,null,null,null,null,null,null,null,null,null,null,null,null,null,134,{"$f":"DEC2HEX(V26)","v":"86"}]
[null,null,null,null,null,null,null,null,null,null,null,null,null,null,null,null,null,null,null,null,null,155,{"$f":"DEC2HEX(V27)","v":"9B"}]
[null,null,null,null,null,null,null,null,null,null,null,null,null,null,null,null,null,null,null,null,null,null,{"$f":"\"H&\"&W25&W26&W27","v":"H&31869B"}]